{"text_format":"1","workbook":"xlsx","n_sheets":30,"sheets":["Sheet1","無地画面","既定シート現在名","標準シート名等","シート名設定","インターフェース画面設定","項目表示入力","項目表示入力既定番地","項目表示作成","行列入力項目","オフセット番号A","ﾌｧｲﾙ作成原版A","ファイル作成コピー用","一覧表付ファイル作成入力設定1","一覧表付ファイル作成入力設定2","一覧表付ファイル作成入力設定3","一覧表付ファイル作成入力設定4","一覧表付ファイル作成入力設定5","印刷フォーム1","印刷フォーム2","印刷フォーム3","印刷フォーム4","印刷フォーム5","印刷フォーム1ソートデーター","印刷フォーム2ソートデーター","印刷フォーム3ソートデーター","印刷フォーム4ソートデーター","印刷フォーム5ソートデーター","入力可能行数","データー入力"],"not_rendered":{"charts":0,"images":2,"macros":1,"external_links":0,"defined_names":47,"comments":9,"pivot_tables":0},"unopened":[],"bounds":{"document_bytes":16777216,"sheet_cells":100000,"rows_first":2000,"rows_last":500,"rows_between":2000,"halvings":0,"cell_chars":16384,"cell_head_chars":4096},"cells_cut":0,"cells_raw":0,"read":"whole","date_system":"1900"}

{"sheet":"Sheet1","index":0,"n_rows":0,"n_cols":0,"rows_kept":0,"cut":false,"hidden":true,"merged":[]}

{"sheet":"無地画面","index":1,"n_rows":0,"n_cols":0,"rows_kept":0,"cut":false,"hidden":false,"merged":[]}

{"sheet":"既定シート現在名","index":2,"n_rows":61,"n_cols":5,"rows_kept":61,"cut":false,"hidden":false,"merged":[]}
[]
[null,null,null,null,"既定シート現在名"]
[]
[null,"NO","シート上表示名・Commandボタン表示名・画面サイズ・Zoom設定等"]
[null,1,"シート名設定"]
[null,2,"項目表示入力"]
[null,3,"項目表示作成"]
[null,4,"行列入力項目"]
[null,5,"ファイル作成コピー用"]
[null,6,"データー入力"]
[null,7,"一覧表付ファイル作成入力設定1"]
[null,8,"一覧表付ファイル作成入力設定2"]
[null,9,"一覧表付ファイル作成入力設定3"]
[null,10,"一覧表付ファイル作成入力設定4"]
[null,11,"一覧表付ファイル作成入力設定5"]
[null,12,"印刷フォーム1"]
[null,13,"印刷フォーム2"]
[null,14,"印刷フォーム3"]
[null,15,"印刷フォーム4"]
[null,16,"印刷フォーム5"]
[null,17,"印刷フォーム1ソートデーター"]
[null,18,"印刷フォーム2ソートデーター"]
[null,19,"印刷フォーム3ソートデーター"]
[null,20,"印刷フォーム4ソートデーター"]
[null,21,"印刷フォーム5ソートデーター"]
[null,22,{"$f":"C11&\"印刷ボタン\"","v":"一覧表付ファイル作成入力設定1印刷ボタン"}]
[null,23,{"$f":"C12&\"印刷ボタン\"","v":"一覧表付ファイル作成入力設定2印刷ボタン"}]
[null,24,{"$f":"C13&\"印刷ボタン\"","v":"一覧表付ファイル作成入力設定3印刷ボタン"}]
[null,25,{"$f":"C14&\"印刷ボタン\"","v":"一覧表付ファイル作成入力設定4印刷ボタン"}]
[null,26,{"$f":"C15&\"印刷ボタン\"","v":"一覧表付ファイル作成入力設定5印刷ボタン"}]
[null,27,{"$f":"C11&\"印刷\"","v":"一覧表付ファイル作成入力設定1印刷"}]
[null,28,{"$f":"C12&\"印刷\"","v":"一覧表付ファイル作成入力設定2印刷"}]
[null,29,{"$f":"C13&\"印刷\"","v":"一覧表付ファイル作成入力設定3印刷"}]
[null,30,{"$f":"C14&\"印刷\"","v":"一覧表付ファイル作成入力設定4印刷"}]
[null,31,{"$f":"C15&\"印刷\"","v":"一覧表付ファイル作成入力設定5印刷"}]
[null,32]
[null,33]
[null,34]
[null,35]
[null,36]
[null,37]
[null,38]
[null,39]
[null,40]
[]
[]
[]
[]
[]
[]
[]
[]
[]
[]
[]
[]
[]
[]
[]
[]
[null,null,null,{"$f":"IF(ISERROR(シート名設定!C4)=TRUE,1,0)","v":0}]

{"sheet":"標準シート名等","index":3,"n_rows":102,"n_cols":4,"rows_kept":102,"cut":false,"hidden":false,"merged":[]}
[]
[null,null,null,"標準シート名等"]
[]
[null,"NO","シート上表示名・Commandボタン表示名・画面サイズ・Zoom設定等"]
[null,1,"シート名設定"]
[null,2,"項目表示入力"]
[null,3,"項目表示作成"]
[null,4,"行列入力項目"]
[null,5,"ファイル作成コピー用"]
[null,6,"データー入力"]
[null,7,"一覧表付ファイル作成入力設定1"]
[null,8,"一覧表付ファイル作成入力設定2"]
[null,9,"一覧表付ファイル作成入力設定3"]
[null,10,"一覧表付ファイル作成入力設定4"]
[null,11,"一覧表付ファイル作成入力設定5"]
[null,12,"印刷フォーム1"]
[null,13,"印刷フォーム2"]
[null,14,"印刷フォーム3"]
[null,15,"印刷フォーム4"]
[null,16,"印刷フォーム5"]
[null,17,"印刷フォーム1ソートデーター"]
[null,18,"印刷フォーム2ソートデーター"]
[null,19,"印刷フォーム3ソートデーター"]
[null,20,"印刷フォーム4ソートデーター"]
[null,21,"印刷フォーム5ソートデーター"]
[null,22,{"$f":"C11&\"印刷ボタン\"","v":"一覧表付ファイル作成入力設定1印刷ボタン"}]
[null,23,{"$f":"C12&\"印刷ボタン\"","v":"一覧表付ファイル作成入力設定2印刷ボタン"}]
[null,24,{"$f":"C13&\"印刷ボタン\"","v":"一覧表付ファイル作成入力設定3印刷ボタン"}]
[null,25,{"$f":"C14&\"印刷ボタン\"","v":"一覧表付ファイル作成入力設定4印刷ボタン"}]
[null,26,{"$f":"C15&\"印刷ボタン\"","v":"一覧表付ファイル作成入力設定5印刷ボタン"}]
[null,27,{"$f":"C11&\"印刷\"","v":"一覧表付ファイル作成入力設定1印刷"}]
[null,28,{"$f":"C12&\"印刷\"","v":"一覧表付ファイル作成入力設定2印刷"}]
[null,29,{"$f":"C13&\"印刷\"","v":"一覧表付ファイル作成入力設定3印刷"}]
[null,30,{"$f":"C14&\"印刷\"","v":"一覧表付ファイル作成入力設定4印刷"}]
[null,31,{"$f":"C15&\"印刷\"","v":"一覧表付ファイル作成入力設定5印刷"}]
[null,32]
[null,33]
[null,34]
[null,35]
[null,36]
[null,37]
[null,38]
[null,39]
[null,40]
[]
[]
[]
[]
[]
[]
[]
[]
[]
[]
[]
[]
[]
[]
[]
[]
[]
[]
[]
[]
[]
[]
[]
[]
[]
[]
[]
[]
[]
[]
[]
[]
[]
[]
[]
[]
[]
[]
[]
[]
[]
[]
[]
[]
[]
[]
[]
[]
[]
[]
[]
[]
[]
[]
[]
[]
[null,null,{"$f":"IF(ISERROR(シート名設定!C4)=TRUE,1,0)","v":0}]
[null,null,{"$f":"IF(ISERROR(Sheet1!C5)=TRUE,1,0)","v":0}]

{"sheet":"シート名設定","index":4,"n_rows":62,"n_cols":5,"rows_kept":62,"cut":false,"hidden":false,"merged":[]}
[]
[null,null,null,{"$f":"C5","v":"シート名設定"}]
[]
[null,"NO","シート上表示名・Commandボタン表示名・画面サイズ・Zoom設定等"]
[null,1,"シート名設定"]
[null,2,"項目表示入力"]
[null,3,"項目表示作成"]
[null,4,"行列入力項目"]
[null,5,"ファイル作成コピー用"]
[null,6,"データー入力"]
[null,7,"一覧表付ファイル作成入力設定1"]
[null,8,"一覧表付ファイル作成入力設定2"]
[null,9,"一覧表付ファイル作成入力設定3"]
[null,10,"一覧表付ファイル作成入力設定4"]
[null,11,"一覧表付ファイル作成入力設定5"]
[null,12,"印刷フォーム1"]
[null,13,"印刷フォーム2"]
[null,14,"印刷フォーム3"]
[null,15,"印刷フォーム4"]
[null,16,"印刷フォーム5"]
[null,17,"印刷フォーム1ソートデーター"]
[null,18,"印刷フォーム2ソートデーター"]
[null,19,"印刷フォーム3ソートデーター"]
[null,20,"印刷フォーム4ソートデーター"]
[null,21,"印刷フォーム5ソートデーター"]
[null,22,{"$f":"C11&\"印刷ボタン\"","v":"一覧表付ファイル作成入力設定1印刷ボタン"}]
[null,23,{"$f":"C12&\"印刷ボタン\"","v":"一覧表付ファイル作成入力設定2印刷ボタン"}]
[null,24,{"$f":"C13&\"印刷ボタン\"","v":"一覧表付ファイル作成入力設定3印刷ボタン"}]
[null,25,{"$f":"C14&\"印刷ボタン\"","v":"一覧表付ファイル作成入力設定4印刷ボタン"}]
[null,26,{"$f":"C15&\"印刷ボタン\"","v":"一覧表付ファイル作成入力設定5印刷ボタン"}]
[null,27,{"$f":"C11&\"印刷\"","v":"一覧表付ファイル作成入力設定1印刷"}]
[null,28,{"$f":"C12&\"印刷\"","v":"一覧表付ファイル作成入力設定2印刷"}]
[null,29,{"$f":"C13&\"印刷\"","v":"一覧表付ファイル作成入力設定3印刷"}]
[null,30,{"$f":"C14&\"印刷\"","v":"一覧表付ファイル作成入力設定4印刷"}]
[null,31,{"$f":"C15&\"印刷\"","v":"一覧表付ファイル作成入力設定5印刷"}]
[null,32]
[null,33]
[null,34]
[null,35]
[null,36]
[null,37]
[null,38]
[null,39]
[null,40]
[]
[]
[]
[]
[]
[]
[]
[]
[]
[]
[]
[]
[]
[]
[]
[]
[null,null,"E4903057189AF4BA多田記一",1]
[null,null,"BAB5D52235FC0COwner","2021cvdatabaseadvancekeisou40ver1no2.xlsm","CV-DataBaseAdvance軽装版40Ver1（コンピュータ２台リリース配布版）.xlsm"]

{"sheet":"インターフェース画面設定","index":5,"n_rows":8,"n_cols":9,"rows_kept":8,"cut":false,"hidden":false,"merged":[[1,1,1,2]]}
[]
[null,"インターフェース画面設定"]
[]
[null,"設定項目","設定値",3]
[null,"画面高さ",{"$f":"IF(D$4=1,D5,IF(D$4=2,E5,IF(D$4=3,F5,IF(D$4=4,G5,IF(D$4=5,H5,IF(D$4=6,I5,I5))))))","v":810},810,810,{"$f":"E5","v":810},{"$f":"D5*G$8","v":810},{"$f":"E5*H$8","v":810},750]
[null,"画面幅",{"$f":"IF(D$4=1,D6,IF(D$4=2,E6,IF(D$4=3,F6,IF(D$4=4,G6,IF(D$4=5,H6,IF(D$4=6,I6,I6))))))","v":1440},964.80000000000007,1440,{"$f":"E6","v":1440},{"$f":"D6*G$8","v":964.80000000000007},1440,1200]
[null,"画面Zoom",97,94,100,97,94,100,87]
[null,null,null,null,null,"表示倍率",1,1]

{"sheet":"項目表示入力","index":6,"n_rows":8,"n_cols":22,"rows_kept":8,"cut":false,"hidden":false,"merged":[]}
[]
[null,{"$f":"シート名設定!$C$6","v":"項目表示入力"}]
[]
[]
[]
[null,null,{"$f":"IF(行列入力項目!$D$5=\"\",\"\",行列入力項目!$D$5)","v":"列1"},{"$f":"IF(行列入力項目!$D$6=\"\",\"\",行列入力項目!$D$6)","v":"列2"},{"$f":"IF(行列入力項目!$D$7=\"\",\"\",行列入力項目!$D$7)","v":"列3"},{"$f":"IF(行列入力項目!$D$8=\"\",\"\",行列入力項目!$D$8)","v":"列4"},{"$f":"IF(行列入力項目!$D$9=\"\",\"\",行列入力項目!$D$9)","v":"列5"},{"$f":"IF(行列入力項目!$D$10=\"\",\"\",行列入力項目!$D$10)","v":"列6"},{"$f":"IF(行列入力項目!$D$11=\"\",\"\",行列入力項目!$D$11)","v":"列7"},{"$f":"IF(行列入力項目!$D$12=\"\",\"\",行列入力項目!$D$12)","v":"列8"},{"$f":"IF(行列入力項目!$D$13=\"\",\"\",行列入力項目!$D$13)","v":"列9"},{"$f":"IF(行列入力項目!$D$14=\"\",\"\",行列入力項目!$D$14)","v":"列10"},{"$f":"IF(行列入力項目!$D$15=\"\",\"\",行列入力項目!$D$15)","v":"列11"},{"$f":"IF(行列入力項目!$D$16=\"\",\"\",行列入力項目!$D$16)","v":"列12"},{"$f":"IF(行列入力項目!$D$17=\"\",\"\",行列入力項目!$D$17)","v":"列13"},{"$f":"IF(行列入力項目!$D$18=\"\",\"\",行列入力項目!$D$18)","v":"列14"},{"$f":"IF(行列入力項目!$D$19=\"\",\"\",行列入力項目!$D$19)","v":"列15"},{"$f":"IF(行列入力項目!$D$20=\"\",\"\",行列入力項目!$D$20)","v":"列16"},{"$f":"IF(行列入力項目!$D$21=\"\",\"\",行列入力項目!$D$21)","v":"列17"},{"$f":"IF(行列入力項目!$D$22=\"\",\"\",行列入力項目!$D$22)","v":"列18"},{"$f":"IF(行列入力項目!$D$23=\"\",\"\",行列入力項目!$D$23)","v":"列19"},{"$f":"IF(行列入力項目!$D$24=\"\",\"\",行列入力項目!$D$24)","v":"列20"}]
[null,{"$f":"IF(行列入力項目!$C$5=\"\",\"\",行列入力項目!$C$5)","v":"行1"},"内容1,1","内容1,2","内容1,3","内容1,4","内容1,5","内容1,6","内容1,7","内容1,8","内容1,9","内容1,10","内容1,11","内容1,12","内容1,13","内容1,14","内容1,15","内容1,16","内容1,17","内容1,18","内容1,19","内容1,20"]
[null,{"$f":"IF(行列入力項目!$C$6=\"\",\"\",行列入力項目!$C$6)","v":"行2"},"内容2,1","内容2,2","内容2,3","内容2,4","内容2,5","内容2,6","内容2,7","内容2,8","内容2,9","内容2,10","内容2,11","内容2,12","内容2,13","内容2,14","内容2,15","内容2,16","内容2,17","内容2,18","内容2,19","内容2,20"]

{"sheet":"項目表示入力既定番地","index":7,"n_rows":8,"n_cols":22,"rows_kept":8,"cut":false,"hidden":false,"merged":[]}
[]
[null,"項目表示入力既定番地"]
[]
[]
[]
[null,null,{"$f":"IF(行列入力項目!$D$5=\"\",\"\",行列入力項目!$D$5)","v":"列1"},{"$f":"IF(行列入力項目!$D$6=\"\",\"\",行列入力項目!$D$6)","v":"列2"},{"$f":"IF(行列入力項目!$D$7=\"\",\"\",行列入力項目!$D$7)","v":"列3"},{"$f":"IF(行列入力項目!$D$8=\"\",\"\",行列入力項目!$D$8)","v":"列4"},{"$f":"IF(行列入力項目!$D$9=\"\",\"\",行列入力項目!$D$9)","v":"列5"},{"$f":"IF(行列入力項目!$D$10=\"\",\"\",行列入力項目!$D$10)","v":"列6"},{"$f":"IF(行列入力項目!$D$11=\"\",\"\",行列入力項目!$D$11)","v":"列7"},{"$f":"IF(行列入力項目!$D$12=\"\",\"\",行列入力項目!$D$12)","v":"列8"},{"$f":"IF(行列入力項目!$D$13=\"\",\"\",行列入力項目!$D$13)","v":"列9"},{"$f":"IF(行列入力項目!$D$14=\"\",\"\",行列入力項目!$D$14)","v":"列10"},{"$f":"IF(行列入力項目!$D$15=\"\",\"\",行列入力項目!$D$15)","v":"列11"},{"$f":"IF(行列入力項目!$D$16=\"\",\"\",行列入力項目!$D$16)","v":"列12"},{"$f":"IF(行列入力項目!$D$17=\"\",\"\",行列入力項目!$D$17)","v":"列13"},{"$f":"IF(行列入力項目!$D$18=\"\",\"\",行列入力項目!$D$18)","v":"列14"},{"$f":"IF(行列入力項目!$D$19=\"\",\"\",行列入力項目!$D$19)","v":"列15"},{"$f":"IF(行列入力項目!$D$20=\"\",\"\",行列入力項目!$D$20)","v":"列16"},{"$f":"IF(行列入力項目!$D$21=\"\",\"\",行列入力項目!$D$21)","v":"列17"},{"$f":"IF(行列入力項目!$D$22=\"\",\"\",行列入力項目!$D$22)","v":"列18"},{"$f":"IF(行列入力項目!$D$23=\"\",\"\",行列入力項目!$D$23)","v":"列19"},{"$f":"IF(行列入力項目!$D$24=\"\",\"\",行列入力項目!$D$24)","v":"列20"}]
[null,{"$f":"IF(行列入力項目!$C$5=\"\",\"\",行列入力項目!$C$5)","v":"行1"},"内容1,1","内容1,2","内容1,3","内容1,4","内容1,5","内容1,6","内容1,7","内容1,8","内容1,9","内容1,10","内容1,11","内容1,12","内容1,13","内容1,14","内容1,15","内容1,16","内容1,17","内容1,18","内容1,19","内容1,20"]
[null,{"$f":"IF(行列入力項目!$C$6=\"\",\"\",行列入力項目!$C$6)","v":"行2"},"内容2,1","内容2,2","内容2,3","内容2,4","内容2,5","内容2,6","内容2,7","内容2,8","内容2,9","内容2,10","内容2,11","内容2,12","内容2,13","内容2,14","内容2,15","内容2,16","内容2,17","内容2,18","内容2,19","内容2,20"]

{"sheet":"項目表示作成","index":8,"n_rows":8,"n_cols":22,"rows_kept":8,"cut":false,"hidden":false,"merged":[]}
[]
[null,{"$f":"シート名設定!$C$7","v":"項目表示作成"}]
[]
[]
[]
[null,null,{"$f":"IF(行列入力項目!$D$5=\"\",\"\",行列入力項目!$D$5)","v":"列1"},{"$f":"IF(行列入力項目!$D$6=\"\",\"\",行列入力項目!$D$6)","v":"列2"},{"$f":"IF(行列入力項目!$D$7=\"\",\"\",行列入力項目!$D$7)","v":"列3"},{"$f":"IF(行列入力項目!$D$8=\"\",\"\",行列入力項目!$D$8)","v":"列4"},{"$f":"IF(行列入力項目!$D$9=\"\",\"\",行列入力項目!$D$9)","v":"列5"},{"$f":"IF(行列入力項目!$D$10=\"\",\"\",行列入力項目!$D$10)","v":"列6"},{"$f":"IF(行列入力項目!$D$11=\"\",\"\",行列入力項目!$D$11)","v":"列7"},{"$f":"IF(行列入力項目!$D$12=\"\",\"\",行列入力項目!$D$12)","v":"列8"},{"$f":"IF(行列入力項目!$D$13=\"\",\"\",行列入力項目!$D$13)","v":"列9"},{"$f":"IF(行列入力項目!$D$14=\"\",\"\",行列入力項目!$D$14)","v":"列10"},{"$f":"IF(行列入力項目!$D$15=\"\",\"\",行列入力項目!$D$15)","v":"列11"},{"$f":"IF(行列入力項目!$D$16=\"\",\"\",行列入力項目!$D$16)","v":"列12"},{"$f":"IF(行列入力項目!$D$17=\"\",\"\",行列入力項目!$D$17)","v":"列13"},{"$f":"IF(行列入力項目!$D$18=\"\",\"\",行列入力項目!$D$18)","v":"列14"},{"$f":"IF(行列入力項目!$D$19=\"\",\"\",行列入力項目!$D$19)","v":"列15"},{"$f":"IF(行列入力項目!$D$20=\"\",\"\",行列入力項目!$D$20)","v":"列16"},{"$f":"IF(行列入力項目!$D$21=\"\",\"\",行列入力項目!$D$21)","v":"列17"},{"$f":"IF(行列入力項目!$D$22=\"\",\"\",行列入力項目!$D$22)","v":"列18"},{"$f":"IF(行列入力項目!$D$23=\"\",\"\",行列入力項目!$D$23)","v":"列19"},{"$f":"IF(行列入力項目!$D$24=\"\",\"\",行列入力項目!$D$24)","v":"列20"}]
[null,{"$f":"IF(行列入力項目!$C$5=\"\",\"\",行列入力項目!$C$5)","v":"行1"},{"$f":"C$6&$B7","v":"列1行1"},"列2行1","列3行1","列4行1","列5行1","列6行1","列7行1","列8行1","列9行1","列10行1",{"$f":"M$6&$B7","v":"列11行1"},"列12行1","列13行1","列14行1","列15行1","列16行1","列17行1","列18行1","列19行1","列20行1"]
[null,{"$f":"IF(行列入力項目!$C$6=\"\",\"\",行列入力項目!$C$6)","v":"行2"},"列1行2","列2行2","列3行2","列4行2","列5行2","列6行2","列7行2","列8行2","列9行2","列10行2","列11行2","列12行2","列13行2","列14行2","列15行2","列16行2","列17行2","列18行2","列19行2","列20行2"]

{"sheet":"行列入力項目","index":9,"n_rows":24,"n_cols":4,"rows_kept":24,"cut":false,"hidden":false,"merged":[]}
[]
[null,{"$f":"シート名設定!$C$8","v":"行列入力項目"}]
[]
[null,"NO.","行項目入力","列項目入力"]
[null,1,"行1","列1"]
[null,2,"行2","列2"]
[null,null,null,"列3"]
[null,null,null,"列4"]
[null,null,null,"列5"]
[null,null,null,"列6"]
[null,null,null,"列7"]
[null,null,null,"列8"]
[null,null,null,"列9"]
[null,null,null,"列10"]
[null,null,null,"列11"]
[null,null,null,"列12"]
[null,null,null,"列13"]
[null,null,null,"列14"]
[null,null,null,"列15"]
[null,null,null,"列16"]
[null,null,null,"列17"]
[null,null,null,"列18"]
[null,null,null,"列19"]
[null,null,null,"列20"]

{"sheet":"オフセット番号A","index":10,"n_rows":6,"n_cols":22,"rows_kept":6,"cut":false,"hidden":true,"merged":[]}
[]
[null,"ｵﾌｾｯﾄ番号表A"]
[]
[null,null,{"$f":"IF(行列入力項目!$D$5=\"\",\"\",行列入力項目!$D$5)","v":"列1"},{"$f":"IF(行列入力項目!$D$6=\"\",\"\",行列入力項目!$D$6)","v":"列2"},{"$f":"IF(行列入力項目!$D$7=\"\",\"\",行列入力項目!$D$7)","v":"列3"},{"$f":"IF(行列入力項目!$D$8=\"\",\"\",行列入力項目!$D$8)","v":"列4"},{"$f":"IF(行列入力項目!$D$9=\"\",\"\",行列入力項目!$D$9)","v":"列5"},{"$f":"IF(行列入力項目!$D$10=\"\",\"\",行列入力項目!$D$10)","v":"列6"},{"$f":"IF(行列入力項目!$D$11=\"\",\"\",行列入力項目!$D$11)","v":"列7"},{"$f":"IF(行列入力項目!$D$12=\"\",\"\",行列入力項目!$D$12)","v":"列8"},{"$f":"IF(行列入力項目!$D$13=\"\",\"\",行列入力項目!$D$13)","v":"列9"},{"$f":"IF(行列入力項目!$D$14=\"\",\"\",行列入力項目!$D$14)","v":"列10"},{"$f":"IF(行列入力項目!$D$15=\"\",\"\",行列入力項目!$D$15)","v":"列11"},{"$f":"IF(行列入力項目!$D$16=\"\",\"\",行列入力項目!$D$16)","v":"列12"},{"$f":"IF(行列入力項目!$D$17=\"\",\"\",行列入力項目!$D$17)","v":"列13"},{"$f":"IF(行列入力項目!$D$18=\"\",\"\",行列入力項目!$D$18)","v":"列14"},{"$f":"IF(行列入力項目!$D$19=\"\",\"\",行列入力項目!$D$19)","v":"列15"},{"$f":"IF(行列入力項目!$D$20=\"\",\"\",行列入力項目!$D$20)","v":"列16"},{"$f":"IF(行列入力項目!$D$21=\"\",\"\",行列入力項目!$D$21)","v":"列17"},{"$f":"IF(行列入力項目!$D$22=\"\",\"\",行列入力項目!$D$22)","v":"列18"},{"$f":"IF(行列入力項目!$D$23=\"\",\"\",行列入力項目!$D$23)","v":"列19"},{"$f":"IF(行列入力項目!$D$24=\"\",\"\",行列入力項目!$D$24)","v":"列20"}]
[null,{"$f":"IF(行列入力項目!$C$5=\"\",\"\",行列入力項目!$C$5)","v":"行1"},2,3,4,5,6,7,8,9,10,11,12,13,14,15,16,17,18,19,20,21]
[null,{"$f":"IF(行列入力項目!$C$6=\"\",\"\",行列入力項目!$C$6)","v":"行2"},22,23,24,25,26,27,28,29,30,31,32,33,34,35,36,37,38,39,40,41]

{"sheet":"ﾌｧｲﾙ作成原版A","index":11,"n_rows":10,"n_cols":22,"rows_kept":10,"cut":false,"hidden":true,"merged":[]}
[null,"ファイル作成原版A"]
[null,"     入力項目表示とデーター表示の切替     →",null,null,null,1]
[null,"     入力項目表示は1，データ表示は2を入力"]
[]
[]
[null,1,{"$f":"IF(ISERR(VLOOKUP(B6,データー入力!$B$8:$AQ$58,2))=1,\"\",VLOOKUP(B6,データー入力!$B$8:$AQ$58,2))","v":"対象1"}]
[]
[null,null,{"$f":"IF(オフセット番号A!$C$4=\"\",\"\",オフセット番号A!$C$4)","v":"列1"},{"$f":"IF(オフセット番号A!$D$4=\"\",\"\",オフセット番号A!$D$4)","v":"列2"},{"$f":"IF(オフセット番号A!$E$4=\"\",\"\",オフセット番号A!$E$4)","v":"列3"},{"$f":"IF(オフセット番号A!$F$4=\"\",\"\",オフセット番号A!$F$4)","v":"列4"},{"$f":"IF(オフセット番号A!$G$4=\"\",\"\",オフセット番号A!$G$4)","v":"列5"},{"$f":"IF(オフセット番号A!$H$4=\"\",\"\",オフセット番号A!$H$4)","v":"列6"},{"$f":"IF(オフセット番号A!$I$4=\"\",\"\",オフセット番号A!$I$4)","v":"列7"},{"$f":"IF(オフセット番号A!$J$4=\"\",\"\",オフセット番号A!$J$4)","v":"列8"},{"$f":"IF(オフセット番号A!$K$4=\"\",\"\",オフセット番号A!$K$4)","v":"列9"},{"$f":"IF(オフセット番号A!$L$4=\"\",\"\",オフセット番号A!$L$4)","v":"列10"},{"$f":"IF(オフセット番号A!$M$4=\"\",\"\",オフセット番号A!$M$4)","v":"列11"},{"$f":"IF(オフセット番号A!$N$4=\"\",\"\",オフセット番号A!$N$4)","v":"列12"},{"$f":"IF(オフセット番号A!$O$4=\"\",\"\",オフセット番号A!$O$4)","v":"列13"},{"$f":"IF(オフセット番号A!$P$4=\"\",\"\",オフセット番号A!$P$4)","v":"列14"},{"$f":"IF(オフセット番号A!$Q$4=\"\",\"\",オフセット番号A!$Q$4)","v":"列15"},{"$f":"IF(オフセット番号A!$R$4=\"\",\"\",オフセット番号A!$R$4)","v":"列16"},{"$f":"IF(オフセット番号A!$S$4=\"\",\"\",オフセット番号A!$S$4)","v":"列17"},{"$f":"IF(オフセット番号A!$T$4=\"\",\"\",オフセット番号A!$T$4)","v":"列18"},{"$f":"IF(オフセット番号A!$U$4=\"\",\"\",オフセット番号A!$U$4)","v":"列19"},{"$f":"IF(オフセット番号A!$V$4=\"\",\"\",オフセット番号A!$V$4)","v":"列20"}]
[null,{"$f":"IF(行列入力項目!$C$5=\"\",\"\",行列入力項目!$C$5)","v":"行1"},{"$f":"IF($F$2=1,項目表示入力!$C$7,IF($F$2=2,IF(ISERROR(VLOOKUP(B6,データー入力!$B$8:$AQ$58,オフセット番号A!$C$5+1))=TRUE,\"\",VLOOKUP(B6,データー入力!$B$8:$AQ$58,オフセット番号A!$C$5+1)),\"*\"))","v":"内容1,1"},{"$f":"IF($F$2=1,項目表示入力!$D$7,IF($F$2=2,IF(ISERROR(VLOOKUP(B6,データー入力!$B$8:$AQ$58,オフセット番号A!$D$5+1))=TRUE,\"\",VLOOKUP(B6,データー入力!$B$8:$AQ$58,オフセット番号A!$D$5+1)),\"*\"))","v":"内容1,2"},{"$f":"IF($F$2=1,項目表示入力!$E$7,IF($F$2=2,IF(ISERROR(VLOOKUP(B6,データー入力!$B$8:$AQ$58,オフセット番号A!$E$5+1))=TRUE,\"\",VLOOKUP(B6,データー入力!$B$8:$AQ$58,オフセット番号A!$E$5+1)),\"*\"))","v":"内容1,3"},{"$f":"IF($F$2=1,項目表示入力!$F$7,IF($F$2=2,IF(ISERROR(VLOOKUP(B6,データー入力!$B$8:$AQ$58,オフセット番号A!$F$5+1))=TRUE,\"\",VLOOKUP(B6,データー入力!$B$8:$AQ$58,オフセット番号A!$F$5+1)),\"*\"))","v":"内容1,4"},{"$f":"IF($F$2=1,項目表示入力!$G$7,IF($F$2=2,IF(ISERROR(VLOOKUP(B6,データー入力!$B$8:$AQ$58,オフセット番号A!$G$5+1))=TRUE,\"\",VLOOKUP(B6,データー入力!$B$8:$AQ$58,オフセット番号A!$G$5+1)),\"*\"))","v":"内容1,5"},{"$f":"IF($F$2=1,項目表示入力!$H$7,IF($F$2=2,IF(ISERROR(VLOOKUP(B6,データー入力!$B$8:$AQ$58,オフセット番号A!$H$5+1))=TRUE,\"\",VLOOKUP(B6,データー入力!$B$8:$AQ$58,オフセット番号A!$H$5+1)),\"*\"))","v":"内容1,6"},{"$f":"IF($F$2=1,項目表示入力!$I$7,IF($F$2=2,IF(ISERROR(VLOOKUP(B6,データー入力!$B$8:$AQ$58,オフセット番号A!$I$5+1))=TRUE,\"\",VLOOKUP(B6,データー入力!$B$8:$AQ$58,オフセット番号A!$I$5+1)),\"*\"))","v":"内容1,7"},{"$f":"IF($F$2=1,項目表示入力!$J$7,IF($F$2=2,IF(ISERROR(VLOOKUP(B6,データー入力!$B$8:$AQ$58,オフセット番号A!$J$5+1))=TRUE,\"\",VLOOKUP(B6,データー入力!$B$8:$AQ$58,オフセット番号A!$J$5+1)),\"*\"))","v":"内容1,8"},{"$f":"IF($F$2=1,項目表示入力!$K$7,IF($F$2=2,IF(ISERROR(VLOOKUP(B6,データー入力!$B$8:$AQ$58,オフセット番号A!$K$5+1))=TRUE,\"\",VLOOKUP(B6,データー入力!$B$8:$AQ$58,オフセット番号A!$K$5+1)),\"*\"))","v":"内容1,9"},{"$f":"IF($F$2=1,項目表示入力!$L$7,IF($F$2=2,IF(ISERROR(VLOOKUP(B6,データー入力!$B$8:$AQ$58,オフセット番号A!$L$5+1))=TRUE,\"\",VLOOKUP(B6,データー入力!$B$8:$AQ$58,オフセット番号A!$L$5+1)),\"*\"))","v":"内容1,10"},{"$f":"IF($F$2=1,項目表示入力!$M$7,IF($F$2=2,IF(ISERROR(VLOOKUP(B6,データー入力!$B$8:$AQ$58,オフセット番号A!$M$5+1))=TRUE,\"\",VLOOKUP(B6,データー入力!$B$8:$AQ$58,オフセット番号A!$M$5+1)),\"*\"))","v":"内容1,11"},{"$f":"IF($F$2=1,項目表示入力!$N$7,IF($F$2=2,IF(ISERROR(VLOOKUP(B6,データー入力!$B$8:$AQ$58,オフセット番号A!$N$5+1))=TRUE,\"\",VLOOKUP(B6,データー入力!$B$8:$AQ$58,オフセット番号A!$N$5+1)),\"*\"))","v":"内容1,12"},{"$f":"IF($F$2=1,項目表示入力!$O$7,IF($F$2=2,IF(ISERROR(VLOOKUP(B6,データー入力!$B$8:$AQ$58,オフセット番号A!$O$5+1))=TRUE,\"\",VLOOKUP(B6,データー入力!$B$8:$AQ$58,オフセット番号A!$O$5+1)),\"*\"))","v":"内容1,13"},{"$f":"IF($F$2=1,項目表示入力!$P$7,IF($F$2=2,IF(ISERROR(VLOOKUP(B6,データー入力!$B$8:$AQ$58,オフセット番号A!$P$5+1))=TRUE,\"\",VLOOKUP(B6,データー入力!$B$8:$AQ$58,オフセット番号A!$P$5+1)),\"*\"))","v":"内容1,14"},{"$f":"IF($F$2=1,項目表示入力!$Q$7,IF($F$2=2,IF(ISERROR(VLOOKUP(B6,データー入力!$B$8:$AQ$58,オフセット番号A!$Q$5+1))=TRUE,\"\",VLOOKUP(B6,データー入力!$B$8:$AQ$58,オフセット番号A!$Q$5+1)),\"*\"))","v":"内容1,15"},{"$f":"IF($F$2=1,項目表示入力!$R$7,IF($F$2=2,IF(ISERROR(VLOOKUP(B6,データー入力!$B$8:$AQ$58,オフセット番号A!$R$5+1))=TRUE,\"\",VLOOKUP(B6,データー入力!$B$8:$AQ$58,オフセット番号A!$R$5+1)),\"*\"))","v":"内容1,16"},{"$f":"IF($F$2=1,項目表示入力!$S$7,IF($F$2=2,IF(ISERROR(VLOOKUP(B6,データー入力!$B$8:$AQ$58,オフセット番号A!$S$5+1))=TRUE,\"\",VLOOKUP(B6,データー入力!$B$8:$AQ$58,オフセット番号A!$S$5+1)),\"*\"))","v":"内容1,17"},{"$f":"IF($F$2=1,項目表示入力!$T$7,IF($F$2=2,IF(ISERROR(VLOOKUP(B6,データー入力!$B$8:$AQ$58,オフセット番号A!$T$5+1))=TRUE,\"\",VLOOKUP(B6,データー入力!$B$8:$AQ$58,オフセット番号A!$T$5+1)),\"*\"))","v":"内容1,18"},{"$f":"IF($F$2=1,項目表示入力!$U$7,IF($F$2=2,IF(ISERROR(VLOOKUP(B6,データー入力!$B$8:$AQ$58,オフセット番号A!$U$5+1))=TRUE,\"\",VLOOKUP(B6,データー入力!$B$8:$AQ$58,オフセット番号A!$U$5+1)),\"*\"))","v":"内容1,19"},{"$f":"IF($F$2=1,項目表示入力!$V$7,IF($F$2=2,IF(ISERROR(VLOOKUP(B6,データー入力!$B$8:$AQ$58,オフセット番号A!$V$5+1))=TRUE,\"\",VLOOKUP(B6,データー入力!$B$8:$AQ$58,オフセット番号A!$V$5+1)),\"*\"))","v":"内容1,20"}]
[null,{"$f":"IF(行列入力項目!$C$6=\"\",\"\",行列入力項目!$C$6)","v":"行2"},{"$f":"IF($F$2=1,項目表示入力!$C$8,IF($F$2=2,IF(ISERROR(VLOOKUP(B6,データー入力!$B$8:$AQ$58,オフセット番号A!$C$6+1))=TRUE,\"\",VLOOKUP(B6,データー入力!$B$8:$AQ$58,オフセット番号A!$C$6+1)),\"*\"))","v":"内容2,1"},{"$f":"IF($F$2=1,項目表示入力!$D$8,IF($F$2=2,IF(ISERROR(VLOOKUP(B6,データー入力!$B$8:$AQ$58,オフセット番号A!$D$6+1))=TRUE,\"\",VLOOKUP(B6,データー入力!$B$8:$AQ$58,オフセット番号A!$D$6+1)),\"*\"))","v":"内容2,2"},{"$f":"IF($F$2=1,項目表示入力!$E$8,IF($F$2=2,IF(ISERROR(VLOOKUP(B6,データー入力!$B$8:$AQ$58,オフセット番号A!$E$6+1))=TRUE,\"\",VLOOKUP(B6,データー入力!$B$8:$AQ$58,オフセット番号A!$E$6+1)),\"*\"))","v":"内容2,3"},{"$f":"IF($F$2=1,項目表示入力!$F$8,IF($F$2=2,IF(ISERROR(VLOOKUP(B6,データー入力!$B$8:$AQ$58,オフセット番号A!$F$6+1))=TRUE,\"\",VLOOKUP(B6,データー入力!$B$8:$AQ$58,オフセット番号A!$F$6+1)),\"*\"))","v":"内容2,4"},{"$f":"IF($F$2=1,項目表示入力!$G$8,IF($F$2=2,IF(ISERROR(VLOOKUP(B6,データー入力!$B$8:$AQ$58,オフセット番号A!$G$6+1))=TRUE,\"\",VLOOKUP(B6,データー入力!$B$8:$AQ$58,オフセット番号A!$G$6+1)),\"*\"))","v":"内容2,5"},{"$f":"IF($F$2=1,項目表示入力!$H$8,IF($F$2=2,IF(ISERROR(VLOOKUP(B6,データー入力!$B$8:$AQ$58,オフセット番号A!$H$6+1))=TRUE,\"\",VLOOKUP(B6,データー入力!$B$8:$AQ$58,オフセット番号A!$H$6+1)),\"*\"))","v":"内容2,6"},{"$f":"IF($F$2=1,項目表示入力!$I$8,IF($F$2=2,IF(ISERROR(VLOOKUP(B6,データー入力!$B$8:$AQ$58,オフセット番号A!$I$6+1))=TRUE,\"\",VLOOKUP(B6,データー入力!$B$8:$AQ$58,オフセット番号A!$I$6+1)),\"*\"))","v":"内容2,7"},{"$f":"IF($F$2=1,項目表示入力!$J$8,IF($F$2=2,IF(ISERROR(VLOOKUP(B6,データー入力!$B$8:$AQ$58,オフセット番号A!$J$6+1))=TRUE,\"\",VLOOKUP(B6,データー入力!$B$8:$AQ$58,オフセット番号A!$J$6+1)),\"*\"))","v":"内容2,8"},{"$f":"IF($F$2=1,項目表示入力!$K$8,IF($F$2=2,IF(ISERROR(VLOOKUP(B6,データー入力!$B$8:$AQ$58,オフセット番号A!$K$6+1))=TRUE,\"\",VLOOKUP(B6,データー入力!$B$8:$AQ$58,オフセット番号A!$K$6+1)),\"*\"))","v":"内容2,9"},{"$f":"IF($F$2=1,項目表示入力!$L$8,IF($F$2=2,IF(ISERROR(VLOOKUP(B6,データー入力!$B$8:$AQ$58,オフセット番号A!$L$6+1))=TRUE,\"\",VLOOKUP(B6,データー入力!$B$8:$AQ$58,オフセット番号A!$L$6+1)),\"*\"))","v":"内容2,10"},{"$f":"IF($F$2=1,項目表示入力!$M$8,IF($F$2=2,IF(ISERROR(VLOOKUP(B6,データー入力!$B$8:$AQ$58,オフセット番号A!$M$6+1))=TRUE,\"\",VLOOKUP(B6,データー入力!$B$8:$AQ$58,オフセット番号A!$M$6+1)),\"*\"))","v":"内容2,11"},{"$f":"IF($F$2=1,項目表示入力!$N$8,IF($F$2=2,IF(ISERROR(VLOOKUP(B6,データー入力!$B$8:$AQ$58,オフセット番号A!$N$6+1))=TRUE,\"\",VLOOKUP(B6,データー入力!$B$8:$AQ$58,オフセット番号A!$N$6+1)),\"*\"))","v":"内容2,12"},{"$f":"IF($F$2=1,項目表示入力!$O$8,IF($F$2=2,IF(ISERROR(VLOOKUP(B6,データー入力!$B$8:$AQ$58,オフセット番号A!$O$6+1))=TRUE,\"\",VLOOKUP(B6,データー入力!$B$8:$AQ$58,オフセット番号A!$O$6+1)),\"*\"))","v":"内容2,13"},{"$f":"IF($F$2=1,項目表示入力!$P$8,IF($F$2=2,IF(ISERROR(VLOOKUP(B6,データー入力!$B$8:$AQ$58,オフセット番号A!$P$6+1))=TRUE,\"\",VLOOKUP(B6,データー入力!$B$8:$AQ$58,オフセット番号A!$P$6+1)),\"*\"))","v":"内容2,14"},{"$f":"IF($F$2=1,項目表示入力!$Q$8,IF($F$2=2,IF(ISERROR(VLOOKUP(B6,データー入力!$B$8:$AQ$58,オフセット番号A!$Q$6+1))=TRUE,\"\",VLOOKUP(B6,データー入力!$B$8:$AQ$58,オフセット番号A!$Q$6+1)),\"*\"))","v":"内容2,15"},{"$f":"IF($F$2=1,項目表示入力!$R$8,IF($F$2=2,IF(ISERROR(VLOOKUP(B6,データー入力!$B$8:$AQ$58,オフセット番号A!$R$6+1))=TRUE,\"\",VLOOKUP(B6,データー入力!$B$8:$AQ$58,オフセット番号A!$R$6+1)),\"*\"))","v":"内容2,16"},{"$f":"IF($F$2=1,項目表示入力!$S$8,IF($F$2=2,IF(ISERROR(VLOOKUP(B6,データー入力!$B$8:$AQ$58,オフセット番号A!$S$6+1))=TRUE,\"\",VLOOKUP(B6,データー入力!$B$8:$AQ$58,オフセット番号A!$S$6+1)),\"*\"))","v":"内容2,17"},{"$f":"IF($F$2=1,項目表示入力!$T$8,IF($F$2=2,IF(ISERROR(VLOOKUP(B6,データー入力!$B$8:$AQ$58,オフセット番号A!$T$6+1))=TRUE,\"\",VLOOKUP(B6,データー入力!$B$8:$AQ$58,オフセット番号A!$T$6+1)),\"*\"))","v":"内容2,18"},{"$f":"IF($F$2=1,項目表示入力!$U$8,IF($F$2=2,IF(ISERROR(VLOOKUP(B6,データー入力!$B$8:$AQ$58,オフセット番号A!$U$6+1))=TRUE,\"\",VLOOKUP(B6,データー入力!$B$8:$AQ$58,オフセット番号A!$U$6+1)),\"*\"))","v":"内容2,19"},{"$f":"IF($F$2=1,項目表示入力!$V$8,IF($F$2=2,IF(ISERROR(VLOOKUP(B6,データー入力!$B$8:$AQ$58,オフセット番号A!$V$6+1))=TRUE,\"\",VLOOKUP(B6,データー入力!$B$8:$AQ$58,オフセット番号A!$V$6+1)),\"*\"))","v":"内容2,20"}]

{"sheet":"ファイル作成コピー用","index":12,"n_rows":13,"n_cols":22,"rows_kept":13,"cut":false,"hidden":false,"merged":[]}
[]
[]
[]
[null,{"$f":"シート名設定!$C$9","v":"ファイル作成コピー用"}]
[null,"入力項目表示とデーター表示の切替→",null,null,null,1]
[null,"入力項目表示は1，データ表示は2を入力"]
[]
[]
[null,1,{"$f":"IF(B9=0,\"\",IF(ISERROR(VLOOKUP(B9,データー入力!$B$8:$AQ$58,2))=TRUE,\"\",VLOOKUP(B9,データー入力!$B$8:$AQ$58,2)))","v":"対象1"}]
[]
[null,null,{"$f":"IF(オフセット番号A!$C$4=\"\",\"\",オフセット番号A!$C$4)","v":"列1"},{"$f":"IF(オフセット番号A!$D$4=\"\",\"\",オフセット番号A!$D$4)","v":"列2"},{"$f":"IF(オフセット番号A!$E$4=\"\",\"\",オフセット番号A!$E$4)","v":"列3"},{"$f":"IF(オフセット番号A!$F$4=\"\",\"\",オフセット番号A!$F$4)","v":"列4"},{"$f":"IF(オフセット番号A!$G$4=\"\",\"\",オフセット番号A!$G$4)","v":"列5"},{"$f":"IF(オフセット番号A!$H$4=\"\",\"\",オフセット番号A!$H$4)","v":"列6"},{"$f":"IF(オフセット番号A!$I$4=\"\",\"\",オフセット番号A!$I$4)","v":"列7"},{"$f":"IF(オフセット番号A!$J$4=\"\",\"\",オフセット番号A!$J$4)","v":"列8"},{"$f":"IF(オフセット番号A!$K$4=\"\",\"\",オフセット番号A!$K$4)","v":"列9"},{"$f":"IF(オフセット番号A!$L$4=\"\",\"\",オフセット番号A!$L$4)","v":"列10"},{"$f":"IF(オフセット番号A!$M$4=\"\",\"\",オフセット番号A!$M$4)","v":"列11"},{"$f":"IF(オフセット番号A!$N$4=\"\",\"\",オフセット番号A!$N$4)","v":"列12"},{"$f":"IF(オフセット番号A!$O$4=\"\",\"\",オフセット番号A!$O$4)","v":"列13"},{"$f":"IF(オフセット番号A!$P$4=\"\",\"\",オフセット番号A!$P$4)","v":"列14"},{"$f":"IF(オフセット番号A!$Q$4=\"\",\"\",オフセット番号A!$Q$4)","v":"列15"},{"$f":"IF(オフセット番号A!$R$4=\"\",\"\",オフセット番号A!$R$4)","v":"列16"},{"$f":"IF(オフセット番号A!$S$4=\"\",\"\",オフセット番号A!$S$4)","v":"列17"},{"$f":"IF(オフセット番号A!$T$4=\"\",\"\",オフセット番号A!$T$4)","v":"列18"},{"$f":"IF(オフセット番号A!$U$4=\"\",\"\",オフセット番号A!$U$4)","v":"列19"},{"$f":"IF(オフセット番号A!$V$4=\"\",\"\",オフセット番号A!$V$4)","v":"列20"}]
[null,{"$f":"IF(行列入力項目!$C$5=\"\",\"\",行列入力項目!$C$5)","v":"行1"},{"$f":"IF($F$5=1,項目表示入力!$C$7,IF($F$5=2,IF(ISERROR(VLOOKUP(B9,データー入力!$B$8:$AQ$58,オフセット番号A!$C$5+1))=TRUE,\"\",VLOOKUP(B9,データー入力!$B$8:$AQ$58,オフセット番号A!$C$5+1)),\"*\"))","v":"内容1,1"},{"$f":"IF($F$5=1,項目表示入力!$D$7,IF($F$5=2,IF(ISERROR(VLOOKUP(B9,データー入力!$B$8:$AQ$58,オフセット番号A!$D$5+1))=TRUE,\"\",VLOOKUP(B9,データー入力!$B$8:$AQ$58,オフセット番号A!$D$5+1)),\"*\"))","v":"内容1,2"},{"$f":"IF($F$5=1,項目表示入力!$E$7,IF($F$5=2,IF(ISERROR(VLOOKUP(B9,データー入力!$B$8:$AQ$58,オフセット番号A!$E$5+1))=TRUE,\"\",VLOOKUP(B9,データー入力!$B$8:$AQ$58,オフセット番号A!$E$5+1)),\"*\"))","v":"内容1,3"},{"$f":"IF($F$5=1,項目表示入力!$F$7,IF($F$5=2,IF(ISERROR(VLOOKUP(B9,データー入力!$B$8:$AQ$58,オフセット番号A!$F$5+1))=TRUE,\"\",VLOOKUP(B9,データー入力!$B$8:$AQ$58,オフセット番号A!$F$5+1)),\"*\"))","v":"内容1,4"},{"$f":"IF($F$5=1,項目表示入力!$G$7,IF($F$5=2,IF(ISERROR(VLOOKUP(B9,データー入力!$B$8:$AQ$58,オフセット番号A!$G$5+1))=TRUE,\"\",VLOOKUP(B9,データー入力!$B$8:$AQ$58,オフセット番号A!$G$5+1)),\"*\"))","v":"内容1,5"},{"$f":"IF($F$5=1,項目表示入力!$H$7,IF($F$5=2,IF(ISERROR(VLOOKUP(B9,データー入力!$B$8:$AQ$58,オフセット番号A!$H$5+1))=TRUE,\"\",VLOOKUP(B9,データー入力!$B$8:$AQ$58,オフセット番号A!$H$5+1)),\"*\"))","v":"内容1,6"},{"$f":"IF($F$5=1,項目表示入力!$I$7,IF($F$5=2,IF(ISERROR(VLOOKUP(B9,データー入力!$B$8:$AQ$58,オフセット番号A!$I$5+1))=TRUE,\"\",VLOOKUP(B9,データー入力!$B$8:$AQ$58,オフセット番号A!$I$5+1)),\"*\"))","v":"内容1,7"},{"$f":"IF($F$5=1,項目表示入力!$J$7,IF($F$5=2,IF(ISERROR(VLOOKUP(B9,データー入力!$B$8:$AQ$58,オフセット番号A!$J$5+1))=TRUE,\"\",VLOOKUP(B9,データー入力!$B$8:$AQ$58,オフセット番号A!$J$5+1)),\"*\"))","v":"内容1,8"},{"$f":"IF($F$5=1,項目表示入力!$K$7,IF($F$5=2,IF(ISERROR(VLOOKUP(B9,データー入力!$B$8:$AQ$58,オフセット番号A!$K$5+1))=TRUE,\"\",VLOOKUP(B9,データー入力!$B$8:$AQ$58,オフセット番号A!$K$5+1)),\"*\"))","v":"内容1,9"},{"$f":"IF($F$5=1,項目表示入力!$L$7,IF($F$5=2,IF(ISERROR(VLOOKUP(B9,データー入力!$B$8:$AQ$58,オフセット番号A!$L$5+1))=TRUE,\"\",VLOOKUP(B9,データー入力!$B$8:$AQ$58,オフセット番号A!$L$5+1)),\"*\"))","v":"内容1,10"},{"$f":"IF($F$5=1,項目表示入力!$M$7,IF($F$5=2,IF(ISERROR(VLOOKUP(B9,データー入力!$B$8:$AQ$58,オフセット番号A!$M$5+1))=TRUE,\"\",VLOOKUP(B9,データー入力!$B$8:$AQ$58,オフセット番号A!$M$5+1)),\"*\"))","v":"内容1,11"},{"$f":"IF($F$5=1,項目表示入力!$N$7,IF($F$5=2,IF(ISERROR(VLOOKUP(B9,データー入力!$B$8:$AQ$58,オフセット番号A!$N$5+1))=TRUE,\"\",VLOOKUP(B9,データー入力!$B$8:$AQ$58,オフセット番号A!$N$5+1)),\"*\"))","v":"内容1,12"},{"$f":"IF($F$5=1,項目表示入力!$O$7,IF($F$5=2,IF(ISERROR(VLOOKUP(B9,データー入力!$B$8:$AQ$58,オフセット番号A!$O$5+1))=TRUE,\"\",VLOOKUP(B9,データー入力!$B$8:$AQ$58,オフセット番号A!$O$5+1)),\"*\"))","v":"内容1,13"},{"$f":"IF($F$5=1,項目表示入力!$P$7,IF($F$5=2,IF(ISERROR(VLOOKUP(B9,データー入力!$B$8:$AQ$58,オフセット番号A!$P$5+1))=TRUE,\"\",VLOOKUP(B9,データー入力!$B$8:$AQ$58,オフセット番号A!$P$5+1)),\"*\"))","v":"内容1,14"},{"$f":"IF($F$5=1,項目表示入力!$Q$7,IF($F$5=2,IF(ISERROR(VLOOKUP(B9,データー入力!$B$8:$AQ$58,オフセット番号A!$Q$5+1))=TRUE,\"\",VLOOKUP(B9,データー入力!$B$8:$AQ$58,オフセット番号A!$Q$5+1)),\"*\"))","v":"内容1,15"},{"$f":"IF($F$5=1,項目表示入力!$R$7,IF($F$5=2,IF(ISERROR(VLOOKUP(B9,データー入力!$B$8:$AQ$58,オフセット番号A!$R$5+1))=TRUE,\"\",VLOOKUP(B9,データー入力!$B$8:$AQ$58,オフセット番号A!$R$5+1)),\"*\"))","v":"内容1,16"},{"$f":"IF($F$5=1,項目表示入力!$S$7,IF($F$5=2,IF(ISERROR(VLOOKUP(B9,データー入力!$B$8:$AQ$58,オフセット番号A!$S$5+1))=TRUE,\"\",VLOOKUP(B9,データー入力!$B$8:$AQ$58,オフセット番号A!$S$5+1)),\"*\"))","v":"内容1,17"},{"$f":"IF($F$5=1,項目表示入力!$T$7,IF($F$5=2,IF(ISERROR(VLOOKUP(B9,データー入力!$B$8:$AQ$58,オフセット番号A!$T$5+1))=TRUE,\"\",VLOOKUP(B9,データー入力!$B$8:$AQ$58,オフセット番号A!$T$5+1)),\"*\"))","v":"内容1,18"},{"$f":"IF($F$5=1,項目表示入力!$U$7,IF($F$5=2,IF(ISERROR(VLOOKUP(B9,データー入力!$B$8:$AQ$58,オフセット番号A!$U$5+1))=TRUE,\"\",VLOOKUP(B9,データー入力!$B$8:$AQ$58,オフセット番号A!$U$5+1)),\"*\"))","v":"内容1,19"},{"$f":"IF($F$5=1,項目表示入力!$V$7,IF($F$5=2,IF(ISERROR(VLOOKUP(B9,データー入力!$B$8:$AQ$58,オフセット番号A!$V$5+1))=TRUE,\"\",VLOOKUP(B9,データー入力!$B$8:$AQ$58,オフセット番号A!$V$5+1)),\"*\"))","v":"内容1,20"}]
[null,{"$f":"IF(行列入力項目!$C$6=\"\",\"\",行列入力項目!$C$6)","v":"行2"},{"$f":"IF($F$5=1,項目表示入力!$C$8,IF($F$5=2,IF(ISERROR(VLOOKUP(B9,データー入力!$B$8:$AQ$58,オフセット番号A!$C$6+1))=TRUE,\"\",VLOOKUP(B9,データー入力!$B$8:$AQ$58,オフセット番号A!$C$6+1)),\"*\"))","v":"内容2,1"},{"$f":"IF($F$5=1,項目表示入力!$D$8,IF($F$5=2,IF(ISERROR(VLOOKUP(B9,データー入力!$B$8:$AQ$58,オフセット番号A!$D$6+1))=TRUE,\"\",VLOOKUP(B9,データー入力!$B$8:$AQ$58,オフセット番号A!$D$6+1)),\"*\"))","v":"内容2,2"},{"$f":"IF($F$5=1,項目表示入力!$E$8,IF($F$5=2,IF(ISERROR(VLOOKUP(B9,データー入力!$B$8:$AQ$58,オフセット番号A!$E$6+1))=TRUE,\"\",VLOOKUP(B9,データー入力!$B$8:$AQ$58,オフセット番号A!$E$6+1)),\"*\"))","v":"内容2,3"},{"$f":"IF($F$5=1,項目表示入力!$F$8,IF($F$5=2,IF(ISERROR(VLOOKUP(B9,データー入力!$B$8:$AQ$58,オフセット番号A!$F$6+1))=TRUE,\"\",VLOOKUP(B9,データー入力!$B$8:$AQ$58,オフセット番号A!$F$6+1)),\"*\"))","v":"内容2,4"},{"$f":"IF($F$5=1,項目表示入力!$G$8,IF($F$5=2,IF(ISERROR(VLOOKUP(B9,データー入力!$B$8:$AQ$58,オフセット番号A!$G$6+1))=TRUE,\"\",VLOOKUP(B9,データー入力!$B$8:$AQ$58,オフセット番号A!$G$6+1)),\"*\"))","v":"内容2,5"},{"$f":"IF($F$5=1,項目表示入力!$H$8,IF($F$5=2,IF(ISERROR(VLOOKUP(B9,データー入力!$B$8:$AQ$58,オフセット番号A!$H$6+1))=TRUE,\"\",VLOOKUP(B9,データー入力!$B$8:$AQ$58,オフセット番号A!$H$6+1)),\"*\"))","v":"内容2,6"},{"$f":"IF($F$5=1,項目表示入力!$I$8,IF($F$5=2,IF(ISERROR(VLOOKUP(B9,データー入力!$B$8:$AQ$58,オフセット番号A!$I$6+1))=TRUE,\"\",VLOOKUP(B9,データー入力!$B$8:$AQ$58,オフセット番号A!$I$6+1)),\"*\"))","v":"内容2,7"},{"$f":"IF($F$5=1,項目表示入力!$J$8,IF($F$5=2,IF(ISERROR(VLOOKUP(B9,データー入力!$B$8:$AQ$58,オフセット番号A!$J$6+1))=TRUE,\"\",VLOOKUP(B9,データー入力!$B$8:$AQ$58,オフセット番号A!$J$6+1)),\"*\"))","v":"内容2,8"},{"$f":"IF($F$5=1,項目表示入力!$K$8,IF($F$5=2,IF(ISERROR(VLOOKUP(B9,データー入力!$B$8:$AQ$58,オフセット番号A!$K$6+1))=TRUE,\"\",VLOOKUP(B9,データー入力!$B$8:$AQ$58,オフセット番号A!$K$6+1)),\"*\"))","v":"内容2,9"},{"$f":"IF($F$5=1,項目表示入力!$L$8,IF($F$5=2,IF(ISERROR(VLOOKUP(B9,データー入力!$B$8:$AQ$58,オフセット番号A!$L$6+1))=TRUE,\"\",VLOOKUP(B9,データー入力!$B$8:$AQ$58,オフセット番号A!$L$6+1)),\"*\"))","v":"内容2,10"},{"$f":"IF($F$5=1,項目表示入力!$M$8,IF($F$5=2,IF(ISERROR(VLOOKUP(B9,データー入力!$B$8:$AQ$58,オフセット番号A!$M$6+1))=TRUE,\"\",VLOOKUP(B9,データー入力!$B$8:$AQ$58,オフセット番号A!$M$6+1)),\"*\"))","v":"内容2,11"},{"$f":"IF($F$5=1,項目表示入力!$N$8,IF($F$5=2,IF(ISERROR(VLOOKUP(B9,データー入力!$B$8:$AQ$58,オフセット番号A!$N$6+1))=TRUE,\"\",VLOOKUP(B9,データー入力!$B$8:$AQ$58,オフセット番号A!$N$6+1)),\"*\"))","v":"内容2,12"},{"$f":"IF($F$5=1,項目表示入力!$O$8,IF($F$5=2,IF(ISERROR(VLOOKUP(B9,データー入力!$B$8:$AQ$58,オフセット番号A!$O$6+1))=TRUE,\"\",VLOOKUP(B9,データー入力!$B$8:$AQ$58,オフセット番号A!$O$6+1)),\"*\"))","v":"内容2,13"},{"$f":"IF($F$5=1,項目表示入力!$P$8,IF($F$5=2,IF(ISERROR(VLOOKUP(B9,データー入力!$B$8:$AQ$58,オフセット番号A!$P$6+1))=TRUE,\"\",VLOOKUP(B9,データー入力!$B$8:$AQ$58,オフセット番号A!$P$6+1)),\"*\"))","v":"内容2,14"},{"$f":"IF($F$5=1,項目表示入力!$Q$8,IF($F$5=2,IF(ISERROR(VLOOKUP(B9,データー入力!$B$8:$AQ$58,オフセット番号A!$Q$6+1))=TRUE,\"\",VLOOKUP(B9,データー入力!$B$8:$AQ$58,オフセット番号A!$Q$6+1)),\"*\"))","v":"内容2,15"},{"$f":"IF($F$5=1,項目表示入力!$R$8,IF($F$5=2,IF(ISERROR(VLOOKUP(B9,データー入力!$B$8:$AQ$58,オフセット番号A!$R$6+1))=TRUE,\"\",VLOOKUP(B9,データー入力!$B$8:$AQ$58,オフセット番号A!$R$6+1)),\"*\"))","v":"内容2,16"},{"$f":"IF($F$5=1,項目表示入力!$S$8,IF($F$5=2,IF(ISERROR(VLOOKUP(B9,データー入力!$B$8:$AQ$58,オフセット番号A!$S$6+1))=TRUE,\"\",VLOOKUP(B9,データー入力!$B$8:$AQ$58,オフセット番号A!$S$6+1)),\"*\"))","v":"内容2,17"},{"$f":"IF($F$5=1,項目表示入力!$T$8,IF($F$5=2,IF(ISERROR(VLOOKUP(B9,データー入力!$B$8:$AQ$58,オフセット番号A!$T$6+1))=TRUE,\"\",VLOOKUP(B9,データー入力!$B$8:$AQ$58,オフセット番号A!$T$6+1)),\"*\"))","v":"内容2,18"},{"$f":"IF($F$5=1,項目表示入力!$U$8,IF($F$5=2,IF(ISERROR(VLOOKUP(B9,データー入力!$B$8:$AQ$58,オフセット番号A!$U$6+1))=TRUE,\"\",VLOOKUP(B9,データー入力!$B$8:$AQ$58,オフセット番号A!$U$6+1)),\"*\"))","v":"内容2,19"},{"$f":"IF($F$5=1,項目表示入力!$V$8,IF($F$5=2,IF(ISERROR(VLOOKUP(B9,データー入力!$B$8:$AQ$58,オフセット番号A!$V$6+1))=TRUE,\"\",VLOOKUP(B9,データー入力!$B$8:$AQ$58,オフセット番号A!$V$6+1)),\"*\"))","v":"内容2,20"}]

{"sheet":"一覧表付ファイル作成入力設定1","index":13,"n_rows":47,"n_cols":5,"rows_kept":47,"cut":false,"hidden":false,"merged":[[2,1,2,2]]}
[]
[]
[null,{"$f":"シート名設定!$C$11","v":"一覧表付ファイル作成入力設定1"}]
[null,"１．入力元の設定"]
[null,"項　　　　　　目","設定内容"]
[null,"シート名"]
[null,"データ先頭セル行番号"]
[null,"データ先頭セル列番号"]
[null,"異同比較列番号"]
[null,"データー数"]
[null,"For Next の増分"]
[]
[null,"２．入力先の設定"]
[null,"項　　　　　　目","設定内容"]
[null,"シート名"]
[null,"入力先頭セル行番号"]
[null,"入力先頭セル列番号"]
[null,"入力最終セル行番号"]
[null,"入力最終セル列番号"]
[null,"入力データー数"]
[null,"通しページ入力セル行番号"]
[null,"通しページ入力セル列番号"]
[null,"区分内ページ入力セル行番号"]
[null,"区分内ページ入力セル列番号"]
[null,"３．印刷処理かファイルのメール送信の設定"]
[null,"項　　　　　　目","設定内容"]
[null,"印刷処理か\nファイルの\nメール送信\nの選択",null,1]
[null,"ファイルのメール送信の場合の印刷フォームソートデーターシートのメールアドレスが入力されている列番号"]
[null,"ファイルのメール送信の場合の印刷フォームソートデーターシートの件名が入力されている列番号"]
[null,"ファイルのメール送信の場合の印刷フォームソートデーターシートの本文が入力されている列番号"]
[null,"ファイルのメール送信の場合の添付ファイルの保存先ドライブ及びフォルダー"]
[]
[]
[]
[]
[]
[null,null,{"$f":"IF(シート名設定!C16=0,\"\",シート名設定!C16)","v":"印刷フォーム1"},1,"印刷する"]
[null,null,{"$f":"IF(シート名設定!C17=0,\"\",シート名設定!C17)","v":"印刷フォーム2"},2,"メールで送信する"]
[null,null,{"$f":"IF(シート名設定!C18=0,\"\",シート名設定!C18)","v":"印刷フォーム3"},3,"添付ファイルなし件名本文のみのメール"]
[null,null,{"$f":"IF(シート名設定!C19=0,\"\",シート名設定!C19)","v":"印刷フォーム4"}]
[null,null,{"$f":"IF(シート名設定!C20=0,\"\",シート名設定!C20)","v":"印刷フォーム5"}]
[null,null,{"$f":"IF(シート名設定!C21=0,\"\",シート名設定!C21)","v":"印刷フォーム1ソートデーター"}]
[null,null,{"$f":"IF(シート名設定!C22=0,\"\",シート名設定!C22)","v":"印刷フォーム2ソートデーター"}]
[null,null,{"$f":"IF(シート名設定!C23=0,\"\",シート名設定!C23)","v":"印刷フォーム3ソートデーター"}]
[null,null,{"$f":"IF(シート名設定!C24=0,\"\",シート名設定!C24)","v":"印刷フォーム4ソートデーター"}]
[null,null,{"$f":"IF(シート名設定!C25=0,\"\",シート名設定!C25)","v":"印刷フォーム5ソートデーター"}]
[null,null,{"$f":"IF(シート名設定!C10=0,\"\",シート名設定!C10)","v":"データー入力"}]

{"sheet":"一覧表付ファイル作成入力設定2","index":14,"n_rows":47,"n_cols":5,"rows_kept":47,"cut":false,"hidden":false,"merged":[[2,1,2,2]]}
[]
[]
[null,{"$f":"シート名設定!$C$12","v":"一覧表付ファイル作成入力設定2"}]
[null,"１．入力元の設定"]
[null,"項　　　　　　目","設定内容"]
[null,"シート名"]
[null,"データ先頭セル行番号"]
[null,"データ先頭セル列番号"]
[null,"異同比較列番号"]
[null,"データー数"]
[null,"For Next の増分"]
[]
[null,"２．入力先の設定"]
[null,"項　　　　　　目","設定内容"]
[null,"シート名"]
[null,"入力先頭セル行番号"]
[null,"入力先頭セル列番号"]
[null,"入力最終セル行番号"]
[null,"入力最終セル列番号"]
[null,"入力データー数"]
[null,"通しページ入力セル行番号"]
[null,"通しページ入力セル列番号"]
[null,"区分内ページ入力セル行番号"]
[null,"区分内ページ入力セル列番号"]
[null,"３．印刷処理かファイルのメール送信の設定"]
[null,"項　　　　　　目","設定内容"]
[null,"印刷処理か\nファイルの\nメール送信\nの選択",null,1]
[null,"ファイルのメール送信の場合の印刷フォームソートデーターシートのメールアドレスが入力されている列番号"]
[null,"ファイルのメール送信の場合の印刷フォームソートデーターシートの件名が入力されている列番号"]
[null,"ファイルのメール送信の場合の印刷フォームソートデーターシートの本文が入力されている列番号"]
[null,"ファイルのメール送信の場合の添付ファイルの保存先ドライブ及びフォルダー"]
[]
[]
[]
[]
[]
[null,null,{"$f":"IF(シート名設定!C16=0,\"\",シート名設定!C16)","v":"印刷フォーム1"},1,"印刷する"]
[null,null,{"$f":"IF(シート名設定!C17=0,\"\",シート名設定!C17)","v":"印刷フォーム2"},2,"メールで送信する"]
[null,null,{"$f":"IF(シート名設定!C18=0,\"\",シート名設定!C18)","v":"印刷フォーム3"},3,"添付ファイルなし件名本文のみのメール"]
[null,null,{"$f":"IF(シート名設定!C19=0,\"\",シート名設定!C19)","v":"印刷フォーム4"}]
[null,null,{"$f":"IF(シート名設定!C20=0,\"\",シート名設定!C20)","v":"印刷フォーム5"}]
[null,null,{"$f":"IF(シート名設定!C21=0,\"\",シート名設定!C21)","v":"印刷フォーム1ソートデーター"}]
[null,null,{"$f":"IF(シート名設定!C22=0,\"\",シート名設定!C22)","v":"印刷フォーム2ソートデーター"}]
[null,null,{"$f":"IF(シート名設定!C23=0,\"\",シート名設定!C23)","v":"印刷フォーム3ソートデーター"}]
[null,null,{"$f":"IF(シート名設定!C24=0,\"\",シート名設定!C24)","v":"印刷フォーム4ソートデーター"}]
[null,null,{"$f":"IF(シート名設定!C25=0,\"\",シート名設定!C25)","v":"印刷フォーム5ソートデーター"}]
[null,null,{"$f":"IF(シート名設定!C10=0,\"\",シート名設定!C10)","v":"データー入力"}]

{"sheet":"一覧表付ファイル作成入力設定3","index":15,"n_rows":47,"n_cols":5,"rows_kept":47,"cut":false,"hidden":false,"merged":[[2,1,2,2]]}
[]
[]
[null,{"$f":"シート名設定!$C$13","v":"一覧表付ファイル作成入力設定3"}]
[null,"１．入力元の設定"]
[null,"項　　　　　　目","設定内容"]
[null,"シート名"]
[null,"データ先頭セル行番号"]
[null,"データ先頭セル列番号"]
[null,"異同比較列番号"]
[null,"データー数"]
[null,"For Next の増分"]
[]
[null,"２．入力先の設定"]
[null,"項　　　　　　目","設定内容"]
[null,"シート名"]
[null,"入力先頭セル行番号"]
[null,"入力先頭セル列番号"]
[null,"入力最終セル行番号"]
[null,"入力最終セル列番号"]
[null,"入力データー数"]
[null,"通しページ入力セル行番号"]
[null,"通しページ入力セル列番号"]
[null,"区分内ページ入力セル行番号"]
[null,"区分内ページ入力セル列番号"]
[null,"３．印刷処理かファイルのメール送信の設定"]
[null,"項　　　　　　目","設定内容"]
[null,"印刷処理か\nファイルの\nメール送信\nの選択",null,1]
[null,"ファイルのメール送信の場合の印刷フォームソートデーターシートのメールアドレスが入力されている列番号"]
[null,"ファイルのメール送信の場合の印刷フォームソートデーターシートの件名が入力されている列番号"]
[null,"ファイルのメール送信の場合の印刷フォームソートデーターシートの本文が入力されている列番号"]
[null,"ファイルのメール送信の場合の添付ファイルの保存先ドライブ及びフォルダー"]
[]
[]
[]
[]
[]
[null,null,{"$f":"IF(シート名設定!C16=0,\"\",シート名設定!C16)","v":"印刷フォーム1"},1,"印刷する"]
[null,null,{"$f":"IF(シート名設定!C17=0,\"\",シート名設定!C17)","v":"印刷フォーム2"},2,"メールで送信する"]
[null,null,{"$f":"IF(シート名設定!C18=0,\"\",シート名設定!C18)","v":"印刷フォーム3"},3,"添付ファイルなし件名本文のみのメール"]
[null,null,{"$f":"IF(シート名設定!C19=0,\"\",シート名設定!C19)","v":"印刷フォーム4"}]
[null,null,{"$f":"IF(シート名設定!C20=0,\"\",シート名設定!C20)","v":"印刷フォーム5"}]
[null,null,{"$f":"IF(シート名設定!C21=0,\"\",シート名設定!C21)","v":"印刷フォーム1ソートデーター"}]
[null,null,{"$f":"IF(シート名設定!C22=0,\"\",シート名設定!C22)","v":"印刷フォーム2ソートデーター"}]
[null,null,{"$f":"IF(シート名設定!C23=0,\"\",シート名設定!C23)","v":"印刷フォーム3ソートデーター"}]
[null,null,{"$f":"IF(シート名設定!C24=0,\"\",シート名設定!C24)","v":"印刷フォーム4ソートデーター"}]
[null,null,{"$f":"IF(シート名設定!C25=0,\"\",シート名設定!C25)","v":"印刷フォーム5ソートデーター"}]
[null,null,{"$f":"IF(シート名設定!C10=0,\"\",シート名設定!C10)","v":"データー入力"}]

{"sheet":"一覧表付ファイル作成入力設定4","index":16,"n_rows":47,"n_cols":5,"rows_kept":47,"cut":false,"hidden":false,"merged":[[2,1,2,2]]}
[]
[]
[null,{"$f":"シート名設定!$C$14","v":"一覧表付ファイル作成入力設定4"}]
[null,"１．入力元の設定"]
[null,"項　　　　　　目","設定内容"]
[null,"シート名"]
[null,"データ先頭セル行番号"]
[null,"データ先頭セル列番号"]
[null,"異同比較列番号"]
[null,"データー数"]
[null,"For Next の増分"]
[]
[null,"２．入力先の設定"]
[null,"項　　　　　　目","設定内容"]
[null,"シート名"]
[null,"入力先頭セル行番号"]
[null,"入力先頭セル列番号"]
[null,"入力最終セル行番号"]
[null,"入力最終セル列番号"]
[null,"入力データー数"]
[null,"通しページ入力セル行番号"]
[null,"通しページ入力セル列番号"]
[null,"区分内ページ入力セル行番号"]
[null,"区分内ページ入力セル列番号"]
[null,"３．印刷処理かファイルのメール送信の設定"]
[null,"項　　　　　　目","設定内容"]
[null,"印刷処理か\nファイルの\nメール送信\nの選択",null,1]
[null,"ファイルのメール送信の場合の印刷フォームソートデーターシートのメールアドレスが入力されている列番号"]
[null,"ファイルのメール送信の場合の印刷フォームソートデーターシートの件名が入力されている列番号"]
[null,"ファイルのメール送信の場合の印刷フォームソートデーターシートの本文が入力されている列番号"]
[null,"ファイルのメール送信の場合の添付ファイルの保存先ドライブ及びフォルダー"]
[]
[]
[]
[]
[]
[null,null,{"$f":"IF(シート名設定!C16=0,\"\",シート名設定!C16)","v":"印刷フォーム1"},1,"印刷する"]
[null,null,{"$f":"IF(シート名設定!C17=0,\"\",シート名設定!C17)","v":"印刷フォーム2"},2,"メールで送信する"]
[null,null,{"$f":"IF(シート名設定!C18=0,\"\",シート名設定!C18)","v":"印刷フォーム3"},3,"添付ファイルなし件名本文のみのメール"]
[null,null,{"$f":"IF(シート名設定!C19=0,\"\",シート名設定!C19)","v":"印刷フォーム4"}]
[null,null,{"$f":"IF(シート名設定!C20=0,\"\",シート名設定!C20)","v":"印刷フォーム5"}]
[null,null,{"$f":"IF(シート名設定!C21=0,\"\",シート名設定!C21)","v":"印刷フォーム1ソートデーター"}]
[null,null,{"$f":"IF(シート名設定!C22=0,\"\",シート名設定!C22)","v":"印刷フォーム2ソートデーター"}]
[null,null,{"$f":"IF(シート名設定!C23=0,\"\",シート名設定!C23)","v":"印刷フォーム3ソートデーター"}]
[null,null,{"$f":"IF(シート名設定!C24=0,\"\",シート名設定!C24)","v":"印刷フォーム4ソートデーター"}]
[null,null,{"$f":"IF(シート名設定!C25=0,\"\",シート名設定!C25)","v":"印刷フォーム5ソートデーター"}]
[null,null,{"$f":"IF(シート名設定!C10=0,\"\",シート名設定!C10)","v":"データー入力"}]

{"sheet":"一覧表付ファイル作成入力設定5","index":17,"n_rows":47,"n_cols":5,"rows_kept":47,"cut":false,"hidden":false,"merged":[[2,1,2,2]]}
[]
[]
[null,{"$f":"シート名設定!$C$15","v":"一覧表付ファイル作成入力設定5"}]
[null,"１．入力元の設定"]
[null,"項　　　　　　目","設定内容"]
[null,"シート名"]
[null,"データ先頭セル行番号"]
[null,"データ先頭セル列番号"]
[null,"異同比較列番号"]
[null,"データー数"]
[null,"For Next の増分"]
[]
[null,"２．入力先の設定"]
[null,"項　　　　　　目","設定内容"]
[null,"シート名"]
[null,"入力先頭セル行番号"]
[null,"入力先頭セル列番号"]
[null,"入力最終セル行番号"]
[null,"入力最終セル列番号"]
[null,"入力データー数"]
[null,"通しページ入力セル行番号"]
[null,"通しページ入力セル列番号"]
[null,"区分内ページ入力セル行番号"]
[null,"区分内ページ入力セル列番号"]
[null,"３．印刷処理かファイルのメール送信の設定"]
[null,"項　　　　　　目","設定内容"]
[null,"印刷処理か\nファイルの\nメール送信\nの選択",null,1]
[null,"ファイルのメール送信の場合の印刷フォームソートデーターシートのメールアドレスが入力されている列番号"]
[null,"ファイルのメール送信の場合の印刷フォームソートデーターシートの件名が入力されている列番号"]
[null,"ファイルのメール送信の場合の印刷フォームソートデーターシートの本文が入力されている列番号"]
[null,"ファイルのメール送信の場合の添付ファイルの保存先ドライブ及びフォルダー"]
[]
[]
[]
[]
[]
[null,null,{"$f":"IF(シート名設定!C16=0,\"\",シート名設定!C16)","v":"印刷フォーム1"},1,"印刷する"]
[null,null,{"$f":"IF(シート名設定!C17=0,\"\",シート名設定!C17)","v":"印刷フォーム2"},2,"メールで送信する"]
[null,null,{"$f":"IF(シート名設定!C18=0,\"\",シート名設定!C18)","v":"印刷フォーム3"},3,"添付ファイルなし件名本文のみのメール"]
[null,null,{"$f":"IF(シート名設定!C19=0,\"\",シート名設定!C19)","v":"印刷フォーム4"}]
[null,null,{"$f":"IF(シート名設定!C20=0,\"\",シート名設定!C20)","v":"印刷フォーム5"}]
[null,null,{"$f":"IF(シート名設定!C21=0,\"\",シート名設定!C21)","v":"印刷フォーム1ソートデーター"}]
[null,null,{"$f":"IF(シート名設定!C22=0,\"\",シート名設定!C22)","v":"印刷フォーム2ソートデーター"}]
[null,null,{"$f":"IF(シート名設定!C23=0,\"\",シート名設定!C23)","v":"印刷フォーム3ソートデーター"}]
[null,null,{"$f":"IF(シート名設定!C24=0,\"\",シート名設定!C24)","v":"印刷フォーム4ソートデーター"}]
[null,null,{"$f":"IF(シート名設定!C25=0,\"\",シート名設定!C25)","v":"印刷フォーム5ソートデーター"}]
[null,null,{"$f":"IF(シート名設定!C10=0,\"\",シート名設定!C10)","v":"データー入力"}]

{"sheet":"印刷フォーム1","index":18,"n_rows":2,"n_cols":2,"rows_kept":2,"cut":false,"hidden":false,"merged":[]}
[]
[null,{"$f":"シート名設定!$C$16","v":"印刷フォーム1"}]

{"sheet":"印刷フォーム2","index":19,"n_rows":2,"n_cols":2,"rows_kept":2,"cut":false,"hidden":false,"merged":[]}
[]
[null,{"$f":"シート名設定!$C$17","v":"印刷フォーム2"}]

{"sheet":"印刷フォーム3","index":20,"n_rows":2,"n_cols":2,"rows_kept":2,"cut":false,"hidden":false,"merged":[]}
[]
[null,{"$f":"シート名設定!$C$18","v":"印刷フォーム3"}]

{"sheet":"印刷フォーム4","index":21,"n_rows":2,"n_cols":2,"rows_kept":2,"cut":false,"hidden":false,"merged":[]}
[]
[null,{"$f":"シート名設定!$C$19","v":"印刷フォーム4"}]

{"sheet":"印刷フォーム5","index":22,"n_rows":2,"n_cols":2,"rows_kept":2,"cut":false,"hidden":false,"merged":[]}
[]
[null,{"$f":"シート名設定!$C$20","v":"印刷フォーム5"}]

{"sheet":"印刷フォーム1ソートデーター","index":23,"n_rows":2,"n_cols":2,"rows_kept":2,"cut":false,"hidden":false,"merged":[]}
[]
[null,{"$f":"シート名設定!$C$21","v":"印刷フォーム1ソートデーター"}]

{"sheet":"印刷フォーム2ソートデーター","index":24,"n_rows":2,"n_cols":2,"rows_kept":2,"cut":false,"hidden":false,"merged":[]}
[]
[null,{"$f":"シート名設定!$C$22","v":"印刷フォーム2ソートデーター"}]

{"sheet":"印刷フォーム3ソートデーター","index":25,"n_rows":2,"n_cols":2,"rows_kept":2,"cut":false,"hidden":false,"merged":[]}
[]
[null,{"$f":"シート名設定!$C$23","v":"印刷フォーム3ソートデーター"}]

{"sheet":"印刷フォーム4ソートデーター","index":26,"n_rows":2,"n_cols":2,"rows_kept":2,"cut":false,"hidden":false,"merged":[]}
[]
[null,{"$f":"シート名設定!$C$24","v":"印刷フォーム4ソートデーター"}]

{"sheet":"印刷フォーム5ソートデーター","index":27,"n_rows":2,"n_cols":2,"rows_kept":2,"cut":false,"hidden":false,"merged":[]}
[]
[null,{"$f":"シート名設定!$C$25","v":"印刷フォーム5ソートデーター"}]

{"sheet":"入力可能行数","index":28,"n_rows":4,"n_cols":2,"rows_kept":4,"cut":false,"hidden":true,"merged":[]}
[]
[]
[null,{"$f":"ROWS(データー入力!$B$8:$B$58)-1","v":50}]
[null,{"$f":"\"入力可能行数  \"&$B$3&\"行\"","v":"入力可能行数  50行"}]

{"sheet":"データー入力","index":29,"n_rows":58,"n_cols":43,"rows_kept":58,"cut":false,"hidden":false,"merged":[]}
[null,null,null,null,null,{"$f":"入力可能行数!B4","v":"入力可能行数  50行"}]
[null,{"$f":"既定シート現在名!$C$10","v":"データー入力"}]
[]
[]
[null,"ID","対象",{"$f":"IF(項目表示入力!C7=\"\",\"\",項目表示入力!C7)","v":"内容1,1"},{"$f":"IF(項目表示入力!D7=\"\",\"\",項目表示入力!D7)","v":"内容1,2"},{"$f":"IF(項目表示入力!E7=\"\",\"\",項目表示入力!E7)","v":"内容1,3"},{"$f":"IF(項目表示入力!F7=\"\",\"\",項目表示入力!F7)","v":"内容1,4"},{"$f":"IF(項目表示入力!G7=\"\",\"\",項目表示入力!G7)","v":"内容1,5"},{"$f":"IF(項目表示入力!H7=\"\",\"\",項目表示入力!H7)","v":"内容1,6"},{"$f":"IF(項目表示入力!I7=\"\",\"\",項目表示入力!I7)","v":"内容1,7"},{"$f":"IF(項目表示入力!J7=\"\",\"\",項目表示入力!J7)","v":"内容1,8"},{"$f":"IF(項目表示入力!K7=\"\",\"\",項目表示入力!K7)","v":"内容1,9"},{"$f":"IF(項目表示入力!L7=\"\",\"\",項目表示入力!L7)","v":"内容1,10"},{"$f":"IF(項目表示入力!M7=\"\",\"\",項目表示入力!M7)","v":"内容1,11"},{"$f":"IF(項目表示入力!N7=\"\",\"\",項目表示入力!N7)","v":"内容1,12"},{"$f":"IF(項目表示入力!O7=\"\",\"\",項目表示入力!O7)","v":"内容1,13"},{"$f":"IF(項目表示入力!P7=\"\",\"\",項目表示入力!P7)","v":"内容1,14"},{"$f":"IF(項目表示入力!Q7=\"\",\"\",項目表示入力!Q7)","v":"内容1,15"},{"$f":"IF(項目表示入力!R7=\"\",\"\",項目表示入力!R7)","v":"内容1,16"},{"$f":"IF(項目表示入力!S7=\"\",\"\",項目表示入力!S7)","v":"内容1,17"},{"$f":"IF(項目表示入力!T7=\"\",\"\",項目表示入力!T7)","v":"内容1,18"},{"$f":"IF(項目表示入力!U7=\"\",\"\",項目表示入力!U7)","v":"内容1,19"},{"$f":"IF(項目表示入力!V7=\"\",\"\",項目表示入力!V7)","v":"内容1,20"},{"$f":"IF(項目表示入力!C8=\"\",\"\",項目表示入力!C8)","v":"内容2,1"},{"$f":"IF(項目表示入力!D8=\"\",\"\",項目表示入力!D8)","v":"内容2,2"},{"$f":"IF(項目表示入力!E8=\"\",\"\",項目表示入力!E8)","v":"内容2,3"},{"$f":"IF(項目表示入力!F8=\"\",\"\",項目表示入力!F8)","v":"内容2,4"},{"$f":"IF(項目表示入力!G8=\"\",\"\",項目表示入力!G8)","v":"内容2,5"},{"$f":"IF(項目表示入力!H8=\"\",\"\",項目表示入力!H8)","v":"内容2,6"},{"$f":"IF(項目表示入力!I8=\"\",\"\",項目表示入力!I8)","v":"内容2,7"},{"$f":"IF(項目表示入力!J8=\"\",\"\",項目表示入力!J8)","v":"内容2,8"},{"$f":"IF(項目表示入力!K8=\"\",\"\",項目表示入力!K8)","v":"内容2,9"},{"$f":"IF(項目表示入力!L8=\"\",\"\",項目表示入力!L8)","v":"内容2,10"},{"$f":"IF(項目表示入力!M8=\"\",\"\",項目表示入力!M8)","v":"内容2,11"},{"$f":"IF(項目表示入力!N8=\"\",\"\",項目表示入力!N8)","v":"内容2,12"},{"$f":"IF(項目表示入力!O8=\"\",\"\",項目表示入力!O8)","v":"内容2,13"},{"$f":"IF(項目表示入力!P8=\"\",\"\",項目表示入力!P8)","v":"内容2,14"},{"$f":"IF(項目表示入力!Q8=\"\",\"\",項目表示入力!Q8)","v":"内容2,15"},{"$f":"IF(項目表示入力!R8=\"\",\"\",項目表示入力!R8)","v":"内容2,16"},{"$f":"IF(項目表示入力!S8=\"\",\"\",項目表示入力!S8)","v":"内容2,17"},{"$f":"IF(項目表示入力!T8=\"\",\"\",項目表示入力!T8)","v":"内容2,18"},{"$f":"IF(項目表示入力!U8=\"\",\"\",項目表示入力!U8)","v":"内容2,19"},{"$f":"IF(項目表示入力!V8=\"\",\"\",項目表示入力!V8)","v":"内容2,20"}]
[null,null,null,{"$f":"IF(オフセット番号A!$C$4=\"\",\"\",オフセット番号A!$C$4)","v":"列1"},{"$f":"IF(オフセット番号A!$D$4=\"\",\"\",オフセット番号A!$D$4)","v":"列2"},{"$f":"IF(オフセット番号A!$E$4=\"\",\"\",オフセット番号A!$E$4)","v":"列3"},{"$f":"IF(オフセット番号A!$F$4=\"\",\"\",オフセット番号A!$F$4)","v":"列4"},{"$f":"IF(オフセット番号A!$G$4=\"\",\"\",オフセット番号A!$G$4)","v":"列5"},{"$f":"IF(オフセット番号A!$H$4=\"\",\"\",オフセット番号A!$H$4)","v":"列6"},{"$f":"IF(オフセット番号A!$I$4=\"\",\"\",オフセット番号A!$I$4)","v":"列7"},{"$f":"IF(オフセット番号A!$J$4=\"\",\"\",オフセット番号A!$J$4)","v":"列8"},{"$f":"IF(オフセット番号A!$K$4=\"\",\"\",オフセット番号A!$K$4)","v":"列9"},{"$f":"IF(オフセット番号A!$L$4=\"\",\"\",オフセット番号A!$L$4)","v":"列10"},{"$f":"IF(オフセット番号A!$M$4=\"\",\"\",オフセット番号A!$M$4)","v":"列11"},{"$f":"IF(オフセット番号A!$N$4=\"\",\"\",オフセット番号A!$N$4)","v":"列12"},{"$f":"IF(オフセット番号A!$O$4=\"\",\"\",オフセット番号A!$O$4)","v":"列13"},{"$f":"IF(オフセット番号A!$P$4=\"\",\"\",オフセット番号A!$P$4)","v":"列14"},{"$f":"IF(オフセット番号A!$Q$4=\"\",\"\",オフセット番号A!$Q$4)","v":"列15"},{"$f":"IF(オフセット番号A!$R$4=\"\",\"\",オフセット番号A!$R$4)","v":"列16"},{"$f":"IF(オフセット番号A!$S$4=\"\",\"\",オフセット番号A!$S$4)","v":"列17"},{"$f":"IF(オフセット番号A!$T$4=\"\",\"\",オフセット番号A!$T$4)","v":"列18"},{"$f":"IF(オフセット番号A!$U$4=\"\",\"\",オフセット番号A!$U$4)","v":"列19"},{"$f":"IF(オフセット番号A!$V$4=\"\",\"\",オフセット番号A!$V$4)","v":"列20"},{"$f":"IF(オフセット番号A!$C$4=\"\",\"\",オフセット番号A!$C$4)","v":"列1"},{"$f":"IF(オフセット番号A!$D$4=\"\",\"\",オフセット番号A!$D$4)","v":"列2"},{"$f":"IF(オフセット番号A!$E$4=\"\",\"\",オフセット番号A!$E$4)","v":"列3"},{"$f":"IF(オフセット番号A!$F$4=\"\",\"\",オフセット番号A!$F$4)","v":"列4"},{"$f":"IF(オフセット番号A!$G$4=\"\",\"\",オフセット番号A!$G$4)","v":"列5"},{"$f":"IF(オフセット番号A!$H$4=\"\",\"\",オフセット番号A!$H$4)","v":"列6"},{"$f":"IF(オフセット番号A!$I$4=\"\",\"\",オフセット番号A!$I$4)","v":"列7"},{"$f":"IF(オフセット番号A!$J$4=\"\",\"\",オフセット番号A!$J$4)","v":"列8"},{"$f":"IF(オフセット番号A!$K$4=\"\",\"\",オフセット番号A!$K$4)","v":"列9"},{"$f":"IF(オフセット番号A!$L$4=\"\",\"\",オフセット番号A!$L$4)","v":"列10"},{"$f":"IF(オフセット番号A!$M$4=\"\",\"\",オフセット番号A!$M$4)","v":"列11"},{"$f":"IF(オフセット番号A!$N$4=\"\",\"\",オフセット番号A!$N$4)","v":"列12"},{"$f":"IF(オフセット番号A!$O$4=\"\",\"\",オフセット番号A!$O$4)","v":"列13"},{"$f":"IF(オフセット番号A!$P$4=\"\",\"\",オフセット番号A!$P$4)","v":"列14"},{"$f":"IF(オフセット番号A!$Q$4=\"\",\"\",オフセット番号A!$Q$4)","v":"列15"},{"$f":"IF(オフセット番号A!$R$4=\"\",\"\",オフセット番号A!$R$4)","v":"列16"},{"$f":"IF(オフセット番号A!$S$4=\"\",\"\",オフセット番号A!$S$4)","v":"列17"},{"$f":"IF(オフセット番号A!$T$4=\"\",\"\",オフセット番号A!$T$4)","v":"列18"},{"$f":"IF(オフセット番号A!$U$4=\"\",\"\",オフセット番号A!$U$4)","v":"列19"},{"$f":"IF(オフセット番号A!$V$4=\"\",\"\",オフセット番号A!$V$4)","v":"列20"}]
[null,null,null,{"$f":"IF(行列入力項目!$C$5=\"\",\"\",行列入力項目!$C$5)","v":"行1"},{"$f":"IF(行列入力項目!$C$5=\"\",\"\",行列入力項目!$C$5)","v":"行1"},{"$f":"IF(行列入力項目!$C$5=\"\",\"\",行列入力項目!$C$5)","v":"行1"},{"$f":"IF(行列入力項目!$C$5=\"\",\"\",行列入力項目!$C$5)","v":"行1"},{"$f":"IF(行列入力項目!$C$5=\"\",\"\",行列入力項目!$C$5)","v":"行1"},{"$f":"IF(行列入力項目!$C$5=\"\",\"\",行列入力項目!$C$5)","v":"行1"},{"$f":"IF(行列入力項目!$C$5=\"\",\"\",行列入力項目!$C$5)","v":"行1"},{"$f":"IF(行列入力項目!$C$5=\"\",\"\",行列入力項目!$C$5)","v":"行1"},{"$f":"IF(行列入力項目!$C$5=\"\",\"\",行列入力項目!$C$5)","v":"行1"},{"$f":"IF(行列入力項目!$C$5=\"\",\"\",行列入力項目!$C$5)","v":"行1"},{"$f":"IF(行列入力項目!$C$5=\"\",\"\",行列入力項目!$C$5)","v":"行1"},{"$f":"IF(行列入力項目!$C$5=\"\",\"\",行列入力項目!$C$5)","v":"行1"},{"$f":"IF(行列入力項目!$C$5=\"\",\"\",行列入力項目!$C$5)","v":"行1"},{"$f":"IF(行列入力項目!$C$5=\"\",\"\",行列入力項目!$C$5)","v":"行1"},{"$f":"IF(行列入力項目!$C$5=\"\",\"\",行列入力項目!$C$5)","v":"行1"},{"$f":"IF(行列入力項目!$C$5=\"\",\"\",行列入力項目!$C$5)","v":"行1"},{"$f":"IF(行列入力項目!$C$5=\"\",\"\",行列入力項目!$C$5)","v":"行1"},{"$f":"IF(行列入力項目!$C$5=\"\",\"\",行列入力項目!$C$5)","v":"行1"},{"$f":"IF(行列入力項目!$C$5=\"\",\"\",行列入力項目!$C$5)","v":"行1"},{"$f":"IF(行列入力項目!$C$5=\"\",\"\",行列入力項目!$C$5)","v":"行1"},{"$f":"IF(行列入力項目!$C$6=\"\",\"\",行列入力項目!$C$6)","v":"行2"},{"$f":"IF(行列入力項目!$C$6=\"\",\"\",行列入力項目!$C$6)","v":"行2"},{"$f":"IF(行列入力項目!$C$6=\"\",\"\",行列入力項目!$C$6)","v":"行2"},{"$f":"IF(行列入力項目!$C$6=\"\",\"\",行列入力項目!$C$6)","v":"行2"},{"$f":"IF(行列入力項目!$C$6=\"\",\"\",行列入力項目!$C$6)","v":"行2"},{"$f":"IF(行列入力項目!$C$6=\"\",\"\",行列入力項目!$C$6)","v":"行2"},{"$f":"IF(行列入力項目!$C$6=\"\",\"\",行列入力項目!$C$6)","v":"行2"},{"$f":"IF(行列入力項目!$C$6=\"\",\"\",行列入力項目!$C$6)","v":"行2"},{"$f":"IF(行列入力項目!$C$6=\"\",\"\",行列入力項目!$C$6)","v":"行2"},{"$f":"IF(行列入力項目!$C$6=\"\",\"\",行列入力項目!$C$6)","v":"行2"},{"$f":"IF(行列入力項目!$C$6=\"\",\"\",行列入力項目!$C$6)","v":"行2"},{"$f":"IF(行列入力項目!$C$6=\"\",\"\",行列入力項目!$C$6)","v":"行2"},{"$f":"IF(行列入力項目!$C$6=\"\",\"\",行列入力項目!$C$6)","v":"行2"},{"$f":"IF(行列入力項目!$C$6=\"\",\"\",行列入力項目!$C$6)","v":"行2"},{"$f":"IF(行列入力項目!$C$6=\"\",\"\",行列入力項目!$C$6)","v":"行2"},{"$f":"IF(行列入力項目!$C$6=\"\",\"\",行列入力項目!$C$6)","v":"行2"},{"$f":"IF(行列入力項目!$C$6=\"\",\"\",行列入力項目!$C$6)","v":"行2"},{"$f":"IF(行列入力項目!$C$6=\"\",\"\",行列入力項目!$C$6)","v":"行2"},{"$f":"IF(行列入力項目!$C$6=\"\",\"\",行列入力項目!$C$6)","v":"行2"},{"$f":"IF(行列入力項目!$C$6=\"\",\"\",行列入力項目!$C$6)","v":"行2"}]
[null,1,"対象1"]
[null,2,"対象2"]
[null,3,"対象3"]
[null,4,"対象4"]
[null,5,"対象5"]
[null,6,"対象6"]
[null,7,"対象7"]
[null,8,"対象8"]
[null,9,"対象9"]
[null,10,"対象10"]
[null,11,"対象11"]
[null,12,"対象12"]
[null,13,"対象13"]
[null,14,"対象14"]
[null,15,"対象15"]
[null,16,"対象16"]
[null,17,"対象17"]
[null,18,"対象18"]
[null,19,"対象19"]
[null,20,"対象20"]
[null,21,"対象21"]
[null,22,"対象22"]
[null,23,"対象23"]
[null,24,"対象24"]
[null,25,"対象25"]
[null,26,"対象26"]
[null,27,"対象27"]
[null,28,"対象28"]
[null,29,"対象29"]
[null,30,"対象30"]
[null,31,"対象31"]
[null,32,"対象32"]
[null,33,"対象33"]
[null,34,"対象34"]
[null,35,"対象35"]
[null,36,"対象36"]
[null,37,"対象37"]
[null,38,"対象38"]
[null,39,"対象39"]
[null,40,"対象40"]
[null,41,"対象41"]
[null,42,"対象42"]
[null,43,"対象43"]
[null,44,"対象44"]
[null,45,"対象45"]
[null,46,"対象46"]
[null,47,"対象47"]
[null,48,"対象48"]
[null,49,"対象49"]
[null,50,"対象50"]
[null,"削除禁止行","削除禁止行","削除禁止行","削除禁止行","削除禁止行","削除禁止行","削除禁止行","削除禁止行","削除禁止行","削除禁止行","削除禁止行","削除禁止行","削除禁止行","削除禁止行","削除禁止行","削除禁止行","削除禁止行","削除禁止行","削除禁止行","削除禁止行","削除禁止行","削除禁止行","削除禁止行","削除禁止行","削除禁止行","削除禁止行","削除禁止行","削除禁止行","削除禁止行","削除禁止行","削除禁止行","削除禁止行","削除禁止行","削除禁止行","削除禁止行","削除禁止行","削除禁止行","削除禁止行","削除禁止行","削除禁止行","削除禁止行","削除禁止行"]