{"text_format":"1","workbook":"xlsx","n_sheets":94,"sheets":["無地画面","既定シート現在名","標準シート名等","シート名設定","インターフェース画面設定","項目表示入力","項目表示入力既定番地","項目表示作成","ファイル作成コピー用","行列入力項目","オフセット番号A","ﾌｧｲﾙ作成原版A","一覧表付ファイル作成入力設定1","一覧表付ファイル作成入力設定2","一覧表付ファイル作成入力設定3","一覧表付ファイル作成入力設定4","一覧表付ファイル作成入力設定5","一覧表付ファイル作成入力設定6","一覧表付ファイル作成入力設定7","一覧表付ファイル作成入力設定8","一覧表付ファイル作成入力設定9","一覧表付ファイル作成入力設定10","一覧表付ファイル作成入力設定11","一覧表付ファイル作成入力設定12","一覧表付ファイル作成入力設定13","一覧表付ファイル作成入力設定14","一覧表付ファイル作成入力設定15","一覧表付ファイル作成入力設定16","一覧表付ファイル作成入力設定17","一覧表付ファイル作成入力設定18","一覧表付ファイル作成入力設定19","一覧表付ファイル作成入力設定20","印刷フォーム1","印刷フォーム2","印刷フォーム3","印刷フォーム4","印刷フォーム5","印刷フォーム6","印刷フォーム7","印刷フォーム8","印刷フォーム9","印刷フォーム10","印刷フォーム11","印刷フォーム12","印刷フォーム13","印刷フォーム14","印刷フォーム15","印刷フォーム16","印刷フォーム17","印刷フォーム18","印刷フォーム19","印刷フォーム20","印刷フォーム21","印刷フォーム22","印刷フォーム23","印刷フォーム24","印刷フォーム25","印刷フォーム26","印刷フォーム27","印刷フォーム28","印刷フォーム29","印刷フォーム30","印刷フォーム1ソートデーター","印刷フォーム2ソートデーター","印刷フォーム3ソートデーター","印刷フォーム4ソートデーター","印刷フォーム5ソートデーター","印刷フォーム6ソートデーター","印刷フォーム7ソートデーター","印刷フォーム8ソートデーター","印刷フォーム9ソートデーター","印刷フォーム10ソートデーター","印刷フォーム11ソートデーター","印刷フォーム12ソートデーター","印刷フォーム13ソートデーター","印刷フォーム14ソートデーター","印刷フォーム15ソートデーター","印刷フォーム16ソートデーター","印刷フォーム17ソートデーター","印刷フォーム18ソートデーター","印刷フォーム19ソートデーター","印刷フォーム20ソートデーター","印刷フォーム21ソートデーター","印刷フォーム22ソートデーター","印刷フォーム23ソートデーター","印刷フォーム24ソートデーター","印刷フォーム25ソートデーター","印刷フォーム26ソートデーター","印刷フォーム27ソートデーター","印刷フォーム28ソートデーター","印刷フォーム29ソートデーター","印刷フォーム30ソートデーター","入力可能行数調査","データー入力"],"not_rendered":{"charts":0,"images":2,"macros":1,"external_links":0,"defined_names":47,"comments":24,"pivot_tables":0},"unopened":[],"bounds":{"document_bytes":16777216,"sheet_cells":100000,"rows_first":2000,"rows_last":500,"rows_between":2000,"halvings":0,"cell_chars":16384,"cell_head_chars":4096},"cells_cut":0,"cells_raw":0,"read":"whole","date_system":"1900"}

{"sheet":"無地画面","index":0,"n_rows":0,"n_cols":0,"rows_kept":0,"cut":false,"hidden":false,"merged":[]}

{"sheet":"既定シート現在名","index":1,"n_rows":61,"n_cols":11,"rows_kept":61,"cut":false,"hidden":false,"merged":[]}
[]
[null,null,null,null,"既定シート現在名"]
[]
[null,"NO","シート名・インターフェースボタン名","NO","シート名・インターフェースボタン名","NO","シート名・インターフェースボタン名","NO","シート名・インターフェースボタン名","NO","シート名・インターフェースボタン名"]
[null,1,"シート名設定",51,"印刷フォーム21",101,{"$f":"C19&\"印刷ボタン\"","v":"一覧表付ファイル作成入力設定11印刷ボタン"},151,null,201]
[null,2,"項目表示入力",52,"印刷フォーム22",102,{"$f":"C20&\"印刷ボタン\"","v":"一覧表付ファイル作成入力設定12印刷ボタン"},152,null,202]
[null,3,"項目表示作成",53,"印刷フォーム23",103,"一覧表付ファイル作成入力設定13印刷ボタン",153,null,203]
[null,4,"行列入力項目",54,"印刷フォーム24",104,"一覧表付ファイル作成入力設定14印刷ボタン",154,null,204]
[null,5,"一覧表付ファイル作成入力設定1",55,"印刷フォーム25",105,"一覧表付ファイル作成入力設定15印刷ボタン",155,null,205]
[null,6,"一覧表付ファイル作成入力設定2",56,"印刷フォーム26",106,"一覧表付ファイル作成入力設定16印刷ボタン",156,null,206]
[null,7,"一覧表付ファイル作成入力設定3",57,"印刷フォーム27",107,"一覧表付ファイル作成入力設定17印刷ボタン",157,null,207]
[null,8,"一覧表付ファイル作成入力設定4",58,"印刷フォーム28",108,"一覧表付ファイル作成入力設定18印刷ボタン",158,null,208]
[null,9,"一覧表付ファイル作成入力設定5",59,"印刷フォーム29",109,"一覧表付ファイル作成入力設定19印刷ボタン",159,null,209]
[null,10,"一覧表付ファイル作成入力設定6",60,"印刷フォーム30",110,"一覧表付ファイル作成入力設定20印刷ボタン",160,null,210]
[null,11,"一覧表付ファイル作成入力設定7",61,"印刷フォーム1ソートデーター",111,{"$f":"C9&\"印刷\"","v":"一覧表付ファイル作成入力設定1印刷"},161,null,211]
[null,12,"一覧表付ファイル作成入力設定8",62,"印刷フォーム2ソートデーター",112,{"$f":"C10&\"印刷\"","v":"一覧表付ファイル作成入力設定2印刷"},162,null,212]
[null,13,"一覧表付ファイル作成入力設定9",63,"印刷フォーム3ソートデーター",113,"一覧表付ファイル作成入力設定3印刷",163,null,213]
[null,14,"一覧表付ファイル作成入力設定10",64,"印刷フォーム4ソートデーター",114,"一覧表付ファイル作成入力設定4印刷",164,null,214]
[null,15,"一覧表付ファイル作成入力設定11",65,"印刷フォーム5ソートデーター",115,"一覧表付ファイル作成入力設定5印刷",165,null,215]
[null,16,"一覧表付ファイル作成入力設定12",66,"印刷フォーム6ソートデーター",116,"一覧表付ファイル作成入力設定6印刷",166,null,216]
[null,17,"一覧表付ファイル作成入力設定13",67,"印刷フォーム7ソートデーター",117,"一覧表付ファイル作成入力設定7印刷",167,null,217]
[null,18,"一覧表付ファイル作成入力設定14",68,"印刷フォーム8ソートデーター",118,"一覧表付ファイル作成入力設定8印刷",168,null,218]
[null,19,"一覧表付ファイル作成入力設定15",69,"印刷フォーム9ソートデーター",119,"一覧表付ファイル作成入力設定9印刷",169,null,219]
[null,20,"一覧表付ファイル作成入力設定16",70,"印刷フォーム10ソートデーター",120,"一覧表付ファイル作成入力設定10印刷",170,null,220]
[null,21,"一覧表付ファイル作成入力設定17",71,"印刷フォーム11ソートデーター",121,"一覧表付ファイル作成入力設定11印刷",171,null,221]
[null,22,"一覧表付ファイル作成入力設定18",72,"印刷フォーム12ソートデーター",122,"一覧表付ファイル作成入力設定12印刷",172,null,222]
[null,23,"一覧表付ファイル作成入力設定19",73,"印刷フォーム13ソートデーター",123,"一覧表付ファイル作成入力設定13印刷",173,null,223]
[null,24,"一覧表付ファイル作成入力設定20",74,"印刷フォーム14ソートデーター",124,"一覧表付ファイル作成入力設定14印刷",174,null,224]
[null,25,"ファイル作成コピー用",75,"印刷フォーム15ソートデーター",125,"一覧表付ファイル作成入力設定15印刷",175,null,225]
[null,26,"データー入力",76,"印刷フォーム16ソートデーター",126,"一覧表付ファイル作成入力設定16印刷",176,null,226]
[null,27,"無し１",77,"印刷フォーム17ソートデーター",127,"一覧表付ファイル作成入力設定17印刷",177,null,227]
[null,28,"無し２",78,"印刷フォーム18ソートデーター",128,"一覧表付ファイル作成入力設定18印刷",178,null,228]
[null,29,"無し３",79,"印刷フォーム19ソートデーター",129,"一覧表付ファイル作成入力設定19印刷",179,null,229]
[null,30,"無し４",80,"印刷フォーム20ソートデーター",130,"一覧表付ファイル作成入力設定20印刷",180,null,230]
[null,31,"印刷フォーム1",81,"印刷フォーム21ソートデーター",131,"インターフェース画面設定",181,null,231]
[null,32,"印刷フォーム2",82,"印刷フォーム22ソートデーター",132,null,182,null,232]
[null,33,"印刷フォーム3",83,"印刷フォーム23ソートデーター",133,null,183,null,233]
[null,34,"印刷フォーム4",84,"印刷フォーム24ソートデーター",134,null,184,null,234]
[null,35,"印刷フォーム5",85,"印刷フォーム25ソートデーター",135,null,185,null,235]
[null,36,"印刷フォーム6",86,"印刷フォーム26ソートデーター",136,null,186,null,236]
[null,37,"印刷フォーム7",87,"印刷フォーム27ソートデーター",137,null,187,null,237]
[null,38,"印刷フォーム8",88,"印刷フォーム28ソートデーター",138,null,188,null,238]
[null,39,"印刷フォーム9",89,"印刷フォーム29ソートデーター",139,null,189,null,239]
[null,40,"印刷フォーム10",90,"印刷フォーム30ソートデーター",140,null,190,null,240]
[null,41,"印刷フォーム11",91,{"$f":"C9&\"印刷ボタン\"","v":"一覧表付ファイル作成入力設定1印刷ボタン"},141,null,191,null,241]
[null,42,"印刷フォーム12",92,{"$f":"C10&\"印刷ボタン\"","v":"一覧表付ファイル作成入力設定2印刷ボタン"},142,null,192,null,242]
[null,43,"印刷フォーム13",93,"一覧表付ファイル作成入力設定3印刷ボタン",143,null,193,null,243]
[null,44,"印刷フォーム14",94,"一覧表付ファイル作成入力設定4印刷ボタン",144,null,194,null,244]
[null,45,"印刷フォーム15",95,"一覧表付ファイル作成入力設定5印刷ボタン",145,null,195,null,245]
[null,46,"印刷フォーム16",96,"一覧表付ファイル作成入力設定6印刷ボタン",146,null,196,null,246]
[null,47,"印刷フォーム17",97,"一覧表付ファイル作成入力設定7印刷ボタン",147,null,197,null,247]
[null,48,"印刷フォーム18",98,"一覧表付ファイル作成入力設定8印刷ボタン",148,null,198,null,248]
[null,49,"印刷フォーム19",99,"一覧表付ファイル作成入力設定9印刷ボタン",149,null,199,null,249]
[null,50,"印刷フォーム20",100,"一覧表付ファイル作成入力設定10印刷ボタン",150,null,200,null,250]
[]
[]
[]
[]
[]
[]
[null,null,null,{"$f":"IF(ISERROR(シート名設定!C4)=TRUE,1,0)","v":0}]

{"sheet":"標準シート名等","index":2,"n_rows":54,"n_cols":11,"rows_kept":54,"cut":false,"hidden":false,"merged":[]}
[]
[null,null,null,null,"標準シート名等"]
[]
[null,"NO","シート名・インターフェースボタン名","NO","シート名・インターフェースボタン名","NO","シート名・インターフェースボタン名","NO","シート名・インターフェースボタン名","NO","シート名・インターフェースボタン名"]
[null,1,"シート名設定",51,"印刷フォーム21",101,{"$f":"C19&\"印刷ボタン\"","v":"一覧表付ファイル作成入力設定11印刷ボタン"},151,null,201]
[null,2,"項目表示入力",52,"印刷フォーム22",102,{"$f":"C20&\"印刷ボタン\"","v":"一覧表付ファイル作成入力設定12印刷ボタン"},152,null,202]
[null,3,"項目表示作成",53,"印刷フォーム23",103,"一覧表付ファイル作成入力設定13印刷ボタン",153,null,203]
[null,4,"行列入力項目",54,"印刷フォーム24",104,"一覧表付ファイル作成入力設定14印刷ボタン",154,null,204]
[null,5,"一覧表付ファイル作成入力設定1",55,"印刷フォーム25",105,"一覧表付ファイル作成入力設定15印刷ボタン",155,null,205]
[null,6,"一覧表付ファイル作成入力設定2",56,"印刷フォーム26",106,"一覧表付ファイル作成入力設定16印刷ボタン",156,null,206]
[null,7,"一覧表付ファイル作成入力設定3",57,"印刷フォーム27",107,"一覧表付ファイル作成入力設定17印刷ボタン",157,null,207]
[null,8,"一覧表付ファイル作成入力設定4",58,"印刷フォーム28",108,"一覧表付ファイル作成入力設定18印刷ボタン",158,null,208]
[null,9,"一覧表付ファイル作成入力設定5",59,"印刷フォーム29",109,"一覧表付ファイル作成入力設定19印刷ボタン",159,null,209]
[null,10,"一覧表付ファイル作成入力設定6",60,"印刷フォーム30",110,"一覧表付ファイル作成入力設定20印刷ボタン",160,null,210]
[null,11,"一覧表付ファイル作成入力設定7",61,"印刷フォーム1ソートデーター",111,{"$f":"C9&\"印刷\"","v":"一覧表付ファイル作成入力設定1印刷"},161,null,211]
[null,12,"一覧表付ファイル作成入力設定8",62,"印刷フォーム2ソートデーター",112,{"$f":"C10&\"印刷\"","v":"一覧表付ファイル作成入力設定2印刷"},162,null,212]
[null,13,"一覧表付ファイル作成入力設定9",63,"印刷フォーム3ソートデーター",113,"一覧表付ファイル作成入力設定3印刷",163,null,213]
[null,14,"一覧表付ファイル作成入力設定10",64,"印刷フォーム4ソートデーター",114,"一覧表付ファイル作成入力設定4印刷",164,null,214]
[null,15,"一覧表付ファイル作成入力設定11",65,"印刷フォーム5ソートデーター",115,"一覧表付ファイル作成入力設定5印刷",165,null,215]
[null,16,"一覧表付ファイル作成入力設定12",66,"印刷フォーム6ソートデーター",116,"一覧表付ファイル作成入力設定6印刷",166,null,216]
[null,17,"一覧表付ファイル作成入力設定13",67,"印刷フォーム7ソートデーター",117,"一覧表付ファイル作成入力設定7印刷",167,null,217]
[null,18,"一覧表付ファイル作成入力設定14",68,"印刷フォーム8ソートデーター",118,"一覧表付ファイル作成入力設定8印刷",168,null,218]
[null,19,"一覧表付ファイル作成入力設定15",69,"印刷フォーム9ソートデーター",119,"一覧表付ファイル作成入力設定9印刷",169,null,219]
[null,20,"一覧表付ファイル作成入力設定16",70,"印刷フォーム10ソートデーター",120,"一覧表付ファイル作成入力設定10印刷",170,null,220]
[null,21,"一覧表付ファイル作成入力設定17",71,"印刷フォーム11ソートデーター",121,"一覧表付ファイル作成入力設定11印刷",171,null,221]
[null,22,"一覧表付ファイル作成入力設定18",72,"印刷フォーム12ソートデーター",122,"一覧表付ファイル作成入力設定12印刷",172,null,222]
[null,23,"一覧表付ファイル作成入力設定19",73,"印刷フォーム13ソートデーター",123,"一覧表付ファイル作成入力設定13印刷",173,null,223]
[null,24,"一覧表付ファイル作成入力設定20",74,"印刷フォーム14ソートデーター",124,"一覧表付ファイル作成入力設定14印刷",174,null,224]
[null,25,"ファイル作成コピー用",75,"印刷フォーム15ソートデーター",125,"一覧表付ファイル作成入力設定15印刷",175,null,225]
[null,26,"データー入力",76,"印刷フォーム16ソートデーター",126,"一覧表付ファイル作成入力設定16印刷",176,null,226]
[null,27,"無し１",77,"印刷フォーム17ソートデーター",127,"一覧表付ファイル作成入力設定17印刷",177,null,227]
[null,28,"無し２",78,"印刷フォーム18ソートデーター",128,"一覧表付ファイル作成入力設定18印刷",178,null,228]
[null,29,"無し３",79,"印刷フォーム19ソートデーター",129,"一覧表付ファイル作成入力設定19印刷",179,null,229]
[null,30,"無し４",80,"印刷フォーム20ソートデーター",130,"一覧表付ファイル作成入力設定20印刷",180,null,230]
[null,31,"印刷フォーム1",81,"印刷フォーム21ソートデーター",131,"インターフェース画面設定",181,null,231]
[null,32,"印刷フォーム2",82,"印刷フォーム22ソートデーター",132,null,182,null,232]
[null,33,"印刷フォーム3",83,"印刷フォーム23ソートデーター",133,null,183,null,233]
[null,34,"印刷フォーム4",84,"印刷フォーム24ソートデーター",134,null,184,null,234]
[null,35,"印刷フォーム5",85,"印刷フォーム25ソートデーター",135,null,185,null,235]
[null,36,"印刷フォーム6",86,"印刷フォーム26ソートデーター",136,null,186,null,236]
[null,37,"印刷フォーム7",87,"印刷フォーム27ソートデーター",137,null,187,null,237]
[null,38,"印刷フォーム8",88,"印刷フォーム28ソートデーター",138,null,188,null,238]
[null,39,"印刷フォーム9",89,"印刷フォーム29ソートデーター",139,null,189,null,239]
[null,40,"印刷フォーム10",90,"印刷フォーム30ソートデーター",140,null,190,null,240]
[null,41,"印刷フォーム11",91,{"$f":"C9&\"印刷ボタン\"","v":"一覧表付ファイル作成入力設定1印刷ボタン"},141,null,191,null,241]
[null,42,"印刷フォーム12",92,{"$f":"C10&\"印刷ボタン\"","v":"一覧表付ファイル作成入力設定2印刷ボタン"},142,null,192,null,242]
[null,43,"印刷フォーム13",93,"一覧表付ファイル作成入力設定3印刷ボタン",143,null,193,null,243]
[null,44,"印刷フォーム14",94,"一覧表付ファイル作成入力設定4印刷ボタン",144,null,194,null,244]
[null,45,"印刷フォーム15",95,"一覧表付ファイル作成入力設定5印刷ボタン",145,null,195,null,245]
[null,46,"印刷フォーム16",96,"一覧表付ファイル作成入力設定6印刷ボタン",146,null,196,null,246]
[null,47,"印刷フォーム17",97,"一覧表付ファイル作成入力設定7印刷ボタン",147,null,197,null,247]
[null,48,"印刷フォーム18",98,"一覧表付ファイル作成入力設定8印刷ボタン",148,null,198,null,248]
[null,49,"印刷フォーム19",99,"一覧表付ファイル作成入力設定9印刷ボタン",149,null,199,null,249]
[null,50,"印刷フォーム20",100,"一覧表付ファイル作成入力設定10印刷ボタン",150,null,200,null,250]

{"sheet":"シート名設定","index":3,"n_rows":62,"n_cols":11,"rows_kept":62,"cut":false,"hidden":false,"merged":[]}
[]
[null,null,null,null,{"$f":"C5","v":"シート名設定"}]
[]
[null,"NO","シート名・インターフェースボタン名","NO","シート名・インターフェースボタン名","NO","シート名・インターフェースボタン名","NO","シート名・インターフェースボタン名","NO","シート名・インターフェースボタン名"]
[null,1,"シート名設定",51,"印刷フォーム21",101,{"$f":"C19&\"印刷ボタン\"","v":"一覧表付ファイル作成入力設定11印刷ボタン"},151,null,201]
[null,2,"項目表示入力",52,"印刷フォーム22",102,{"$f":"C20&\"印刷ボタン\"","v":"一覧表付ファイル作成入力設定12印刷ボタン"},152,null,202]
[null,3,"項目表示作成",53,"印刷フォーム23",103,"一覧表付ファイル作成入力設定13印刷ボタン",153,null,203]
[null,4,"行列入力項目",54,"印刷フォーム24",104,"一覧表付ファイル作成入力設定14印刷ボタン",154,null,204]
[null,5,"一覧表付ファイル作成入力設定1",55,"印刷フォーム25",105,"一覧表付ファイル作成入力設定15印刷ボタン",155,null,205]
[null,6,"一覧表付ファイル作成入力設定2",56,"印刷フォーム26",106,"一覧表付ファイル作成入力設定16印刷ボタン",156,null,206]
[null,7,"一覧表付ファイル作成入力設定3",57,"印刷フォーム27",107,"一覧表付ファイル作成入力設定17印刷ボタン",157,null,207]
[null,8,"一覧表付ファイル作成入力設定4",58,"印刷フォーム28",108,"一覧表付ファイル作成入力設定18印刷ボタン",158,null,208]
[null,9,"一覧表付ファイル作成入力設定5",59,"印刷フォーム29",109,"一覧表付ファイル作成入力設定19印刷ボタン",159,null,209]
[null,10,"一覧表付ファイル作成入力設定6",60,"印刷フォーム30",110,"一覧表付ファイル作成入力設定20印刷ボタン",160,null,210]
[null,11,"一覧表付ファイル作成入力設定7",61,"印刷フォーム1ソートデーター",111,{"$f":"C9&\"印刷\"","v":"一覧表付ファイル作成入力設定1印刷"},161,null,211]
[null,12,"一覧表付ファイル作成入力設定8",62,"印刷フォーム2ソートデーター",112,{"$f":"C10&\"印刷\"","v":"一覧表付ファイル作成入力設定2印刷"},162,null,212]
[null,13,"一覧表付ファイル作成入力設定9",63,"印刷フォーム3ソートデーター",113,"一覧表付ファイル作成入力設定3印刷",163,null,213]
[null,14,"一覧表付ファイル作成入力設定10",64,"印刷フォーム4ソートデーター",114,"一覧表付ファイル作成入力設定4印刷",164,null,214]
[null,15,"一覧表付ファイル作成入力設定11",65,"印刷フォーム5ソートデーター",115,"一覧表付ファイル作成入力設定5印刷",165,null,215]
[null,16,"一覧表付ファイル作成入力設定12",66,"印刷フォーム6ソートデーター",116,"一覧表付ファイル作成入力設定6印刷",166,null,216]
[null,17,"一覧表付ファイル作成入力設定13",67,"印刷フォーム7ソートデーター",117,"一覧表付ファイル作成入力設定7印刷",167,null,217]
[null,18,"一覧表付ファイル作成入力設定14",68,"印刷フォーム8ソートデーター",118,"一覧表付ファイル作成入力設定8印刷",168,null,218]
[null,19,"一覧表付ファイル作成入力設定15",69,"印刷フォーム9ソートデーター",119,"一覧表付ファイル作成入力設定9印刷",169,null,219]
[null,20,"一覧表付ファイル作成入力設定16",70,"印刷フォーム10ソートデーター",120,"一覧表付ファイル作成入力設定10印刷",170,null,220]
[null,21,"一覧表付ファイル作成入力設定17",71,"印刷フォーム11ソートデーター",121,"一覧表付ファイル作成入力設定11印刷",171,null,221]
[null,22,"一覧表付ファイル作成入力設定18",72,"印刷フォーム12ソートデーター",122,"一覧表付ファイル作成入力設定12印刷",172,null,222]
[null,23,"一覧表付ファイル作成入力設定19",73,"印刷フォーム13ソートデーター",123,"一覧表付ファイル作成入力設定13印刷",173,null,223]
[null,24,"一覧表付ファイル作成入力設定20",74,"印刷フォーム14ソートデーター",124,"一覧表付ファイル作成入力設定14印刷",174,null,224]
[null,25,"ファイル作成コピー用",75,"印刷フォーム15ソートデーター",125,"一覧表付ファイル作成入力設定15印刷",175,null,225]
[null,26,"データー入力",76,"印刷フォーム16ソートデーター",126,"一覧表付ファイル作成入力設定16印刷",176,null,226]
[null,27,"無し１",77,"印刷フォーム17ソートデーター",127,"一覧表付ファイル作成入力設定17印刷",177,null,227]
[null,28,"無し２",78,"印刷フォーム18ソートデーター",128,"一覧表付ファイル作成入力設定18印刷",178,null,228]
[null,29,"無し３",79,"印刷フォーム19ソートデーター",129,"一覧表付ファイル作成入力設定19印刷",179,null,229]
[null,30,"無し４",80,"印刷フォーム20ソートデーター",130,"一覧表付ファイル作成入力設定20印刷",180,null,230]
[null,31,"印刷フォーム1",81,"印刷フォーム21ソートデーター",131,"インターフェース画面設定",181,null,231]
[null,32,"印刷フォーム2",82,"印刷フォーム22ソートデーター",132,null,182,null,232]
[null,33,"印刷フォーム3",83,"印刷フォーム23ソートデーター",133,null,183,null,233]
[null,34,"印刷フォーム4",84,"印刷フォーム24ソートデーター",134,null,184,null,234]
[null,35,"印刷フォーム5",85,"印刷フォーム25ソートデーター",135,null,185,null,235]
[null,36,"印刷フォーム6",86,"印刷フォーム26ソートデーター",136,null,186,null,236]
[null,37,"印刷フォーム7",87,"印刷フォーム27ソートデーター",137,null,187,null,237]
[null,38,"印刷フォーム8",88,"印刷フォーム28ソートデーター",138,null,188,null,238]
[null,39,"印刷フォーム9",89,"印刷フォーム29ソートデーター",139,null,189,null,239]
[null,40,"印刷フォーム10",90,"印刷フォーム30ソートデーター",140,null,190,null,240]
[null,41,"印刷フォーム11",91,{"$f":"C9&\"印刷ボタン\"","v":"一覧表付ファイル作成入力設定1印刷ボタン"},141,null,191,null,241]
[null,42,"印刷フォーム12",92,{"$f":"C10&\"印刷ボタン\"","v":"一覧表付ファイル作成入力設定2印刷ボタン"},142,null,192,null,242]
[null,43,"印刷フォーム13",93,"一覧表付ファイル作成入力設定3印刷ボタン",143,null,193,null,243]
[null,44,"印刷フォーム14",94,"一覧表付ファイル作成入力設定4印刷ボタン",144,null,194,null,244]
[null,45,"印刷フォーム15",95,"一覧表付ファイル作成入力設定5印刷ボタン",145,null,195,null,245]
[null,46,"印刷フォーム16",96,"一覧表付ファイル作成入力設定6印刷ボタン",146,null,196,null,246]
[null,47,"印刷フォーム17",97,"一覧表付ファイル作成入力設定7印刷ボタン",147,null,197,null,247]
[null,48,"印刷フォーム18",98,"一覧表付ファイル作成入力設定8印刷ボタン",148,null,198,null,248]
[null,49,"印刷フォーム19",99,"一覧表付ファイル作成入力設定9印刷ボタン",149,null,199,null,249]
[null,50,"印刷フォーム20",100,"一覧表付ファイル作成入力設定10印刷ボタン",150,null,200,null,250]
[]
[]
[]
[]
[]
[]
[null,null,3,3]
[null,null,null,"2021cvdatabaseadvancekeisou100ver1siyoubann.xlsm"]

{"sheet":"インターフェース画面設定","index":4,"n_rows":8,"n_cols":9,"rows_kept":8,"cut":false,"hidden":false,"merged":[[1,1,1,2]]}
[]
[null,{"$f":"シート名設定!$G$35","v":"インターフェース画面設定"}]
[]
[null,"設定項目","設定値",3]
[null,"画面高さ",{"$f":"IF(D$4=1,D5,IF(D$4=2,E5,IF(D$4=3,F5,IF(D$4=4,G5,IF(D$4=5,H5,IF(D$4=6,I5,I5))))))","v":810},810,810,{"$f":"E5","v":810},{"$f":"D5*G$8","v":810},{"$f":"E5*H$8","v":810},750]
[null,"画面幅",{"$f":"IF(D$4=1,D6,IF(D$4=2,E6,IF(D$4=3,F6,IF(D$4=4,G6,IF(D$4=5,H6,IF(D$4=6,I6,I6))))))","v":1440},964.80000000000007,1440,{"$f":"E6","v":1440},{"$f":"D6*G$8","v":964.80000000000007},1440,1200]
[null,"画面Zoom",97,94,100,97,94,100,87]
[null,null,null,null,null,"表示倍率",1,1]

{"sheet":"項目表示入力","index":5,"n_rows":11,"n_cols":22,"rows_kept":11,"cut":false,"hidden":false,"merged":[]}
[]
[null,{"$f":"シート名設定!$C$6","v":"項目表示入力"}]
[]
[]
[]
[null,null,{"$f":"IF(行列入力項目!$D$5=\"\",\"\",行列入力項目!$D$5)","v":"列1"},{"$f":"IF(行列入力項目!$D$6=\"\",\"\",行列入力項目!$D$6)","v":"列2"},{"$f":"IF(行列入力項目!$D$7=\"\",\"\",行列入力項目!$D$7)","v":"列3"},{"$f":"IF(行列入力項目!$D$8=\"\",\"\",行列入力項目!$D$8)","v":"列4"},{"$f":"IF(行列入力項目!$D$9=\"\",\"\",行列入力項目!$D$9)","v":"列5"},{"$f":"IF(行列入力項目!$D$10=\"\",\"\",行列入力項目!$D$10)","v":"列6"},{"$f":"IF(行列入力項目!$D$11=\"\",\"\",行列入力項目!$D$11)","v":"列7"},{"$f":"IF(行列入力項目!$D$12=\"\",\"\",行列入力項目!$D$12)","v":"列8"},{"$f":"IF(行列入力項目!$D$13=\"\",\"\",行列入力項目!$D$13)","v":"列9"},{"$f":"IF(行列入力項目!$D$14=\"\",\"\",行列入力項目!$D$14)","v":"列10"},{"$f":"IF(行列入力項目!$D$15=\"\",\"\",行列入力項目!$D$15)","v":"列11"},{"$f":"IF(行列入力項目!$D$16=\"\",\"\",行列入力項目!$D$16)","v":"列12"},{"$f":"IF(行列入力項目!$D$17=\"\",\"\",行列入力項目!$D$17)","v":"列13"},{"$f":"IF(行列入力項目!$D$18=\"\",\"\",行列入力項目!$D$18)","v":"列14"},{"$f":"IF(行列入力項目!$D$19=\"\",\"\",行列入力項目!$D$19)","v":"列15"},{"$f":"IF(行列入力項目!$D$20=\"\",\"\",行列入力項目!$D$20)","v":"列16"},{"$f":"IF(行列入力項目!$D$21=\"\",\"\",行列入力項目!$D$21)","v":"列17"},{"$f":"IF(行列入力項目!$D$22=\"\",\"\",行列入力項目!$D$22)","v":"列18"},{"$f":"IF(行列入力項目!$D$23=\"\",\"\",行列入力項目!$D$23)","v":"列19"},{"$f":"IF(行列入力項目!$D$24=\"\",\"\",行列入力項目!$D$24)","v":"列20"}]
[null,{"$f":"IF(行列入力項目!$C$5=\"\",\"\",行列入力項目!$C$5)","v":"行1"},"内容1,1","内容1,2","内容1,3","内容1,4","内容1,5","内容1,6","内容1,7","内容1,8","内容1,9","内容1,10","内容1,11","内容1,12","内容1,13","内容1,14","内容1,15","内容1,16","内容1,17","内容1,18","内容1,19","内容1,20"]
[null,{"$f":"IF(行列入力項目!$C$6=\"\",\"\",行列入力項目!$C$6)","v":"行2"},"内容2,1","内容2,2","内容2,3","内容2,4","内容2,5","内容2,6","内容2,7","内容2,8","内容2,9","内容2,10","内容2,11","内容2,12","内容2,13","内容2,14","内容2,15","内容2,16","内容2,17","内容2,18","内容2,19","内容2,20"]
[null,{"$f":"IF(行列入力項目!$C$7=\"\",\"\",行列入力項目!$C$7)","v":"行3"},"内容3,1","内容3,2","内容3,3","内容3,4","内容3,5","内容3,6","内容3,7","内容3,8","内容3,9","内容3,10","内容3,11","内容3,12","内容3,13","内容3,14","内容3,15","内容3,16","内容3,17","内容3,18","内容3,19","内容3,20"]
[null,{"$f":"IF(行列入力項目!$C$8=\"\",\"\",行列入力項目!$C$8)","v":"行4"},"内容4,1","内容4,2","内容4,3","内容4,4","内容4,5","内容4,6","内容4,7","内容4,8","内容4,9","内容4,10","内容4,11","内容4,12","内容4,13","内容4,14","内容4,15","内容4,16","内容4,17","内容4,18","内容4,19","内容4,20"]
[null,{"$f":"IF(行列入力項目!$C$9=\"\",\"\",行列入力項目!$C$9)","v":"行5"},"内容5,1","内容5,2","内容5,3","内容5,4","内容5,5","内容5,6","内容5,7","内容5,8","内容5,9","内容5,10","内容5,11","内容5,12","内容5,13","内容5,14","内容5,15","内容5,16","内容5,17","内容5,18","内容5,19","内容5,20"]

{"sheet":"項目表示入力既定番地","index":6,"n_rows":11,"n_cols":22,"rows_kept":11,"cut":false,"hidden":false,"merged":[]}
[]
[null,"項目表示入力既定番地"]
[]
[]
[]
[null,null,"列1","列2","列3","列4","列5","列6","列7","列8","列9","列10","列11","列12","列13","列14","列15","列16","列17","列18","列19","列20"]
[null,"行1","内容1,1","内容1,2","内容1,3","内容1,4","内容1,5","内容1,6","内容1,7","内容1,8","内容1,9","内容1,10","内容1,11","内容1,12","内容1,13","内容1,14","内容1,15","内容1,16","内容1,17","内容1,18","内容1,19","内容1,20"]
[null,"行2","内容2,1","内容2,2","内容2,3","内容2,4","内容2,5","内容2,6","内容2,7","内容2,8","内容2,9","内容2,10","内容2,11","内容2,12","内容2,13","内容2,14","内容2,15","内容2,16","内容2,17","内容2,18","内容2,19","内容2,20"]
[null,"行3","内容3,1","内容3,2","内容3,3","内容3,4","内容3,5","内容3,6","内容3,7","内容3,8","内容3,9","内容3,10","内容3,11","内容3,12","内容3,13","内容3,14","内容3,15","内容3,16","内容3,17","内容3,18","内容3,19","内容3,20"]
[null,"行4","内容4,1","内容4,2","内容4,3","内容4,4","内容4,5","内容4,6","内容4,7","内容4,8","内容4,9","内容4,10","内容4,11","内容4,12","内容4,13","内容4,14","内容4,15","内容4,16","内容4,17","内容4,18","内容4,19","内容4,20"]
[null,"行5","内容5,1","内容5,2","内容5,3","内容5,4","内容5,5","内容5,6","内容5,7","内容5,8","内容5,9","内容5,10","内容5,11","内容5,12","内容5,13","内容5,14","内容5,15","内容5,16","内容5,17","内容5,18","内容5,19","内容5,20"]

{"sheet":"項目表示作成","index":7,"n_rows":11,"n_cols":22,"rows_kept":11,"cut":false,"hidden":false,"merged":[]}
[]
[null,{"$f":"シート名設定!$C$7","v":"項目表示作成"}]
[]
[]
[]
[null,null,{"$f":"IF(行列入力項目!$D$5=\"\",\"\",行列入力項目!$D$5)","v":"列1"},{"$f":"IF(行列入力項目!$D$6=\"\",\"\",行列入力項目!$D$6)","v":"列2"},{"$f":"IF(行列入力項目!$D$7=\"\",\"\",行列入力項目!$D$7)","v":"列3"},{"$f":"IF(行列入力項目!$D$8=\"\",\"\",行列入力項目!$D$8)","v":"列4"},{"$f":"IF(行列入力項目!$D$9=\"\",\"\",行列入力項目!$D$9)","v":"列5"},{"$f":"IF(行列入力項目!$D$10=\"\",\"\",行列入力項目!$D$10)","v":"列6"},{"$f":"IF(行列入力項目!$D$11=\"\",\"\",行列入力項目!$D$11)","v":"列7"},{"$f":"IF(行列入力項目!$D$12=\"\",\"\",行列入力項目!$D$12)","v":"列8"},{"$f":"IF(行列入力項目!$D$13=\"\",\"\",行列入力項目!$D$13)","v":"列9"},{"$f":"IF(行列入力項目!$D$14=\"\",\"\",行列入力項目!$D$14)","v":"列10"},{"$f":"IF(行列入力項目!$D$15=\"\",\"\",行列入力項目!$D$15)","v":"列11"},{"$f":"IF(行列入力項目!$D$16=\"\",\"\",行列入力項目!$D$16)","v":"列12"},{"$f":"IF(行列入力項目!$D$17=\"\",\"\",行列入力項目!$D$17)","v":"列13"},{"$f":"IF(行列入力項目!$D$18=\"\",\"\",行列入力項目!$D$18)","v":"列14"},{"$f":"IF(行列入力項目!$D$19=\"\",\"\",行列入力項目!$D$19)","v":"列15"},{"$f":"IF(行列入力項目!$D$20=\"\",\"\",行列入力項目!$D$20)","v":"列16"},{"$f":"IF(行列入力項目!$D$21=\"\",\"\",行列入力項目!$D$21)","v":"列17"},{"$f":"IF(行列入力項目!$D$22=\"\",\"\",行列入力項目!$D$22)","v":"列18"},{"$f":"IF(行列入力項目!$D$23=\"\",\"\",行列入力項目!$D$23)","v":"列19"},{"$f":"IF(行列入力項目!$D$24=\"\",\"\",行列入力項目!$D$24)","v":"列20"}]
[null,{"$f":"IF(行列入力項目!$C$5=\"\",\"\",行列入力項目!$C$5)","v":"行1"},{"$f":"C$6&$B7","v":"列1行1"},"列2行1","列3行1","列4行1","列5行1","列6行1","列7行1","列8行1","列9行1","列10行1",{"$f":"M$6&$B7","v":"列11行1"},"列12行1","列13行1","列14行1","列15行1","列16行1","列17行1","列18行1","列19行1","列20行1"]
[null,{"$f":"IF(行列入力項目!$C$6=\"\",\"\",行列入力項目!$C$6)","v":"行2"},"列1行2","列2行2","列3行2","列4行2","列5行2","列6行2","列7行2","列8行2","列9行2","列10行2","列11行2","列12行2","列13行2","列14行2","列15行2","列16行2","列17行2","列18行2","列19行2","列20行2"]
[null,{"$f":"IF(行列入力項目!$C$7=\"\",\"\",行列入力項目!$C$7)","v":"行3"},"列1行3","列2行3","列3行3","列4行3","列5行3","列6行3","列7行3","列8行3","列9行3","列10行3","列11行3","列12行3","列13行3","列14行3","列15行3","列16行3","列17行3","列18行3","列19行3","列20行3"]
[null,{"$f":"IF(行列入力項目!$C$8=\"\",\"\",行列入力項目!$C$8)","v":"行4"},"列1行4","列2行4","列3行4","列4行4","列5行4","列6行4","列7行4","列8行4","列9行4","列10行4","列11行4","列12行4","列13行4","列14行4","列15行4","列16行4","列17行4","列18行4","列19行4","列20行4"]
[null,{"$f":"IF(行列入力項目!$C$9=\"\",\"\",行列入力項目!$C$9)","v":"行5"},"列1行5","列2行5","列3行5","列4行5","列5行5","列6行5","列7行5","列8行5","列9行5","列10行5","列11行5","列12行5","列13行5","列14行5","列15行5","列16行5","列17行5","列18行5","列19行5","列20行5"]

{"sheet":"ファイル作成コピー用","index":8,"n_rows":16,"n_cols":22,"rows_kept":16,"cut":false,"hidden":false,"merged":[]}
[]
[]
[]
[null,{"$f":"シート名設定!$C$29","v":"ファイル作成コピー用"}]
[null,"入力項目表示とデーター表示の切替 →",null,null,null,1]
[null,"入力項目表示は1，データ表示は2を入力"]
[]
[]
[null,1,{"$f":"IF(B9=0,\"\",IF(ISERROR(VLOOKUP(B9,データー入力!$B$8:$CY$108,2))=TRUE,\"\",VLOOKUP(B9,データー入力!$B$8:$CY$108,2)))","v":"対象1"}]
[]
[null,null,{"$f":"IF(オフセット番号A!$C$4=\"\",\"\",オフセット番号A!$C$4)","v":"列1"},{"$f":"IF(オフセット番号A!$D$4=\"\",\"\",オフセット番号A!$D$4)","v":"列2"},{"$f":"IF(オフセット番号A!$E$4=\"\",\"\",オフセット番号A!$E$4)","v":"列3"},{"$f":"IF(オフセット番号A!$F$4=\"\",\"\",オフセット番号A!$F$4)","v":"列4"},{"$f":"IF(オフセット番号A!$G$4=\"\",\"\",オフセット番号A!$G$4)","v":"列5"},{"$f":"IF(オフセット番号A!$H$4=\"\",\"\",オフセット番号A!$H$4)","v":"列6"},{"$f":"IF(オフセット番号A!$I$4=\"\",\"\",オフセット番号A!$I$4)","v":"列7"},{"$f":"IF(オフセット番号A!$J$4=\"\",\"\",オフセット番号A!$J$4)","v":"列8"},{"$f":"IF(オフセット番号A!$K$4=\"\",\"\",オフセット番号A!$K$4)","v":"列9"},{"$f":"IF(オフセット番号A!$L$4=\"\",\"\",オフセット番号A!$L$4)","v":"列10"},{"$f":"IF(オフセット番号A!$M$4=\"\",\"\",オフセット番号A!$M$4)","v":"列11"},{"$f":"IF(オフセット番号A!$N$4=\"\",\"\",オフセット番号A!$N$4)","v":"列12"},{"$f":"IF(オフセット番号A!$O$4=\"\",\"\",オフセット番号A!$O$4)","v":"列13"},{"$f":"IF(オフセット番号A!$P$4=\"\",\"\",オフセット番号A!$P$4)","v":"列14"},{"$f":"IF(オフセット番号A!$Q$4=\"\",\"\",オフセット番号A!$Q$4)","v":"列15"},{"$f":"IF(オフセット番号A!$R$4=\"\",\"\",オフセット番号A!$R$4)","v":"列16"},{"$f":"IF(オフセット番号A!$S$4=\"\",\"\",オフセット番号A!$S$4)","v":"列17"},{"$f":"IF(オフセット番号A!$T$4=\"\",\"\",オフセット番号A!$T$4)","v":"列18"},{"$f":"IF(オフセット番号A!$U$4=\"\",\"\",オフセット番号A!$U$4)","v":"列19"},{"$f":"IF(オフセット番号A!$V$4=\"\",\"\",オフセット番号A!$V$4)","v":"列20"}]
[null,{"$f":"IF(行列入力項目!$C$5=\"\",\"\",行列入力項目!$C$5)","v":"行1"},{"$f":"IF($F$5=1,項目表示入力!$C$7,IF($F$5=2,IF(ISERROR(VLOOKUP(B9,データー入力!$B$8:$CY$108,オフセット番号A!$C$5+1))=TRUE,\"\",VLOOKUP(B9,データー入力!$B$8:$CY$108,オフセット番号A!$C$5+1)),\"*\"))","v":"内容1,1"},{"$f":"IF($F$5=1,項目表示入力!$D$7,IF($F$5=2,IF(ISERROR(VLOOKUP(B9,データー入力!$B$8:$CY$108,オフセット番号A!$D$5+1))=TRUE,\"\",VLOOKUP(B9,データー入力!$B$8:$CY$108,オフセット番号A!$D$5+1)),\"*\"))","v":"内容1,2"},{"$f":"IF($F$5=1,項目表示入力!$E$7,IF($F$5=2,IF(ISERROR(VLOOKUP(B9,データー入力!$B$8:$CY$108,オフセット番号A!$E$5+1))=TRUE,\"\",VLOOKUP(B9,データー入力!$B$8:$CY$108,オフセット番号A!$E$5+1)),\"*\"))","v":"内容1,3"},{"$f":"IF($F$5=1,項目表示入力!$F$7,IF($F$5=2,IF(ISERROR(VLOOKUP(B9,データー入力!$B$8:$CY$108,オフセット番号A!$F$5+1))=TRUE,\"\",VLOOKUP(B9,データー入力!$B$8:$CY$108,オフセット番号A!$F$5+1)),\"*\"))","v":"内容1,4"},{"$f":"IF($F$5=1,項目表示入力!$G$7,IF($F$5=2,IF(ISERROR(VLOOKUP(B9,データー入力!$B$8:$CY$108,オフセット番号A!$G$5+1))=TRUE,\"\",VLOOKUP(B9,データー入力!$B$8:$CY$108,オフセット番号A!$G$5+1)),\"*\"))","v":"内容1,5"},{"$f":"IF($F$5=1,項目表示入力!$H$7,IF($F$5=2,IF(ISERROR(VLOOKUP(B9,データー入力!$B$8:$CY$108,オフセット番号A!$H$5+1))=TRUE,\"\",VLOOKUP(B9,データー入力!$B$8:$CY$108,オフセット番号A!$H$5+1)),\"*\"))","v":"内容1,6"},{"$f":"IF($F$5=1,項目表示入力!$I$7,IF($F$5=2,IF(ISERROR(VLOOKUP(B9,データー入力!$B$8:$CY$108,オフセット番号A!$I$5+1))=TRUE,\"\",VLOOKUP(B9,データー入力!$B$8:$CY$108,オフセット番号A!$I$5+1)),\"*\"))","v":"内容1,7"},{"$f":"IF($F$5=1,項目表示入力!$J$7,IF($F$5=2,IF(ISERROR(VLOOKUP(B9,データー入力!$B$8:$CY$108,オフセット番号A!$J$5+1))=TRUE,\"\",VLOOKUP(B9,データー入力!$B$8:$CY$108,オフセット番号A!$J$5+1)),\"*\"))","v":"内容1,8"},{"$f":"IF($F$5=1,項目表示入力!$K$7,IF($F$5=2,IF(ISERROR(VLOOKUP(B9,データー入力!$B$8:$CY$108,オフセット番号A!$K$5+1))=TRUE,\"\",VLOOKUP(B9,データー入力!$B$8:$CY$108,オフセット番号A!$K$5+1)),\"*\"))","v":"内容1,9"},{"$f":"IF($F$5=1,項目表示入力!$L$7,IF($F$5=2,IF(ISERROR(VLOOKUP(B9,データー入力!$B$8:$CY$108,オフセット番号A!$L$5+1))=TRUE,\"\",VLOOKUP(B9,データー入力!$B$8:$CY$108,オフセット番号A!$L$5+1)),\"*\"))","v":"内容1,10"},{"$f":"IF($F$5=1,項目表示入力!$M$7,IF($F$5=2,IF(ISERROR(VLOOKUP(B9,データー入力!$B$8:$CY$108,オフセット番号A!$M$5+1))=TRUE,\"\",VLOOKUP(B9,データー入力!$B$8:$CY$108,オフセット番号A!$M$5+1)),\"*\"))","v":"内容1,11"},{"$f":"IF($F$5=1,項目表示入力!$N$7,IF($F$5=2,IF(ISERROR(VLOOKUP(B9,データー入力!$B$8:$CY$108,オフセット番号A!$N$5+1))=TRUE,\"\",VLOOKUP(B9,データー入力!$B$8:$CY$108,オフセット番号A!$N$5+1)),\"*\"))","v":"内容1,12"},{"$f":"IF($F$5=1,項目表示入力!$O$7,IF($F$5=2,IF(ISERROR(VLOOKUP(B9,データー入力!$B$8:$CY$108,オフセット番号A!$O$5+1))=TRUE,\"\",VLOOKUP(B9,データー入力!$B$8:$CY$108,オフセット番号A!$O$5+1)),\"*\"))","v":"内容1,13"},{"$f":"IF($F$5=1,項目表示入力!$P$7,IF($F$5=2,IF(ISERROR(VLOOKUP(B9,データー入力!$B$8:$CY$108,オフセット番号A!$P$5+1))=TRUE,\"\",VLOOKUP(B9,データー入力!$B$8:$CY$108,オフセット番号A!$P$5+1)),\"*\"))","v":"内容1,14"},{"$f":"IF($F$5=1,項目表示入力!$Q$7,IF($F$5=2,IF(ISERROR(VLOOKUP(B9,データー入力!$B$8:$CY$108,オフセット番号A!$Q$5+1))=TRUE,\"\",VLOOKUP(B9,データー入力!$B$8:$CY$108,オフセット番号A!$Q$5+1)),\"*\"))","v":"内容1,15"},{"$f":"IF($F$5=1,項目表示入力!$R$7,IF($F$5=2,IF(ISERROR(VLOOKUP(B9,データー入力!$B$8:$CY$108,オフセット番号A!$R$5+1))=TRUE,\"\",VLOOKUP(B9,データー入力!$B$8:$CY$108,オフセット番号A!$R$5+1)),\"*\"))","v":"内容1,16"},{"$f":"IF($F$5=1,項目表示入力!$S$7,IF($F$5=2,IF(ISERROR(VLOOKUP(B9,データー入力!$B$8:$CY$108,オフセット番号A!$S$5+1))=TRUE,\"\",VLOOKUP(B9,データー入力!$B$8:$CY$108,オフセット番号A!$S$5+1)),\"*\"))","v":"内容1,17"},{"$f":"IF($F$5=1,項目表示入力!$T$7,IF($F$5=2,IF(ISERROR(VLOOKUP(B9,データー入力!$B$8:$CY$108,オフセット番号A!$T$5+1))=TRUE,\"\",VLOOKUP(B9,データー入力!$B$8:$CY$108,オフセット番号A!$T$5+1)),\"*\"))","v":"内容1,18"},{"$f":"IF($F$5=1,項目表示入力!$U$7,IF($F$5=2,IF(ISERROR(VLOOKUP(B9,データー入力!$B$8:$CY$108,オフセット番号A!$U$5+1))=TRUE,\"\",VLOOKUP(B9,データー入力!$B$8:$CY$108,オフセット番号A!$U$5+1)),\"*\"))","v":"内容1,19"},{"$f":"IF($F$5=1,項目表示入力!$V$7,IF($F$5=2,IF(ISERROR(VLOOKUP(B9,データー入力!$B$8:$CY$108,オフセット番号A!$V$5+1))=TRUE,\"\",VLOOKUP(B9,データー入力!$B$8:$CY$108,オフセット番号A!$V$5+1)),\"*\"))","v":"内容1,20"}]
[null,{"$f":"IF(行列入力項目!$C$6=\"\",\"\",行列入力項目!$C$6)","v":"行2"},{"$f":"IF($F$5=1,項目表示入力!$C$8,IF($F$5=2,IF(ISERROR(VLOOKUP(B9,データー入力!$B$8:$CY$108,オフセット番号A!$C$6+1))=TRUE,\"\",VLOOKUP(B9,データー入力!$B$8:$CY$108,オフセット番号A!$C$6+1)),\"*\"))","v":"内容2,1"},{"$f":"IF($F$5=1,項目表示入力!$D$8,IF($F$5=2,IF(ISERROR(VLOOKUP(B9,データー入力!$B$8:$CY$108,オフセット番号A!$D$6+1))=TRUE,\"\",VLOOKUP(B9,データー入力!$B$8:$CY$108,オフセット番号A!$D$6+1)),\"*\"))","v":"内容2,2"},{"$f":"IF($F$5=1,項目表示入力!$E$8,IF($F$5=2,IF(ISERROR(VLOOKUP(B9,データー入力!$B$8:$CY$108,オフセット番号A!$E$6+1))=TRUE,\"\",VLOOKUP(B9,データー入力!$B$8:$CY$108,オフセット番号A!$E$6+1)),\"*\"))","v":"内容2,3"},{"$f":"IF($F$5=1,項目表示入力!$F$8,IF($F$5=2,IF(ISERROR(VLOOKUP(B9,データー入力!$B$8:$CY$108,オフセット番号A!$F$6+1))=TRUE,\"\",VLOOKUP(B9,データー入力!$B$8:$CY$108,オフセット番号A!$F$6+1)),\"*\"))","v":"内容2,4"},{"$f":"IF($F$5=1,項目表示入力!$G$8,IF($F$5=2,IF(ISERROR(VLOOKUP(B9,データー入力!$B$8:$CY$108,オフセット番号A!$G$6+1))=TRUE,\"\",VLOOKUP(B9,データー入力!$B$8:$CY$108,オフセット番号A!$G$6+1)),\"*\"))","v":"内容2,5"},{"$f":"IF($F$5=1,項目表示入力!$H$8,IF($F$5=2,IF(ISERROR(VLOOKUP(B9,データー入力!$B$8:$CY$108,オフセット番号A!$H$6+1))=TRUE,\"\",VLOOKUP(B9,データー入力!$B$8:$CY$108,オフセット番号A!$H$6+1)),\"*\"))","v":"内容2,6"},{"$f":"IF($F$5=1,項目表示入力!$I$8,IF($F$5=2,IF(ISERROR(VLOOKUP(B9,データー入力!$B$8:$CY$108,オフセット番号A!$I$6+1))=TRUE,\"\",VLOOKUP(B9,データー入力!$B$8:$CY$108,オフセット番号A!$I$6+1)),\"*\"))","v":"内容2,7"},{"$f":"IF($F$5=1,項目表示入力!$J$8,IF($F$5=2,IF(ISERROR(VLOOKUP(B9,データー入力!$B$8:$CY$108,オフセット番号A!$J$6+1))=TRUE,\"\",VLOOKUP(B9,データー入力!$B$8:$CY$108,オフセット番号A!$J$6+1)),\"*\"))","v":"内容2,8"},{"$f":"IF($F$5=1,項目表示入力!$K$8,IF($F$5=2,IF(ISERROR(VLOOKUP(B9,データー入力!$B$8:$CY$108,オフセット番号A!$K$6+1))=TRUE,\"\",VLOOKUP(B9,データー入力!$B$8:$CY$108,オフセット番号A!$K$6+1)),\"*\"))","v":"内容2,9"},{"$f":"IF($F$5=1,項目表示入力!$L$8,IF($F$5=2,IF(ISERROR(VLOOKUP(B9,データー入力!$B$8:$CY$108,オフセット番号A!$L$6+1))=TRUE,\"\",VLOOKUP(B9,データー入力!$B$8:$CY$108,オフセット番号A!$L$6+1)),\"*\"))","v":"内容2,10"},{"$f":"IF($F$5=1,項目表示入力!$M$8,IF($F$5=2,IF(ISERROR(VLOOKUP(B9,データー入力!$B$8:$CY$108,オフセット番号A!$M$6+1))=TRUE,\"\",VLOOKUP(B9,データー入力!$B$8:$CY$108,オフセット番号A!$M$6+1)),\"*\"))","v":"内容2,11"},{"$f":"IF($F$5=1,項目表示入力!$N$8,IF($F$5=2,IF(ISERROR(VLOOKUP(B9,データー入力!$B$8:$CY$108,オフセット番号A!$N$6+1))=TRUE,\"\",VLOOKUP(B9,データー入力!$B$8:$CY$108,オフセット番号A!$N$6+1)),\"*\"))","v":"内容2,12"},{"$f":"IF($F$5=1,項目表示入力!$O$8,IF($F$5=2,IF(ISERROR(VLOOKUP(B9,データー入力!$B$8:$CY$108,オフセット番号A!$O$6+1))=TRUE,\"\",VLOOKUP(B9,データー入力!$B$8:$CY$108,オフセット番号A!$O$6+1)),\"*\"))","v":"内容2,13"},{"$f":"IF($F$5=1,項目表示入力!$P$8,IF($F$5=2,IF(ISERROR(VLOOKUP(B9,データー入力!$B$8:$CY$108,オフセット番号A!$P$6+1))=TRUE,\"\",VLOOKUP(B9,データー入力!$B$8:$CY$108,オフセット番号A!$P$6+1)),\"*\"))","v":"内容2,14"},{"$f":"IF($F$5=1,項目表示入力!$Q$8,IF($F$5=2,IF(ISERROR(VLOOKUP(B9,データー入力!$B$8:$CY$108,オフセット番号A!$Q$6+1))=TRUE,\"\",VLOOKUP(B9,データー入力!$B$8:$CY$108,オフセット番号A!$Q$6+1)),\"*\"))","v":"内容2,15"},{"$f":"IF($F$5=1,項目表示入力!$R$8,IF($F$5=2,IF(ISERROR(VLOOKUP(B9,データー入力!$B$8:$CY$108,オフセット番号A!$R$6+1))=TRUE,\"\",VLOOKUP(B9,データー入力!$B$8:$CY$108,オフセット番号A!$R$6+1)),\"*\"))","v":"内容2,16"},{"$f":"IF($F$5=1,項目表示入力!$S$8,IF($F$5=2,IF(ISERROR(VLOOKUP(B9,データー入力!$B$8:$CY$108,オフセット番号A!$S$6+1))=TRUE,\"\",VLOOKUP(B9,データー入力!$B$8:$CY$108,オフセット番号A!$S$6+1)),\"*\"))","v":"内容2,17"},{"$f":"IF($F$5=1,項目表示入力!$T$8,IF($F$5=2,IF(ISERROR(VLOOKUP(B9,データー入力!$B$8:$CY$108,オフセット番号A!$T$6+1))=TRUE,\"\",VLOOKUP(B9,データー入力!$B$8:$CY$108,オフセット番号A!$T$6+1)),\"*\"))","v":"内容2,18"},{"$f":"IF($F$5=1,項目表示入力!$U$8,IF($F$5=2,IF(ISERROR(VLOOKUP(B9,データー入力!$B$8:$CY$108,オフセット番号A!$U$6+1))=TRUE,\"\",VLOOKUP(B9,データー入力!$B$8:$CY$108,オフセット番号A!$U$6+1)),\"*\"))","v":"内容2,19"},{"$f":"IF($F$5=1,項目表示入力!$V$8,IF($F$5=2,IF(ISERROR(VLOOKUP(B9,データー入力!$B$8:$CY$108,オフセット番号A!$V$6+1))=TRUE,\"\",VLOOKUP(B9,データー入力!$B$8:$CY$108,オフセット番号A!$V$6+1)),\"*\"))","v":"内容2,20"}]
[null,{"$f":"IF(行列入力項目!$C$7=\"\",\"\",行列入力項目!$C$7)","v":"行3"},{"$f":"IF($F$5=1,項目表示入力!$C$9,IF($F$5=2,IF(ISERROR(VLOOKUP(B9,データー入力!$B$8:$CY$108,オフセット番号A!$C$7+1))=TRUE,\"\",VLOOKUP(B9,データー入力!$B$8:$CY$108,オフセット番号A!$C$7+1)),\"*\"))","v":"内容3,1"},{"$f":"IF($F$5=1,項目表示入力!$D$9,IF($F$5=2,IF(ISERROR(VLOOKUP(B9,データー入力!$B$8:$CY$108,オフセット番号A!$D$7+1))=TRUE,\"\",VLOOKUP(B9,データー入力!$B$8:$CY$108,オフセット番号A!$D$7+1)),\"*\"))","v":"内容3,2"},{"$f":"IF($F$5=1,項目表示入力!$E$9,IF($F$5=2,IF(ISERROR(VLOOKUP(B9,データー入力!$B$8:$CY$108,オフセット番号A!$E$7+1))=TRUE,\"\",VLOOKUP(B9,データー入力!$B$8:$CY$108,オフセット番号A!$E$7+1)),\"*\"))","v":"内容3,3"},{"$f":"IF($F$5=1,項目表示入力!$F$9,IF($F$5=2,IF(ISERROR(VLOOKUP(B9,データー入力!$B$8:$CY$108,オフセット番号A!$F$7+1))=TRUE,\"\",VLOOKUP(B9,データー入力!$B$8:$CY$108,オフセット番号A!$F$7+1)),\"*\"))","v":"内容3,4"},{"$f":"IF($F$5=1,項目表示入力!$G$9,IF($F$5=2,IF(ISERROR(VLOOKUP(B9,データー入力!$B$8:$CY$108,オフセット番号A!$G$7+1))=TRUE,\"\",VLOOKUP(B9,データー入力!$B$8:$CY$108,オフセット番号A!$G$7+1)),\"*\"))","v":"内容3,5"},{"$f":"IF($F$5=1,項目表示入力!$H$9,IF($F$5=2,IF(ISERROR(VLOOKUP(B9,データー入力!$B$8:$CY$108,オフセット番号A!$H$7+1))=TRUE,\"\",VLOOKUP(B9,データー入力!$B$8:$CY$108,オフセット番号A!$H$7+1)),\"*\"))","v":"内容3,6"},{"$f":"IF($F$5=1,項目表示入力!$I$9,IF($F$5=2,IF(ISERROR(VLOOKUP(B9,データー入力!$B$8:$CY$108,オフセット番号A!$I$7+1))=TRUE,\"\",VLOOKUP(B9,データー入力!$B$8:$CY$108,オフセット番号A!$I$7+1)),\"*\"))","v":"内容3,7"},{"$f":"IF($F$5=1,項目表示入力!$J$9,IF($F$5=2,IF(ISERROR(VLOOKUP(B9,データー入力!$B$8:$CY$108,オフセット番号A!$J$7+1))=TRUE,\"\",VLOOKUP(B9,データー入力!$B$8:$CY$108,オフセット番号A!$J$7+1)),\"*\"))","v":"内容3,8"},{"$f":"IF($F$5=1,項目表示入力!$K$9,IF($F$5=2,IF(ISERROR(VLOOKUP(B9,データー入力!$B$8:$CY$108,オフセット番号A!$K$7+1))=TRUE,\"\",VLOOKUP(B9,データー入力!$B$8:$CY$108,オフセット番号A!$K$7+1)),\"*\"))","v":"内容3,9"},{"$f":"IF($F$5=1,項目表示入力!$L$9,IF($F$5=2,IF(ISERROR(VLOOKUP(B9,データー入力!$B$8:$CY$108,オフセット番号A!$L$7+1))=TRUE,\"\",VLOOKUP(B9,データー入力!$B$8:$CY$108,オフセット番号A!$L$7+1)),\"*\"))","v":"内容3,10"},{"$f":"IF($F$5=1,項目表示入力!$M$9,IF($F$5=2,IF(ISERROR(VLOOKUP(B9,データー入力!$B$8:$CY$108,オフセット番号A!$M$7+1))=TRUE,\"\",VLOOKUP(B9,データー入力!$B$8:$CY$108,オフセット番号A!$M$7+1)),\"*\"))","v":"内容3,11"},{"$f":"IF($F$5=1,項目表示入力!$N$9,IF($F$5=2,IF(ISERROR(VLOOKUP(B9,データー入力!$B$8:$CY$108,オフセット番号A!$N$7+1))=TRUE,\"\",VLOOKUP(B9,データー入力!$B$8:$CY$108,オフセット番号A!$N$7+1)),\"*\"))","v":"内容3,12"},{"$f":"IF($F$5=1,項目表示入力!$O$9,IF($F$5=2,IF(ISERROR(VLOOKUP(B9,データー入力!$B$8:$CY$108,オフセット番号A!$O$7+1))=TRUE,\"\",VLOOKUP(B9,データー入力!$B$8:$CY$108,オフセット番号A!$O$7+1)),\"*\"))","v":"内容3,13"},{"$f":"IF($F$5=1,項目表示入力!$P$9,IF($F$5=2,IF(ISERROR(VLOOKUP(B9,データー入力!$B$8:$CY$108,オフセット番号A!$P$7+1))=TRUE,\"\",VLOOKUP(B9,データー入力!$B$8:$CY$108,オフセット番号A!$P$7+1)),\"*\"))","v":"内容3,14"},{"$f":"IF($F$5=1,項目表示入力!$Q$9,IF($F$5=2,IF(ISERROR(VLOOKUP(B9,データー入力!$B$8:$CY$108,オフセット番号A!$Q$7+1))=TRUE,\"\",VLOOKUP(B9,データー入力!$B$8:$CY$108,オフセット番号A!$Q$7+1)),\"*\"))","v":"内容3,15"},{"$f":"IF($F$5=1,項目表示入力!$R$9,IF($F$5=2,IF(ISERROR(VLOOKUP(B9,データー入力!$B$8:$CY$108,オフセット番号A!$R$7+1))=TRUE,\"\",VLOOKUP(B9,データー入力!$B$8:$CY$108,オフセット番号A!$R$7+1)),\"*\"))","v":"内容3,16"},{"$f":"IF($F$5=1,項目表示入力!$S$9,IF($F$5=2,IF(ISERROR(VLOOKUP(B9,データー入力!$B$8:$CY$108,オフセット番号A!$S$7+1))=TRUE,\"\",VLOOKUP(B9,データー入力!$B$8:$CY$108,オフセット番号A!$S$7+1)),\"*\"))","v":"内容3,17"},{"$f":"IF($F$5=1,項目表示入力!$T$9,IF($F$5=2,IF(ISERROR(VLOOKUP(B9,データー入力!$B$8:$CY$108,オフセット番号A!$T$7+1))=TRUE,\"\",VLOOKUP(B9,データー入力!$B$8:$CY$108,オフセット番号A!$T$7+1)),\"*\"))","v":"内容3,18"},{"$f":"IF($F$5=1,項目表示入力!$U$9,IF($F$5=2,IF(ISERROR(VLOOKUP(B9,データー入力!$B$8:$CY$108,オフセット番号A!$U$7+1))=TRUE,\"\",VLOOKUP(B9,データー入力!$B$8:$CY$108,オフセット番号A!$U$7+1)),\"*\"))","v":"内容3,19"},{"$f":"IF($F$5=1,項目表示入力!$V$9,IF($F$5=2,IF(ISERROR(VLOOKUP(B9,データー入力!$B$8:$CY$108,オフセット番号A!$V$7+1))=TRUE,\"\",VLOOKUP(B9,データー入力!$B$8:$CY$108,オフセット番号A!$V$7+1)),\"*\"))","v":"内容3,20"}]
[null,{"$f":"IF(行列入力項目!$C$8=\"\",\"\",行列入力項目!$C$8)","v":"行4"},{"$f":"IF($F$5=1,項目表示入力!$C$10,IF($F$5=2,IF(ISERROR(VLOOKUP(B9,データー入力!$B$8:$CY$108,オフセット番号A!$C$8+1))=TRUE,\"\",VLOOKUP(B9,データー入力!$B$8:$CY$108,オフセット番号A!$C$8+1)),\"*\"))","v":"内容4,1"},{"$f":"IF($F$5=1,項目表示入力!$D$10,IF($F$5=2,IF(ISERROR(VLOOKUP(B9,データー入力!$B$8:$CY$108,オフセット番号A!$D$8+1))=TRUE,\"\",VLOOKUP(B9,データー入力!$B$8:$CY$108,オフセット番号A!$D$8+1)),\"*\"))","v":"内容4,2"},{"$f":"IF($F$5=1,項目表示入力!$E$10,IF($F$5=2,IF(ISERROR(VLOOKUP(B9,データー入力!$B$8:$CY$108,オフセット番号A!$E$8+1))=TRUE,\"\",VLOOKUP(B9,データー入力!$B$8:$CY$108,オフセット番号A!$E$8+1)),\"*\"))","v":"内容4,3"},{"$f":"IF($F$5=1,項目表示入力!$F$10,IF($F$5=2,IF(ISERROR(VLOOKUP(B9,データー入力!$B$8:$CY$108,オフセット番号A!$F$8+1))=TRUE,\"\",VLOOKUP(B9,データー入力!$B$8:$CY$108,オフセット番号A!$F$8+1)),\"*\"))","v":"内容4,4"},{"$f":"IF($F$5=1,項目表示入力!$G$10,IF($F$5=2,IF(ISERROR(VLOOKUP(B9,データー入力!$B$8:$CY$108,オフセット番号A!$G$8+1))=TRUE,\"\",VLOOKUP(B9,データー入力!$B$8:$CY$108,オフセット番号A!$G$8+1)),\"*\"))","v":"内容4,5"},{"$f":"IF($F$5=1,項目表示入力!$H$10,IF($F$5=2,IF(ISERROR(VLOOKUP(B9,データー入力!$B$8:$CY$108,オフセット番号A!$H$8+1))=TRUE,\"\",VLOOKUP(B9,データー入力!$B$8:$CY$108,オフセット番号A!$H$8+1)),\"*\"))","v":"内容4,6"},{"$f":"IF($F$5=1,項目表示入力!$I$10,IF($F$5=2,IF(ISERROR(VLOOKUP(B9,データー入力!$B$8:$CY$108,オフセット番号A!$I$8+1))=TRUE,\"\",VLOOKUP(B9,データー入力!$B$8:$CY$108,オフセット番号A!$I$8+1)),\"*\"))","v":"内容4,7"},{"$f":"IF($F$5=1,項目表示入力!$J$10,IF($F$5=2,IF(ISERROR(VLOOKUP(B9,データー入力!$B$8:$CY$108,オフセット番号A!$J$8+1))=TRUE,\"\",VLOOKUP(B9,データー入力!$B$8:$CY$108,オフセット番号A!$J$8+1)),\"*\"))","v":"内容4,8"},{"$f":"IF($F$5=1,項目表示入力!$K$10,IF($F$5=2,IF(ISERROR(VLOOKUP(B9,データー入力!$B$8:$CY$108,オフセット番号A!$K$8+1))=TRUE,\"\",VLOOKUP(B9,データー入力!$B$8:$CY$108,オフセット番号A!$K$8+1)),\"*\"))","v":"内容4,9"},{"$f":"IF($F$5=1,項目表示入力!$L$10,IF($F$5=2,IF(ISERROR(VLOOKUP(B9,データー入力!$B$8:$CY$108,オフセット番号A!$L$8+1))=TRUE,\"\",VLOOKUP(B9,データー入力!$B$8:$CY$108,オフセット番号A!$L$8+1)),\"*\"))","v":"内容4,10"},{"$f":"IF($F$5=1,項目表示入力!$M$10,IF($F$5=2,IF(ISERROR(VLOOKUP(B9,データー入力!$B$8:$CY$108,オフセット番号A!$M$8+1))=TRUE,\"\",VLOOKUP(B9,データー入力!$B$8:$CY$108,オフセット番号A!$M$8+1)),\"*\"))","v":"内容4,11"},{"$f":"IF($F$5=1,項目表示入力!$N$10,IF($F$5=2,IF(ISERROR(VLOOKUP(B9,データー入力!$B$8:$CY$108,オフセット番号A!$N$8+1))=TRUE,\"\",VLOOKUP(B9,データー入力!$B$8:$CY$108,オフセット番号A!$N$8+1)),\"*\"))","v":"内容4,12"},{"$f":"IF($F$5=1,項目表示入力!$O$10,IF($F$5=2,IF(ISERROR(VLOOKUP(B9,データー入力!$B$8:$CY$108,オフセット番号A!$O$8+1))=TRUE,\"\",VLOOKUP(B9,データー入力!$B$8:$CY$108,オフセット番号A!$O$8+1)),\"*\"))","v":"内容4,13"},{"$f":"IF($F$5=1,項目表示入力!$P$10,IF($F$5=2,IF(ISERROR(VLOOKUP(B9,データー入力!$B$8:$CY$108,オフセット番号A!$P$8+1))=TRUE,\"\",VLOOKUP(B9,データー入力!$B$8:$CY$108,オフセット番号A!$P$8+1)),\"*\"))","v":"内容4,14"},{"$f":"IF($F$5=1,項目表示入力!$Q$10,IF($F$5=2,IF(ISERROR(VLOOKUP(B9,データー入力!$B$8:$CY$108,オフセット番号A!$Q$8+1))=TRUE,\"\",VLOOKUP(B9,データー入力!$B$8:$CY$108,オフセット番号A!$Q$8+1)),\"*\"))","v":"内容4,15"},{"$f":"IF($F$5=1,項目表示入力!$R$10,IF($F$5=2,IF(ISERROR(VLOOKUP(B9,データー入力!$B$8:$CY$108,オフセット番号A!$R$8+1))=TRUE,\"\",VLOOKUP(B9,データー入力!$B$8:$CY$108,オフセット番号A!$R$8+1)),\"*\"))","v":"内容4,16"},{"$f":"IF($F$5=1,項目表示入力!$S$10,IF($F$5=2,IF(ISERROR(VLOOKUP(B9,データー入力!$B$8:$CY$108,オフセット番号A!$S$8+1))=TRUE,\"\",VLOOKUP(B9,データー入力!$B$8:$CY$108,オフセット番号A!$S$8+1)),\"*\"))","v":"内容4,17"},{"$f":"IF($F$5=1,項目表示入力!$T$10,IF($F$5=2,IF(ISERROR(VLOOKUP(B9,データー入力!$B$8:$CY$108,オフセット番号A!$T$8+1))=TRUE,\"\",VLOOKUP(B9,データー入力!$B$8:$CY$108,オフセット番号A!$T$8+1)),\"*\"))","v":"内容4,18"},{"$f":"IF($F$5=1,項目表示入力!$U$10,IF($F$5=2,IF(ISERROR(VLOOKUP(B9,データー入力!$B$8:$CY$108,オフセット番号A!$U$8+1))=TRUE,\"\",VLOOKUP(B9,データー入力!$B$8:$CY$108,オフセット番号A!$U$8+1)),\"*\"))","v":"内容4,19"},{"$f":"IF($F$5=1,項目表示入力!$V$10,IF($F$5=2,IF(ISERROR(VLOOKUP(B9,データー入力!$B$8:$CY$108,オフセット番号A!$V$8+1))=TRUE,\"\",VLOOKUP(B9,データー入力!$B$8:$CY$108,オフセット番号A!$V$8+1)),\"*\"))","v":"内容4,20"}]
[null,{"$f":"IF(行列入力項目!$C$9=\"\",\"\",行列入力項目!$C$9)","v":"行5"},{"$f":"IF($F$5=1,項目表示入力!$C$11,IF($F$5=2,IF(ISERROR(VLOOKUP(B9,データー入力!$B$8:$CY$108,オフセット番号A!$C$9+1))=TRUE,\"\",VLOOKUP(B9,データー入力!$B$8:$CY$108,オフセット番号A!$C$9+1)),\"*\"))","v":"内容5,1"},{"$f":"IF($F$5=1,項目表示入力!$D$11,IF($F$5=2,IF(ISERROR(VLOOKUP(B9,データー入力!$B$8:$CY$108,オフセット番号A!$D$9+1))=TRUE,\"\",VLOOKUP(B9,データー入力!$B$8:$CY$108,オフセット番号A!$D$9+1)),\"*\"))","v":"内容5,2"},{"$f":"IF($F$5=1,項目表示入力!$E$11,IF($F$5=2,IF(ISERROR(VLOOKUP(B9,データー入力!$B$8:$CY$108,オフセット番号A!$E$9+1))=TRUE,\"\",VLOOKUP(B9,データー入力!$B$8:$CY$108,オフセット番号A!$E$9+1)),\"*\"))","v":"内容5,3"},{"$f":"IF($F$5=1,項目表示入力!$F$11,IF($F$5=2,IF(ISERROR(VLOOKUP(B9,データー入力!$B$8:$CY$108,オフセット番号A!$F$9+1))=TRUE,\"\",VLOOKUP(B9,データー入力!$B$8:$CY$108,オフセット番号A!$F$9+1)),\"*\"))","v":"内容5,4"},{"$f":"IF($F$5=1,項目表示入力!$G$11,IF($F$5=2,IF(ISERROR(VLOOKUP(B9,データー入力!$B$8:$CY$108,オフセット番号A!$G$9+1))=TRUE,\"\",VLOOKUP(B9,データー入力!$B$8:$CY$108,オフセット番号A!$G$9+1)),\"*\"))","v":"内容5,5"},{"$f":"IF($F$5=1,項目表示入力!$H$11,IF($F$5=2,IF(ISERROR(VLOOKUP(B9,データー入力!$B$8:$CY$108,オフセット番号A!$H$9+1))=TRUE,\"\",VLOOKUP(B9,データー入力!$B$8:$CY$108,オフセット番号A!$H$9+1)),\"*\"))","v":"内容5,6"},{"$f":"IF($F$5=1,項目表示入力!$I$11,IF($F$5=2,IF(ISERROR(VLOOKUP(B9,データー入力!$B$8:$CY$108,オフセット番号A!$I$9+1))=TRUE,\"\",VLOOKUP(B9,データー入力!$B$8:$CY$108,オフセット番号A!$I$9+1)),\"*\"))","v":"内容5,7"},{"$f":"IF($F$5=1,項目表示入力!$J$11,IF($F$5=2,IF(ISERROR(VLOOKUP(B9,データー入力!$B$8:$CY$108,オフセット番号A!$J$9+1))=TRUE,\"\",VLOOKUP(B9,データー入力!$B$8:$CY$108,オフセット番号A!$J$9+1)),\"*\"))","v":"内容5,8"},{"$f":"IF($F$5=1,項目表示入力!$K$11,IF($F$5=2,IF(ISERROR(VLOOKUP(B9,データー入力!$B$8:$CY$108,オフセット番号A!$K$9+1))=TRUE,\"\",VLOOKUP(B9,データー入力!$B$8:$CY$108,オフセット番号A!$K$9+1)),\"*\"))","v":"内容5,9"},{"$f":"IF($F$5=1,項目表示入力!$L$11,IF($F$5=2,IF(ISERROR(VLOOKUP(B9,データー入力!$B$8:$CY$108,オフセット番号A!$L$9+1))=TRUE,\"\",VLOOKUP(B9,データー入力!$B$8:$CY$108,オフセット番号A!$L$9+1)),\"*\"))","v":"内容5,10"},{"$f":"IF($F$5=1,項目表示入力!$M$11,IF($F$5=2,IF(ISERROR(VLOOKUP(B9,データー入力!$B$8:$CY$108,オフセット番号A!$M$9+1))=TRUE,\"\",VLOOKUP(B9,データー入力!$B$8:$CY$108,オフセット番号A!$M$9+1)),\"*\"))","v":"内容5,11"},{"$f":"IF($F$5=1,項目表示入力!$N$11,IF($F$5=2,IF(ISERROR(VLOOKUP(B9,データー入力!$B$8:$CY$108,オフセット番号A!$N$9+1))=TRUE,\"\",VLOOKUP(B9,データー入力!$B$8:$CY$108,オフセット番号A!$N$9+1)),\"*\"))","v":"内容5,12"},{"$f":"IF($F$5=1,項目表示入力!$O$11,IF($F$5=2,IF(ISERROR(VLOOKUP(B9,データー入力!$B$8:$CY$108,オフセット番号A!$O$9+1))=TRUE,\"\",VLOOKUP(B9,データー入力!$B$8:$CY$108,オフセット番号A!$O$9+1)),\"*\"))","v":"内容5,13"},{"$f":"IF($F$5=1,項目表示入力!$P$11,IF($F$5=2,IF(ISERROR(VLOOKUP(B9,データー入力!$B$8:$CY$108,オフセット番号A!$P$9+1))=TRUE,\"\",VLOOKUP(B9,データー入力!$B$8:$CY$108,オフセット番号A!$P$9+1)),\"*\"))","v":"内容5,14"},{"$f":"IF($F$5=1,項目表示入力!$Q$11,IF($F$5=2,IF(ISERROR(VLOOKUP(B9,データー入力!$B$8:$CY$108,オフセット番号A!$Q$9+1))=TRUE,\"\",VLOOKUP(B9,データー入力!$B$8:$CY$108,オフセット番号A!$Q$9+1)),\"*\"))","v":"内容5,15"},{"$f":"IF($F$5=1,項目表示入力!$R$11,IF($F$5=2,IF(ISERROR(VLOOKUP(B9,データー入力!$B$8:$CY$108,オフセット番号A!$R$9+1))=TRUE,\"\",VLOOKUP(B9,データー入力!$B$8:$CY$108,オフセット番号A!$R$9+1)),\"*\"))","v":"内容5,16"},{"$f":"IF($F$5=1,項目表示入力!$S$11,IF($F$5=2,IF(ISERROR(VLOOKUP(B9,データー入力!$B$8:$CY$108,オフセット番号A!$S$9+1))=TRUE,\"\",VLOOKUP(B9,データー入力!$B$8:$CY$108,オフセット番号A!$S$9+1)),\"*\"))","v":"内容5,17"},{"$f":"IF($F$5=1,項目表示入力!$T$11,IF($F$5=2,IF(ISERROR(VLOOKUP(B9,データー入力!$B$8:$CY$108,オフセット番号A!$T$9+1))=TRUE,\"\",VLOOKUP(B9,データー入力!$B$8:$CY$108,オフセット番号A!$T$9+1)),\"*\"))","v":"内容5,18"},{"$f":"IF($F$5=1,項目表示入力!$U$11,IF($F$5=2,IF(ISERROR(VLOOKUP(B9,データー入力!$B$8:$CY$108,オフセット番号A!$U$9+1))=TRUE,\"\",VLOOKUP(B9,データー入力!$B$8:$CY$108,オフセット番号A!$U$9+1)),\"*\"))","v":"内容5,19"},{"$f":"IF($F$5=1,項目表示入力!$V$11,IF($F$5=2,IF(ISERROR(VLOOKUP(B9,データー入力!$B$8:$CY$108,オフセット番号A!$V$9+1))=TRUE,\"\",VLOOKUP(B9,データー入力!$B$8:$CY$108,オフセット番号A!$V$9+1)),\"*\"))","v":"内容5,20"}]

{"sheet":"行列入力項目","index":9,"n_rows":24,"n_cols":4,"rows_kept":24,"cut":false,"hidden":false,"merged":[]}
[]
[null,{"$f":"シート名設定!$C$8","v":"行列入力項目"}]
[]
[null,"NO.","行項目入力","列項目入力"]
[null,1,"行1","列1"]
[null,2,"行2","列2"]
[null,3,"行3","列3"]
[null,4,"行4","列4"]
[null,5,"行5","列5"]
[null,null,null,"列6"]
[null,null,null,"列7"]
[null,null,null,"列8"]
[null,null,null,"列9"]
[null,null,null,"列10"]
[null,null,null,"列11"]
[null,null,null,"列12"]
[null,null,null,"列13"]
[null,null,null,"列14"]
[null,null,null,"列15"]
[null,null,null,"列16"]
[null,null,null,"列17"]
[null,null,null,"列18"]
[null,null,null,"列19"]
[null,null,null,"列20"]

{"sheet":"オフセット番号A","index":10,"n_rows":9,"n_cols":22,"rows_kept":9,"cut":false,"hidden":true,"merged":[]}
[]
[null,"ｵﾌｾｯﾄ番号表A"]
[]
[null,null,{"$f":"IF(行列入力項目!$D$5=\"\",\"\",行列入力項目!$D$5)","v":"列1"},{"$f":"IF(行列入力項目!$D$6=\"\",\"\",行列入力項目!$D$6)","v":"列2"},{"$f":"IF(行列入力項目!$D$7=\"\",\"\",行列入力項目!$D$7)","v":"列3"},{"$f":"IF(行列入力項目!$D$8=\"\",\"\",行列入力項目!$D$8)","v":"列4"},{"$f":"IF(行列入力項目!$D$9=\"\",\"\",行列入力項目!$D$9)","v":"列5"},{"$f":"IF(行列入力項目!$D$10=\"\",\"\",行列入力項目!$D$10)","v":"列6"},{"$f":"IF(行列入力項目!$D$11=\"\",\"\",行列入力項目!$D$11)","v":"列7"},{"$f":"IF(行列入力項目!$D$12=\"\",\"\",行列入力項目!$D$12)","v":"列8"},{"$f":"IF(行列入力項目!$D$13=\"\",\"\",行列入力項目!$D$13)","v":"列9"},{"$f":"IF(行列入力項目!$D$14=\"\",\"\",行列入力項目!$D$14)","v":"列10"},{"$f":"IF(行列入力項目!$D$15=\"\",\"\",行列入力項目!$D$15)","v":"列11"},{"$f":"IF(行列入力項目!$D$16=\"\",\"\",行列入力項目!$D$16)","v":"列12"},{"$f":"IF(行列入力項目!$D$17=\"\",\"\",行列入力項目!$D$17)","v":"列13"},{"$f":"IF(行列入力項目!$D$18=\"\",\"\",行列入力項目!$D$18)","v":"列14"},{"$f":"IF(行列入力項目!$D$19=\"\",\"\",行列入力項目!$D$19)","v":"列15"},{"$f":"IF(行列入力項目!$D$20=\"\",\"\",行列入力項目!$D$20)","v":"列16"},{"$f":"IF(行列入力項目!$D$21=\"\",\"\",行列入力項目!$D$21)","v":"列17"},{"$f":"IF(行列入力項目!$D$22=\"\",\"\",行列入力項目!$D$22)","v":"列18"},{"$f":"IF(行列入力項目!$D$23=\"\",\"\",行列入力項目!$D$23)","v":"列19"},{"$f":"IF(行列入力項目!$D$24=\"\",\"\",行列入力項目!$D$24)","v":"列20"}]
[null,{"$f":"IF(行列入力項目!$C$5=\"\",\"\",行列入力項目!$C$5)","v":"行1"},2,3,4,5,6,7,8,9,10,11,12,13,14,15,16,17,18,19,20,21]
[null,{"$f":"IF(行列入力項目!$C$6=\"\",\"\",行列入力項目!$C$6)","v":"行2"},22,23,24,25,26,27,28,29,30,31,32,33,34,35,36,37,38,39,40,41]
[null,{"$f":"IF(行列入力項目!$C$7=\"\",\"\",行列入力項目!$C$7)","v":"行3"},42,43,44,45,46,47,48,49,50,51,52,53,54,55,56,57,58,59,60,61]
[null,{"$f":"IF(行列入力項目!$C$8=\"\",\"\",行列入力項目!$C$8)","v":"行4"},62,63,64,65,66,67,68,69,70,71,72,73,74,75,76,77,78,79,80,81]
[null,{"$f":"IF(行列入力項目!$C$9=\"\",\"\",行列入力項目!$C$9)","v":"行5"},82,83,84,85,86,87,88,89,90,91,92,93,94,95,96,97,98,99,100,101]

{"sheet":"ﾌｧｲﾙ作成原版A","index":11,"n_rows":16,"n_cols":22,"rows_kept":16,"cut":false,"hidden":true,"merged":[]}
[]
[]
[]
[null,"ファイル作成原版A"]
[null,"     入力項目表示とデーター表示の切替     →",null,null,null,1]
[null,"     入力項目表示は1，データ表示は2を入力"]
[]
[]
[null,1,{"$f":"IF(ISERR(VLOOKUP(B9,データー入力!$B$8:$CY$108,2))=1,\"\",VLOOKUP(B9,データー入力!$B$8:$CY$108,2))","v":"対象1"}]
[]
[null,null,{"$f":"IF(オフセット番号A!$C$4=\"\",\"\",オフセット番号A!$C$4)","v":"列1"},{"$f":"IF(オフセット番号A!$D$4=\"\",\"\",オフセット番号A!$D$4)","v":"列2"},{"$f":"IF(オフセット番号A!$E$4=\"\",\"\",オフセット番号A!$E$4)","v":"列3"},{"$f":"IF(オフセット番号A!$F$4=\"\",\"\",オフセット番号A!$F$4)","v":"列4"},{"$f":"IF(オフセット番号A!$G$4=\"\",\"\",オフセット番号A!$G$4)","v":"列5"},{"$f":"IF(オフセット番号A!$H$4=\"\",\"\",オフセット番号A!$H$4)","v":"列6"},{"$f":"IF(オフセット番号A!$I$4=\"\",\"\",オフセット番号A!$I$4)","v":"列7"},{"$f":"IF(オフセット番号A!$J$4=\"\",\"\",オフセット番号A!$J$4)","v":"列8"},{"$f":"IF(オフセット番号A!$K$4=\"\",\"\",オフセット番号A!$K$4)","v":"列9"},{"$f":"IF(オフセット番号A!$L$4=\"\",\"\",オフセット番号A!$L$4)","v":"列10"},{"$f":"IF(オフセット番号A!$M$4=\"\",\"\",オフセット番号A!$M$4)","v":"列11"},{"$f":"IF(オフセット番号A!$N$4=\"\",\"\",オフセット番号A!$N$4)","v":"列12"},{"$f":"IF(オフセット番号A!$O$4=\"\",\"\",オフセット番号A!$O$4)","v":"列13"},{"$f":"IF(オフセット番号A!$P$4=\"\",\"\",オフセット番号A!$P$4)","v":"列14"},{"$f":"IF(オフセット番号A!$Q$4=\"\",\"\",オフセット番号A!$Q$4)","v":"列15"},{"$f":"IF(オフセット番号A!$R$4=\"\",\"\",オフセット番号A!$R$4)","v":"列16"},{"$f":"IF(オフセット番号A!$S$4=\"\",\"\",オフセット番号A!$S$4)","v":"列17"},{"$f":"IF(オフセット番号A!$T$4=\"\",\"\",オフセット番号A!$T$4)","v":"列18"},{"$f":"IF(オフセット番号A!$U$4=\"\",\"\",オフセット番号A!$U$4)","v":"列19"},{"$f":"IF(オフセット番号A!$V$4=\"\",\"\",オフセット番号A!$V$4)","v":"列20"}]
[null,{"$f":"IF(行列入力項目!$C$5=\"\",\"\",行列入力項目!$C$5)","v":"行1"},{"$f":"IF($F$5=1,項目表示入力!$C$7,IF($F$5=2,IF(ISERROR(VLOOKUP(B9,データー入力!$B$8:$CY$108,オフセット番号A!$C$5+1))=TRUE,\"\",VLOOKUP(B9,データー入力!$B$8:$CY$108,オフセット番号A!$C$5+1)),\"*\"))","v":"内容1,1"},{"$f":"IF($F$5=1,項目表示入力!$D$7,IF($F$5=2,IF(ISERROR(VLOOKUP(B9,データー入力!$B$8:$CY$108,オフセット番号A!$D$5+1))=TRUE,\"\",VLOOKUP(B9,データー入力!$B$8:$CY$108,オフセット番号A!$D$5+1)),\"*\"))","v":"内容1,2"},{"$f":"IF($F$5=1,項目表示入力!$E$7,IF($F$5=2,IF(ISERROR(VLOOKUP(B9,データー入力!$B$8:$CY$108,オフセット番号A!$E$5+1))=TRUE,\"\",VLOOKUP(B9,データー入力!$B$8:$CY$108,オフセット番号A!$E$5+1)),\"*\"))","v":"内容1,3"},{"$f":"IF($F$5=1,項目表示入力!$F$7,IF($F$5=2,IF(ISERROR(VLOOKUP(B9,データー入力!$B$8:$CY$108,オフセット番号A!$F$5+1))=TRUE,\"\",VLOOKUP(B9,データー入力!$B$8:$CY$108,オフセット番号A!$F$5+1)),\"*\"))","v":"内容1,4"},{"$f":"IF($F$5=1,項目表示入力!$G$7,IF($F$5=2,IF(ISERROR(VLOOKUP(B9,データー入力!$B$8:$CY$108,オフセット番号A!$G$5+1))=TRUE,\"\",VLOOKUP(B9,データー入力!$B$8:$CY$108,オフセット番号A!$G$5+1)),\"*\"))","v":"内容1,5"},{"$f":"IF($F$5=1,項目表示入力!$H$7,IF($F$5=2,IF(ISERROR(VLOOKUP(B9,データー入力!$B$8:$CY$108,オフセット番号A!$H$5+1))=TRUE,\"\",VLOOKUP(B9,データー入力!$B$8:$CY$108,オフセット番号A!$H$5+1)),\"*\"))","v":"内容1,6"},{"$f":"IF($F$5=1,項目表示入力!$I$7,IF($F$5=2,IF(ISERROR(VLOOKUP(B9,データー入力!$B$8:$CY$108,オフセット番号A!$I$5+1))=TRUE,\"\",VLOOKUP(B9,データー入力!$B$8:$CY$108,オフセット番号A!$I$5+1)),\"*\"))","v":"内容1,7"},{"$f":"IF($F$5=1,項目表示入力!$J$7,IF($F$5=2,IF(ISERROR(VLOOKUP(B9,データー入力!$B$8:$CY$108,オフセット番号A!$J$5+1))=TRUE,\"\",VLOOKUP(B9,データー入力!$B$8:$CY$108,オフセット番号A!$J$5+1)),\"*\"))","v":"内容1,8"},{"$f":"IF($F$5=1,項目表示入力!$K$7,IF($F$5=2,IF(ISERROR(VLOOKUP(B9,データー入力!$B$8:$CY$108,オフセット番号A!$K$5+1))=TRUE,\"\",VLOOKUP(B9,データー入力!$B$8:$CY$108,オフセット番号A!$K$5+1)),\"*\"))","v":"内容1,9"},{"$f":"IF($F$5=1,項目表示入力!$L$7,IF($F$5=2,IF(ISERROR(VLOOKUP(B9,データー入力!$B$8:$CY$108,オフセット番号A!$L$5+1))=TRUE,\"\",VLOOKUP(B9,データー入力!$B$8:$CY$108,オフセット番号A!$L$5+1)),\"*\"))","v":"内容1,10"},{"$f":"IF($F$5=1,項目表示入力!$M$7,IF($F$5=2,IF(ISERROR(VLOOKUP(B9,データー入力!$B$8:$CY$108,オフセット番号A!$M$5+1))=TRUE,\"\",VLOOKUP(B9,データー入力!$B$8:$CY$108,オフセット番号A!$M$5+1)),\"*\"))","v":"内容1,11"},{"$f":"IF($F$5=1,項目表示入力!$N$7,IF($F$5=2,IF(ISERROR(VLOOKUP(B9,データー入力!$B$8:$CY$108,オフセット番号A!$N$5+1))=TRUE,\"\",VLOOKUP(B9,データー入力!$B$8:$CY$108,オフセット番号A!$N$5+1)),\"*\"))","v":"内容1,12"},{"$f":"IF($F$5=1,項目表示入力!$O$7,IF($F$5=2,IF(ISERROR(VLOOKUP(B9,データー入力!$B$8:$CY$108,オフセット番号A!$O$5+1))=TRUE,\"\",VLOOKUP(B9,データー入力!$B$8:$CY$108,オフセット番号A!$O$5+1)),\"*\"))","v":"内容1,13"},{"$f":"IF($F$5=1,項目表示入力!$P$7,IF($F$5=2,IF(ISERROR(VLOOKUP(B9,データー入力!$B$8:$CY$108,オフセット番号A!$P$5+1))=TRUE,\"\",VLOOKUP(B9,データー入力!$B$8:$CY$108,オフセット番号A!$P$5+1)),\"*\"))","v":"内容1,14"},{"$f":"IF($F$5=1,項目表示入力!$Q$7,IF($F$5=2,IF(ISERROR(VLOOKUP(B9,データー入力!$B$8:$CY$108,オフセット番号A!$Q$5+1))=TRUE,\"\",VLOOKUP(B9,データー入力!$B$8:$CY$108,オフセット番号A!$Q$5+1)),\"*\"))","v":"内容1,15"},{"$f":"IF($F$5=1,項目表示入力!$R$7,IF($F$5=2,IF(ISERROR(VLOOKUP(B9,データー入力!$B$8:$CY$108,オフセット番号A!$R$5+1))=TRUE,\"\",VLOOKUP(B9,データー入力!$B$8:$CY$108,オフセット番号A!$R$5+1)),\"*\"))","v":"内容1,16"},{"$f":"IF($F$5=1,項目表示入力!$S$7,IF($F$5=2,IF(ISERROR(VLOOKUP(B9,データー入力!$B$8:$CY$108,オフセット番号A!$S$5+1))=TRUE,\"\",VLOOKUP(B9,データー入力!$B$8:$CY$108,オフセット番号A!$S$5+1)),\"*\"))","v":"内容1,17"},{"$f":"IF($F$5=1,項目表示入力!$T$7,IF($F$5=2,IF(ISERROR(VLOOKUP(B9,データー入力!$B$8:$CY$108,オフセット番号A!$T$5+1))=TRUE,\"\",VLOOKUP(B9,データー入力!$B$8:$CY$108,オフセット番号A!$T$5+1)),\"*\"))","v":"内容1,18"},{"$f":"IF($F$5=1,項目表示入力!$U$7,IF($F$5=2,IF(ISERROR(VLOOKUP(B9,データー入力!$B$8:$CY$108,オフセット番号A!$U$5+1))=TRUE,\"\",VLOOKUP(B9,データー入力!$B$8:$CY$108,オフセット番号A!$U$5+1)),\"*\"))","v":"内容1,19"},{"$f":"IF($F$5=1,項目表示入力!$V$7,IF($F$5=2,IF(ISERROR(VLOOKUP(B9,データー入力!$B$8:$CY$108,オフセット番号A!$V$5+1))=TRUE,\"\",VLOOKUP(B9,データー入力!$B$8:$CY$108,オフセット番号A!$V$5+1)),\"*\"))","v":"内容1,20"}]
[null,{"$f":"IF(行列入力項目!$C$6=\"\",\"\",行列入力項目!$C$6)","v":"行2"},{"$f":"IF($F$5=1,項目表示入力!$C$8,IF($F$5=2,IF(ISERROR(VLOOKUP(B9,データー入力!$B$8:$CY$108,オフセット番号A!$C$6+1))=TRUE,\"\",VLOOKUP(B9,データー入力!$B$8:$CY$108,オフセット番号A!$C$6+1)),\"*\"))","v":"内容2,1"},{"$f":"IF($F$5=1,項目表示入力!$D$8,IF($F$5=2,IF(ISERROR(VLOOKUP(B9,データー入力!$B$8:$CY$108,オフセット番号A!$D$6+1))=TRUE,\"\",VLOOKUP(B9,データー入力!$B$8:$CY$108,オフセット番号A!$D$6+1)),\"*\"))","v":"内容2,2"},{"$f":"IF($F$5=1,項目表示入力!$E$8,IF($F$5=2,IF(ISERROR(VLOOKUP(B9,データー入力!$B$8:$CY$108,オフセット番号A!$E$6+1))=TRUE,\"\",VLOOKUP(B9,データー入力!$B$8:$CY$108,オフセット番号A!$E$6+1)),\"*\"))","v":"内容2,3"},{"$f":"IF($F$5=1,項目表示入力!$F$8,IF($F$5=2,IF(ISERROR(VLOOKUP(B9,データー入力!$B$8:$CY$108,オフセット番号A!$F$6+1))=TRUE,\"\",VLOOKUP(B9,データー入力!$B$8:$CY$108,オフセット番号A!$F$6+1)),\"*\"))","v":"内容2,4"},{"$f":"IF($F$5=1,項目表示入力!$G$8,IF($F$5=2,IF(ISERROR(VLOOKUP(B9,データー入力!$B$8:$CY$108,オフセット番号A!$G$6+1))=TRUE,\"\",VLOOKUP(B9,データー入力!$B$8:$CY$108,オフセット番号A!$G$6+1)),\"*\"))","v":"内容2,5"},{"$f":"IF($F$5=1,項目表示入力!$H$8,IF($F$5=2,IF(ISERROR(VLOOKUP(B9,データー入力!$B$8:$CY$108,オフセット番号A!$H$6+1))=TRUE,\"\",VLOOKUP(B9,データー入力!$B$8:$CY$108,オフセット番号A!$H$6+1)),\"*\"))","v":"内容2,6"},{"$f":"IF($F$5=1,項目表示入力!$I$8,IF($F$5=2,IF(ISERROR(VLOOKUP(B9,データー入力!$B$8:$CY$108,オフセット番号A!$I$6+1))=TRUE,\"\",VLOOKUP(B9,データー入力!$B$8:$CY$108,オフセット番号A!$I$6+1)),\"*\"))","v":"内容2,7"},{"$f":"IF($F$5=1,項目表示入力!$J$8,IF($F$5=2,IF(ISERROR(VLOOKUP(B9,データー入力!$B$8:$CY$108,オフセット番号A!$J$6+1))=TRUE,\"\",VLOOKUP(B9,データー入力!$B$8:$CY$108,オフセット番号A!$J$6+1)),\"*\"))","v":"内容2,8"},{"$f":"IF($F$5=1,項目表示入力!$K$8,IF($F$5=2,IF(ISERROR(VLOOKUP(B9,データー入力!$B$8:$CY$108,オフセット番号A!$K$6+1))=TRUE,\"\",VLOOKUP(B9,データー入力!$B$8:$CY$108,オフセット番号A!$K$6+1)),\"*\"))","v":"内容2,9"},{"$f":"IF($F$5=1,項目表示入力!$L$8,IF($F$5=2,IF(ISERROR(VLOOKUP(B9,データー入力!$B$8:$CY$108,オフセット番号A!$L$6+1))=TRUE,\"\",VLOOKUP(B9,データー入力!$B$8:$CY$108,オフセット番号A!$L$6+1)),\"*\"))","v":"内容2,10"},{"$f":"IF($F$5=1,項目表示入力!$M$8,IF($F$5=2,IF(ISERROR(VLOOKUP(B9,データー入力!$B$8:$CY$108,オフセット番号A!$M$6+1))=TRUE,\"\",VLOOKUP(B9,データー入力!$B$8:$CY$108,オフセット番号A!$M$6+1)),\"*\"))","v":"内容2,11"},{"$f":"IF($F$5=1,項目表示入力!$N$8,IF($F$5=2,IF(ISERROR(VLOOKUP(B9,データー入力!$B$8:$CY$108,オフセット番号A!$N$6+1))=TRUE,\"\",VLOOKUP(B9,データー入力!$B$8:$CY$108,オフセット番号A!$N$6+1)),\"*\"))","v":"内容2,12"},{"$f":"IF($F$5=1,項目表示入力!$O$8,IF($F$5=2,IF(ISERROR(VLOOKUP(B9,データー入力!$B$8:$CY$108,オフセット番号A!$O$6+1))=TRUE,\"\",VLOOKUP(B9,データー入力!$B$8:$CY$108,オフセット番号A!$O$6+1)),\"*\"))","v":"内容2,13"},{"$f":"IF($F$5=1,項目表示入力!$P$8,IF($F$5=2,IF(ISERROR(VLOOKUP(B9,データー入力!$B$8:$CY$108,オフセット番号A!$P$6+1))=TRUE,\"\",VLOOKUP(B9,データー入力!$B$8:$CY$108,オフセット番号A!$P$6+1)),\"*\"))","v":"内容2,14"},{"$f":"IF($F$5=1,項目表示入力!$Q$8,IF($F$5=2,IF(ISERROR(VLOOKUP(B9,データー入力!$B$8:$CY$108,オフセット番号A!$Q$6+1))=TRUE,\"\",VLOOKUP(B9,データー入力!$B$8:$CY$108,オフセット番号A!$Q$6+1)),\"*\"))","v":"内容2,15"},{"$f":"IF($F$5=1,項目表示入力!$R$8,IF($F$5=2,IF(ISERROR(VLOOKUP(B9,データー入力!$B$8:$CY$108,オフセット番号A!$R$6+1))=TRUE,\"\",VLOOKUP(B9,データー入力!$B$8:$CY$108,オフセット番号A!$R$6+1)),\"*\"))","v":"内容2,16"},{"$f":"IF($F$5=1,項目表示入力!$S$8,IF($F$5=2,IF(ISERROR(VLOOKUP(B9,データー入力!$B$8:$CY$108,オフセット番号A!$S$6+1))=TRUE,\"\",VLOOKUP(B9,データー入力!$B$8:$CY$108,オフセット番号A!$S$6+1)),\"*\"))","v":"内容2,17"},{"$f":"IF($F$5=1,項目表示入力!$T$8,IF($F$5=2,IF(ISERROR(VLOOKUP(B9,データー入力!$B$8:$CY$108,オフセット番号A!$T$6+1))=TRUE,\"\",VLOOKUP(B9,データー入力!$B$8:$CY$108,オフセット番号A!$T$6+1)),\"*\"))","v":"内容2,18"},{"$f":"IF($F$5=1,項目表示入力!$U$8,IF($F$5=2,IF(ISERROR(VLOOKUP(B9,データー入力!$B$8:$CY$108,オフセット番号A!$U$6+1))=TRUE,\"\",VLOOKUP(B9,データー入力!$B$8:$CY$108,オフセット番号A!$U$6+1)),\"*\"))","v":"内容2,19"},{"$f":"IF($F$5=1,項目表示入力!$V$8,IF($F$5=2,IF(ISERROR(VLOOKUP(B9,データー入力!$B$8:$CY$108,オフセット番号A!$V$6+1))=TRUE,\"\",VLOOKUP(B9,データー入力!$B$8:$CY$108,オフセット番号A!$V$6+1)),\"*\"))","v":"内容2,20"}]
[null,{"$f":"IF(行列入力項目!$C$7=\"\",\"\",行列入力項目!$C$7)","v":"行3"},{"$f":"IF($F$5=1,項目表示入力!$C$9,IF($F$5=2,IF(ISERROR(VLOOKUP(B9,データー入力!$B$8:$CY$108,オフセット番号A!$C$7+1))=TRUE,\"\",VLOOKUP(B9,データー入力!$B$8:$CY$108,オフセット番号A!$C$7+1)),\"*\"))","v":"内容3,1"},{"$f":"IF($F$5=1,項目表示入力!$D$9,IF($F$5=2,IF(ISERROR(VLOOKUP(B9,データー入力!$B$8:$CY$108,オフセット番号A!$D$7+1))=TRUE,\"\",VLOOKUP(B9,データー入力!$B$8:$CY$108,オフセット番号A!$D$7+1)),\"*\"))","v":"内容3,2"},{"$f":"IF($F$5=1,項目表示入力!$E$9,IF($F$5=2,IF(ISERROR(VLOOKUP(B9,データー入力!$B$8:$CY$108,オフセット番号A!$E$7+1))=TRUE,\"\",VLOOKUP(B9,データー入力!$B$8:$CY$108,オフセット番号A!$E$7+1)),\"*\"))","v":"内容3,3"},{"$f":"IF($F$5=1,項目表示入力!$F$9,IF($F$5=2,IF(ISERROR(VLOOKUP(B9,データー入力!$B$8:$CY$108,オフセット番号A!$F$7+1))=TRUE,\"\",VLOOKUP(B9,データー入力!$B$8:$CY$108,オフセット番号A!$F$7+1)),\"*\"))","v":"内容3,4"},{"$f":"IF($F$5=1,項目表示入力!$G$9,IF($F$5=2,IF(ISERROR(VLOOKUP(B9,データー入力!$B$8:$CY$108,オフセット番号A!$G$7+1))=TRUE,\"\",VLOOKUP(B9,データー入力!$B$8:$CY$108,オフセット番号A!$G$7+1)),\"*\"))","v":"内容3,5"},{"$f":"IF($F$5=1,項目表示入力!$H$9,IF($F$5=2,IF(ISERROR(VLOOKUP(B9,データー入力!$B$8:$CY$108,オフセット番号A!$H$7+1))=TRUE,\"\",VLOOKUP(B9,データー入力!$B$8:$CY$108,オフセット番号A!$H$7+1)),\"*\"))","v":"内容3,6"},{"$f":"IF($F$5=1,項目表示入力!$I$9,IF($F$5=2,IF(ISERROR(VLOOKUP(B9,データー入力!$B$8:$CY$108,オフセット番号A!$I$7+1))=TRUE,\"\",VLOOKUP(B9,データー入力!$B$8:$CY$108,オフセット番号A!$I$7+1)),\"*\"))","v":"内容3,7"},{"$f":"IF($F$5=1,項目表示入力!$J$9,IF($F$5=2,IF(ISERROR(VLOOKUP(B9,データー入力!$B$8:$CY$108,オフセット番号A!$J$7+1))=TRUE,\"\",VLOOKUP(B9,データー入力!$B$8:$CY$108,オフセット番号A!$J$7+1)),\"*\"))","v":"内容3,8"},{"$f":"IF($F$5=1,項目表示入力!$K$9,IF($F$5=2,IF(ISERROR(VLOOKUP(B9,データー入力!$B$8:$CY$108,オフセット番号A!$K$7+1))=TRUE,\"\",VLOOKUP(B9,データー入力!$B$8:$CY$108,オフセット番号A!$K$7+1)),\"*\"))","v":"内容3,9"},{"$f":"IF($F$5=1,項目表示入力!$L$9,IF($F$5=2,IF(ISERROR(VLOOKUP(B9,データー入力!$B$8:$CY$108,オフセット番号A!$L$7+1))=TRUE,\"\",VLOOKUP(B9,データー入力!$B$8:$CY$108,オフセット番号A!$L$7+1)),\"*\"))","v":"内容3,10"},{"$f":"IF($F$5=1,項目表示入力!$M$9,IF($F$5=2,IF(ISERROR(VLOOKUP(B9,データー入力!$B$8:$CY$108,オフセット番号A!$M$7+1))=TRUE,\"\",VLOOKUP(B9,データー入力!$B$8:$CY$108,オフセット番号A!$M$7+1)),\"*\"))","v":"内容3,11"},{"$f":"IF($F$5=1,項目表示入力!$N$9,IF($F$5=2,IF(ISERROR(VLOOKUP(B9,データー入力!$B$8:$CY$108,オフセット番号A!$N$7+1))=TRUE,\"\",VLOOKUP(B9,データー入力!$B$8:$CY$108,オフセット番号A!$N$7+1)),\"*\"))","v":"内容3,12"},{"$f":"IF($F$5=1,項目表示入力!$O$9,IF($F$5=2,IF(ISERROR(VLOOKUP(B9,データー入力!$B$8:$CY$108,オフセット番号A!$O$7+1))=TRUE,\"\",VLOOKUP(B9,データー入力!$B$8:$CY$108,オフセット番号A!$O$7+1)),\"*\"))","v":"内容3,13"},{"$f":"IF($F$5=1,項目表示入力!$P$9,IF($F$5=2,IF(ISERROR(VLOOKUP(B9,データー入力!$B$8:$CY$108,オフセット番号A!$P$7+1))=TRUE,\"\",VLOOKUP(B9,データー入力!$B$8:$CY$108,オフセット番号A!$P$7+1)),\"*\"))","v":"内容3,14"},{"$f":"IF($F$5=1,項目表示入力!$Q$9,IF($F$5=2,IF(ISERROR(VLOOKUP(B9,データー入力!$B$8:$CY$108,オフセット番号A!$Q$7+1))=TRUE,\"\",VLOOKUP(B9,データー入力!$B$8:$CY$108,オフセット番号A!$Q$7+1)),\"*\"))","v":"内容3,15"},{"$f":"IF($F$5=1,項目表示入力!$R$9,IF($F$5=2,IF(ISERROR(VLOOKUP(B9,データー入力!$B$8:$CY$108,オフセット番号A!$R$7+1))=TRUE,\"\",VLOOKUP(B9,データー入力!$B$8:$CY$108,オフセット番号A!$R$7+1)),\"*\"))","v":"内容3,16"},{"$f":"IF($F$5=1,項目表示入力!$S$9,IF($F$5=2,IF(ISERROR(VLOOKUP(B9,データー入力!$B$8:$CY$108,オフセット番号A!$S$7+1))=TRUE,\"\",VLOOKUP(B9,データー入力!$B$8:$CY$108,オフセット番号A!$S$7+1)),\"*\"))","v":"内容3,17"},{"$f":"IF($F$5=1,項目表示入力!$T$9,IF($F$5=2,IF(ISERROR(VLOOKUP(B9,データー入力!$B$8:$CY$108,オフセット番号A!$T$7+1))=TRUE,\"\",VLOOKUP(B9,データー入力!$B$8:$CY$108,オフセット番号A!$T$7+1)),\"*\"))","v":"内容3,18"},{"$f":"IF($F$5=1,項目表示入力!$U$9,IF($F$5=2,IF(ISERROR(VLOOKUP(B9,データー入力!$B$8:$CY$108,オフセット番号A!$U$7+1))=TRUE,\"\",VLOOKUP(B9,データー入力!$B$8:$CY$108,オフセット番号A!$U$7+1)),\"*\"))","v":"内容3,19"},{"$f":"IF($F$5=1,項目表示入力!$V$9,IF($F$5=2,IF(ISERROR(VLOOKUP(B9,データー入力!$B$8:$CY$108,オフセット番号A!$V$7+1))=TRUE,\"\",VLOOKUP(B9,データー入力!$B$8:$CY$108,オフセット番号A!$V$7+1)),\"*\"))","v":"内容3,20"}]
[null,{"$f":"IF(行列入力項目!$C$8=\"\",\"\",行列入力項目!$C$8)","v":"行4"},{"$f":"IF($F$5=1,項目表示入力!$C$10,IF($F$5=2,IF(ISERROR(VLOOKUP(B9,データー入力!$B$8:$CY$108,オフセット番号A!$C$8+1))=TRUE,\"\",VLOOKUP(B9,データー入力!$B$8:$CY$108,オフセット番号A!$C$8+1)),\"*\"))","v":"内容4,1"},{"$f":"IF($F$5=1,項目表示入力!$D$10,IF($F$5=2,IF(ISERROR(VLOOKUP(B9,データー入力!$B$8:$CY$108,オフセット番号A!$D$8+1))=TRUE,\"\",VLOOKUP(B9,データー入力!$B$8:$CY$108,オフセット番号A!$D$8+1)),\"*\"))","v":"内容4,2"},{"$f":"IF($F$5=1,項目表示入力!$E$10,IF($F$5=2,IF(ISERROR(VLOOKUP(B9,データー入力!$B$8:$CY$108,オフセット番号A!$E$8+1))=TRUE,\"\",VLOOKUP(B9,データー入力!$B$8:$CY$108,オフセット番号A!$E$8+1)),\"*\"))","v":"内容4,3"},{"$f":"IF($F$5=1,項目表示入力!$F$10,IF($F$5=2,IF(ISERROR(VLOOKUP(B9,データー入力!$B$8:$CY$108,オフセット番号A!$F$8+1))=TRUE,\"\",VLOOKUP(B9,データー入力!$B$8:$CY$108,オフセット番号A!$F$8+1)),\"*\"))","v":"内容4,4"},{"$f":"IF($F$5=1,項目表示入力!$G$10,IF($F$5=2,IF(ISERROR(VLOOKUP(B9,データー入力!$B$8:$CY$108,オフセット番号A!$G$8+1))=TRUE,\"\",VLOOKUP(B9,データー入力!$B$8:$CY$108,オフセット番号A!$G$8+1)),\"*\"))","v":"内容4,5"},{"$f":"IF($F$5=1,項目表示入力!$H$10,IF($F$5=2,IF(ISERROR(VLOOKUP(B9,データー入力!$B$8:$CY$108,オフセット番号A!$H$8+1))=TRUE,\"\",VLOOKUP(B9,データー入力!$B$8:$CY$108,オフセット番号A!$H$8+1)),\"*\"))","v":"内容4,6"},{"$f":"IF($F$5=1,項目表示入力!$I$10,IF($F$5=2,IF(ISERROR(VLOOKUP(B9,データー入力!$B$8:$CY$108,オフセット番号A!$I$8+1))=TRUE,\"\",VLOOKUP(B9,データー入力!$B$8:$CY$108,オフセット番号A!$I$8+1)),\"*\"))","v":"内容4,7"},{"$f":"IF($F$5=1,項目表示入力!$J$10,IF($F$5=2,IF(ISERROR(VLOOKUP(B9,データー入力!$B$8:$CY$108,オフセット番号A!$J$8+1))=TRUE,\"\",VLOOKUP(B9,データー入力!$B$8:$CY$108,オフセット番号A!$J$8+1)),\"*\"))","v":"内容4,8"},{"$f":"IF($F$5=1,項目表示入力!$K$10,IF($F$5=2,IF(ISERROR(VLOOKUP(B9,データー入力!$B$8:$CY$108,オフセット番号A!$K$8+1))=TRUE,\"\",VLOOKUP(B9,データー入力!$B$8:$CY$108,オフセット番号A!$K$8+1)),\"*\"))","v":"内容4,9"},{"$f":"IF($F$5=1,項目表示入力!$L$10,IF($F$5=2,IF(ISERROR(VLOOKUP(B9,データー入力!$B$8:$CY$108,オフセット番号A!$L$8+1))=TRUE,\"\",VLOOKUP(B9,データー入力!$B$8:$CY$108,オフセット番号A!$L$8+1)),\"*\"))","v":"内容4,10"},{"$f":"IF($F$5=1,項目表示入力!$M$10,IF($F$5=2,IF(ISERROR(VLOOKUP(B9,データー入力!$B$8:$CY$108,オフセット番号A!$M$8+1))=TRUE,\"\",VLOOKUP(B9,データー入力!$B$8:$CY$108,オフセット番号A!$M$8+1)),\"*\"))","v":"内容4,11"},{"$f":"IF($F$5=1,項目表示入力!$N$10,IF($F$5=2,IF(ISERROR(VLOOKUP(B9,データー入力!$B$8:$CY$108,オフセット番号A!$N$8+1))=TRUE,\"\",VLOOKUP(B9,データー入力!$B$8:$CY$108,オフセット番号A!$N$8+1)),\"*\"))","v":"内容4,12"},{"$f":"IF($F$5=1,項目表示入力!$O$10,IF($F$5=2,IF(ISERROR(VLOOKUP(B9,データー入力!$B$8:$CY$108,オフセット番号A!$O$8+1))=TRUE,\"\",VLOOKUP(B9,データー入力!$B$8:$CY$108,オフセット番号A!$O$8+1)),\"*\"))","v":"内容4,13"},{"$f":"IF($F$5=1,項目表示入力!$P$10,IF($F$5=2,IF(ISERROR(VLOOKUP(B9,データー入力!$B$8:$CY$108,オフセット番号A!$P$8+1))=TRUE,\"\",VLOOKUP(B9,データー入力!$B$8:$CY$108,オフセット番号A!$P$8+1)),\"*\"))","v":"内容4,14"},{"$f":"IF($F$5=1,項目表示入力!$Q$10,IF($F$5=2,IF(ISERROR(VLOOKUP(B9,データー入力!$B$8:$CY$108,オフセット番号A!$Q$8+1))=TRUE,\"\",VLOOKUP(B9,データー入力!$B$8:$CY$108,オフセット番号A!$Q$8+1)),\"*\"))","v":"内容4,15"},{"$f":"IF($F$5=1,項目表示入力!$R$10,IF($F$5=2,IF(ISERROR(VLOOKUP(B9,データー入力!$B$8:$CY$108,オフセット番号A!$R$8+1))=TRUE,\"\",VLOOKUP(B9,データー入力!$B$8:$CY$108,オフセット番号A!$R$8+1)),\"*\"))","v":"内容4,16"},{"$f":"IF($F$5=1,項目表示入力!$S$10,IF($F$5=2,IF(ISERROR(VLOOKUP(B9,データー入力!$B$8:$CY$108,オフセット番号A!$S$8+1))=TRUE,\"\",VLOOKUP(B9,データー入力!$B$8:$CY$108,オフセット番号A!$S$8+1)),\"*\"))","v":"内容4,17"},{"$f":"IF($F$5=1,項目表示入力!$T$10,IF($F$5=2,IF(ISERROR(VLOOKUP(B9,データー入力!$B$8:$CY$108,オフセット番号A!$T$8+1))=TRUE,\"\",VLOOKUP(B9,データー入力!$B$8:$CY$108,オフセット番号A!$T$8+1)),\"*\"))","v":"内容4,18"},{"$f":"IF($F$5=1,項目表示入力!$U$10,IF($F$5=2,IF(ISERROR(VLOOKUP(B9,データー入力!$B$8:$CY$108,オフセット番号A!$U$8+1))=TRUE,\"\",VLOOKUP(B9,データー入力!$B$8:$CY$108,オフセット番号A!$U$8+1)),\"*\"))","v":"内容4,19"},{"$f":"IF($F$5=1,項目表示入力!$V$10,IF($F$5=2,IF(ISERROR(VLOOKUP(B9,データー入力!$B$8:$CY$108,オフセット番号A!$V$8+1))=TRUE,\"\",VLOOKUP(B9,データー入力!$B$8:$CY$108,オフセット番号A!$V$8+1)),\"*\"))","v":"内容4,20"}]
[null,{"$f":"IF(行列入力項目!$C$9=\"\",\"\",行列入力項目!$C$9)","v":"行5"},{"$f":"IF($F$5=1,項目表示入力!$C$11,IF($F$5=2,IF(ISERROR(VLOOKUP(B9,データー入力!$B$8:$CY$108,オフセット番号A!$C$9+1))=TRUE,\"\",VLOOKUP(B9,データー入力!$B$8:$CY$108,オフセット番号A!$C$9+1)),\"*\"))","v":"内容5,1"},{"$f":"IF($F$5=1,項目表示入力!$D$11,IF($F$5=2,IF(ISERROR(VLOOKUP(B9,データー入力!$B$8:$CY$108,オフセット番号A!$D$9+1))=TRUE,\"\",VLOOKUP(B9,データー入力!$B$8:$CY$108,オフセット番号A!$D$9+1)),\"*\"))","v":"内容5,2"},{"$f":"IF($F$5=1,項目表示入力!$E$11,IF($F$5=2,IF(ISERROR(VLOOKUP(B9,データー入力!$B$8:$CY$108,オフセット番号A!$E$9+1))=TRUE,\"\",VLOOKUP(B9,データー入力!$B$8:$CY$108,オフセット番号A!$E$9+1)),\"*\"))","v":"内容5,3"},{"$f":"IF($F$5=1,項目表示入力!$F$11,IF($F$5=2,IF(ISERROR(VLOOKUP(B9,データー入力!$B$8:$CY$108,オフセット番号A!$F$9+1))=TRUE,\"\",VLOOKUP(B9,データー入力!$B$8:$CY$108,オフセット番号A!$F$9+1)),\"*\"))","v":"内容5,4"},{"$f":"IF($F$5=1,項目表示入力!$G$11,IF($F$5=2,IF(ISERROR(VLOOKUP(B9,データー入力!$B$8:$CY$108,オフセット番号A!$G$9+1))=TRUE,\"\",VLOOKUP(B9,データー入力!$B$8:$CY$108,オフセット番号A!$G$9+1)),\"*\"))","v":"内容5,5"},{"$f":"IF($F$5=1,項目表示入力!$H$11,IF($F$5=2,IF(ISERROR(VLOOKUP(B9,データー入力!$B$8:$CY$108,オフセット番号A!$H$9+1))=TRUE,\"\",VLOOKUP(B9,データー入力!$B$8:$CY$108,オフセット番号A!$H$9+1)),\"*\"))","v":"内容5,6"},{"$f":"IF($F$5=1,項目表示入力!$I$11,IF($F$5=2,IF(ISERROR(VLOOKUP(B9,データー入力!$B$8:$CY$108,オフセット番号A!$I$9+1))=TRUE,\"\",VLOOKUP(B9,データー入力!$B$8:$CY$108,オフセット番号A!$I$9+1)),\"*\"))","v":"内容5,7"},{"$f":"IF($F$5=1,項目表示入力!$J$11,IF($F$5=2,IF(ISERROR(VLOOKUP(B9,データー入力!$B$8:$CY$108,オフセット番号A!$J$9+1))=TRUE,\"\",VLOOKUP(B9,データー入力!$B$8:$CY$108,オフセット番号A!$J$9+1)),\"*\"))","v":"内容5,8"},{"$f":"IF($F$5=1,項目表示入力!$K$11,IF($F$5=2,IF(ISERROR(VLOOKUP(B9,データー入力!$B$8:$CY$108,オフセット番号A!$K$9+1))=TRUE,\"\",VLOOKUP(B9,データー入力!$B$8:$CY$108,オフセット番号A!$K$9+1)),\"*\"))","v":"内容5,9"},{"$f":"IF($F$5=1,項目表示入力!$L$11,IF($F$5=2,IF(ISERROR(VLOOKUP(B9,データー入力!$B$8:$CY$108,オフセット番号A!$L$9+1))=TRUE,\"\",VLOOKUP(B9,データー入力!$B$8:$CY$108,オフセット番号A!$L$9+1)),\"*\"))","v":"内容5,10"},{"$f":"IF($F$5=1,項目表示入力!$M$11,IF($F$5=2,IF(ISERROR(VLOOKUP(B9,データー入力!$B$8:$CY$108,オフセット番号A!$M$9+1))=TRUE,\"\",VLOOKUP(B9,データー入力!$B$8:$CY$108,オフセット番号A!$M$9+1)),\"*\"))","v":"内容5,11"},{"$f":"IF($F$5=1,項目表示入力!$N$11,IF($F$5=2,IF(ISERROR(VLOOKUP(B9,データー入力!$B$8:$CY$108,オフセット番号A!$N$9+1))=TRUE,\"\",VLOOKUP(B9,データー入力!$B$8:$CY$108,オフセット番号A!$N$9+1)),\"*\"))","v":"内容5,12"},{"$f":"IF($F$5=1,項目表示入力!$O$11,IF($F$5=2,IF(ISERROR(VLOOKUP(B9,データー入力!$B$8:$CY$108,オフセット番号A!$O$9+1))=TRUE,\"\",VLOOKUP(B9,データー入力!$B$8:$CY$108,オフセット番号A!$O$9+1)),\"*\"))","v":"内容5,13"},{"$f":"IF($F$5=1,項目表示入力!$P$11,IF($F$5=2,IF(ISERROR(VLOOKUP(B9,データー入力!$B$8:$CY$108,オフセット番号A!$P$9+1))=TRUE,\"\",VLOOKUP(B9,データー入力!$B$8:$CY$108,オフセット番号A!$P$9+1)),\"*\"))","v":"内容5,14"},{"$f":"IF($F$5=1,項目表示入力!$Q$11,IF($F$5=2,IF(ISERROR(VLOOKUP(B9,データー入力!$B$8:$CY$108,オフセット番号A!$Q$9+1))=TRUE,\"\",VLOOKUP(B9,データー入力!$B$8:$CY$108,オフセット番号A!$Q$9+1)),\"*\"))","v":"内容5,15"},{"$f":"IF($F$5=1,項目表示入力!$R$11,IF($F$5=2,IF(ISERROR(VLOOKUP(B9,データー入力!$B$8:$CY$108,オフセット番号A!$R$9+1))=TRUE,\"\",VLOOKUP(B9,データー入力!$B$8:$CY$108,オフセット番号A!$R$9+1)),\"*\"))","v":"内容5,16"},{"$f":"IF($F$5=1,項目表示入力!$S$11,IF($F$5=2,IF(ISERROR(VLOOKUP(B9,データー入力!$B$8:$CY$108,オフセット番号A!$S$9+1))=TRUE,\"\",VLOOKUP(B9,データー入力!$B$8:$CY$108,オフセット番号A!$S$9+1)),\"*\"))","v":"内容5,17"},{"$f":"IF($F$5=1,項目表示入力!$T$11,IF($F$5=2,IF(ISERROR(VLOOKUP(B9,データー入力!$B$8:$CY$108,オフセット番号A!$T$9+1))=TRUE,\"\",VLOOKUP(B9,データー入力!$B$8:$CY$108,オフセット番号A!$T$9+1)),\"*\"))","v":"内容5,18"},{"$f":"IF($F$5=1,項目表示入力!$U$11,IF($F$5=2,IF(ISERROR(VLOOKUP(B9,データー入力!$B$8:$CY$108,オフセット番号A!$U$9+1))=TRUE,\"\",VLOOKUP(B9,データー入力!$B$8:$CY$108,オフセット番号A!$U$9+1)),\"*\"))","v":"内容5,19"},{"$f":"IF($F$5=1,項目表示入力!$V$11,IF($F$5=2,IF(ISERROR(VLOOKUP(B9,データー入力!$B$8:$CY$108,オフセット番号A!$V$9+1))=TRUE,\"\",VLOOKUP(B9,データー入力!$B$8:$CY$108,オフセット番号A!$V$9+1)),\"*\"))","v":"内容5,20"}]

{"sheet":"一覧表付ファイル作成入力設定1","index":12,"n_rows":97,"n_cols":5,"rows_kept":97,"cut":false,"hidden":false,"merged":[[2,1,2,2]]}
[]
[]
[null,{"$f":"シート名設定!$C$9","v":"一覧表付ファイル作成入力設定1"}]
[null,"１．入力元の設定"]
[null,"項　　　　　　目","設定内容"]
[null,"シート名"]
[null,"データ先頭セル行番号"]
[null,"データ先頭セル列番号"]
[null,"異同比較列番号"]
[null,"データー数"]
[null,"For Next の増分"]
[]
[null,"２．入力先の設定"]
[null,"項　　　　　　目","設定内容"]
[null,"シート名"]
[null,"入力先頭セル行番号"]
[null,"入力先頭セル列番号"]
[null,"入力最終セル行番号"]
[null,"入力最終セル列番号"]
[null,"入力データー数"]
[null,"通しページ入力セル行番号"]
[null,"通しページ入力セル列番号"]
[null,"区分内ページ入力セル行番号"]
[null,"区分内ページ入力セル列番号"]
[null,"３．印刷処理かファイルのメール送信の設定"]
[null,"項　　　　　　目","設定内容"]
[null,"印刷処理か\nファイルの\nメール送信\nの選択",null,1]
[null,"ファイルのメール送信の場合の印刷フォームソートデーターシートのメールアドレスが入力されている列番号"]
[null,"ファイルのメール送信の場合の印刷フォームソートデーターシートの件名が入力されている列番号"]
[null,"ファイルのメール送信の場合の印刷フォームソートデーターシートの本文が入力されている列番号"]
[null,"ファイルのメール送信の場合の添付ファイルの保存先ドライブ及びフォルダー"]
[]
[]
[]
[]
[]
[null,null,{"$f":"IF(シート名設定!C35=0,\"\",シート名設定!C35)","v":"印刷フォーム1"},1,"印刷する"]
[null,null,{"$f":"IF(シート名設定!C36=0,\"\",シート名設定!C36)","v":"印刷フォーム2"},2,"メールで送信する"]
[null,null,{"$f":"IF(シート名設定!C37=0,\"\",シート名設定!C37)","v":"印刷フォーム3"},3,"添付ファイルなし件名本文のみのメール"]
[null,null,{"$f":"IF(シート名設定!C38=0,\"\",シート名設定!C38)","v":"印刷フォーム4"}]
[null,null,{"$f":"IF(シート名設定!C39=0,\"\",シート名設定!C39)","v":"印刷フォーム5"}]
[null,null,{"$f":"IF(シート名設定!C40=0,\"\",シート名設定!C40)","v":"印刷フォーム6"}]
[null,null,{"$f":"IF(シート名設定!C41=0,\"\",シート名設定!C41)","v":"印刷フォーム7"}]
[null,null,{"$f":"IF(シート名設定!C42=0,\"\",シート名設定!C42)","v":"印刷フォーム8"}]
[null,null,{"$f":"IF(シート名設定!C43=0,\"\",シート名設定!C43)","v":"印刷フォーム9"}]
[null,null,{"$f":"IF(シート名設定!C44=0,\"\",シート名設定!C44)","v":"印刷フォーム10"}]
[null,null,{"$f":"IF(シート名設定!C45=0,\"\",シート名設定!C45)","v":"印刷フォーム11"}]
[null,null,{"$f":"IF(シート名設定!C46=0,\"\",シート名設定!C46)","v":"印刷フォーム12"}]
[null,null,{"$f":"IF(シート名設定!C47=0,\"\",シート名設定!C47)","v":"印刷フォーム13"}]
[null,null,{"$f":"IF(シート名設定!C48=0,\"\",シート名設定!C48)","v":"印刷フォーム14"}]
[null,null,{"$f":"IF(シート名設定!C49=0,\"\",シート名設定!C49)","v":"印刷フォーム15"}]
[null,null,{"$f":"IF(シート名設定!C50=0,\"\",シート名設定!C50)","v":"印刷フォーム16"}]
[null,null,{"$f":"IF(シート名設定!C51=0,\"\",シート名設定!C51)","v":"印刷フォーム17"}]
[null,null,{"$f":"IF(シート名設定!C52=0,\"\",シート名設定!C52)","v":"印刷フォーム18"}]
[null,null,{"$f":"IF(シート名設定!C53=0,\"\",シート名設定!C53)","v":"印刷フォーム19"}]
[null,null,{"$f":"IF(シート名設定!C54=0,\"\",シート名設定!C54)","v":"印刷フォーム20"}]
[null,null,{"$f":"IF(シート名設定!E5=0,\"\",シート名設定!E5)","v":"印刷フォーム21"}]
[null,null,{"$f":"IF(シート名設定!E6=0,\"\",シート名設定!E6)","v":"印刷フォーム22"}]
[null,null,{"$f":"IF(シート名設定!E7=0,\"\",シート名設定!E7)","v":"印刷フォーム23"}]
[null,null,{"$f":"IF(シート名設定!E8=0,\"\",シート名設定!E8)","v":"印刷フォーム24"}]
[null,null,{"$f":"IF(シート名設定!E9=0,\"\",シート名設定!E9)","v":"印刷フォーム25"}]
[null,null,{"$f":"IF(シート名設定!E10=0,\"\",シート名設定!E10)","v":"印刷フォーム26"}]
[null,null,{"$f":"IF(シート名設定!E11=0,\"\",シート名設定!E11)","v":"印刷フォーム27"}]
[null,null,{"$f":"IF(シート名設定!E12=0,\"\",シート名設定!E12)","v":"印刷フォーム28"}]
[null,null,{"$f":"IF(シート名設定!E13=0,\"\",シート名設定!E13)","v":"印刷フォーム29"}]
[null,null,{"$f":"IF(シート名設定!E14=0,\"\",シート名設定!E14)","v":"印刷フォーム30"}]
[null,null,{"$f":"IF(シート名設定!E15=0,\"\",シート名設定!E15)","v":"印刷フォーム1ソートデーター"}]
[null,null,{"$f":"IF(シート名設定!E16=0,\"\",シート名設定!E16)","v":"印刷フォーム2ソートデーター"}]
[null,null,{"$f":"IF(シート名設定!E17=0,\"\",シート名設定!E17)","v":"印刷フォーム3ソートデーター"}]
[null,null,{"$f":"IF(シート名設定!E18=0,\"\",シート名設定!E18)","v":"印刷フォーム4ソートデーター"}]
[null,null,{"$f":"IF(シート名設定!E19=0,\"\",シート名設定!E19)","v":"印刷フォーム5ソートデーター"}]
[null,null,{"$f":"IF(シート名設定!E20=0,\"\",シート名設定!E20)","v":"印刷フォーム6ソートデーター"}]
[null,null,{"$f":"IF(シート名設定!E21=0,\"\",シート名設定!E21)","v":"印刷フォーム7ソートデーター"}]
[null,null,{"$f":"IF(シート名設定!E22=0,\"\",シート名設定!E22)","v":"印刷フォーム8ソートデーター"}]
[null,null,{"$f":"IF(シート名設定!E23=0,\"\",シート名設定!E23)","v":"印刷フォーム9ソートデーター"}]
[null,null,{"$f":"IF(シート名設定!E24=0,\"\",シート名設定!E24)","v":"印刷フォーム10ソートデーター"}]
[null,null,{"$f":"IF(シート名設定!E25=0,\"\",シート名設定!E25)","v":"印刷フォーム11ソートデーター"}]
[null,null,{"$f":"IF(シート名設定!E26=0,\"\",シート名設定!E26)","v":"印刷フォーム12ソートデーター"}]
[null,null,{"$f":"IF(シート名設定!E27=0,\"\",シート名設定!E27)","v":"印刷フォーム13ソートデーター"}]
[null,null,{"$f":"IF(シート名設定!E28=0,\"\",シート名設定!E28)","v":"印刷フォーム14ソートデーター"}]
[null,null,{"$f":"IF(シート名設定!E29=0,\"\",シート名設定!E29)","v":"印刷フォーム15ソートデーター"}]
[null,null,{"$f":"IF(シート名設定!E30=0,\"\",シート名設定!E30)","v":"印刷フォーム16ソートデーター"}]
[null,null,{"$f":"IF(シート名設定!E31=0,\"\",シート名設定!E31)","v":"印刷フォーム17ソートデーター"}]
[null,null,{"$f":"IF(シート名設定!E32=0,\"\",シート名設定!E32)","v":"印刷フォーム18ソートデーター"}]
[null,null,{"$f":"IF(シート名設定!E33=0,\"\",シート名設定!E33)","v":"印刷フォーム19ソートデーター"}]
[null,null,{"$f":"IF(シート名設定!E34=0,\"\",シート名設定!E34)","v":"印刷フォーム20ソートデーター"}]
[null,null,{"$f":"IF(シート名設定!E35=0,\"\",シート名設定!E35)","v":"印刷フォーム21ソートデーター"}]
[null,null,{"$f":"IF(シート名設定!E36=0,\"\",シート名設定!E36)","v":"印刷フォーム22ソートデーター"}]
[null,null,{"$f":"IF(シート名設定!E37=0,\"\",シート名設定!E37)","v":"印刷フォーム23ソートデーター"}]
[null,null,{"$f":"IF(シート名設定!E38=0,\"\",シート名設定!E38)","v":"印刷フォーム24ソートデーター"}]
[null,null,{"$f":"IF(シート名設定!E39=0,\"\",シート名設定!E39)","v":"印刷フォーム25ソートデーター"}]
[null,null,{"$f":"IF(シート名設定!E40=0,\"\",シート名設定!E40)","v":"印刷フォーム26ソートデーター"}]
[null,null,{"$f":"IF(シート名設定!E41=0,\"\",シート名設定!E41)","v":"印刷フォーム27ソートデーター"}]
[null,null,{"$f":"IF(シート名設定!E42=0,\"\",シート名設定!E42)","v":"印刷フォーム28ソートデーター"}]
[null,null,{"$f":"IF(シート名設定!E43=0,\"\",シート名設定!E43)","v":"印刷フォーム29ソートデーター"}]
[null,null,{"$f":"IF(シート名設定!E44=0,\"\",シート名設定!E44)","v":"印刷フォーム30ソートデーター"}]
[null,null,{"$f":"IF(シート名設定!C30=0,\"\",シート名設定!C30)","v":"データー入力"}]

{"sheet":"一覧表付ファイル作成入力設定2","index":13,"n_rows":97,"n_cols":5,"rows_kept":97,"cut":false,"hidden":false,"merged":[[2,1,2,2]]}
[]
[]
[null,{"$f":"シート名設定!$C$10","v":"一覧表付ファイル作成入力設定2"}]
[null,"１．入力元の設定"]
[null,"項　　　　　　目","設定内容"]
[null,"シート名"]
[null,"データ先頭セル行番号"]
[null,"データ先頭セル列番号"]
[null,"異同比較列番号"]
[null,"データー数"]
[null,"For Next の増分"]
[]
[null,"２．入力先の設定"]
[null,"項　　　　　　目","設定内容"]
[null,"シート名"]
[null,"入力先頭セル行番号"]
[null,"入力先頭セル列番号"]
[null,"入力最終セル行番号"]
[null,"入力最終セル列番号"]
[null,"入力データー数"]
[null,"通しページ入力セル行番号"]
[null,"通しページ入力セル列番号"]
[null,"区分内ページ入力セル行番号"]
[null,"区分内ページ入力セル列番号"]
[null,"３．印刷処理かファイルのメール送信の設定"]
[null,"項　　　　　　目","設定内容"]
[null,"印刷処理か\nファイルの\nメール送信\nの選択",null,1]
[null,"ファイルのメール送信の場合の印刷フォームソートデーターシートのメールアドレスが入力されている列番号"]
[null,"ファイルのメール送信の場合の印刷フォームソートデーターシートの件名が入力されている列番号"]
[null,"ファイルのメール送信の場合の印刷フォームソートデーターシートの本文が入力されている列番号"]
[null,"ファイルのメール送信の場合の添付ファイルの保存先ドライブ及びフォルダー"]
[]
[]
[]
[]
[]
[null,null,{"$f":"IF(シート名設定!C35=0,\"\",シート名設定!C35)","v":"印刷フォーム1"},1,"印刷する"]
[null,null,{"$f":"IF(シート名設定!C36=0,\"\",シート名設定!C36)","v":"印刷フォーム2"},2,"メールで送信する"]
[null,null,{"$f":"IF(シート名設定!C37=0,\"\",シート名設定!C37)","v":"印刷フォーム3"},3,"添付ファイルなし件名本文のみのメール"]
[null,null,{"$f":"IF(シート名設定!C38=0,\"\",シート名設定!C38)","v":"印刷フォーム4"}]
[null,null,{"$f":"IF(シート名設定!C39=0,\"\",シート名設定!C39)","v":"印刷フォーム5"}]
[null,null,{"$f":"IF(シート名設定!C40=0,\"\",シート名設定!C40)","v":"印刷フォーム6"}]
[null,null,{"$f":"IF(シート名設定!C41=0,\"\",シート名設定!C41)","v":"印刷フォーム7"}]
[null,null,{"$f":"IF(シート名設定!C42=0,\"\",シート名設定!C42)","v":"印刷フォーム8"}]
[null,null,{"$f":"IF(シート名設定!C43=0,\"\",シート名設定!C43)","v":"印刷フォーム9"}]
[null,null,{"$f":"IF(シート名設定!C44=0,\"\",シート名設定!C44)","v":"印刷フォーム10"}]
[null,null,{"$f":"IF(シート名設定!C45=0,\"\",シート名設定!C45)","v":"印刷フォーム11"}]
[null,null,{"$f":"IF(シート名設定!C46=0,\"\",シート名設定!C46)","v":"印刷フォーム12"}]
[null,null,{"$f":"IF(シート名設定!C47=0,\"\",シート名設定!C47)","v":"印刷フォーム13"}]
[null,null,{"$f":"IF(シート名設定!C48=0,\"\",シート名設定!C48)","v":"印刷フォーム14"}]
[null,null,{"$f":"IF(シート名設定!C49=0,\"\",シート名設定!C49)","v":"印刷フォーム15"}]
[null,null,{"$f":"IF(シート名設定!C50=0,\"\",シート名設定!C50)","v":"印刷フォーム16"}]
[null,null,{"$f":"IF(シート名設定!C51=0,\"\",シート名設定!C51)","v":"印刷フォーム17"}]
[null,null,{"$f":"IF(シート名設定!C52=0,\"\",シート名設定!C52)","v":"印刷フォーム18"}]
[null,null,{"$f":"IF(シート名設定!C53=0,\"\",シート名設定!C53)","v":"印刷フォーム19"}]
[null,null,{"$f":"IF(シート名設定!C54=0,\"\",シート名設定!C54)","v":"印刷フォーム20"}]
[null,null,{"$f":"IF(シート名設定!E5=0,\"\",シート名設定!E5)","v":"印刷フォーム21"}]
[null,null,{"$f":"IF(シート名設定!E6=0,\"\",シート名設定!E6)","v":"印刷フォーム22"}]
[null,null,{"$f":"IF(シート名設定!E7=0,\"\",シート名設定!E7)","v":"印刷フォーム23"}]
[null,null,{"$f":"IF(シート名設定!E8=0,\"\",シート名設定!E8)","v":"印刷フォーム24"}]
[null,null,{"$f":"IF(シート名設定!E9=0,\"\",シート名設定!E9)","v":"印刷フォーム25"}]
[null,null,{"$f":"IF(シート名設定!E10=0,\"\",シート名設定!E10)","v":"印刷フォーム26"}]
[null,null,{"$f":"IF(シート名設定!E11=0,\"\",シート名設定!E11)","v":"印刷フォーム27"}]
[null,null,{"$f":"IF(シート名設定!E12=0,\"\",シート名設定!E12)","v":"印刷フォーム28"}]
[null,null,{"$f":"IF(シート名設定!E13=0,\"\",シート名設定!E13)","v":"印刷フォーム29"}]
[null,null,{"$f":"IF(シート名設定!E14=0,\"\",シート名設定!E14)","v":"印刷フォーム30"}]
[null,null,{"$f":"IF(シート名設定!E15=0,\"\",シート名設定!E15)","v":"印刷フォーム1ソートデーター"}]
[null,null,{"$f":"IF(シート名設定!E16=0,\"\",シート名設定!E16)","v":"印刷フォーム2ソートデーター"}]
[null,null,{"$f":"IF(シート名設定!E17=0,\"\",シート名設定!E17)","v":"印刷フォーム3ソートデーター"}]
[null,null,{"$f":"IF(シート名設定!E18=0,\"\",シート名設定!E18)","v":"印刷フォーム4ソートデーター"}]
[null,null,{"$f":"IF(シート名設定!E19=0,\"\",シート名設定!E19)","v":"印刷フォーム5ソートデーター"}]
[null,null,{"$f":"IF(シート名設定!E20=0,\"\",シート名設定!E20)","v":"印刷フォーム6ソートデーター"}]
[null,null,{"$f":"IF(シート名設定!E21=0,\"\",シート名設定!E21)","v":"印刷フォーム7ソートデーター"}]
[null,null,{"$f":"IF(シート名設定!E22=0,\"\",シート名設定!E22)","v":"印刷フォーム8ソートデーター"}]
[null,null,{"$f":"IF(シート名設定!E23=0,\"\",シート名設定!E23)","v":"印刷フォーム9ソートデーター"}]
[null,null,{"$f":"IF(シート名設定!E24=0,\"\",シート名設定!E24)","v":"印刷フォーム10ソートデーター"}]
[null,null,{"$f":"IF(シート名設定!E25=0,\"\",シート名設定!E25)","v":"印刷フォーム11ソートデーター"}]
[null,null,{"$f":"IF(シート名設定!E26=0,\"\",シート名設定!E26)","v":"印刷フォーム12ソートデーター"}]
[null,null,{"$f":"IF(シート名設定!E27=0,\"\",シート名設定!E27)","v":"印刷フォーム13ソートデーター"}]
[null,null,{"$f":"IF(シート名設定!E28=0,\"\",シート名設定!E28)","v":"印刷フォーム14ソートデーター"}]
[null,null,{"$f":"IF(シート名設定!E29=0,\"\",シート名設定!E29)","v":"印刷フォーム15ソートデーター"}]
[null,null,{"$f":"IF(シート名設定!E30=0,\"\",シート名設定!E30)","v":"印刷フォーム16ソートデーター"}]
[null,null,{"$f":"IF(シート名設定!E31=0,\"\",シート名設定!E31)","v":"印刷フォーム17ソートデーター"}]
[null,null,{"$f":"IF(シート名設定!E32=0,\"\",シート名設定!E32)","v":"印刷フォーム18ソートデーター"}]
[null,null,{"$f":"IF(シート名設定!E33=0,\"\",シート名設定!E33)","v":"印刷フォーム19ソートデーター"}]
[null,null,{"$f":"IF(シート名設定!E34=0,\"\",シート名設定!E34)","v":"印刷フォーム20ソートデーター"}]
[null,null,{"$f":"IF(シート名設定!E35=0,\"\",シート名設定!E35)","v":"印刷フォーム21ソートデーター"}]
[null,null,{"$f":"IF(シート名設定!E36=0,\"\",シート名設定!E36)","v":"印刷フォーム22ソートデーター"}]
[null,null,{"$f":"IF(シート名設定!E37=0,\"\",シート名設定!E37)","v":"印刷フォーム23ソートデーター"}]
[null,null,{"$f":"IF(シート名設定!E38=0,\"\",シート名設定!E38)","v":"印刷フォーム24ソートデーター"}]
[null,null,{"$f":"IF(シート名設定!E39=0,\"\",シート名設定!E39)","v":"印刷フォーム25ソートデーター"}]
[null,null,{"$f":"IF(シート名設定!E40=0,\"\",シート名設定!E40)","v":"印刷フォーム26ソートデーター"}]
[null,null,{"$f":"IF(シート名設定!E41=0,\"\",シート名設定!E41)","v":"印刷フォーム27ソートデーター"}]
[null,null,{"$f":"IF(シート名設定!E42=0,\"\",シート名設定!E42)","v":"印刷フォーム28ソートデーター"}]
[null,null,{"$f":"IF(シート名設定!E43=0,\"\",シート名設定!E43)","v":"印刷フォーム29ソートデーター"}]
[null,null,{"$f":"IF(シート名設定!E44=0,\"\",シート名設定!E44)","v":"印刷フォーム30ソートデーター"}]
[null,null,{"$f":"IF(シート名設定!C30=0,\"\",シート名設定!C30)","v":"データー入力"}]

{"sheet":"一覧表付ファイル作成入力設定3","index":14,"n_rows":97,"n_cols":5,"rows_kept":97,"cut":false,"hidden":false,"merged":[[2,1,2,2]]}
[]
[]
[null,{"$f":"シート名設定!$C$11","v":"一覧表付ファイル作成入力設定3"}]
[null,"１．入力元の設定"]
[null,"項　　　　　　目","設定内容"]
[null,"シート名"]
[null,"データ先頭セル行番号"]
[null,"データ先頭セル列番号"]
[null,"異同比較列番号"]
[null,"データー数"]
[null,"For Next の増分"]
[]
[null,"２．入力先の設定"]
[null,"項　　　　　　目","設定内容"]
[null,"シート名"]
[null,"入力先頭セル行番号"]
[null,"入力先頭セル列番号"]
[null,"入力最終セル行番号"]
[null,"入力最終セル列番号"]
[null,"入力データー数"]
[null,"通しページ入力セル行番号"]
[null,"通しページ入力セル列番号"]
[null,"区分内ページ入力セル行番号"]
[null,"区分内ページ入力セル列番号"]
[null,"３．印刷処理かファイルのメール送信の設定"]
[null,"項　　　　　　目","設定内容"]
[null,"印刷処理か\nファイルの\nメール送信\nの選択",null,1]
[null,"ファイルのメール送信の場合の印刷フォームソートデーターシートのメールアドレスが入力されている列番号"]
[null,"ファイルのメール送信の場合の印刷フォームソートデーターシートの件名が入力されている列番号"]
[null,"ファイルのメール送信の場合の印刷フォームソートデーターシートの本文が入力されている列番号"]
[null,"ファイルのメール送信の場合の添付ファイルの保存先ドライブ及びフォルダー"]
[]
[]
[]
[]
[]
[null,null,{"$f":"IF(シート名設定!C35=0,\"\",シート名設定!C35)","v":"印刷フォーム1"},1,"印刷する"]
[null,null,{"$f":"IF(シート名設定!C36=0,\"\",シート名設定!C36)","v":"印刷フォーム2"},2,"メールで送信する"]
[null,null,{"$f":"IF(シート名設定!C37=0,\"\",シート名設定!C37)","v":"印刷フォーム3"},3,"添付ファイルなし件名本文のみのメール"]
[null,null,{"$f":"IF(シート名設定!C38=0,\"\",シート名設定!C38)","v":"印刷フォーム4"}]
[null,null,{"$f":"IF(シート名設定!C39=0,\"\",シート名設定!C39)","v":"印刷フォーム5"}]
[null,null,{"$f":"IF(シート名設定!C40=0,\"\",シート名設定!C40)","v":"印刷フォーム6"}]
[null,null,{"$f":"IF(シート名設定!C41=0,\"\",シート名設定!C41)","v":"印刷フォーム7"}]
[null,null,{"$f":"IF(シート名設定!C42=0,\"\",シート名設定!C42)","v":"印刷フォーム8"}]
[null,null,{"$f":"IF(シート名設定!C43=0,\"\",シート名設定!C43)","v":"印刷フォーム9"}]
[null,null,{"$f":"IF(シート名設定!C44=0,\"\",シート名設定!C44)","v":"印刷フォーム10"}]
[null,null,{"$f":"IF(シート名設定!C45=0,\"\",シート名設定!C45)","v":"印刷フォーム11"}]
[null,null,{"$f":"IF(シート名設定!C46=0,\"\",シート名設定!C46)","v":"印刷フォーム12"}]
[null,null,{"$f":"IF(シート名設定!C47=0,\"\",シート名設定!C47)","v":"印刷フォーム13"}]
[null,null,{"$f":"IF(シート名設定!C48=0,\"\",シート名設定!C48)","v":"印刷フォーム14"}]
[null,null,{"$f":"IF(シート名設定!C49=0,\"\",シート名設定!C49)","v":"印刷フォーム15"}]
[null,null,{"$f":"IF(シート名設定!C50=0,\"\",シート名設定!C50)","v":"印刷フォーム16"}]
[null,null,{"$f":"IF(シート名設定!C51=0,\"\",シート名設定!C51)","v":"印刷フォーム17"}]
[null,null,{"$f":"IF(シート名設定!C52=0,\"\",シート名設定!C52)","v":"印刷フォーム18"}]
[null,null,{"$f":"IF(シート名設定!C53=0,\"\",シート名設定!C53)","v":"印刷フォーム19"}]
[null,null,{"$f":"IF(シート名設定!C54=0,\"\",シート名設定!C54)","v":"印刷フォーム20"}]
[null,null,{"$f":"IF(シート名設定!E5=0,\"\",シート名設定!E5)","v":"印刷フォーム21"}]
[null,null,{"$f":"IF(シート名設定!E6=0,\"\",シート名設定!E6)","v":"印刷フォーム22"}]
[null,null,{"$f":"IF(シート名設定!E7=0,\"\",シート名設定!E7)","v":"印刷フォーム23"}]
[null,null,{"$f":"IF(シート名設定!E8=0,\"\",シート名設定!E8)","v":"印刷フォーム24"}]
[null,null,{"$f":"IF(シート名設定!E9=0,\"\",シート名設定!E9)","v":"印刷フォーム25"}]
[null,null,{"$f":"IF(シート名設定!E10=0,\"\",シート名設定!E10)","v":"印刷フォーム26"}]
[null,null,{"$f":"IF(シート名設定!E11=0,\"\",シート名設定!E11)","v":"印刷フォーム27"}]
[null,null,{"$f":"IF(シート名設定!E12=0,\"\",シート名設定!E12)","v":"印刷フォーム28"}]
[null,null,{"$f":"IF(シート名設定!E13=0,\"\",シート名設定!E13)","v":"印刷フォーム29"}]
[null,null,{"$f":"IF(シート名設定!E14=0,\"\",シート名設定!E14)","v":"印刷フォーム30"}]
[null,null,{"$f":"IF(シート名設定!E15=0,\"\",シート名設定!E15)","v":"印刷フォーム1ソートデーター"}]
[null,null,{"$f":"IF(シート名設定!E16=0,\"\",シート名設定!E16)","v":"印刷フォーム2ソートデーター"}]
[null,null,{"$f":"IF(シート名設定!E17=0,\"\",シート名設定!E17)","v":"印刷フォーム3ソートデーター"}]
[null,null,{"$f":"IF(シート名設定!E18=0,\"\",シート名設定!E18)","v":"印刷フォーム4ソートデーター"}]
[null,null,{"$f":"IF(シート名設定!E19=0,\"\",シート名設定!E19)","v":"印刷フォーム5ソートデーター"}]
[null,null,{"$f":"IF(シート名設定!E20=0,\"\",シート名設定!E20)","v":"印刷フォーム6ソートデーター"}]
[null,null,{"$f":"IF(シート名設定!E21=0,\"\",シート名設定!E21)","v":"印刷フォーム7ソートデーター"}]
[null,null,{"$f":"IF(シート名設定!E22=0,\"\",シート名設定!E22)","v":"印刷フォーム8ソートデーター"}]
[null,null,{"$f":"IF(シート名設定!E23=0,\"\",シート名設定!E23)","v":"印刷フォーム9ソートデーター"}]
[null,null,{"$f":"IF(シート名設定!E24=0,\"\",シート名設定!E24)","v":"印刷フォーム10ソートデーター"}]
[null,null,{"$f":"IF(シート名設定!E25=0,\"\",シート名設定!E25)","v":"印刷フォーム11ソートデーター"}]
[null,null,{"$f":"IF(シート名設定!E26=0,\"\",シート名設定!E26)","v":"印刷フォーム12ソートデーター"}]
[null,null,{"$f":"IF(シート名設定!E27=0,\"\",シート名設定!E27)","v":"印刷フォーム13ソートデーター"}]
[null,null,{"$f":"IF(シート名設定!E28=0,\"\",シート名設定!E28)","v":"印刷フォーム14ソートデーター"}]
[null,null,{"$f":"IF(シート名設定!E29=0,\"\",シート名設定!E29)","v":"印刷フォーム15ソートデーター"}]
[null,null,{"$f":"IF(シート名設定!E30=0,\"\",シート名設定!E30)","v":"印刷フォーム16ソートデーター"}]
[null,null,{"$f":"IF(シート名設定!E31=0,\"\",シート名設定!E31)","v":"印刷フォーム17ソートデーター"}]
[null,null,{"$f":"IF(シート名設定!E32=0,\"\",シート名設定!E32)","v":"印刷フォーム18ソートデーター"}]
[null,null,{"$f":"IF(シート名設定!E33=0,\"\",シート名設定!E33)","v":"印刷フォーム19ソートデーター"}]
[null,null,{"$f":"IF(シート名設定!E34=0,\"\",シート名設定!E34)","v":"印刷フォーム20ソートデーター"}]
[null,null,{"$f":"IF(シート名設定!E35=0,\"\",シート名設定!E35)","v":"印刷フォーム21ソートデーター"}]
[null,null,{"$f":"IF(シート名設定!E36=0,\"\",シート名設定!E36)","v":"印刷フォーム22ソートデーター"}]
[null,null,{"$f":"IF(シート名設定!E37=0,\"\",シート名設定!E37)","v":"印刷フォーム23ソートデーター"}]
[null,null,{"$f":"IF(シート名設定!E38=0,\"\",シート名設定!E38)","v":"印刷フォーム24ソートデーター"}]
[null,null,{"$f":"IF(シート名設定!E39=0,\"\",シート名設定!E39)","v":"印刷フォーム25ソートデーター"}]
[null,null,{"$f":"IF(シート名設定!E40=0,\"\",シート名設定!E40)","v":"印刷フォーム26ソートデーター"}]
[null,null,{"$f":"IF(シート名設定!E41=0,\"\",シート名設定!E41)","v":"印刷フォーム27ソートデーター"}]
[null,null,{"$f":"IF(シート名設定!E42=0,\"\",シート名設定!E42)","v":"印刷フォーム28ソートデーター"}]
[null,null,{"$f":"IF(シート名設定!E43=0,\"\",シート名設定!E43)","v":"印刷フォーム29ソートデーター"}]
[null,null,{"$f":"IF(シート名設定!E44=0,\"\",シート名設定!E44)","v":"印刷フォーム30ソートデーター"}]
[null,null,{"$f":"IF(シート名設定!C30=0,\"\",シート名設定!C30)","v":"データー入力"}]

{"sheet":"一覧表付ファイル作成入力設定4","index":15,"n_rows":97,"n_cols":5,"rows_kept":97,"cut":false,"hidden":false,"merged":[[2,1,2,2]]}
[]
[]
[null,{"$f":"シート名設定!$C$12","v":"一覧表付ファイル作成入力設定4"}]
[null,"１．入力元の設定"]
[null,"項　　　　　　目","設定内容"]
[null,"シート名"]
[null,"データ先頭セル行番号"]
[null,"データ先頭セル列番号"]
[null,"異同比較列番号"]
[null,"データー数"]
[null,"For Next の増分"]
[]
[null,"２．入力先の設定"]
[null,"項　　　　　　目","設定内容"]
[null,"シート名"]
[null,"入力先頭セル行番号"]
[null,"入力先頭セル列番号"]
[null,"入力最終セル行番号"]
[null,"入力最終セル列番号"]
[null,"入力データー数"]
[null,"通しページ入力セル行番号"]
[null,"通しページ入力セル列番号"]
[null,"区分内ページ入力セル行番号"]
[null,"区分内ページ入力セル列番号"]
[null,"３．印刷処理かファイルのメール送信の設定"]
[null,"項　　　　　　目","設定内容"]
[null,"印刷処理か\nファイルの\nメール送信\nの選択",null,1]
[null,"ファイルのメール送信の場合の印刷フォームソートデーターシートのメールアドレスが入力されている列番号"]
[null,"ファイルのメール送信の場合の印刷フォームソートデーターシートの件名が入力されている列番号"]
[null,"ファイルのメール送信の場合の印刷フォームソートデーターシートの本文が入力されている列番号"]
[null,"ファイルのメール送信の場合の添付ファイルの保存先ドライブ及びフォルダー"]
[]
[]
[]
[]
[]
[null,null,{"$f":"IF(シート名設定!C35=0,\"\",シート名設定!C35)","v":"印刷フォーム1"},1,"印刷する"]
[null,null,{"$f":"IF(シート名設定!C36=0,\"\",シート名設定!C36)","v":"印刷フォーム2"},2,"メールで送信する"]
[null,null,{"$f":"IF(シート名設定!C37=0,\"\",シート名設定!C37)","v":"印刷フォーム3"},3,"添付ファイルなし件名本文のみのメール"]
[null,null,{"$f":"IF(シート名設定!C38=0,\"\",シート名設定!C38)","v":"印刷フォーム4"}]
[null,null,{"$f":"IF(シート名設定!C39=0,\"\",シート名設定!C39)","v":"印刷フォーム5"}]
[null,null,{"$f":"IF(シート名設定!C40=0,\"\",シート名設定!C40)","v":"印刷フォーム6"}]
[null,null,{"$f":"IF(シート名設定!C41=0,\"\",シート名設定!C41)","v":"印刷フォーム7"}]
[null,null,{"$f":"IF(シート名設定!C42=0,\"\",シート名設定!C42)","v":"印刷フォーム8"}]
[null,null,{"$f":"IF(シート名設定!C43=0,\"\",シート名設定!C43)","v":"印刷フォーム9"}]
[null,null,{"$f":"IF(シート名設定!C44=0,\"\",シート名設定!C44)","v":"印刷フォーム10"}]
[null,null,{"$f":"IF(シート名設定!C45=0,\"\",シート名設定!C45)","v":"印刷フォーム11"}]
[null,null,{"$f":"IF(シート名設定!C46=0,\"\",シート名設定!C46)","v":"印刷フォーム12"}]
[null,null,{"$f":"IF(シート名設定!C47=0,\"\",シート名設定!C47)","v":"印刷フォーム13"}]
[null,null,{"$f":"IF(シート名設定!C48=0,\"\",シート名設定!C48)","v":"印刷フォーム14"}]
[null,null,{"$f":"IF(シート名設定!C49=0,\"\",シート名設定!C49)","v":"印刷フォーム15"}]
[null,null,{"$f":"IF(シート名設定!C50=0,\"\",シート名設定!C50)","v":"印刷フォーム16"}]
[null,null,{"$f":"IF(シート名設定!C51=0,\"\",シート名設定!C51)","v":"印刷フォーム17"}]
[null,null,{"$f":"IF(シート名設定!C52=0,\"\",シート名設定!C52)","v":"印刷フォーム18"}]
[null,null,{"$f":"IF(シート名設定!C53=0,\"\",シート名設定!C53)","v":"印刷フォーム19"}]
[null,null,{"$f":"IF(シート名設定!C54=0,\"\",シート名設定!C54)","v":"印刷フォーム20"}]
[null,null,{"$f":"IF(シート名設定!E5=0,\"\",シート名設定!E5)","v":"印刷フォーム21"}]
[null,null,{"$f":"IF(シート名設定!E6=0,\"\",シート名設定!E6)","v":"印刷フォーム22"}]
[null,null,{"$f":"IF(シート名設定!E7=0,\"\",シート名設定!E7)","v":"印刷フォーム23"}]
[null,null,{"$f":"IF(シート名設定!E8=0,\"\",シート名設定!E8)","v":"印刷フォーム24"}]
[null,null,{"$f":"IF(シート名設定!E9=0,\"\",シート名設定!E9)","v":"印刷フォーム25"}]
[null,null,{"$f":"IF(シート名設定!E10=0,\"\",シート名設定!E10)","v":"印刷フォーム26"}]
[null,null,{"$f":"IF(シート名設定!E11=0,\"\",シート名設定!E11)","v":"印刷フォーム27"}]
[null,null,{"$f":"IF(シート名設定!E12=0,\"\",シート名設定!E12)","v":"印刷フォーム28"}]
[null,null,{"$f":"IF(シート名設定!E13=0,\"\",シート名設定!E13)","v":"印刷フォーム29"}]
[null,null,{"$f":"IF(シート名設定!E14=0,\"\",シート名設定!E14)","v":"印刷フォーム30"}]
[null,null,{"$f":"IF(シート名設定!E15=0,\"\",シート名設定!E15)","v":"印刷フォーム1ソートデーター"}]
[null,null,{"$f":"IF(シート名設定!E16=0,\"\",シート名設定!E16)","v":"印刷フォーム2ソートデーター"}]
[null,null,{"$f":"IF(シート名設定!E17=0,\"\",シート名設定!E17)","v":"印刷フォーム3ソートデーター"}]
[null,null,{"$f":"IF(シート名設定!E18=0,\"\",シート名設定!E18)","v":"印刷フォーム4ソートデーター"}]
[null,null,{"$f":"IF(シート名設定!E19=0,\"\",シート名設定!E19)","v":"印刷フォーム5ソートデーター"}]
[null,null,{"$f":"IF(シート名設定!E20=0,\"\",シート名設定!E20)","v":"印刷フォーム6ソートデーター"}]
[null,null,{"$f":"IF(シート名設定!E21=0,\"\",シート名設定!E21)","v":"印刷フォーム7ソートデーター"}]
[null,null,{"$f":"IF(シート名設定!E22=0,\"\",シート名設定!E22)","v":"印刷フォーム8ソートデーター"}]
[null,null,{"$f":"IF(シート名設定!E23=0,\"\",シート名設定!E23)","v":"印刷フォーム9ソートデーター"}]
[null,null,{"$f":"IF(シート名設定!E24=0,\"\",シート名設定!E24)","v":"印刷フォーム10ソートデーター"}]
[null,null,{"$f":"IF(シート名設定!E25=0,\"\",シート名設定!E25)","v":"印刷フォーム11ソートデーター"}]
[null,null,{"$f":"IF(シート名設定!E26=0,\"\",シート名設定!E26)","v":"印刷フォーム12ソートデーター"}]
[null,null,{"$f":"IF(シート名設定!E27=0,\"\",シート名設定!E27)","v":"印刷フォーム13ソートデーター"}]
[null,null,{"$f":"IF(シート名設定!E28=0,\"\",シート名設定!E28)","v":"印刷フォーム14ソートデーター"}]
[null,null,{"$f":"IF(シート名設定!E29=0,\"\",シート名設定!E29)","v":"印刷フォーム15ソートデーター"}]
[null,null,{"$f":"IF(シート名設定!E30=0,\"\",シート名設定!E30)","v":"印刷フォーム16ソートデーター"}]
[null,null,{"$f":"IF(シート名設定!E31=0,\"\",シート名設定!E31)","v":"印刷フォーム17ソートデーター"}]
[null,null,{"$f":"IF(シート名設定!E32=0,\"\",シート名設定!E32)","v":"印刷フォーム18ソートデーター"}]
[null,null,{"$f":"IF(シート名設定!E33=0,\"\",シート名設定!E33)","v":"印刷フォーム19ソートデーター"}]
[null,null,{"$f":"IF(シート名設定!E34=0,\"\",シート名設定!E34)","v":"印刷フォーム20ソートデーター"}]
[null,null,{"$f":"IF(シート名設定!E35=0,\"\",シート名設定!E35)","v":"印刷フォーム21ソートデーター"}]
[null,null,{"$f":"IF(シート名設定!E36=0,\"\",シート名設定!E36)","v":"印刷フォーム22ソートデーター"}]
[null,null,{"$f":"IF(シート名設定!E37=0,\"\",シート名設定!E37)","v":"印刷フォーム23ソートデーター"}]
[null,null,{"$f":"IF(シート名設定!E38=0,\"\",シート名設定!E38)","v":"印刷フォーム24ソートデーター"}]
[null,null,{"$f":"IF(シート名設定!E39=0,\"\",シート名設定!E39)","v":"印刷フォーム25ソートデーター"}]
[null,null,{"$f":"IF(シート名設定!E40=0,\"\",シート名設定!E40)","v":"印刷フォーム26ソートデーター"}]
[null,null,{"$f":"IF(シート名設定!E41=0,\"\",シート名設定!E41)","v":"印刷フォーム27ソートデーター"}]
[null,null,{"$f":"IF(シート名設定!E42=0,\"\",シート名設定!E42)","v":"印刷フォーム28ソートデーター"}]
[null,null,{"$f":"IF(シート名設定!E43=0,\"\",シート名設定!E43)","v":"印刷フォーム29ソートデーター"}]
[null,null,{"$f":"IF(シート名設定!E44=0,\"\",シート名設定!E44)","v":"印刷フォーム30ソートデーター"}]
[null,null,{"$f":"IF(シート名設定!C30=0,\"\",シート名設定!C30)","v":"データー入力"}]

{"sheet":"一覧表付ファイル作成入力設定5","index":16,"n_rows":97,"n_cols":5,"rows_kept":97,"cut":false,"hidden":false,"merged":[[2,1,2,2]]}
[]
[]
[null,{"$f":"シート名設定!$C$13","v":"一覧表付ファイル作成入力設定5"}]
[null,"１．入力元の設定"]
[null,"項　　　　　　目","設定内容"]
[null,"シート名"]
[null,"データ先頭セル行番号"]
[null,"データ先頭セル列番号"]
[null,"異同比較列番号"]
[null,"データー数"]
[null,"For Next の増分"]
[]
[null,"２．入力先の設定"]
[null,"項　　　　　　目","設定内容"]
[null,"シート名"]
[null,"入力先頭セル行番号"]
[null,"入力先頭セル列番号"]
[null,"入力最終セル行番号"]
[null,"入力最終セル列番号"]
[null,"入力データー数"]
[null,"通しページ入力セル行番号"]
[null,"通しページ入力セル列番号"]
[null,"区分内ページ入力セル行番号"]
[null,"区分内ページ入力セル列番号"]
[null,"３．印刷処理かファイルのメール送信の設定"]
[null,"項　　　　　　目","設定内容"]
[null,"印刷処理か\nファイルの\nメール送信\nの選択",null,1]
[null,"ファイルのメール送信の場合の印刷フォームソートデーターシートのメールアドレスが入力されている列番号"]
[null,"ファイルのメール送信の場合の印刷フォームソートデーターシートの件名が入力されている列番号"]
[null,"ファイルのメール送信の場合の印刷フォームソートデーターシートの本文が入力されている列番号"]
[null,"ファイルのメール送信の場合の添付ファイルの保存先ドライブ及びフォルダー"]
[]
[]
[]
[]
[]
[null,null,{"$f":"IF(シート名設定!C35=0,\"\",シート名設定!C35)","v":"印刷フォーム1"},1,"印刷する"]
[null,null,{"$f":"IF(シート名設定!C36=0,\"\",シート名設定!C36)","v":"印刷フォーム2"},2,"メールで送信する"]
[null,null,{"$f":"IF(シート名設定!C37=0,\"\",シート名設定!C37)","v":"印刷フォーム3"},3,"添付ファイルなし件名本文のみのメール"]
[null,null,{"$f":"IF(シート名設定!C38=0,\"\",シート名設定!C38)","v":"印刷フォーム4"}]
[null,null,{"$f":"IF(シート名設定!C39=0,\"\",シート名設定!C39)","v":"印刷フォーム5"}]
[null,null,{"$f":"IF(シート名設定!C40=0,\"\",シート名設定!C40)","v":"印刷フォーム6"}]
[null,null,{"$f":"IF(シート名設定!C41=0,\"\",シート名設定!C41)","v":"印刷フォーム7"}]
[null,null,{"$f":"IF(シート名設定!C42=0,\"\",シート名設定!C42)","v":"印刷フォーム8"}]
[null,null,{"$f":"IF(シート名設定!C43=0,\"\",シート名設定!C43)","v":"印刷フォーム9"}]
[null,null,{"$f":"IF(シート名設定!C44=0,\"\",シート名設定!C44)","v":"印刷フォーム10"}]
[null,null,{"$f":"IF(シート名設定!C45=0,\"\",シート名設定!C45)","v":"印刷フォーム11"}]
[null,null,{"$f":"IF(シート名設定!C46=0,\"\",シート名設定!C46)","v":"印刷フォーム12"}]
[null,null,{"$f":"IF(シート名設定!C47=0,\"\",シート名設定!C47)","v":"印刷フォーム13"}]
[null,null,{"$f":"IF(シート名設定!C48=0,\"\",シート名設定!C48)","v":"印刷フォーム14"}]
[null,null,{"$f":"IF(シート名設定!C49=0,\"\",シート名設定!C49)","v":"印刷フォーム15"}]
[null,null,{"$f":"IF(シート名設定!C50=0,\"\",シート名設定!C50)","v":"印刷フォーム16"}]
[null,null,{"$f":"IF(シート名設定!C51=0,\"\",シート名設定!C51)","v":"印刷フォーム17"}]
[null,null,{"$f":"IF(シート名設定!C52=0,\"\",シート名設定!C52)","v":"印刷フォーム18"}]
[null,null,{"$f":"IF(シート名設定!C53=0,\"\",シート名設定!C53)","v":"印刷フォーム19"}]
[null,null,{"$f":"IF(シート名設定!C54=0,\"\",シート名設定!C54)","v":"印刷フォーム20"}]
[null,null,{"$f":"IF(シート名設定!E5=0,\"\",シート名設定!E5)","v":"印刷フォーム21"}]
[null,null,{"$f":"IF(シート名設定!E6=0,\"\",シート名設定!E6)","v":"印刷フォーム22"}]
[null,null,{"$f":"IF(シート名設定!E7=0,\"\",シート名設定!E7)","v":"印刷フォーム23"}]
[null,null,{"$f":"IF(シート名設定!E8=0,\"\",シート名設定!E8)","v":"印刷フォーム24"}]
[null,null,{"$f":"IF(シート名設定!E9=0,\"\",シート名設定!E9)","v":"印刷フォーム25"}]
[null,null,{"$f":"IF(シート名設定!E10=0,\"\",シート名設定!E10)","v":"印刷フォーム26"}]
[null,null,{"$f":"IF(シート名設定!E11=0,\"\",シート名設定!E11)","v":"印刷フォーム27"}]
[null,null,{"$f":"IF(シート名設定!E12=0,\"\",シート名設定!E12)","v":"印刷フォーム28"}]
[null,null,{"$f":"IF(シート名設定!E13=0,\"\",シート名設定!E13)","v":"印刷フォーム29"}]
[null,null,{"$f":"IF(シート名設定!E14=0,\"\",シート名設定!E14)","v":"印刷フォーム30"}]
[null,null,{"$f":"IF(シート名設定!E15=0,\"\",シート名設定!E15)","v":"印刷フォーム1ソートデーター"}]
[null,null,{"$f":"IF(シート名設定!E16=0,\"\",シート名設定!E16)","v":"印刷フォーム2ソートデーター"}]
[null,null,{"$f":"IF(シート名設定!E17=0,\"\",シート名設定!E17)","v":"印刷フォーム3ソートデーター"}]
[null,null,{"$f":"IF(シート名設定!E18=0,\"\",シート名設定!E18)","v":"印刷フォーム4ソートデーター"}]
[null,null,{"$f":"IF(シート名設定!E19=0,\"\",シート名設定!E19)","v":"印刷フォーム5ソートデーター"}]
[null,null,{"$f":"IF(シート名設定!E20=0,\"\",シート名設定!E20)","v":"印刷フォーム6ソートデーター"}]
[null,null,{"$f":"IF(シート名設定!E21=0,\"\",シート名設定!E21)","v":"印刷フォーム7ソートデーター"}]
[null,null,{"$f":"IF(シート名設定!E22=0,\"\",シート名設定!E22)","v":"印刷フォーム8ソートデーター"}]
[null,null,{"$f":"IF(シート名設定!E23=0,\"\",シート名設定!E23)","v":"印刷フォーム9ソートデーター"}]
[null,null,{"$f":"IF(シート名設定!E24=0,\"\",シート名設定!E24)","v":"印刷フォーム10ソートデーター"}]
[null,null,{"$f":"IF(シート名設定!E25=0,\"\",シート名設定!E25)","v":"印刷フォーム11ソートデーター"}]
[null,null,{"$f":"IF(シート名設定!E26=0,\"\",シート名設定!E26)","v":"印刷フォーム12ソートデーター"}]
[null,null,{"$f":"IF(シート名設定!E27=0,\"\",シート名設定!E27)","v":"印刷フォーム13ソートデーター"}]
[null,null,{"$f":"IF(シート名設定!E28=0,\"\",シート名設定!E28)","v":"印刷フォーム14ソートデーター"}]
[null,null,{"$f":"IF(シート名設定!E29=0,\"\",シート名設定!E29)","v":"印刷フォーム15ソートデーター"}]
[null,null,{"$f":"IF(シート名設定!E30=0,\"\",シート名設定!E30)","v":"印刷フォーム16ソートデーター"}]
[null,null,{"$f":"IF(シート名設定!E31=0,\"\",シート名設定!E31)","v":"印刷フォーム17ソートデーター"}]
[null,null,{"$f":"IF(シート名設定!E32=0,\"\",シート名設定!E32)","v":"印刷フォーム18ソートデーター"}]
[null,null,{"$f":"IF(シート名設定!E33=0,\"\",シート名設定!E33)","v":"印刷フォーム19ソートデーター"}]
[null,null,{"$f":"IF(シート名設定!E34=0,\"\",シート名設定!E34)","v":"印刷フォーム20ソートデーター"}]
[null,null,{"$f":"IF(シート名設定!E35=0,\"\",シート名設定!E35)","v":"印刷フォーム21ソートデーター"}]
[null,null,{"$f":"IF(シート名設定!E36=0,\"\",シート名設定!E36)","v":"印刷フォーム22ソートデーター"}]
[null,null,{"$f":"IF(シート名設定!E37=0,\"\",シート名設定!E37)","v":"印刷フォーム23ソートデーター"}]
[null,null,{"$f":"IF(シート名設定!E38=0,\"\",シート名設定!E38)","v":"印刷フォーム24ソートデーター"}]
[null,null,{"$f":"IF(シート名設定!E39=0,\"\",シート名設定!E39)","v":"印刷フォーム25ソートデーター"}]
[null,null,{"$f":"IF(シート名設定!E40=0,\"\",シート名設定!E40)","v":"印刷フォーム26ソートデーター"}]
[null,null,{"$f":"IF(シート名設定!E41=0,\"\",シート名設定!E41)","v":"印刷フォーム27ソートデーター"}]
[null,null,{"$f":"IF(シート名設定!E42=0,\"\",シート名設定!E42)","v":"印刷フォーム28ソートデーター"}]
[null,null,{"$f":"IF(シート名設定!E43=0,\"\",シート名設定!E43)","v":"印刷フォーム29ソートデーター"}]
[null,null,{"$f":"IF(シート名設定!E44=0,\"\",シート名設定!E44)","v":"印刷フォーム30ソートデーター"}]
[null,null,{"$f":"IF(シート名設定!C30=0,\"\",シート名設定!C30)","v":"データー入力"}]

{"sheet":"一覧表付ファイル作成入力設定6","index":17,"n_rows":97,"n_cols":5,"rows_kept":97,"cut":false,"hidden":false,"merged":[[2,1,2,2]]}
[]
[]
[null,{"$f":"シート名設定!$C$14","v":"一覧表付ファイル作成入力設定6"}]
[null,"１．入力元の設定"]
[null,"項　　　　　　目","設定内容"]
[null,"シート名"]
[null,"データ先頭セル行番号"]
[null,"データ先頭セル列番号"]
[null,"異同比較列番号"]
[null,"データー数"]
[null,"For Next の増分"]
[]
[null,"２．入力先の設定"]
[null,"項　　　　　　目","設定内容"]
[null,"シート名"]
[null,"入力先頭セル行番号"]
[null,"入力先頭セル列番号"]
[null,"入力最終セル行番号"]
[null,"入力最終セル列番号"]
[null,"入力データー数"]
[null,"通しページ入力セル行番号"]
[null,"通しページ入力セル列番号"]
[null,"区分内ページ入力セル行番号"]
[null,"区分内ページ入力セル列番号"]
[null,"３．印刷処理かファイルのメール送信の設定"]
[null,"項　　　　　　目","設定内容"]
[null,"印刷処理か\nファイルの\nメール送信\nの選択",null,1]
[null,"ファイルのメール送信の場合の印刷フォームソートデーターシートのメールアドレスが入力されている列番号"]
[null,"ファイルのメール送信の場合の印刷フォームソートデーターシートの件名が入力されている列番号"]
[null,"ファイルのメール送信の場合の印刷フォームソートデーターシートの本文が入力されている列番号"]
[null,"ファイルのメール送信の場合の添付ファイルの保存先ドライブ及びフォルダー"]
[]
[]
[]
[]
[]
[null,null,{"$f":"IF(シート名設定!C35=0,\"\",シート名設定!C35)","v":"印刷フォーム1"},1,"印刷する"]
[null,null,{"$f":"IF(シート名設定!C36=0,\"\",シート名設定!C36)","v":"印刷フォーム2"},2,"メールで送信する"]
[null,null,{"$f":"IF(シート名設定!C37=0,\"\",シート名設定!C37)","v":"印刷フォーム3"},3,"添付ファイルなし件名本文のみのメール"]
[null,null,{"$f":"IF(シート名設定!C38=0,\"\",シート名設定!C38)","v":"印刷フォーム4"}]
[null,null,{"$f":"IF(シート名設定!C39=0,\"\",シート名設定!C39)","v":"印刷フォーム5"}]
[null,null,{"$f":"IF(シート名設定!C40=0,\"\",シート名設定!C40)","v":"印刷フォーム6"}]
[null,null,{"$f":"IF(シート名設定!C41=0,\"\",シート名設定!C41)","v":"印刷フォーム7"}]
[null,null,{"$f":"IF(シート名設定!C42=0,\"\",シート名設定!C42)","v":"印刷フォーム8"}]
[null,null,{"$f":"IF(シート名設定!C43=0,\"\",シート名設定!C43)","v":"印刷フォーム9"}]
[null,null,{"$f":"IF(シート名設定!C44=0,\"\",シート名設定!C44)","v":"印刷フォーム10"}]
[null,null,{"$f":"IF(シート名設定!C45=0,\"\",シート名設定!C45)","v":"印刷フォーム11"}]
[null,null,{"$f":"IF(シート名設定!C46=0,\"\",シート名設定!C46)","v":"印刷フォーム12"}]
[null,null,{"$f":"IF(シート名設定!C47=0,\"\",シート名設定!C47)","v":"印刷フォーム13"}]
[null,null,{"$f":"IF(シート名設定!C48=0,\"\",シート名設定!C48)","v":"印刷フォーム14"}]
[null,null,{"$f":"IF(シート名設定!C49=0,\"\",シート名設定!C49)","v":"印刷フォーム15"}]
[null,null,{"$f":"IF(シート名設定!C50=0,\"\",シート名設定!C50)","v":"印刷フォーム16"}]
[null,null,{"$f":"IF(シート名設定!C51=0,\"\",シート名設定!C51)","v":"印刷フォーム17"}]
[null,null,{"$f":"IF(シート名設定!C52=0,\"\",シート名設定!C52)","v":"印刷フォーム18"}]
[null,null,{"$f":"IF(シート名設定!C53=0,\"\",シート名設定!C53)","v":"印刷フォーム19"}]
[null,null,{"$f":"IF(シート名設定!C54=0,\"\",シート名設定!C54)","v":"印刷フォーム20"}]
[null,null,{"$f":"IF(シート名設定!E5=0,\"\",シート名設定!E5)","v":"印刷フォーム21"}]
[null,null,{"$f":"IF(シート名設定!E6=0,\"\",シート名設定!E6)","v":"印刷フォーム22"}]
[null,null,{"$f":"IF(シート名設定!E7=0,\"\",シート名設定!E7)","v":"印刷フォーム23"}]
[null,null,{"$f":"IF(シート名設定!E8=0,\"\",シート名設定!E8)","v":"印刷フォーム24"}]
[null,null,{"$f":"IF(シート名設定!E9=0,\"\",シート名設定!E9)","v":"印刷フォーム25"}]
[null,null,{"$f":"IF(シート名設定!E10=0,\"\",シート名設定!E10)","v":"印刷フォーム26"}]
[null,null,{"$f":"IF(シート名設定!E11=0,\"\",シート名設定!E11)","v":"印刷フォーム27"}]
[null,null,{"$f":"IF(シート名設定!E12=0,\"\",シート名設定!E12)","v":"印刷フォーム28"}]
[null,null,{"$f":"IF(シート名設定!E13=0,\"\",シート名設定!E13)","v":"印刷フォーム29"}]
[null,null,{"$f":"IF(シート名設定!E14=0,\"\",シート名設定!E14)","v":"印刷フォーム30"}]
[null,null,{"$f":"IF(シート名設定!E15=0,\"\",シート名設定!E15)","v":"印刷フォーム1ソートデーター"}]
[null,null,{"$f":"IF(シート名設定!E16=0,\"\",シート名設定!E16)","v":"印刷フォーム2ソートデーター"}]
[null,null,{"$f":"IF(シート名設定!E17=0,\"\",シート名設定!E17)","v":"印刷フォーム3ソートデーター"}]
[null,null,{"$f":"IF(シート名設定!E18=0,\"\",シート名設定!E18)","v":"印刷フォーム4ソートデーター"}]
[null,null,{"$f":"IF(シート名設定!E19=0,\"\",シート名設定!E19)","v":"印刷フォーム5ソートデーター"}]
[null,null,{"$f":"IF(シート名設定!E20=0,\"\",シート名設定!E20)","v":"印刷フォーム6ソートデーター"}]
[null,null,{"$f":"IF(シート名設定!E21=0,\"\",シート名設定!E21)","v":"印刷フォーム7ソートデーター"}]
[null,null,{"$f":"IF(シート名設定!E22=0,\"\",シート名設定!E22)","v":"印刷フォーム8ソートデーター"}]
[null,null,{"$f":"IF(シート名設定!E23=0,\"\",シート名設定!E23)","v":"印刷フォーム9ソートデーター"}]
[null,null,{"$f":"IF(シート名設定!E24=0,\"\",シート名設定!E24)","v":"印刷フォーム10ソートデーター"}]
[null,null,{"$f":"IF(シート名設定!E25=0,\"\",シート名設定!E25)","v":"印刷フォーム11ソートデーター"}]
[null,null,{"$f":"IF(シート名設定!E26=0,\"\",シート名設定!E26)","v":"印刷フォーム12ソートデーター"}]
[null,null,{"$f":"IF(シート名設定!E27=0,\"\",シート名設定!E27)","v":"印刷フォーム13ソートデーター"}]
[null,null,{"$f":"IF(シート名設定!E28=0,\"\",シート名設定!E28)","v":"印刷フォーム14ソートデーター"}]
[null,null,{"$f":"IF(シート名設定!E29=0,\"\",シート名設定!E29)","v":"印刷フォーム15ソートデーター"}]
[null,null,{"$f":"IF(シート名設定!E30=0,\"\",シート名設定!E30)","v":"印刷フォーム16ソートデーター"}]
[null,null,{"$f":"IF(シート名設定!E31=0,\"\",シート名設定!E31)","v":"印刷フォーム17ソートデーター"}]
[null,null,{"$f":"IF(シート名設定!E32=0,\"\",シート名設定!E32)","v":"印刷フォーム18ソートデーター"}]
[null,null,{"$f":"IF(シート名設定!E33=0,\"\",シート名設定!E33)","v":"印刷フォーム19ソートデーター"}]
[null,null,{"$f":"IF(シート名設定!E34=0,\"\",シート名設定!E34)","v":"印刷フォーム20ソートデーター"}]
[null,null,{"$f":"IF(シート名設定!E35=0,\"\",シート名設定!E35)","v":"印刷フォーム21ソートデーター"}]
[null,null,{"$f":"IF(シート名設定!E36=0,\"\",シート名設定!E36)","v":"印刷フォーム22ソートデーター"}]
[null,null,{"$f":"IF(シート名設定!E37=0,\"\",シート名設定!E37)","v":"印刷フォーム23ソートデーター"}]
[null,null,{"$f":"IF(シート名設定!E38=0,\"\",シート名設定!E38)","v":"印刷フォーム24ソートデーター"}]
[null,null,{"$f":"IF(シート名設定!E39=0,\"\",シート名設定!E39)","v":"印刷フォーム25ソートデーター"}]
[null,null,{"$f":"IF(シート名設定!E40=0,\"\",シート名設定!E40)","v":"印刷フォーム26ソートデーター"}]
[null,null,{"$f":"IF(シート名設定!E41=0,\"\",シート名設定!E41)","v":"印刷フォーム27ソートデーター"}]
[null,null,{"$f":"IF(シート名設定!E42=0,\"\",シート名設定!E42)","v":"印刷フォーム28ソートデーター"}]
[null,null,{"$f":"IF(シート名設定!E43=0,\"\",シート名設定!E43)","v":"印刷フォーム29ソートデーター"}]
[null,null,{"$f":"IF(シート名設定!E44=0,\"\",シート名設定!E44)","v":"印刷フォーム30ソートデーター"}]
[null,null,{"$f":"IF(シート名設定!C30=0,\"\",シート名設定!C30)","v":"データー入力"}]

{"sheet":"一覧表付ファイル作成入力設定7","index":18,"n_rows":97,"n_cols":5,"rows_kept":97,"cut":false,"hidden":false,"merged":[[2,1,2,2]]}
[]
[]
[null,{"$f":"シート名設定!$C$15","v":"一覧表付ファイル作成入力設定7"}]
[null,"１．入力元の設定"]
[null,"項　　　　　　目","設定内容"]
[null,"シート名"]
[null,"データ先頭セル行番号"]
[null,"データ先頭セル列番号"]
[null,"異同比較列番号"]
[null,"データー数"]
[null,"For Next の増分"]
[]
[null,"２．入力先の設定"]
[null,"項　　　　　　目","設定内容"]
[null,"シート名"]
[null,"入力先頭セル行番号"]
[null,"入力先頭セル列番号"]
[null,"入力最終セル行番号"]
[null,"入力最終セル列番号"]
[null,"入力データー数"]
[null,"通しページ入力セル行番号"]
[null,"通しページ入力セル列番号"]
[null,"区分内ページ入力セル行番号"]
[null,"区分内ページ入力セル列番号"]
[null,"３．印刷処理かファイルのメール送信の設定"]
[null,"項　　　　　　目","設定内容"]
[null,"印刷処理か\nファイルの\nメール送信\nの選択",null,1]
[null,"ファイルのメール送信の場合の印刷フォームソートデーターシートのメールアドレスが入力されている列番号"]
[null,"ファイルのメール送信の場合の印刷フォームソートデーターシートの件名が入力されている列番号"]
[null,"ファイルのメール送信の場合の印刷フォームソートデーターシートの本文が入力されている列番号"]
[null,"ファイルのメール送信の場合の添付ファイルの保存先ドライブ及びフォルダー"]
[]
[]
[]
[]
[]
[null,null,{"$f":"IF(シート名設定!C35=0,\"\",シート名設定!C35)","v":"印刷フォーム1"},1,"印刷する"]
[null,null,{"$f":"IF(シート名設定!C36=0,\"\",シート名設定!C36)","v":"印刷フォーム2"},2,"メールで送信する"]
[null,null,{"$f":"IF(シート名設定!C37=0,\"\",シート名設定!C37)","v":"印刷フォーム3"},3,"添付ファイルなし件名本文のみのメール"]
[null,null,{"$f":"IF(シート名設定!C38=0,\"\",シート名設定!C38)","v":"印刷フォーム4"}]
[null,null,{"$f":"IF(シート名設定!C39=0,\"\",シート名設定!C39)","v":"印刷フォーム5"}]
[null,null,{"$f":"IF(シート名設定!C40=0,\"\",シート名設定!C40)","v":"印刷フォーム6"}]
[null,null,{"$f":"IF(シート名設定!C41=0,\"\",シート名設定!C41)","v":"印刷フォーム7"}]
[null,null,{"$f":"IF(シート名設定!C42=0,\"\",シート名設定!C42)","v":"印刷フォーム8"}]
[null,null,{"$f":"IF(シート名設定!C43=0,\"\",シート名設定!C43)","v":"印刷フォーム9"}]
[null,null,{"$f":"IF(シート名設定!C44=0,\"\",シート名設定!C44)","v":"印刷フォーム10"}]
[null,null,{"$f":"IF(シート名設定!C45=0,\"\",シート名設定!C45)","v":"印刷フォーム11"}]
[null,null,{"$f":"IF(シート名設定!C46=0,\"\",シート名設定!C46)","v":"印刷フォーム12"}]
[null,null,{"$f":"IF(シート名設定!C47=0,\"\",シート名設定!C47)","v":"印刷フォーム13"}]
[null,null,{"$f":"IF(シート名設定!C48=0,\"\",シート名設定!C48)","v":"印刷フォーム14"}]
[null,null,{"$f":"IF(シート名設定!C49=0,\"\",シート名設定!C49)","v":"印刷フォーム15"}]
[null,null,{"$f":"IF(シート名設定!C50=0,\"\",シート名設定!C50)","v":"印刷フォーム16"}]
[null,null,{"$f":"IF(シート名設定!C51=0,\"\",シート名設定!C51)","v":"印刷フォーム17"}]
[null,null,{"$f":"IF(シート名設定!C52=0,\"\",シート名設定!C52)","v":"印刷フォーム18"}]
[null,null,{"$f":"IF(シート名設定!C53=0,\"\",シート名設定!C53)","v":"印刷フォーム19"}]
[null,null,{"$f":"IF(シート名設定!C54=0,\"\",シート名設定!C54)","v":"印刷フォーム20"}]
[null,null,{"$f":"IF(シート名設定!E5=0,\"\",シート名設定!E5)","v":"印刷フォーム21"}]
[null,null,{"$f":"IF(シート名設定!E6=0,\"\",シート名設定!E6)","v":"印刷フォーム22"}]
[null,null,{"$f":"IF(シート名設定!E7=0,\"\",シート名設定!E7)","v":"印刷フォーム23"}]
[null,null,{"$f":"IF(シート名設定!E8=0,\"\",シート名設定!E8)","v":"印刷フォーム24"}]
[null,null,{"$f":"IF(シート名設定!E9=0,\"\",シート名設定!E9)","v":"印刷フォーム25"}]
[null,null,{"$f":"IF(シート名設定!E10=0,\"\",シート名設定!E10)","v":"印刷フォーム26"}]
[null,null,{"$f":"IF(シート名設定!E11=0,\"\",シート名設定!E11)","v":"印刷フォーム27"}]
[null,null,{"$f":"IF(シート名設定!E12=0,\"\",シート名設定!E12)","v":"印刷フォーム28"}]
[null,null,{"$f":"IF(シート名設定!E13=0,\"\",シート名設定!E13)","v":"印刷フォーム29"}]
[null,null,{"$f":"IF(シート名設定!E14=0,\"\",シート名設定!E14)","v":"印刷フォーム30"}]
[null,null,{"$f":"IF(シート名設定!E15=0,\"\",シート名設定!E15)","v":"印刷フォーム1ソートデーター"}]
[null,null,{"$f":"IF(シート名設定!E16=0,\"\",シート名設定!E16)","v":"印刷フォーム2ソートデーター"}]
[null,null,{"$f":"IF(シート名設定!E17=0,\"\",シート名設定!E17)","v":"印刷フォーム3ソートデーター"}]
[null,null,{"$f":"IF(シート名設定!E18=0,\"\",シート名設定!E18)","v":"印刷フォーム4ソートデーター"}]
[null,null,{"$f":"IF(シート名設定!E19=0,\"\",シート名設定!E19)","v":"印刷フォーム5ソートデーター"}]
[null,null,{"$f":"IF(シート名設定!E20=0,\"\",シート名設定!E20)","v":"印刷フォーム6ソートデーター"}]
[null,null,{"$f":"IF(シート名設定!E21=0,\"\",シート名設定!E21)","v":"印刷フォーム7ソートデーター"}]
[null,null,{"$f":"IF(シート名設定!E22=0,\"\",シート名設定!E22)","v":"印刷フォーム8ソートデーター"}]
[null,null,{"$f":"IF(シート名設定!E23=0,\"\",シート名設定!E23)","v":"印刷フォーム9ソートデーター"}]
[null,null,{"$f":"IF(シート名設定!E24=0,\"\",シート名設定!E24)","v":"印刷フォーム10ソートデーター"}]
[null,null,{"$f":"IF(シート名設定!E25=0,\"\",シート名設定!E25)","v":"印刷フォーム11ソートデーター"}]
[null,null,{"$f":"IF(シート名設定!E26=0,\"\",シート名設定!E26)","v":"印刷フォーム12ソートデーター"}]
[null,null,{"$f":"IF(シート名設定!E27=0,\"\",シート名設定!E27)","v":"印刷フォーム13ソートデーター"}]
[null,null,{"$f":"IF(シート名設定!E28=0,\"\",シート名設定!E28)","v":"印刷フォーム14ソートデーター"}]
[null,null,{"$f":"IF(シート名設定!E29=0,\"\",シート名設定!E29)","v":"印刷フォーム15ソートデーター"}]
[null,null,{"$f":"IF(シート名設定!E30=0,\"\",シート名設定!E30)","v":"印刷フォーム16ソートデーター"}]
[null,null,{"$f":"IF(シート名設定!E31=0,\"\",シート名設定!E31)","v":"印刷フォーム17ソートデーター"}]
[null,null,{"$f":"IF(シート名設定!E32=0,\"\",シート名設定!E32)","v":"印刷フォーム18ソートデーター"}]
[null,null,{"$f":"IF(シート名設定!E33=0,\"\",シート名設定!E33)","v":"印刷フォーム19ソートデーター"}]
[null,null,{"$f":"IF(シート名設定!E34=0,\"\",シート名設定!E34)","v":"印刷フォーム20ソートデーター"}]
[null,null,{"$f":"IF(シート名設定!E35=0,\"\",シート名設定!E35)","v":"印刷フォーム21ソートデーター"}]
[null,null,{"$f":"IF(シート名設定!E36=0,\"\",シート名設定!E36)","v":"印刷フォーム22ソートデーター"}]
[null,null,{"$f":"IF(シート名設定!E37=0,\"\",シート名設定!E37)","v":"印刷フォーム23ソートデーター"}]
[null,null,{"$f":"IF(シート名設定!E38=0,\"\",シート名設定!E38)","v":"印刷フォーム24ソートデーター"}]
[null,null,{"$f":"IF(シート名設定!E39=0,\"\",シート名設定!E39)","v":"印刷フォーム25ソートデーター"}]
[null,null,{"$f":"IF(シート名設定!E40=0,\"\",シート名設定!E40)","v":"印刷フォーム26ソートデーター"}]
[null,null,{"$f":"IF(シート名設定!E41=0,\"\",シート名設定!E41)","v":"印刷フォーム27ソートデーター"}]
[null,null,{"$f":"IF(シート名設定!E42=0,\"\",シート名設定!E42)","v":"印刷フォーム28ソートデーター"}]
[null,null,{"$f":"IF(シート名設定!E43=0,\"\",シート名設定!E43)","v":"印刷フォーム29ソートデーター"}]
[null,null,{"$f":"IF(シート名設定!E44=0,\"\",シート名設定!E44)","v":"印刷フォーム30ソートデーター"}]
[null,null,{"$f":"IF(シート名設定!C30=0,\"\",シート名設定!C30)","v":"データー入力"}]

{"sheet":"一覧表付ファイル作成入力設定8","index":19,"n_rows":97,"n_cols":5,"rows_kept":97,"cut":false,"hidden":false,"merged":[[2,1,2,2]]}
[]
[]
[null,{"$f":"シート名設定!$C$16","v":"一覧表付ファイル作成入力設定8"}]
[null,"１．入力元の設定"]
[null,"項　　　　　　目","設定内容"]
[null,"シート名"]
[null,"データ先頭セル行番号"]
[null,"データ先頭セル列番号"]
[null,"異同比較列番号"]
[null,"データー数"]
[null,"For Next の増分"]
[]
[null,"２．入力先の設定"]
[null,"項　　　　　　目","設定内容"]
[null,"シート名"]
[null,"入力先頭セル行番号"]
[null,"入力先頭セル列番号"]
[null,"入力最終セル行番号"]
[null,"入力最終セル列番号"]
[null,"入力データー数"]
[null,"通しページ入力セル行番号"]
[null,"通しページ入力セル列番号"]
[null,"区分内ページ入力セル行番号"]
[null,"区分内ページ入力セル列番号"]
[null,"３．印刷処理かファイルのメール送信の設定"]
[null,"項　　　　　　目","設定内容"]
[null,"印刷処理か\nファイルの\nメール送信\nの選択",null,1]
[null,"ファイルのメール送信の場合の印刷フォームソートデーターシートのメールアドレスが入力されている列番号"]
[null,"ファイルのメール送信の場合の印刷フォームソートデーターシートの件名が入力されている列番号"]
[null,"ファイルのメール送信の場合の印刷フォームソートデーターシートの本文が入力されている列番号"]
[null,"ファイルのメール送信の場合の添付ファイルの保存先ドライブ及びフォルダー"]
[]
[]
[]
[]
[]
[null,null,{"$f":"IF(シート名設定!C35=0,\"\",シート名設定!C35)","v":"印刷フォーム1"},1,"印刷する"]
[null,null,{"$f":"IF(シート名設定!C36=0,\"\",シート名設定!C36)","v":"印刷フォーム2"},2,"メールで送信する"]
[null,null,{"$f":"IF(シート名設定!C37=0,\"\",シート名設定!C37)","v":"印刷フォーム3"},3,"添付ファイルなし件名本文のみのメール"]
[null,null,{"$f":"IF(シート名設定!C38=0,\"\",シート名設定!C38)","v":"印刷フォーム4"}]
[null,null,{"$f":"IF(シート名設定!C39=0,\"\",シート名設定!C39)","v":"印刷フォーム5"}]
[null,null,{"$f":"IF(シート名設定!C40=0,\"\",シート名設定!C40)","v":"印刷フォーム6"}]
[null,null,{"$f":"IF(シート名設定!C41=0,\"\",シート名設定!C41)","v":"印刷フォーム7"}]
[null,null,{"$f":"IF(シート名設定!C42=0,\"\",シート名設定!C42)","v":"印刷フォーム8"}]
[null,null,{"$f":"IF(シート名設定!C43=0,\"\",シート名設定!C43)","v":"印刷フォーム9"}]
[null,null,{"$f":"IF(シート名設定!C44=0,\"\",シート名設定!C44)","v":"印刷フォーム10"}]
[null,null,{"$f":"IF(シート名設定!C45=0,\"\",シート名設定!C45)","v":"印刷フォーム11"}]
[null,null,{"$f":"IF(シート名設定!C46=0,\"\",シート名設定!C46)","v":"印刷フォーム12"}]
[null,null,{"$f":"IF(シート名設定!C47=0,\"\",シート名設定!C47)","v":"印刷フォーム13"}]
[null,null,{"$f":"IF(シート名設定!C48=0,\"\",シート名設定!C48)","v":"印刷フォーム14"}]
[null,null,{"$f":"IF(シート名設定!C49=0,\"\",シート名設定!C49)","v":"印刷フォーム15"}]
[null,null,{"$f":"IF(シート名設定!C50=0,\"\",シート名設定!C50)","v":"印刷フォーム16"}]
[null,null,{"$f":"IF(シート名設定!C51=0,\"\",シート名設定!C51)","v":"印刷フォーム17"}]
[null,null,{"$f":"IF(シート名設定!C52=0,\"\",シート名設定!C52)","v":"印刷フォーム18"}]
[null,null,{"$f":"IF(シート名設定!C53=0,\"\",シート名設定!C53)","v":"印刷フォーム19"}]
[null,null,{"$f":"IF(シート名設定!C54=0,\"\",シート名設定!C54)","v":"印刷フォーム20"}]
[null,null,{"$f":"IF(シート名設定!E5=0,\"\",シート名設定!E5)","v":"印刷フォーム21"}]
[null,null,{"$f":"IF(シート名設定!E6=0,\"\",シート名設定!E6)","v":"印刷フォーム22"}]
[null,null,{"$f":"IF(シート名設定!E7=0,\"\",シート名設定!E7)","v":"印刷フォーム23"}]
[null,null,{"$f":"IF(シート名設定!E8=0,\"\",シート名設定!E8)","v":"印刷フォーム24"}]
[null,null,{"$f":"IF(シート名設定!E9=0,\"\",シート名設定!E9)","v":"印刷フォーム25"}]
[null,null,{"$f":"IF(シート名設定!E10=0,\"\",シート名設定!E10)","v":"印刷フォーム26"}]
[null,null,{"$f":"IF(シート名設定!E11=0,\"\",シート名設定!E11)","v":"印刷フォーム27"}]
[null,null,{"$f":"IF(シート名設定!E12=0,\"\",シート名設定!E12)","v":"印刷フォーム28"}]
[null,null,{"$f":"IF(シート名設定!E13=0,\"\",シート名設定!E13)","v":"印刷フォーム29"}]
[null,null,{"$f":"IF(シート名設定!E14=0,\"\",シート名設定!E14)","v":"印刷フォーム30"}]
[null,null,{"$f":"IF(シート名設定!E15=0,\"\",シート名設定!E15)","v":"印刷フォーム1ソートデーター"}]
[null,null,{"$f":"IF(シート名設定!E16=0,\"\",シート名設定!E16)","v":"印刷フォーム2ソートデーター"}]
[null,null,{"$f":"IF(シート名設定!E17=0,\"\",シート名設定!E17)","v":"印刷フォーム3ソートデーター"}]
[null,null,{"$f":"IF(シート名設定!E18=0,\"\",シート名設定!E18)","v":"印刷フォーム4ソートデーター"}]
[null,null,{"$f":"IF(シート名設定!E19=0,\"\",シート名設定!E19)","v":"印刷フォーム5ソートデーター"}]
[null,null,{"$f":"IF(シート名設定!E20=0,\"\",シート名設定!E20)","v":"印刷フォーム6ソートデーター"}]
[null,null,{"$f":"IF(シート名設定!E21=0,\"\",シート名設定!E21)","v":"印刷フォーム7ソートデーター"}]
[null,null,{"$f":"IF(シート名設定!E22=0,\"\",シート名設定!E22)","v":"印刷フォーム8ソートデーター"}]
[null,null,{"$f":"IF(シート名設定!E23=0,\"\",シート名設定!E23)","v":"印刷フォーム9ソートデーター"}]
[null,null,{"$f":"IF(シート名設定!E24=0,\"\",シート名設定!E24)","v":"印刷フォーム10ソートデーター"}]
[null,null,{"$f":"IF(シート名設定!E25=0,\"\",シート名設定!E25)","v":"印刷フォーム11ソートデーター"}]
[null,null,{"$f":"IF(シート名設定!E26=0,\"\",シート名設定!E26)","v":"印刷フォーム12ソートデーター"}]
[null,null,{"$f":"IF(シート名設定!E27=0,\"\",シート名設定!E27)","v":"印刷フォーム13ソートデーター"}]
[null,null,{"$f":"IF(シート名設定!E28=0,\"\",シート名設定!E28)","v":"印刷フォーム14ソートデーター"}]
[null,null,{"$f":"IF(シート名設定!E29=0,\"\",シート名設定!E29)","v":"印刷フォーム15ソートデーター"}]
[null,null,{"$f":"IF(シート名設定!E30=0,\"\",シート名設定!E30)","v":"印刷フォーム16ソートデーター"}]
[null,null,{"$f":"IF(シート名設定!E31=0,\"\",シート名設定!E31)","v":"印刷フォーム17ソートデーター"}]
[null,null,{"$f":"IF(シート名設定!E32=0,\"\",シート名設定!E32)","v":"印刷フォーム18ソートデーター"}]
[null,null,{"$f":"IF(シート名設定!E33=0,\"\",シート名設定!E33)","v":"印刷フォーム19ソートデーター"}]
[null,null,{"$f":"IF(シート名設定!E34=0,\"\",シート名設定!E34)","v":"印刷フォーム20ソートデーター"}]
[null,null,{"$f":"IF(シート名設定!E35=0,\"\",シート名設定!E35)","v":"印刷フォーム21ソートデーター"}]
[null,null,{"$f":"IF(シート名設定!E36=0,\"\",シート名設定!E36)","v":"印刷フォーム22ソートデーター"}]
[null,null,{"$f":"IF(シート名設定!E37=0,\"\",シート名設定!E37)","v":"印刷フォーム23ソートデーター"}]
[null,null,{"$f":"IF(シート名設定!E38=0,\"\",シート名設定!E38)","v":"印刷フォーム24ソートデーター"}]
[null,null,{"$f":"IF(シート名設定!E39=0,\"\",シート名設定!E39)","v":"印刷フォーム25ソートデーター"}]
[null,null,{"$f":"IF(シート名設定!E40=0,\"\",シート名設定!E40)","v":"印刷フォーム26ソートデーター"}]
[null,null,{"$f":"IF(シート名設定!E41=0,\"\",シート名設定!E41)","v":"印刷フォーム27ソートデーター"}]
[null,null,{"$f":"IF(シート名設定!E42=0,\"\",シート名設定!E42)","v":"印刷フォーム28ソートデーター"}]
[null,null,{"$f":"IF(シート名設定!E43=0,\"\",シート名設定!E43)","v":"印刷フォーム29ソートデーター"}]
[null,null,{"$f":"IF(シート名設定!E44=0,\"\",シート名設定!E44)","v":"印刷フォーム30ソートデーター"}]
[null,null,{"$f":"IF(シート名設定!C30=0,\"\",シート名設定!C30)","v":"データー入力"}]

{"sheet":"一覧表付ファイル作成入力設定9","index":20,"n_rows":97,"n_cols":5,"rows_kept":97,"cut":false,"hidden":false,"merged":[[2,1,2,2]]}
[]
[]
[null,{"$f":"シート名設定!$C$17","v":"一覧表付ファイル作成入力設定9"}]
[null,"１．入力元の設定"]
[null,"項　　　　　　目","設定内容"]
[null,"シート名"]
[null,"データ先頭セル行番号"]
[null,"データ先頭セル列番号"]
[null,"異同比較列番号"]
[null,"データー数"]
[null,"For Next の増分"]
[]
[null,"２．入力先の設定"]
[null,"項　　　　　　目","設定内容"]
[null,"シート名"]
[null,"入力先頭セル行番号"]
[null,"入力先頭セル列番号"]
[null,"入力最終セル行番号"]
[null,"入力最終セル列番号"]
[null,"入力データー数"]
[null,"通しページ入力セル行番号"]
[null,"通しページ入力セル列番号"]
[null,"区分内ページ入力セル行番号"]
[null,"区分内ページ入力セル列番号"]
[null,"３．印刷処理かファイルのメール送信の設定"]
[null,"項　　　　　　目","設定内容"]
[null,"印刷処理か\nファイルの\nメール送信\nの選択",null,1]
[null,"ファイルのメール送信の場合の印刷フォームソートデーターシートのメールアドレスが入力されている列番号"]
[null,"ファイルのメール送信の場合の印刷フォームソートデーターシートの件名が入力されている列番号"]
[null,"ファイルのメール送信の場合の印刷フォームソートデーターシートの本文が入力されている列番号"]
[null,"ファイルのメール送信の場合の添付ファイルの保存先ドライブ及びフォルダー"]
[]
[]
[]
[]
[]
[null,null,{"$f":"IF(シート名設定!C35=0,\"\",シート名設定!C35)","v":"印刷フォーム1"},1,"印刷する"]
[null,null,{"$f":"IF(シート名設定!C36=0,\"\",シート名設定!C36)","v":"印刷フォーム2"},2,"メールで送信する"]
[null,null,{"$f":"IF(シート名設定!C37=0,\"\",シート名設定!C37)","v":"印刷フォーム3"},3,"添付ファイルなし件名本文のみのメール"]
[null,null,{"$f":"IF(シート名設定!C38=0,\"\",シート名設定!C38)","v":"印刷フォーム4"}]
[null,null,{"$f":"IF(シート名設定!C39=0,\"\",シート名設定!C39)","v":"印刷フォーム5"}]
[null,null,{"$f":"IF(シート名設定!C40=0,\"\",シート名設定!C40)","v":"印刷フォーム6"}]
[null,null,{"$f":"IF(シート名設定!C41=0,\"\",シート名設定!C41)","v":"印刷フォーム7"}]
[null,null,{"$f":"IF(シート名設定!C42=0,\"\",シート名設定!C42)","v":"印刷フォーム8"}]
[null,null,{"$f":"IF(シート名設定!C43=0,\"\",シート名設定!C43)","v":"印刷フォーム9"}]
[null,null,{"$f":"IF(シート名設定!C44=0,\"\",シート名設定!C44)","v":"印刷フォーム10"}]
[null,null,{"$f":"IF(シート名設定!C45=0,\"\",シート名設定!C45)","v":"印刷フォーム11"}]
[null,null,{"$f":"IF(シート名設定!C46=0,\"\",シート名設定!C46)","v":"印刷フォーム12"}]
[null,null,{"$f":"IF(シート名設定!C47=0,\"\",シート名設定!C47)","v":"印刷フォーム13"}]
[null,null,{"$f":"IF(シート名設定!C48=0,\"\",シート名設定!C48)","v":"印刷フォーム14"}]
[null,null,{"$f":"IF(シート名設定!C49=0,\"\",シート名設定!C49)","v":"印刷フォーム15"}]
[null,null,{"$f":"IF(シート名設定!C50=0,\"\",シート名設定!C50)","v":"印刷フォーム16"}]
[null,null,{"$f":"IF(シート名設定!C51=0,\"\",シート名設定!C51)","v":"印刷フォーム17"}]
[null,null,{"$f":"IF(シート名設定!C52=0,\"\",シート名設定!C52)","v":"印刷フォーム18"}]
[null,null,{"$f":"IF(シート名設定!C53=0,\"\",シート名設定!C53)","v":"印刷フォーム19"}]
[null,null,{"$f":"IF(シート名設定!C54=0,\"\",シート名設定!C54)","v":"印刷フォーム20"}]
[null,null,{"$f":"IF(シート名設定!E5=0,\"\",シート名設定!E5)","v":"印刷フォーム21"}]
[null,null,{"$f":"IF(シート名設定!E6=0,\"\",シート名設定!E6)","v":"印刷フォーム22"}]
[null,null,{"$f":"IF(シート名設定!E7=0,\"\",シート名設定!E7)","v":"印刷フォーム23"}]
[null,null,{"$f":"IF(シート名設定!E8=0,\"\",シート名設定!E8)","v":"印刷フォーム24"}]
[null,null,{"$f":"IF(シート名設定!E9=0,\"\",シート名設定!E9)","v":"印刷フォーム25"}]
[null,null,{"$f":"IF(シート名設定!E10=0,\"\",シート名設定!E10)","v":"印刷フォーム26"}]
[null,null,{"$f":"IF(シート名設定!E11=0,\"\",シート名設定!E11)","v":"印刷フォーム27"}]
[null,null,{"$f":"IF(シート名設定!E12=0,\"\",シート名設定!E12)","v":"印刷フォーム28"}]
[null,null,{"$f":"IF(シート名設定!E13=0,\"\",シート名設定!E13)","v":"印刷フォーム29"}]
[null,null,{"$f":"IF(シート名設定!E14=0,\"\",シート名設定!E14)","v":"印刷フォーム30"}]
[null,null,{"$f":"IF(シート名設定!E15=0,\"\",シート名設定!E15)","v":"印刷フォーム1ソートデーター"}]
[null,null,{"$f":"IF(シート名設定!E16=0,\"\",シート名設定!E16)","v":"印刷フォーム2ソートデーター"}]
[null,null,{"$f":"IF(シート名設定!E17=0,\"\",シート名設定!E17)","v":"印刷フォーム3ソートデーター"}]
[null,null,{"$f":"IF(シート名設定!E18=0,\"\",シート名設定!E18)","v":"印刷フォーム4ソートデーター"}]
[null,null,{"$f":"IF(シート名設定!E19=0,\"\",シート名設定!E19)","v":"印刷フォーム5ソートデーター"}]
[null,null,{"$f":"IF(シート名設定!E20=0,\"\",シート名設定!E20)","v":"印刷フォーム6ソートデーター"}]
[null,null,{"$f":"IF(シート名設定!E21=0,\"\",シート名設定!E21)","v":"印刷フォーム7ソートデーター"}]
[null,null,{"$f":"IF(シート名設定!E22=0,\"\",シート名設定!E22)","v":"印刷フォーム8ソートデーター"}]
[null,null,{"$f":"IF(シート名設定!E23=0,\"\",シート名設定!E23)","v":"印刷フォーム9ソートデーター"}]
[null,null,{"$f":"IF(シート名設定!E24=0,\"\",シート名設定!E24)","v":"印刷フォーム10ソートデーター"}]
[null,null,{"$f":"IF(シート名設定!E25=0,\"\",シート名設定!E25)","v":"印刷フォーム11ソートデーター"}]
[null,null,{"$f":"IF(シート名設定!E26=0,\"\",シート名設定!E26)","v":"印刷フォーム12ソートデーター"}]
[null,null,{"$f":"IF(シート名設定!E27=0,\"\",シート名設定!E27)","v":"印刷フォーム13ソートデーター"}]
[null,null,{"$f":"IF(シート名設定!E28=0,\"\",シート名設定!E28)","v":"印刷フォーム14ソートデーター"}]
[null,null,{"$f":"IF(シート名設定!E29=0,\"\",シート名設定!E29)","v":"印刷フォーム15ソートデーター"}]
[null,null,{"$f":"IF(シート名設定!E30=0,\"\",シート名設定!E30)","v":"印刷フォーム16ソートデーター"}]
[null,null,{"$f":"IF(シート名設定!E31=0,\"\",シート名設定!E31)","v":"印刷フォーム17ソートデーター"}]
[null,null,{"$f":"IF(シート名設定!E32=0,\"\",シート名設定!E32)","v":"印刷フォーム18ソートデーター"}]
[null,null,{"$f":"IF(シート名設定!E33=0,\"\",シート名設定!E33)","v":"印刷フォーム19ソートデーター"}]
[null,null,{"$f":"IF(シート名設定!E34=0,\"\",シート名設定!E34)","v":"印刷フォーム20ソートデーター"}]
[null,null,{"$f":"IF(シート名設定!E35=0,\"\",シート名設定!E35)","v":"印刷フォーム21ソートデーター"}]
[null,null,{"$f":"IF(シート名設定!E36=0,\"\",シート名設定!E36)","v":"印刷フォーム22ソートデーター"}]
[null,null,{"$f":"IF(シート名設定!E37=0,\"\",シート名設定!E37)","v":"印刷フォーム23ソートデーター"}]
[null,null,{"$f":"IF(シート名設定!E38=0,\"\",シート名設定!E38)","v":"印刷フォーム24ソートデーター"}]
[null,null,{"$f":"IF(シート名設定!E39=0,\"\",シート名設定!E39)","v":"印刷フォーム25ソートデーター"}]
[null,null,{"$f":"IF(シート名設定!E40=0,\"\",シート名設定!E40)","v":"印刷フォーム26ソートデーター"}]
[null,null,{"$f":"IF(シート名設定!E41=0,\"\",シート名設定!E41)","v":"印刷フォーム27ソートデーター"}]
[null,null,{"$f":"IF(シート名設定!E42=0,\"\",シート名設定!E42)","v":"印刷フォーム28ソートデーター"}]
[null,null,{"$f":"IF(シート名設定!E43=0,\"\",シート名設定!E43)","v":"印刷フォーム29ソートデーター"}]
[null,null,{"$f":"IF(シート名設定!E44=0,\"\",シート名設定!E44)","v":"印刷フォーム30ソートデーター"}]
[null,null,{"$f":"IF(シート名設定!C30=0,\"\",シート名設定!C30)","v":"データー入力"}]

{"sheet":"一覧表付ファイル作成入力設定10","index":21,"n_rows":97,"n_cols":5,"rows_kept":97,"cut":false,"hidden":false,"merged":[[2,1,2,2]]}
[]
[]
[null,{"$f":"シート名設定!$C$18","v":"一覧表付ファイル作成入力設定10"}]
[null,"１．入力元の設定"]
[null,"項　　　　　　目","設定内容"]
[null,"シート名"]
[null,"データ先頭セル行番号"]
[null,"データ先頭セル列番号"]
[null,"異同比較列番号"]
[null,"データー数"]
[null,"For Next の増分"]
[]
[null,"２．入力先の設定"]
[null,"項　　　　　　目","設定内容"]
[null,"シート名"]
[null,"入力先頭セル行番号"]
[null,"入力先頭セル列番号"]
[null,"入力最終セル行番号"]
[null,"入力最終セル列番号"]
[null,"入力データー数"]
[null,"通しページ入力セル行番号"]
[null,"通しページ入力セル列番号"]
[null,"区分内ページ入力セル行番号"]
[null,"区分内ページ入力セル列番号"]
[null,"３．印刷処理かファイルのメール送信の設定"]
[null,"項　　　　　　目","設定内容"]
[null,"印刷処理か\nファイルの\nメール送信\nの選択",null,1]
[null,"ファイルのメール送信の場合の印刷フォームソートデーターシートのメールアドレスが入力されている列番号"]
[null,"ファイルのメール送信の場合の印刷フォームソートデーターシートの件名が入力されている列番号"]
[null,"ファイルのメール送信の場合の印刷フォームソートデーターシートの本文が入力されている列番号"]
[null,"ファイルのメール送信の場合の添付ファイルの保存先ドライブ及びフォルダー"]
[]
[]
[]
[]
[]
[null,null,{"$f":"IF(シート名設定!C35=0,\"\",シート名設定!C35)","v":"印刷フォーム1"},1,"印刷する"]
[null,null,{"$f":"IF(シート名設定!C36=0,\"\",シート名設定!C36)","v":"印刷フォーム2"},2,"メールで送信する"]
[null,null,{"$f":"IF(シート名設定!C37=0,\"\",シート名設定!C37)","v":"印刷フォーム3"},3,"添付ファイルなし件名本文のみのメール"]
[null,null,{"$f":"IF(シート名設定!C38=0,\"\",シート名設定!C38)","v":"印刷フォーム4"}]
[null,null,{"$f":"IF(シート名設定!C39=0,\"\",シート名設定!C39)","v":"印刷フォーム5"}]
[null,null,{"$f":"IF(シート名設定!C40=0,\"\",シート名設定!C40)","v":"印刷フォーム6"}]
[null,null,{"$f":"IF(シート名設定!C41=0,\"\",シート名設定!C41)","v":"印刷フォーム7"}]
[null,null,{"$f":"IF(シート名設定!C42=0,\"\",シート名設定!C42)","v":"印刷フォーム8"}]
[null,null,{"$f":"IF(シート名設定!C43=0,\"\",シート名設定!C43)","v":"印刷フォーム9"}]
[null,null,{"$f":"IF(シート名設定!C44=0,\"\",シート名設定!C44)","v":"印刷フォーム10"}]
[null,null,{"$f":"IF(シート名設定!C45=0,\"\",シート名設定!C45)","v":"印刷フォーム11"}]
[null,null,{"$f":"IF(シート名設定!C46=0,\"\",シート名設定!C46)","v":"印刷フォーム12"}]
[null,null,{"$f":"IF(シート名設定!C47=0,\"\",シート名設定!C47)","v":"印刷フォーム13"}]
[null,null,{"$f":"IF(シート名設定!C48=0,\"\",シート名設定!C48)","v":"印刷フォーム14"}]
[null,null,{"$f":"IF(シート名設定!C49=0,\"\",シート名設定!C49)","v":"印刷フォーム15"}]
[null,null,{"$f":"IF(シート名設定!C50=0,\"\",シート名設定!C50)","v":"印刷フォーム16"}]
[null,null,{"$f":"IF(シート名設定!C51=0,\"\",シート名設定!C51)","v":"印刷フォーム17"}]
[null,null,{"$f":"IF(シート名設定!C52=0,\"\",シート名設定!C52)","v":"印刷フォーム18"}]
[null,null,{"$f":"IF(シート名設定!C53=0,\"\",シート名設定!C53)","v":"印刷フォーム19"}]
[null,null,{"$f":"IF(シート名設定!C54=0,\"\",シート名設定!C54)","v":"印刷フォーム20"}]
[null,null,{"$f":"IF(シート名設定!E5=0,\"\",シート名設定!E5)","v":"印刷フォーム21"}]
[null,null,{"$f":"IF(シート名設定!E6=0,\"\",シート名設定!E6)","v":"印刷フォーム22"}]
[null,null,{"$f":"IF(シート名設定!E7=0,\"\",シート名設定!E7)","v":"印刷フォーム23"}]
[null,null,{"$f":"IF(シート名設定!E8=0,\"\",シート名設定!E8)","v":"印刷フォーム24"}]
[null,null,{"$f":"IF(シート名設定!E9=0,\"\",シート名設定!E9)","v":"印刷フォーム25"}]
[null,null,{"$f":"IF(シート名設定!E10=0,\"\",シート名設定!E10)","v":"印刷フォーム26"}]
[null,null,{"$f":"IF(シート名設定!E11=0,\"\",シート名設定!E11)","v":"印刷フォーム27"}]
[null,null,{"$f":"IF(シート名設定!E12=0,\"\",シート名設定!E12)","v":"印刷フォーム28"}]
[null,null,{"$f":"IF(シート名設定!E13=0,\"\",シート名設定!E13)","v":"印刷フォーム29"}]
[null,null,{"$f":"IF(シート名設定!E14=0,\"\",シート名設定!E14)","v":"印刷フォーム30"}]
[null,null,{"$f":"IF(シート名設定!E15=0,\"\",シート名設定!E15)","v":"印刷フォーム1ソートデーター"}]
[null,null,{"$f":"IF(シート名設定!E16=0,\"\",シート名設定!E16)","v":"印刷フォーム2ソートデーター"}]
[null,null,{"$f":"IF(シート名設定!E17=0,\"\",シート名設定!E17)","v":"印刷フォーム3ソートデーター"}]
[null,null,{"$f":"IF(シート名設定!E18=0,\"\",シート名設定!E18)","v":"印刷フォーム4ソートデーター"}]
[null,null,{"$f":"IF(シート名設定!E19=0,\"\",シート名設定!E19)","v":"印刷フォーム5ソートデーター"}]
[null,null,{"$f":"IF(シート名設定!E20=0,\"\",シート名設定!E20)","v":"印刷フォーム6ソートデーター"}]
[null,null,{"$f":"IF(シート名設定!E21=0,\"\",シート名設定!E21)","v":"印刷フォーム7ソートデーター"}]
[null,null,{"$f":"IF(シート名設定!E22=0,\"\",シート名設定!E22)","v":"印刷フォーム8ソートデーター"}]
[null,null,{"$f":"IF(シート名設定!E23=0,\"\",シート名設定!E23)","v":"印刷フォーム9ソートデーター"}]
[null,null,{"$f":"IF(シート名設定!E24=0,\"\",シート名設定!E24)","v":"印刷フォーム10ソートデーター"}]
[null,null,{"$f":"IF(シート名設定!E25=0,\"\",シート名設定!E25)","v":"印刷フォーム11ソートデーター"}]
[null,null,{"$f":"IF(シート名設定!E26=0,\"\",シート名設定!E26)","v":"印刷フォーム12ソートデーター"}]
[null,null,{"$f":"IF(シート名設定!E27=0,\"\",シート名設定!E27)","v":"印刷フォーム13ソートデーター"}]
[null,null,{"$f":"IF(シート名設定!E28=0,\"\",シート名設定!E28)","v":"印刷フォーム14ソートデーター"}]
[null,null,{"$f":"IF(シート名設定!E29=0,\"\",シート名設定!E29)","v":"印刷フォーム15ソートデーター"}]
[null,null,{"$f":"IF(シート名設定!E30=0,\"\",シート名設定!E30)","v":"印刷フォーム16ソートデーター"}]
[null,null,{"$f":"IF(シート名設定!E31=0,\"\",シート名設定!E31)","v":"印刷フォーム17ソートデーター"}]
[null,null,{"$f":"IF(シート名設定!E32=0,\"\",シート名設定!E32)","v":"印刷フォーム18ソートデーター"}]
[null,null,{"$f":"IF(シート名設定!E33=0,\"\",シート名設定!E33)","v":"印刷フォーム19ソートデーター"}]
[null,null,{"$f":"IF(シート名設定!E34=0,\"\",シート名設定!E34)","v":"印刷フォーム20ソートデーター"}]
[null,null,{"$f":"IF(シート名設定!E35=0,\"\",シート名設定!E35)","v":"印刷フォーム21ソートデーター"}]
[null,null,{"$f":"IF(シート名設定!E36=0,\"\",シート名設定!E36)","v":"印刷フォーム22ソートデーター"}]
[null,null,{"$f":"IF(シート名設定!E37=0,\"\",シート名設定!E37)","v":"印刷フォーム23ソートデーター"}]
[null,null,{"$f":"IF(シート名設定!E38=0,\"\",シート名設定!E38)","v":"印刷フォーム24ソートデーター"}]
[null,null,{"$f":"IF(シート名設定!E39=0,\"\",シート名設定!E39)","v":"印刷フォーム25ソートデーター"}]
[null,null,{"$f":"IF(シート名設定!E40=0,\"\",シート名設定!E40)","v":"印刷フォーム26ソートデーター"}]
[null,null,{"$f":"IF(シート名設定!E41=0,\"\",シート名設定!E41)","v":"印刷フォーム27ソートデーター"}]
[null,null,{"$f":"IF(シート名設定!E42=0,\"\",シート名設定!E42)","v":"印刷フォーム28ソートデーター"}]
[null,null,{"$f":"IF(シート名設定!E43=0,\"\",シート名設定!E43)","v":"印刷フォーム29ソートデーター"}]
[null,null,{"$f":"IF(シート名設定!E44=0,\"\",シート名設定!E44)","v":"印刷フォーム30ソートデーター"}]
[null,null,{"$f":"IF(シート名設定!C30=0,\"\",シート名設定!C30)","v":"データー入力"}]

{"sheet":"一覧表付ファイル作成入力設定11","index":22,"n_rows":97,"n_cols":5,"rows_kept":97,"cut":false,"hidden":false,"merged":[[2,1,2,2]]}
[]
[]
[null,{"$f":"シート名設定!$C$19","v":"一覧表付ファイル作成入力設定11"}]
[null,"１．入力元の設定"]
[null,"項　　　　　　目","設定内容"]
[null,"シート名"]
[null,"データ先頭セル行番号"]
[null,"データ先頭セル列番号"]
[null,"異同比較列番号"]
[null,"データー数"]
[null,"For Next の増分"]
[]
[null,"２．入力先の設定"]
[null,"項　　　　　　目","設定内容"]
[null,"シート名"]
[null,"入力先頭セル行番号"]
[null,"入力先頭セル列番号"]
[null,"入力最終セル行番号"]
[null,"入力最終セル列番号"]
[null,"入力データー数"]
[null,"通しページ入力セル行番号"]
[null,"通しページ入力セル列番号"]
[null,"区分内ページ入力セル行番号"]
[null,"区分内ページ入力セル列番号"]
[null,"３．印刷処理かファイルのメール送信の設定"]
[null,"項　　　　　　目","設定内容"]
[null,"印刷処理か\nファイルの\nメール送信\nの選択",null,1]
[null,"ファイルのメール送信の場合の印刷フォームソートデーターシートのメールアドレスが入力されている列番号"]
[null,"ファイルのメール送信の場合の印刷フォームソートデーターシートの件名が入力されている列番号"]
[null,"ファイルのメール送信の場合の印刷フォームソートデーターシートの本文が入力されている列番号"]
[null,"ファイルのメール送信の場合の添付ファイルの保存先ドライブ及びフォルダー"]
[]
[]
[]
[]
[]
[null,null,{"$f":"IF(シート名設定!C35=0,\"\",シート名設定!C35)","v":"印刷フォーム1"},1,"印刷する"]
[null,null,{"$f":"IF(シート名設定!C36=0,\"\",シート名設定!C36)","v":"印刷フォーム2"},2,"メールで送信する"]
[null,null,{"$f":"IF(シート名設定!C37=0,\"\",シート名設定!C37)","v":"印刷フォーム3"},3,"添付ファイルなし件名本文のみのメール"]
[null,null,{"$f":"IF(シート名設定!C38=0,\"\",シート名設定!C38)","v":"印刷フォーム4"}]
[null,null,{"$f":"IF(シート名設定!C39=0,\"\",シート名設定!C39)","v":"印刷フォーム5"}]
[null,null,{"$f":"IF(シート名設定!C40=0,\"\",シート名設定!C40)","v":"印刷フォーム6"}]
[null,null,{"$f":"IF(シート名設定!C41=0,\"\",シート名設定!C41)","v":"印刷フォーム7"}]
[null,null,{"$f":"IF(シート名設定!C42=0,\"\",シート名設定!C42)","v":"印刷フォーム8"}]
[null,null,{"$f":"IF(シート名設定!C43=0,\"\",シート名設定!C43)","v":"印刷フォーム9"}]
[null,null,{"$f":"IF(シート名設定!C44=0,\"\",シート名設定!C44)","v":"印刷フォーム10"}]
[null,null,{"$f":"IF(シート名設定!C45=0,\"\",シート名設定!C45)","v":"印刷フォーム11"}]
[null,null,{"$f":"IF(シート名設定!C46=0,\"\",シート名設定!C46)","v":"印刷フォーム12"}]
[null,null,{"$f":"IF(シート名設定!C47=0,\"\",シート名設定!C47)","v":"印刷フォーム13"}]
[null,null,{"$f":"IF(シート名設定!C48=0,\"\",シート名設定!C48)","v":"印刷フォーム14"}]
[null,null,{"$f":"IF(シート名設定!C49=0,\"\",シート名設定!C49)","v":"印刷フォーム15"}]
[null,null,{"$f":"IF(シート名設定!C50=0,\"\",シート名設定!C50)","v":"印刷フォーム16"}]
[null,null,{"$f":"IF(シート名設定!C51=0,\"\",シート名設定!C51)","v":"印刷フォーム17"}]
[null,null,{"$f":"IF(シート名設定!C52=0,\"\",シート名設定!C52)","v":"印刷フォーム18"}]
[null,null,{"$f":"IF(シート名設定!C53=0,\"\",シート名設定!C53)","v":"印刷フォーム19"}]
[null,null,{"$f":"IF(シート名設定!C54=0,\"\",シート名設定!C54)","v":"印刷フォーム20"}]
[null,null,{"$f":"IF(シート名設定!E5=0,\"\",シート名設定!E5)","v":"印刷フォーム21"}]
[null,null,{"$f":"IF(シート名設定!E6=0,\"\",シート名設定!E6)","v":"印刷フォーム22"}]
[null,null,{"$f":"IF(シート名設定!E7=0,\"\",シート名設定!E7)","v":"印刷フォーム23"}]
[null,null,{"$f":"IF(シート名設定!E8=0,\"\",シート名設定!E8)","v":"印刷フォーム24"}]
[null,null,{"$f":"IF(シート名設定!E9=0,\"\",シート名設定!E9)","v":"印刷フォーム25"}]
[null,null,{"$f":"IF(シート名設定!E10=0,\"\",シート名設定!E10)","v":"印刷フォーム26"}]
[null,null,{"$f":"IF(シート名設定!E11=0,\"\",シート名設定!E11)","v":"印刷フォーム27"}]
[null,null,{"$f":"IF(シート名設定!E12=0,\"\",シート名設定!E12)","v":"印刷フォーム28"}]
[null,null,{"$f":"IF(シート名設定!E13=0,\"\",シート名設定!E13)","v":"印刷フォーム29"}]
[null,null,{"$f":"IF(シート名設定!E14=0,\"\",シート名設定!E14)","v":"印刷フォーム30"}]
[null,null,{"$f":"IF(シート名設定!E15=0,\"\",シート名設定!E15)","v":"印刷フォーム1ソートデーター"}]
[null,null,{"$f":"IF(シート名設定!E16=0,\"\",シート名設定!E16)","v":"印刷フォーム2ソートデーター"}]
[null,null,{"$f":"IF(シート名設定!E17=0,\"\",シート名設定!E17)","v":"印刷フォーム3ソートデーター"}]
[null,null,{"$f":"IF(シート名設定!E18=0,\"\",シート名設定!E18)","v":"印刷フォーム4ソートデーター"}]
[null,null,{"$f":"IF(シート名設定!E19=0,\"\",シート名設定!E19)","v":"印刷フォーム5ソートデーター"}]
[null,null,{"$f":"IF(シート名設定!E20=0,\"\",シート名設定!E20)","v":"印刷フォーム6ソートデーター"}]
[null,null,{"$f":"IF(シート名設定!E21=0,\"\",シート名設定!E21)","v":"印刷フォーム7ソートデーター"}]
[null,null,{"$f":"IF(シート名設定!E22=0,\"\",シート名設定!E22)","v":"印刷フォーム8ソートデーター"}]
[null,null,{"$f":"IF(シート名設定!E23=0,\"\",シート名設定!E23)","v":"印刷フォーム9ソートデーター"}]
[null,null,{"$f":"IF(シート名設定!E24=0,\"\",シート名設定!E24)","v":"印刷フォーム10ソートデーター"}]
[null,null,{"$f":"IF(シート名設定!E25=0,\"\",シート名設定!E25)","v":"印刷フォーム11ソートデーター"}]
[null,null,{"$f":"IF(シート名設定!E26=0,\"\",シート名設定!E26)","v":"印刷フォーム12ソートデーター"}]
[null,null,{"$f":"IF(シート名設定!E27=0,\"\",シート名設定!E27)","v":"印刷フォーム13ソートデーター"}]
[null,null,{"$f":"IF(シート名設定!E28=0,\"\",シート名設定!E28)","v":"印刷フォーム14ソートデーター"}]
[null,null,{"$f":"IF(シート名設定!E29=0,\"\",シート名設定!E29)","v":"印刷フォーム15ソートデーター"}]
[null,null,{"$f":"IF(シート名設定!E30=0,\"\",シート名設定!E30)","v":"印刷フォーム16ソートデーター"}]
[null,null,{"$f":"IF(シート名設定!E31=0,\"\",シート名設定!E31)","v":"印刷フォーム17ソートデーター"}]
[null,null,{"$f":"IF(シート名設定!E32=0,\"\",シート名設定!E32)","v":"印刷フォーム18ソートデーター"}]
[null,null,{"$f":"IF(シート名設定!E33=0,\"\",シート名設定!E33)","v":"印刷フォーム19ソートデーター"}]
[null,null,{"$f":"IF(シート名設定!E34=0,\"\",シート名設定!E34)","v":"印刷フォーム20ソートデーター"}]
[null,null,{"$f":"IF(シート名設定!E35=0,\"\",シート名設定!E35)","v":"印刷フォーム21ソートデーター"}]
[null,null,{"$f":"IF(シート名設定!E36=0,\"\",シート名設定!E36)","v":"印刷フォーム22ソートデーター"}]
[null,null,{"$f":"IF(シート名設定!E37=0,\"\",シート名設定!E37)","v":"印刷フォーム23ソートデーター"}]
[null,null,{"$f":"IF(シート名設定!E38=0,\"\",シート名設定!E38)","v":"印刷フォーム24ソートデーター"}]
[null,null,{"$f":"IF(シート名設定!E39=0,\"\",シート名設定!E39)","v":"印刷フォーム25ソートデーター"}]
[null,null,{"$f":"IF(シート名設定!E40=0,\"\",シート名設定!E40)","v":"印刷フォーム26ソートデーター"}]
[null,null,{"$f":"IF(シート名設定!E41=0,\"\",シート名設定!E41)","v":"印刷フォーム27ソートデーター"}]
[null,null,{"$f":"IF(シート名設定!E42=0,\"\",シート名設定!E42)","v":"印刷フォーム28ソートデーター"}]
[null,null,{"$f":"IF(シート名設定!E43=0,\"\",シート名設定!E43)","v":"印刷フォーム29ソートデーター"}]
[null,null,{"$f":"IF(シート名設定!E44=0,\"\",シート名設定!E44)","v":"印刷フォーム30ソートデーター"}]
[null,null,{"$f":"IF(シート名設定!C30=0,\"\",シート名設定!C30)","v":"データー入力"}]

{"sheet":"一覧表付ファイル作成入力設定12","index":23,"n_rows":97,"n_cols":5,"rows_kept":97,"cut":false,"hidden":false,"merged":[[2,1,2,2]]}
[]
[]
[null,{"$f":"シート名設定!$C$20","v":"一覧表付ファイル作成入力設定12"}]
[null,"１．入力元の設定"]
[null,"項　　　　　　目","設定内容"]
[null,"シート名"]
[null,"データ先頭セル行番号"]
[null,"データ先頭セル列番号"]
[null,"異同比較列番号"]
[null,"データー数"]
[null,"For Next の増分"]
[]
[null,"２．入力先の設定"]
[null,"項　　　　　　目","設定内容"]
[null,"シート名"]
[null,"入力先頭セル行番号"]
[null,"入力先頭セル列番号"]
[null,"入力最終セル行番号"]
[null,"入力最終セル列番号"]
[null,"入力データー数"]
[null,"通しページ入力セル行番号"]
[null,"通しページ入力セル列番号"]
[null,"区分内ページ入力セル行番号"]
[null,"区分内ページ入力セル列番号"]
[null,"３．印刷処理かファイルのメール送信の設定"]
[null,"項　　　　　　目","設定内容"]
[null,"印刷処理か\nファイルの\nメール送信\nの選択",null,1]
[null,"ファイルのメール送信の場合の印刷フォームソートデーターシートのメールアドレスが入力されている列番号"]
[null,"ファイルのメール送信の場合の印刷フォームソートデーターシートの件名が入力されている列番号"]
[null,"ファイルのメール送信の場合の印刷フォームソートデーターシートの本文が入力されている列番号"]
[null,"ファイルのメール送信の場合の添付ファイルの保存先ドライブ及びフォルダー"]
[]
[]
[]
[]
[]
[null,null,{"$f":"IF(シート名設定!C35=0,\"\",シート名設定!C35)","v":"印刷フォーム1"},1,"印刷する"]
[null,null,{"$f":"IF(シート名設定!C36=0,\"\",シート名設定!C36)","v":"印刷フォーム2"},2,"メールで送信する"]
[null,null,{"$f":"IF(シート名設定!C37=0,\"\",シート名設定!C37)","v":"印刷フォーム3"},3,"添付ファイルなし件名本文のみのメール"]
[null,null,{"$f":"IF(シート名設定!C38=0,\"\",シート名設定!C38)","v":"印刷フォーム4"}]
[null,null,{"$f":"IF(シート名設定!C39=0,\"\",シート名設定!C39)","v":"印刷フォーム5"}]
[null,null,{"$f":"IF(シート名設定!C40=0,\"\",シート名設定!C40)","v":"印刷フォーム6"}]
[null,null,{"$f":"IF(シート名設定!C41=0,\"\",シート名設定!C41)","v":"印刷フォーム7"}]
[null,null,{"$f":"IF(シート名設定!C42=0,\"\",シート名設定!C42)","v":"印刷フォーム8"}]
[null,null,{"$f":"IF(シート名設定!C43=0,\"\",シート名設定!C43)","v":"印刷フォーム9"}]
[null,null,{"$f":"IF(シート名設定!C44=0,\"\",シート名設定!C44)","v":"印刷フォーム10"}]
[null,null,{"$f":"IF(シート名設定!C45=0,\"\",シート名設定!C45)","v":"印刷フォーム11"}]
[null,null,{"$f":"IF(シート名設定!C46=0,\"\",シート名設定!C46)","v":"印刷フォーム12"}]
[null,null,{"$f":"IF(シート名設定!C47=0,\"\",シート名設定!C47)","v":"印刷フォーム13"}]
[null,null,{"$f":"IF(シート名設定!C48=0,\"\",シート名設定!C48)","v":"印刷フォーム14"}]
[null,null,{"$f":"IF(シート名設定!C49=0,\"\",シート名設定!C49)","v":"印刷フォーム15"}]
[null,null,{"$f":"IF(シート名設定!C50=0,\"\",シート名設定!C50)","v":"印刷フォーム16"}]
[null,null,{"$f":"IF(シート名設定!C51=0,\"\",シート名設定!C51)","v":"印刷フォーム17"}]
[null,null,{"$f":"IF(シート名設定!C52=0,\"\",シート名設定!C52)","v":"印刷フォーム18"}]
[null,null,{"$f":"IF(シート名設定!C53=0,\"\",シート名設定!C53)","v":"印刷フォーム19"}]
[null,null,{"$f":"IF(シート名設定!C54=0,\"\",シート名設定!C54)","v":"印刷フォーム20"}]
[null,null,{"$f":"IF(シート名設定!E5=0,\"\",シート名設定!E5)","v":"印刷フォーム21"}]
[null,null,{"$f":"IF(シート名設定!E6=0,\"\",シート名設定!E6)","v":"印刷フォーム22"}]
[null,null,{"$f":"IF(シート名設定!E7=0,\"\",シート名設定!E7)","v":"印刷フォーム23"}]
[null,null,{"$f":"IF(シート名設定!E8=0,\"\",シート名設定!E8)","v":"印刷フォーム24"}]
[null,null,{"$f":"IF(シート名設定!E9=0,\"\",シート名設定!E9)","v":"印刷フォーム25"}]
[null,null,{"$f":"IF(シート名設定!E10=0,\"\",シート名設定!E10)","v":"印刷フォーム26"}]
[null,null,{"$f":"IF(シート名設定!E11=0,\"\",シート名設定!E11)","v":"印刷フォーム27"}]
[null,null,{"$f":"IF(シート名設定!E12=0,\"\",シート名設定!E12)","v":"印刷フォーム28"}]
[null,null,{"$f":"IF(シート名設定!E13=0,\"\",シート名設定!E13)","v":"印刷フォーム29"}]
[null,null,{"$f":"IF(シート名設定!E14=0,\"\",シート名設定!E14)","v":"印刷フォーム30"}]
[null,null,{"$f":"IF(シート名設定!E15=0,\"\",シート名設定!E15)","v":"印刷フォーム1ソートデーター"}]
[null,null,{"$f":"IF(シート名設定!E16=0,\"\",シート名設定!E16)","v":"印刷フォーム2ソートデーター"}]
[null,null,{"$f":"IF(シート名設定!E17=0,\"\",シート名設定!E17)","v":"印刷フォーム3ソートデーター"}]
[null,null,{"$f":"IF(シート名設定!E18=0,\"\",シート名設定!E18)","v":"印刷フォーム4ソートデーター"}]
[null,null,{"$f":"IF(シート名設定!E19=0,\"\",シート名設定!E19)","v":"印刷フォーム5ソートデーター"}]
[null,null,{"$f":"IF(シート名設定!E20=0,\"\",シート名設定!E20)","v":"印刷フォーム6ソートデーター"}]
[null,null,{"$f":"IF(シート名設定!E21=0,\"\",シート名設定!E21)","v":"印刷フォーム7ソートデーター"}]
[null,null,{"$f":"IF(シート名設定!E22=0,\"\",シート名設定!E22)","v":"印刷フォーム8ソートデーター"}]
[null,null,{"$f":"IF(シート名設定!E23=0,\"\",シート名設定!E23)","v":"印刷フォーム9ソートデーター"}]
[null,null,{"$f":"IF(シート名設定!E24=0,\"\",シート名設定!E24)","v":"印刷フォーム10ソートデーター"}]
[null,null,{"$f":"IF(シート名設定!E25=0,\"\",シート名設定!E25)","v":"印刷フォーム11ソートデーター"}]
[null,null,{"$f":"IF(シート名設定!E26=0,\"\",シート名設定!E26)","v":"印刷フォーム12ソートデーター"}]
[null,null,{"$f":"IF(シート名設定!E27=0,\"\",シート名設定!E27)","v":"印刷フォーム13ソートデーター"}]
[null,null,{"$f":"IF(シート名設定!E28=0,\"\",シート名設定!E28)","v":"印刷フォーム14ソートデーター"}]
[null,null,{"$f":"IF(シート名設定!E29=0,\"\",シート名設定!E29)","v":"印刷フォーム15ソートデーター"}]
[null,null,{"$f":"IF(シート名設定!E30=0,\"\",シート名設定!E30)","v":"印刷フォーム16ソートデーター"}]
[null,null,{"$f":"IF(シート名設定!E31=0,\"\",シート名設定!E31)","v":"印刷フォーム17ソートデーター"}]
[null,null,{"$f":"IF(シート名設定!E32=0,\"\",シート名設定!E32)","v":"印刷フォーム18ソートデーター"}]
[null,null,{"$f":"IF(シート名設定!E33=0,\"\",シート名設定!E33)","v":"印刷フォーム19ソートデーター"}]
[null,null,{"$f":"IF(シート名設定!E34=0,\"\",シート名設定!E34)","v":"印刷フォーム20ソートデーター"}]
[null,null,{"$f":"IF(シート名設定!E35=0,\"\",シート名設定!E35)","v":"印刷フォーム21ソートデーター"}]
[null,null,{"$f":"IF(シート名設定!E36=0,\"\",シート名設定!E36)","v":"印刷フォーム22ソートデーター"}]
[null,null,{"$f":"IF(シート名設定!E37=0,\"\",シート名設定!E37)","v":"印刷フォーム23ソートデーター"}]
[null,null,{"$f":"IF(シート名設定!E38=0,\"\",シート名設定!E38)","v":"印刷フォーム24ソートデーター"}]
[null,null,{"$f":"IF(シート名設定!E39=0,\"\",シート名設定!E39)","v":"印刷フォーム25ソートデーター"}]
[null,null,{"$f":"IF(シート名設定!E40=0,\"\",シート名設定!E40)","v":"印刷フォーム26ソートデーター"}]
[null,null,{"$f":"IF(シート名設定!E41=0,\"\",シート名設定!E41)","v":"印刷フォーム27ソートデーター"}]
[null,null,{"$f":"IF(シート名設定!E42=0,\"\",シート名設定!E42)","v":"印刷フォーム28ソートデーター"}]
[null,null,{"$f":"IF(シート名設定!E43=0,\"\",シート名設定!E43)","v":"印刷フォーム29ソートデーター"}]
[null,null,{"$f":"IF(シート名設定!E44=0,\"\",シート名設定!E44)","v":"印刷フォーム30ソートデーター"}]
[null,null,{"$f":"IF(シート名設定!C30=0,\"\",シート名設定!C30)","v":"データー入力"}]

{"sheet":"一覧表付ファイル作成入力設定13","index":24,"n_rows":97,"n_cols":5,"rows_kept":97,"cut":false,"hidden":false,"merged":[[2,1,2,2]]}
[]
[]
[null,{"$f":"シート名設定!$C$21","v":"一覧表付ファイル作成入力設定13"}]
[null,"１．入力元の設定"]
[null,"項　　　　　　目","設定内容"]
[null,"シート名"]
[null,"データ先頭セル行番号"]
[null,"データ先頭セル列番号"]
[null,"異同比較列番号"]
[null,"データー数"]
[null,"For Next の増分"]
[]
[null,"２．入力先の設定"]
[null,"項　　　　　　目","設定内容"]
[null,"シート名"]
[null,"入力先頭セル行番号"]
[null,"入力先頭セル列番号"]
[null,"入力最終セル行番号"]
[null,"入力最終セル列番号"]
[null,"入力データー数"]
[null,"通しページ入力セル行番号"]
[null,"通しページ入力セル列番号"]
[null,"区分内ページ入力セル行番号"]
[null,"区分内ページ入力セル列番号"]
[null,"３．印刷処理かファイルのメール送信の設定"]
[null,"項　　　　　　目","設定内容"]
[null,"印刷処理か\nファイルの\nメール送信\nの選択",null,1]
[null,"ファイルのメール送信の場合の印刷フォームソートデーターシートのメールアドレスが入力されている列番号"]
[null,"ファイルのメール送信の場合の印刷フォームソートデーターシートの件名が入力されている列番号"]
[null,"ファイルのメール送信の場合の印刷フォームソートデーターシートの本文が入力されている列番号"]
[null,"ファイルのメール送信の場合の添付ファイルの保存先ドライブ及びフォルダー"]
[]
[]
[]
[]
[]
[null,null,{"$f":"IF(シート名設定!C35=0,\"\",シート名設定!C35)","v":"印刷フォーム1"},1,"印刷する"]
[null,null,{"$f":"IF(シート名設定!C36=0,\"\",シート名設定!C36)","v":"印刷フォーム2"},2,"メールで送信する"]
[null,null,{"$f":"IF(シート名設定!C37=0,\"\",シート名設定!C37)","v":"印刷フォーム3"},3,"添付ファイルなし件名本文のみのメール"]
[null,null,{"$f":"IF(シート名設定!C38=0,\"\",シート名設定!C38)","v":"印刷フォーム4"}]
[null,null,{"$f":"IF(シート名設定!C39=0,\"\",シート名設定!C39)","v":"印刷フォーム5"}]
[null,null,{"$f":"IF(シート名設定!C40=0,\"\",シート名設定!C40)","v":"印刷フォーム6"}]
[null,null,{"$f":"IF(シート名設定!C41=0,\"\",シート名設定!C41)","v":"印刷フォーム7"}]
[null,null,{"$f":"IF(シート名設定!C42=0,\"\",シート名設定!C42)","v":"印刷フォーム8"}]
[null,null,{"$f":"IF(シート名設定!C43=0,\"\",シート名設定!C43)","v":"印刷フォーム9"}]
[null,null,{"$f":"IF(シート名設定!C44=0,\"\",シート名設定!C44)","v":"印刷フォーム10"}]
[null,null,{"$f":"IF(シート名設定!C45=0,\"\",シート名設定!C45)","v":"印刷フォーム11"}]
[null,null,{"$f":"IF(シート名設定!C46=0,\"\",シート名設定!C46)","v":"印刷フォーム12"}]
[null,null,{"$f":"IF(シート名設定!C47=0,\"\",シート名設定!C47)","v":"印刷フォーム13"}]
[null,null,{"$f":"IF(シート名設定!C48=0,\"\",シート名設定!C48)","v":"印刷フォーム14"}]
[null,null,{"$f":"IF(シート名設定!C49=0,\"\",シート名設定!C49)","v":"印刷フォーム15"}]
[null,null,{"$f":"IF(シート名設定!C50=0,\"\",シート名設定!C50)","v":"印刷フォーム16"}]
[null,null,{"$f":"IF(シート名設定!C51=0,\"\",シート名設定!C51)","v":"印刷フォーム17"}]
[null,null,{"$f":"IF(シート名設定!C52=0,\"\",シート名設定!C52)","v":"印刷フォーム18"}]
[null,null,{"$f":"IF(シート名設定!C53=0,\"\",シート名設定!C53)","v":"印刷フォーム19"}]
[null,null,{"$f":"IF(シート名設定!C54=0,\"\",シート名設定!C54)","v":"印刷フォーム20"}]
[null,null,{"$f":"IF(シート名設定!E5=0,\"\",シート名設定!E5)","v":"印刷フォーム21"}]
[null,null,{"$f":"IF(シート名設定!E6=0,\"\",シート名設定!E6)","v":"印刷フォーム22"}]
[null,null,{"$f":"IF(シート名設定!E7=0,\"\",シート名設定!E7)","v":"印刷フォーム23"}]
[null,null,{"$f":"IF(シート名設定!E8=0,\"\",シート名設定!E8)","v":"印刷フォーム24"}]
[null,null,{"$f":"IF(シート名設定!E9=0,\"\",シート名設定!E9)","v":"印刷フォーム25"}]
[null,null,{"$f":"IF(シート名設定!E10=0,\"\",シート名設定!E10)","v":"印刷フォーム26"}]
[null,null,{"$f":"IF(シート名設定!E11=0,\"\",シート名設定!E11)","v":"印刷フォーム27"}]
[null,null,{"$f":"IF(シート名設定!E12=0,\"\",シート名設定!E12)","v":"印刷フォーム28"}]
[null,null,{"$f":"IF(シート名設定!E13=0,\"\",シート名設定!E13)","v":"印刷フォーム29"}]
[null,null,{"$f":"IF(シート名設定!E14=0,\"\",シート名設定!E14)","v":"印刷フォーム30"}]
[null,null,{"$f":"IF(シート名設定!E15=0,\"\",シート名設定!E15)","v":"印刷フォーム1ソートデーター"}]
[null,null,{"$f":"IF(シート名設定!E16=0,\"\",シート名設定!E16)","v":"印刷フォーム2ソートデーター"}]
[null,null,{"$f":"IF(シート名設定!E17=0,\"\",シート名設定!E17)","v":"印刷フォーム3ソートデーター"}]
[null,null,{"$f":"IF(シート名設定!E18=0,\"\",シート名設定!E18)","v":"印刷フォーム4ソートデーター"}]
[null,null,{"$f":"IF(シート名設定!E19=0,\"\",シート名設定!E19)","v":"印刷フォーム5ソートデーター"}]
[null,null,{"$f":"IF(シート名設定!E20=0,\"\",シート名設定!E20)","v":"印刷フォーム6ソートデーター"}]
[null,null,{"$f":"IF(シート名設定!E21=0,\"\",シート名設定!E21)","v":"印刷フォーム7ソートデーター"}]
[null,null,{"$f":"IF(シート名設定!E22=0,\"\",シート名設定!E22)","v":"印刷フォーム8ソートデーター"}]
[null,null,{"$f":"IF(シート名設定!E23=0,\"\",シート名設定!E23)","v":"印刷フォーム9ソートデーター"}]
[null,null,{"$f":"IF(シート名設定!E24=0,\"\",シート名設定!E24)","v":"印刷フォーム10ソートデーター"}]
[null,null,{"$f":"IF(シート名設定!E25=0,\"\",シート名設定!E25)","v":"印刷フォーム11ソートデーター"}]
[null,null,{"$f":"IF(シート名設定!E26=0,\"\",シート名設定!E26)","v":"印刷フォーム12ソートデーター"}]
[null,null,{"$f":"IF(シート名設定!E27=0,\"\",シート名設定!E27)","v":"印刷フォーム13ソートデーター"}]
[null,null,{"$f":"IF(シート名設定!E28=0,\"\",シート名設定!E28)","v":"印刷フォーム14ソートデーター"}]
[null,null,{"$f":"IF(シート名設定!E29=0,\"\",シート名設定!E29)","v":"印刷フォーム15ソートデーター"}]
[null,null,{"$f":"IF(シート名設定!E30=0,\"\",シート名設定!E30)","v":"印刷フォーム16ソートデーター"}]
[null,null,{"$f":"IF(シート名設定!E31=0,\"\",シート名設定!E31)","v":"印刷フォーム17ソートデーター"}]
[null,null,{"$f":"IF(シート名設定!E32=0,\"\",シート名設定!E32)","v":"印刷フォーム18ソートデーター"}]
[null,null,{"$f":"IF(シート名設定!E33=0,\"\",シート名設定!E33)","v":"印刷フォーム19ソートデーター"}]
[null,null,{"$f":"IF(シート名設定!E34=0,\"\",シート名設定!E34)","v":"印刷フォーム20ソートデーター"}]
[null,null,{"$f":"IF(シート名設定!E35=0,\"\",シート名設定!E35)","v":"印刷フォーム21ソートデーター"}]
[null,null,{"$f":"IF(シート名設定!E36=0,\"\",シート名設定!E36)","v":"印刷フォーム22ソートデーター"}]
[null,null,{"$f":"IF(シート名設定!E37=0,\"\",シート名設定!E37)","v":"印刷フォーム23ソートデーター"}]
[null,null,{"$f":"IF(シート名設定!E38=0,\"\",シート名設定!E38)","v":"印刷フォーム24ソートデーター"}]
[null,null,{"$f":"IF(シート名設定!E39=0,\"\",シート名設定!E39)","v":"印刷フォーム25ソートデーター"}]
[null,null,{"$f":"IF(シート名設定!E40=0,\"\",シート名設定!E40)","v":"印刷フォーム26ソートデーター"}]
[null,null,{"$f":"IF(シート名設定!E41=0,\"\",シート名設定!E41)","v":"印刷フォーム27ソートデーター"}]
[null,null,{"$f":"IF(シート名設定!E42=0,\"\",シート名設定!E42)","v":"印刷フォーム28ソートデーター"}]
[null,null,{"$f":"IF(シート名設定!E43=0,\"\",シート名設定!E43)","v":"印刷フォーム29ソートデーター"}]
[null,null,{"$f":"IF(シート名設定!E44=0,\"\",シート名設定!E44)","v":"印刷フォーム30ソートデーター"}]
[null,null,{"$f":"IF(シート名設定!C30=0,\"\",シート名設定!C30)","v":"データー入力"}]

{"sheet":"一覧表付ファイル作成入力設定14","index":25,"n_rows":97,"n_cols":5,"rows_kept":97,"cut":false,"hidden":false,"merged":[[2,1,2,2]]}
[]
[]
[null,{"$f":"シート名設定!$C$22","v":"一覧表付ファイル作成入力設定14"}]
[null,"１．入力元の設定"]
[null,"項　　　　　　目","設定内容"]
[null,"シート名"]
[null,"データ先頭セル行番号"]
[null,"データ先頭セル列番号"]
[null,"異同比較列番号"]
[null,"データー数"]
[null,"For Next の増分"]
[]
[null,"２．入力先の設定"]
[null,"項　　　　　　目","設定内容"]
[null,"シート名"]
[null,"入力先頭セル行番号"]
[null,"入力先頭セル列番号"]
[null,"入力最終セル行番号"]
[null,"入力最終セル列番号"]
[null,"入力データー数"]
[null,"通しページ入力セル行番号"]
[null,"通しページ入力セル列番号"]
[null,"区分内ページ入力セル行番号"]
[null,"区分内ページ入力セル列番号"]
[null,"３．印刷処理かファイルのメール送信の設定"]
[null,"項　　　　　　目","設定内容"]
[null,"印刷処理か\nファイルの\nメール送信\nの選択",null,1]
[null,"ファイルのメール送信の場合の印刷フォームソートデーターシートのメールアドレスが入力されている列番号"]
[null,"ファイルのメール送信の場合の印刷フォームソートデーターシートの件名が入力されている列番号"]
[null,"ファイルのメール送信の場合の印刷フォームソートデーターシートの本文が入力されている列番号"]
[null,"ファイルのメール送信の場合の添付ファイルの保存先ドライブ及びフォルダー"]
[]
[]
[]
[]
[]
[null,null,{"$f":"IF(シート名設定!C35=0,\"\",シート名設定!C35)","v":"印刷フォーム1"},1,"印刷する"]
[null,null,{"$f":"IF(シート名設定!C36=0,\"\",シート名設定!C36)","v":"印刷フォーム2"},2,"メールで送信する"]
[null,null,{"$f":"IF(シート名設定!C37=0,\"\",シート名設定!C37)","v":"印刷フォーム3"},3,"添付ファイルなし件名本文のみのメール"]
[null,null,{"$f":"IF(シート名設定!C38=0,\"\",シート名設定!C38)","v":"印刷フォーム4"}]
[null,null,{"$f":"IF(シート名設定!C39=0,\"\",シート名設定!C39)","v":"印刷フォーム5"}]
[null,null,{"$f":"IF(シート名設定!C40=0,\"\",シート名設定!C40)","v":"印刷フォーム6"}]
[null,null,{"$f":"IF(シート名設定!C41=0,\"\",シート名設定!C41)","v":"印刷フォーム7"}]
[null,null,{"$f":"IF(シート名設定!C42=0,\"\",シート名設定!C42)","v":"印刷フォーム8"}]
[null,null,{"$f":"IF(シート名設定!C43=0,\"\",シート名設定!C43)","v":"印刷フォーム9"}]
[null,null,{"$f":"IF(シート名設定!C44=0,\"\",シート名設定!C44)","v":"印刷フォーム10"}]
[null,null,{"$f":"IF(シート名設定!C45=0,\"\",シート名設定!C45)","v":"印刷フォーム11"}]
[null,null,{"$f":"IF(シート名設定!C46=0,\"\",シート名設定!C46)","v":"印刷フォーム12"}]
[null,null,{"$f":"IF(シート名設定!C47=0,\"\",シート名設定!C47)","v":"印刷フォーム13"}]
[null,null,{"$f":"IF(シート名設定!C48=0,\"\",シート名設定!C48)","v":"印刷フォーム14"}]
[null,null,{"$f":"IF(シート名設定!C49=0,\"\",シート名設定!C49)","v":"印刷フォーム15"}]
[null,null,{"$f":"IF(シート名設定!C50=0,\"\",シート名設定!C50)","v":"印刷フォーム16"}]
[null,null,{"$f":"IF(シート名設定!C51=0,\"\",シート名設定!C51)","v":"印刷フォーム17"}]
[null,null,{"$f":"IF(シート名設定!C52=0,\"\",シート名設定!C52)","v":"印刷フォーム18"}]
[null,null,{"$f":"IF(シート名設定!C53=0,\"\",シート名設定!C53)","v":"印刷フォーム19"}]
[null,null,{"$f":"IF(シート名設定!C54=0,\"\",シート名設定!C54)","v":"印刷フォーム20"}]
[null,null,{"$f":"IF(シート名設定!E5=0,\"\",シート名設定!E5)","v":"印刷フォーム21"}]
[null,null,{"$f":"IF(シート名設定!E6=0,\"\",シート名設定!E6)","v":"印刷フォーム22"}]
[null,null,{"$f":"IF(シート名設定!E7=0,\"\",シート名設定!E7)","v":"印刷フォーム23"}]
[null,null,{"$f":"IF(シート名設定!E8=0,\"\",シート名設定!E8)","v":"印刷フォーム24"}]
[null,null,{"$f":"IF(シート名設定!E9=0,\"\",シート名設定!E9)","v":"印刷フォーム25"}]
[null,null,{"$f":"IF(シート名設定!E10=0,\"\",シート名設定!E10)","v":"印刷フォーム26"}]
[null,null,{"$f":"IF(シート名設定!E11=0,\"\",シート名設定!E11)","v":"印刷フォーム27"}]
[null,null,{"$f":"IF(シート名設定!E12=0,\"\",シート名設定!E12)","v":"印刷フォーム28"}]
[null,null,{"$f":"IF(シート名設定!E13=0,\"\",シート名設定!E13)","v":"印刷フォーム29"}]
[null,null,{"$f":"IF(シート名設定!E14=0,\"\",シート名設定!E14)","v":"印刷フォーム30"}]
[null,null,{"$f":"IF(シート名設定!E15=0,\"\",シート名設定!E15)","v":"印刷フォーム1ソートデーター"}]
[null,null,{"$f":"IF(シート名設定!E16=0,\"\",シート名設定!E16)","v":"印刷フォーム2ソートデーター"}]
[null,null,{"$f":"IF(シート名設定!E17=0,\"\",シート名設定!E17)","v":"印刷フォーム3ソートデーター"}]
[null,null,{"$f":"IF(シート名設定!E18=0,\"\",シート名設定!E18)","v":"印刷フォーム4ソートデーター"}]
[null,null,{"$f":"IF(シート名設定!E19=0,\"\",シート名設定!E19)","v":"印刷フォーム5ソートデーター"}]
[null,null,{"$f":"IF(シート名設定!E20=0,\"\",シート名設定!E20)","v":"印刷フォーム6ソートデーター"}]
[null,null,{"$f":"IF(シート名設定!E21=0,\"\",シート名設定!E21)","v":"印刷フォーム7ソートデーター"}]
[null,null,{"$f":"IF(シート名設定!E22=0,\"\",シート名設定!E22)","v":"印刷フォーム8ソートデーター"}]
[null,null,{"$f":"IF(シート名設定!E23=0,\"\",シート名設定!E23)","v":"印刷フォーム9ソートデーター"}]
[null,null,{"$f":"IF(シート名設定!E24=0,\"\",シート名設定!E24)","v":"印刷フォーム10ソートデーター"}]
[null,null,{"$f":"IF(シート名設定!E25=0,\"\",シート名設定!E25)","v":"印刷フォーム11ソートデーター"}]
[null,null,{"$f":"IF(シート名設定!E26=0,\"\",シート名設定!E26)","v":"印刷フォーム12ソートデーター"}]
[null,null,{"$f":"IF(シート名設定!E27=0,\"\",シート名設定!E27)","v":"印刷フォーム13ソートデーター"}]
[null,null,{"$f":"IF(シート名設定!E28=0,\"\",シート名設定!E28)","v":"印刷フォーム14ソートデーター"}]
[null,null,{"$f":"IF(シート名設定!E29=0,\"\",シート名設定!E29)","v":"印刷フォーム15ソートデーター"}]
[null,null,{"$f":"IF(シート名設定!E30=0,\"\",シート名設定!E30)","v":"印刷フォーム16ソートデーター"}]
[null,null,{"$f":"IF(シート名設定!E31=0,\"\",シート名設定!E31)","v":"印刷フォーム17ソートデーター"}]
[null,null,{"$f":"IF(シート名設定!E32=0,\"\",シート名設定!E32)","v":"印刷フォーム18ソートデーター"}]
[null,null,{"$f":"IF(シート名設定!E33=0,\"\",シート名設定!E33)","v":"印刷フォーム19ソートデーター"}]
[null,null,{"$f":"IF(シート名設定!E34=0,\"\",シート名設定!E34)","v":"印刷フォーム20ソートデーター"}]
[null,null,{"$f":"IF(シート名設定!E35=0,\"\",シート名設定!E35)","v":"印刷フォーム21ソートデーター"}]
[null,null,{"$f":"IF(シート名設定!E36=0,\"\",シート名設定!E36)","v":"印刷フォーム22ソートデーター"}]
[null,null,{"$f":"IF(シート名設定!E37=0,\"\",シート名設定!E37)","v":"印刷フォーム23ソートデーター"}]
[null,null,{"$f":"IF(シート名設定!E38=0,\"\",シート名設定!E38)","v":"印刷フォーム24ソートデーター"}]
[null,null,{"$f":"IF(シート名設定!E39=0,\"\",シート名設定!E39)","v":"印刷フォーム25ソートデーター"}]
[null,null,{"$f":"IF(シート名設定!E40=0,\"\",シート名設定!E40)","v":"印刷フォーム26ソートデーター"}]
[null,null,{"$f":"IF(シート名設定!E41=0,\"\",シート名設定!E41)","v":"印刷フォーム27ソートデーター"}]
[null,null,{"$f":"IF(シート名設定!E42=0,\"\",シート名設定!E42)","v":"印刷フォーム28ソートデーター"}]
[null,null,{"$f":"IF(シート名設定!E43=0,\"\",シート名設定!E43)","v":"印刷フォーム29ソートデーター"}]
[null,null,{"$f":"IF(シート名設定!E44=0,\"\",シート名設定!E44)","v":"印刷フォーム30ソートデーター"}]
[null,null,{"$f":"IF(シート名設定!C30=0,\"\",シート名設定!C30)","v":"データー入力"}]

{"sheet":"一覧表付ファイル作成入力設定15","index":26,"n_rows":97,"n_cols":5,"rows_kept":97,"cut":false,"hidden":false,"merged":[[2,1,2,2]]}
[]
[]
[null,{"$f":"シート名設定!$C$23","v":"一覧表付ファイル作成入力設定15"}]
[null,"１．入力元の設定"]
[null,"項　　　　　　目","設定内容"]
[null,"シート名"]
[null,"データ先頭セル行番号"]
[null,"データ先頭セル列番号"]
[null,"異同比較列番号"]
[null,"データー数"]
[null,"For Next の増分"]
[]
[null,"２．入力先の設定"]
[null,"項　　　　　　目","設定内容"]
[null,"シート名"]
[null,"入力先頭セル行番号"]
[null,"入力先頭セル列番号"]
[null,"入力最終セル行番号"]
[null,"入力最終セル列番号"]
[null,"入力データー数"]
[null,"通しページ入力セル行番号"]
[null,"通しページ入力セル列番号"]
[null,"区分内ページ入力セル行番号"]
[null,"区分内ページ入力セル列番号"]
[null,"３．印刷処理かファイルのメール送信の設定"]
[null,"項　　　　　　目","設定内容"]
[null,"印刷処理か\nファイルの\nメール送信\nの選択",null,1]
[null,"ファイルのメール送信の場合の印刷フォームソートデーターシートのメールアドレスが入力されている列番号"]
[null,"ファイルのメール送信の場合の印刷フォームソートデーターシートの件名が入力されている列番号"]
[null,"ファイルのメール送信の場合の印刷フォームソートデーターシートの本文が入力されている列番号"]
[null,"ファイルのメール送信の場合の添付ファイルの保存先ドライブ及びフォルダー"]
[]
[]
[]
[]
[]
[null,null,{"$f":"IF(シート名設定!C35=0,\"\",シート名設定!C35)","v":"印刷フォーム1"},1,"印刷する"]
[null,null,{"$f":"IF(シート名設定!C36=0,\"\",シート名設定!C36)","v":"印刷フォーム2"},2,"メールで送信する"]
[null,null,{"$f":"IF(シート名設定!C37=0,\"\",シート名設定!C37)","v":"印刷フォーム3"},3,"添付ファイルなし件名本文のみのメール"]
[null,null,{"$f":"IF(シート名設定!C38=0,\"\",シート名設定!C38)","v":"印刷フォーム4"}]
[null,null,{"$f":"IF(シート名設定!C39=0,\"\",シート名設定!C39)","v":"印刷フォーム5"}]
[null,null,{"$f":"IF(シート名設定!C40=0,\"\",シート名設定!C40)","v":"印刷フォーム6"}]
[null,null,{"$f":"IF(シート名設定!C41=0,\"\",シート名設定!C41)","v":"印刷フォーム7"}]
[null,null,{"$f":"IF(シート名設定!C42=0,\"\",シート名設定!C42)","v":"印刷フォーム8"}]
[null,null,{"$f":"IF(シート名設定!C43=0,\"\",シート名設定!C43)","v":"印刷フォーム9"}]
[null,null,{"$f":"IF(シート名設定!C44=0,\"\",シート名設定!C44)","v":"印刷フォーム10"}]
[null,null,{"$f":"IF(シート名設定!C45=0,\"\",シート名設定!C45)","v":"印刷フォーム11"}]
[null,null,{"$f":"IF(シート名設定!C46=0,\"\",シート名設定!C46)","v":"印刷フォーム12"}]
[null,null,{"$f":"IF(シート名設定!C47=0,\"\",シート名設定!C47)","v":"印刷フォーム13"}]
[null,null,{"$f":"IF(シート名設定!C48=0,\"\",シート名設定!C48)","v":"印刷フォーム14"}]
[null,null,{"$f":"IF(シート名設定!C49=0,\"\",シート名設定!C49)","v":"印刷フォーム15"}]
[null,null,{"$f":"IF(シート名設定!C50=0,\"\",シート名設定!C50)","v":"印刷フォーム16"}]
[null,null,{"$f":"IF(シート名設定!C51=0,\"\",シート名設定!C51)","v":"印刷フォーム17"}]
[null,null,{"$f":"IF(シート名設定!C52=0,\"\",シート名設定!C52)","v":"印刷フォーム18"}]
[null,null,{"$f":"IF(シート名設定!C53=0,\"\",シート名設定!C53)","v":"印刷フォーム19"}]
[null,null,{"$f":"IF(シート名設定!C54=0,\"\",シート名設定!C54)","v":"印刷フォーム20"}]
[null,null,{"$f":"IF(シート名設定!E5=0,\"\",シート名設定!E5)","v":"印刷フォーム21"}]
[null,null,{"$f":"IF(シート名設定!E6=0,\"\",シート名設定!E6)","v":"印刷フォーム22"}]
[null,null,{"$f":"IF(シート名設定!E7=0,\"\",シート名設定!E7)","v":"印刷フォーム23"}]
[null,null,{"$f":"IF(シート名設定!E8=0,\"\",シート名設定!E8)","v":"印刷フォーム24"}]
[null,null,{"$f":"IF(シート名設定!E9=0,\"\",シート名設定!E9)","v":"印刷フォーム25"}]
[null,null,{"$f":"IF(シート名設定!E10=0,\"\",シート名設定!E10)","v":"印刷フォーム26"}]
[null,null,{"$f":"IF(シート名設定!E11=0,\"\",シート名設定!E11)","v":"印刷フォーム27"}]
[null,null,{"$f":"IF(シート名設定!E12=0,\"\",シート名設定!E12)","v":"印刷フォーム28"}]
[null,null,{"$f":"IF(シート名設定!E13=0,\"\",シート名設定!E13)","v":"印刷フォーム29"}]
[null,null,{"$f":"IF(シート名設定!E14=0,\"\",シート名設定!E14)","v":"印刷フォーム30"}]
[null,null,{"$f":"IF(シート名設定!E15=0,\"\",シート名設定!E15)","v":"印刷フォーム1ソートデーター"}]
[null,null,{"$f":"IF(シート名設定!E16=0,\"\",シート名設定!E16)","v":"印刷フォーム2ソートデーター"}]
[null,null,{"$f":"IF(シート名設定!E17=0,\"\",シート名設定!E17)","v":"印刷フォーム3ソートデーター"}]
[null,null,{"$f":"IF(シート名設定!E18=0,\"\",シート名設定!E18)","v":"印刷フォーム4ソートデーター"}]
[null,null,{"$f":"IF(シート名設定!E19=0,\"\",シート名設定!E19)","v":"印刷フォーム5ソートデーター"}]
[null,null,{"$f":"IF(シート名設定!E20=0,\"\",シート名設定!E20)","v":"印刷フォーム6ソートデーター"}]
[null,null,{"$f":"IF(シート名設定!E21=0,\"\",シート名設定!E21)","v":"印刷フォーム7ソートデーター"}]
[null,null,{"$f":"IF(シート名設定!E22=0,\"\",シート名設定!E22)","v":"印刷フォーム8ソートデーター"}]
[null,null,{"$f":"IF(シート名設定!E23=0,\"\",シート名設定!E23)","v":"印刷フォーム9ソートデーター"}]
[null,null,{"$f":"IF(シート名設定!E24=0,\"\",シート名設定!E24)","v":"印刷フォーム10ソートデーター"}]
[null,null,{"$f":"IF(シート名設定!E25=0,\"\",シート名設定!E25)","v":"印刷フォーム11ソートデーター"}]
[null,null,{"$f":"IF(シート名設定!E26=0,\"\",シート名設定!E26)","v":"印刷フォーム12ソートデーター"}]
[null,null,{"$f":"IF(シート名設定!E27=0,\"\",シート名設定!E27)","v":"印刷フォーム13ソートデーター"}]
[null,null,{"$f":"IF(シート名設定!E28=0,\"\",シート名設定!E28)","v":"印刷フォーム14ソートデーター"}]
[null,null,{"$f":"IF(シート名設定!E29=0,\"\",シート名設定!E29)","v":"印刷フォーム15ソートデーター"}]
[null,null,{"$f":"IF(シート名設定!E30=0,\"\",シート名設定!E30)","v":"印刷フォーム16ソートデーター"}]
[null,null,{"$f":"IF(シート名設定!E31=0,\"\",シート名設定!E31)","v":"印刷フォーム17ソートデーター"}]
[null,null,{"$f":"IF(シート名設定!E32=0,\"\",シート名設定!E32)","v":"印刷フォーム18ソートデーター"}]
[null,null,{"$f":"IF(シート名設定!E33=0,\"\",シート名設定!E33)","v":"印刷フォーム19ソートデーター"}]
[null,null,{"$f":"IF(シート名設定!E34=0,\"\",シート名設定!E34)","v":"印刷フォーム20ソートデーター"}]
[null,null,{"$f":"IF(シート名設定!E35=0,\"\",シート名設定!E35)","v":"印刷フォーム21ソートデーター"}]
[null,null,{"$f":"IF(シート名設定!E36=0,\"\",シート名設定!E36)","v":"印刷フォーム22ソートデーター"}]
[null,null,{"$f":"IF(シート名設定!E37=0,\"\",シート名設定!E37)","v":"印刷フォーム23ソートデーター"}]
[null,null,{"$f":"IF(シート名設定!E38=0,\"\",シート名設定!E38)","v":"印刷フォーム24ソートデーター"}]
[null,null,{"$f":"IF(シート名設定!E39=0,\"\",シート名設定!E39)","v":"印刷フォーム25ソートデーター"}]
[null,null,{"$f":"IF(シート名設定!E40=0,\"\",シート名設定!E40)","v":"印刷フォーム26ソートデーター"}]
[null,null,{"$f":"IF(シート名設定!E41=0,\"\",シート名設定!E41)","v":"印刷フォーム27ソートデーター"}]
[null,null,{"$f":"IF(シート名設定!E42=0,\"\",シート名設定!E42)","v":"印刷フォーム28ソートデーター"}]
[null,null,{"$f":"IF(シート名設定!E43=0,\"\",シート名設定!E43)","v":"印刷フォーム29ソートデーター"}]
[null,null,{"$f":"IF(シート名設定!E44=0,\"\",シート名設定!E44)","v":"印刷フォーム30ソートデーター"}]
[null,null,{"$f":"IF(シート名設定!C30=0,\"\",シート名設定!C30)","v":"データー入力"}]

{"sheet":"一覧表付ファイル作成入力設定16","index":27,"n_rows":97,"n_cols":5,"rows_kept":97,"cut":false,"hidden":false,"merged":[[2,1,2,2]]}
[]
[]
[null,{"$f":"シート名設定!$C$24","v":"一覧表付ファイル作成入力設定16"}]
[null,"１．入力元の設定"]
[null,"項　　　　　　目","設定内容"]
[null,"シート名"]
[null,"データ先頭セル行番号"]
[null,"データ先頭セル列番号"]
[null,"異同比較列番号"]
[null,"データー数"]
[null,"For Next の増分"]
[]
[null,"２．入力先の設定"]
[null,"項　　　　　　目","設定内容"]
[null,"シート名"]
[null,"入力先頭セル行番号"]
[null,"入力先頭セル列番号"]
[null,"入力最終セル行番号"]
[null,"入力最終セル列番号"]
[null,"入力データー数"]
[null,"通しページ入力セル行番号"]
[null,"通しページ入力セル列番号"]
[null,"区分内ページ入力セル行番号"]
[null,"区分内ページ入力セル列番号"]
[null,"３．印刷処理かファイルのメール送信の設定"]
[null,"項　　　　　　目","設定内容"]
[null,"印刷処理か\nファイルの\nメール送信\nの選択",null,1]
[null,"ファイルのメール送信の場合の印刷フォームソートデーターシートのメールアドレスが入力されている列番号"]
[null,"ファイルのメール送信の場合の印刷フォームソートデーターシートの件名が入力されている列番号"]
[null,"ファイルのメール送信の場合の印刷フォームソートデーターシートの本文が入力されている列番号"]
[null,"ファイルのメール送信の場合の添付ファイルの保存先ドライブ及びフォルダー"]
[]
[]
[]
[]
[]
[null,null,{"$f":"IF(シート名設定!C35=0,\"\",シート名設定!C35)","v":"印刷フォーム1"},1,"印刷する"]
[null,null,{"$f":"IF(シート名設定!C36=0,\"\",シート名設定!C36)","v":"印刷フォーム2"},2,"メールで送信する"]
[null,null,{"$f":"IF(シート名設定!C37=0,\"\",シート名設定!C37)","v":"印刷フォーム3"},3,"添付ファイルなし件名本文のみのメール"]
[null,null,{"$f":"IF(シート名設定!C38=0,\"\",シート名設定!C38)","v":"印刷フォーム4"}]
[null,null,{"$f":"IF(シート名設定!C39=0,\"\",シート名設定!C39)","v":"印刷フォーム5"}]
[null,null,{"$f":"IF(シート名設定!C40=0,\"\",シート名設定!C40)","v":"印刷フォーム6"}]
[null,null,{"$f":"IF(シート名設定!C41=0,\"\",シート名設定!C41)","v":"印刷フォーム7"}]
[null,null,{"$f":"IF(シート名設定!C42=0,\"\",シート名設定!C42)","v":"印刷フォーム8"}]
[null,null,{"$f":"IF(シート名設定!C43=0,\"\",シート名設定!C43)","v":"印刷フォーム9"}]
[null,null,{"$f":"IF(シート名設定!C44=0,\"\",シート名設定!C44)","v":"印刷フォーム10"}]
[null,null,{"$f":"IF(シート名設定!C45=0,\"\",シート名設定!C45)","v":"印刷フォーム11"}]
[null,null,{"$f":"IF(シート名設定!C46=0,\"\",シート名設定!C46)","v":"印刷フォーム12"}]
[null,null,{"$f":"IF(シート名設定!C47=0,\"\",シート名設定!C47)","v":"印刷フォーム13"}]
[null,null,{"$f":"IF(シート名設定!C48=0,\"\",シート名設定!C48)","v":"印刷フォーム14"}]
[null,null,{"$f":"IF(シート名設定!C49=0,\"\",シート名設定!C49)","v":"印刷フォーム15"}]
[null,null,{"$f":"IF(シート名設定!C50=0,\"\",シート名設定!C50)","v":"印刷フォーム16"}]
[null,null,{"$f":"IF(シート名設定!C51=0,\"\",シート名設定!C51)","v":"印刷フォーム17"}]
[null,null,{"$f":"IF(シート名設定!C52=0,\"\",シート名設定!C52)","v":"印刷フォーム18"}]
[null,null,{"$f":"IF(シート名設定!C53=0,\"\",シート名設定!C53)","v":"印刷フォーム19"}]
[null,null,{"$f":"IF(シート名設定!C54=0,\"\",シート名設定!C54)","v":"印刷フォーム20"}]
[null,null,{"$f":"IF(シート名設定!E5=0,\"\",シート名設定!E5)","v":"印刷フォーム21"}]
[null,null,{"$f":"IF(シート名設定!E6=0,\"\",シート名設定!E6)","v":"印刷フォーム22"}]
[null,null,{"$f":"IF(シート名設定!E7=0,\"\",シート名設定!E7)","v":"印刷フォーム23"}]
[null,null,{"$f":"IF(シート名設定!E8=0,\"\",シート名設定!E8)","v":"印刷フォーム24"}]
[null,null,{"$f":"IF(シート名設定!E9=0,\"\",シート名設定!E9)","v":"印刷フォーム25"}]
[null,null,{"$f":"IF(シート名設定!E10=0,\"\",シート名設定!E10)","v":"印刷フォーム26"}]
[null,null,{"$f":"IF(シート名設定!E11=0,\"\",シート名設定!E11)","v":"印刷フォーム27"}]
[null,null,{"$f":"IF(シート名設定!E12=0,\"\",シート名設定!E12)","v":"印刷フォーム28"}]
[null,null,{"$f":"IF(シート名設定!E13=0,\"\",シート名設定!E13)","v":"印刷フォーム29"}]
[null,null,{"$f":"IF(シート名設定!E14=0,\"\",シート名設定!E14)","v":"印刷フォーム30"}]
[null,null,{"$f":"IF(シート名設定!E15=0,\"\",シート名設定!E15)","v":"印刷フォーム1ソートデーター"}]
[null,null,{"$f":"IF(シート名設定!E16=0,\"\",シート名設定!E16)","v":"印刷フォーム2ソートデーター"}]
[null,null,{"$f":"IF(シート名設定!E17=0,\"\",シート名設定!E17)","v":"印刷フォーム3ソートデーター"}]
[null,null,{"$f":"IF(シート名設定!E18=0,\"\",シート名設定!E18)","v":"印刷フォーム4ソートデーター"}]
[null,null,{"$f":"IF(シート名設定!E19=0,\"\",シート名設定!E19)","v":"印刷フォーム5ソートデーター"}]
[null,null,{"$f":"IF(シート名設定!E20=0,\"\",シート名設定!E20)","v":"印刷フォーム6ソートデーター"}]
[null,null,{"$f":"IF(シート名設定!E21=0,\"\",シート名設定!E21)","v":"印刷フォーム7ソートデーター"}]
[null,null,{"$f":"IF(シート名設定!E22=0,\"\",シート名設定!E22)","v":"印刷フォーム8ソートデーター"}]
[null,null,{"$f":"IF(シート名設定!E23=0,\"\",シート名設定!E23)","v":"印刷フォーム9ソートデーター"}]
[null,null,{"$f":"IF(シート名設定!E24=0,\"\",シート名設定!E24)","v":"印刷フォーム10ソートデーター"}]
[null,null,{"$f":"IF(シート名設定!E25=0,\"\",シート名設定!E25)","v":"印刷フォーム11ソートデーター"}]
[null,null,{"$f":"IF(シート名設定!E26=0,\"\",シート名設定!E26)","v":"印刷フォーム12ソートデーター"}]
[null,null,{"$f":"IF(シート名設定!E27=0,\"\",シート名設定!E27)","v":"印刷フォーム13ソートデーター"}]
[null,null,{"$f":"IF(シート名設定!E28=0,\"\",シート名設定!E28)","v":"印刷フォーム14ソートデーター"}]
[null,null,{"$f":"IF(シート名設定!E29=0,\"\",シート名設定!E29)","v":"印刷フォーム15ソートデーター"}]
[null,null,{"$f":"IF(シート名設定!E30=0,\"\",シート名設定!E30)","v":"印刷フォーム16ソートデーター"}]
[null,null,{"$f":"IF(シート名設定!E31=0,\"\",シート名設定!E31)","v":"印刷フォーム17ソートデーター"}]
[null,null,{"$f":"IF(シート名設定!E32=0,\"\",シート名設定!E32)","v":"印刷フォーム18ソートデーター"}]
[null,null,{"$f":"IF(シート名設定!E33=0,\"\",シート名設定!E33)","v":"印刷フォーム19ソートデーター"}]
[null,null,{"$f":"IF(シート名設定!E34=0,\"\",シート名設定!E34)","v":"印刷フォーム20ソートデーター"}]
[null,null,{"$f":"IF(シート名設定!E35=0,\"\",シート名設定!E35)","v":"印刷フォーム21ソートデーター"}]
[null,null,{"$f":"IF(シート名設定!E36=0,\"\",シート名設定!E36)","v":"印刷フォーム22ソートデーター"}]
[null,null,{"$f":"IF(シート名設定!E37=0,\"\",シート名設定!E37)","v":"印刷フォーム23ソートデーター"}]
[null,null,{"$f":"IF(シート名設定!E38=0,\"\",シート名設定!E38)","v":"印刷フォーム24ソートデーター"}]
[null,null,{"$f":"IF(シート名設定!E39=0,\"\",シート名設定!E39)","v":"印刷フォーム25ソートデーター"}]
[null,null,{"$f":"IF(シート名設定!E40=0,\"\",シート名設定!E40)","v":"印刷フォーム26ソートデーター"}]
[null,null,{"$f":"IF(シート名設定!E41=0,\"\",シート名設定!E41)","v":"印刷フォーム27ソートデーター"}]
[null,null,{"$f":"IF(シート名設定!E42=0,\"\",シート名設定!E42)","v":"印刷フォーム28ソートデーター"}]
[null,null,{"$f":"IF(シート名設定!E43=0,\"\",シート名設定!E43)","v":"印刷フォーム29ソートデーター"}]
[null,null,{"$f":"IF(シート名設定!E44=0,\"\",シート名設定!E44)","v":"印刷フォーム30ソートデーター"}]
[null,null,{"$f":"IF(シート名設定!C30=0,\"\",シート名設定!C30)","v":"データー入力"}]

{"sheet":"一覧表付ファイル作成入力設定17","index":28,"n_rows":97,"n_cols":5,"rows_kept":97,"cut":false,"hidden":false,"merged":[[2,1,2,2]]}
[]
[]
[null,{"$f":"シート名設定!$C$25","v":"一覧表付ファイル作成入力設定17"}]
[null,"１．入力元の設定"]
[null,"項　　　　　　目","設定内容"]
[null,"シート名"]
[null,"データ先頭セル行番号"]
[null,"データ先頭セル列番号"]
[null,"異同比較列番号"]
[null,"データー数"]
[null,"For Next の増分"]
[]
[null,"２．入力先の設定"]
[null,"項　　　　　　目","設定内容"]
[null,"シート名"]
[null,"入力先頭セル行番号"]
[null,"入力先頭セル列番号"]
[null,"入力最終セル行番号"]
[null,"入力最終セル列番号"]
[null,"入力データー数"]
[null,"通しページ入力セル行番号"]
[null,"通しページ入力セル列番号"]
[null,"区分内ページ入力セル行番号"]
[null,"区分内ページ入力セル列番号"]
[null,"３．印刷処理かファイルのメール送信の設定"]
[null,"項　　　　　　目","設定内容"]
[null,"印刷処理か\nファイルの\nメール送信\nの選択",null,1]
[null,"ファイルのメール送信の場合の印刷フォームソートデーターシートのメールアドレスが入力されている列番号"]
[null,"ファイルのメール送信の場合の印刷フォームソートデーターシートの件名が入力されている列番号"]
[null,"ファイルのメール送信の場合の印刷フォームソートデーターシートの本文が入力されている列番号"]
[null,"ファイルのメール送信の場合の添付ファイルの保存先ドライブ及びフォルダー"]
[]
[]
[]
[]
[]
[null,null,{"$f":"IF(シート名設定!C35=0,\"\",シート名設定!C35)","v":"印刷フォーム1"},1,"印刷する"]
[null,null,{"$f":"IF(シート名設定!C36=0,\"\",シート名設定!C36)","v":"印刷フォーム2"},2,"メールで送信する"]
[null,null,{"$f":"IF(シート名設定!C37=0,\"\",シート名設定!C37)","v":"印刷フォーム3"},3,"添付ファイルなし件名本文のみのメール"]
[null,null,{"$f":"IF(シート名設定!C38=0,\"\",シート名設定!C38)","v":"印刷フォーム4"}]
[null,null,{"$f":"IF(シート名設定!C39=0,\"\",シート名設定!C39)","v":"印刷フォーム5"}]
[null,null,{"$f":"IF(シート名設定!C40=0,\"\",シート名設定!C40)","v":"印刷フォーム6"}]
[null,null,{"$f":"IF(シート名設定!C41=0,\"\",シート名設定!C41)","v":"印刷フォーム7"}]
[null,null,{"$f":"IF(シート名設定!C42=0,\"\",シート名設定!C42)","v":"印刷フォーム8"}]
[null,null,{"$f":"IF(シート名設定!C43=0,\"\",シート名設定!C43)","v":"印刷フォーム9"}]
[null,null,{"$f":"IF(シート名設定!C44=0,\"\",シート名設定!C44)","v":"印刷フォーム10"}]
[null,null,{"$f":"IF(シート名設定!C45=0,\"\",シート名設定!C45)","v":"印刷フォーム11"}]
[null,null,{"$f":"IF(シート名設定!C46=0,\"\",シート名設定!C46)","v":"印刷フォーム12"}]
[null,null,{"$f":"IF(シート名設定!C47=0,\"\",シート名設定!C47)","v":"印刷フォーム13"}]
[null,null,{"$f":"IF(シート名設定!C48=0,\"\",シート名設定!C48)","v":"印刷フォーム14"}]
[null,null,{"$f":"IF(シート名設定!C49=0,\"\",シート名設定!C49)","v":"印刷フォーム15"}]
[null,null,{"$f":"IF(シート名設定!C50=0,\"\",シート名設定!C50)","v":"印刷フォーム16"}]
[null,null,{"$f":"IF(シート名設定!C51=0,\"\",シート名設定!C51)","v":"印刷フォーム17"}]
[null,null,{"$f":"IF(シート名設定!C52=0,\"\",シート名設定!C52)","v":"印刷フォーム18"}]
[null,null,{"$f":"IF(シート名設定!C53=0,\"\",シート名設定!C53)","v":"印刷フォーム19"}]
[null,null,{"$f":"IF(シート名設定!C54=0,\"\",シート名設定!C54)","v":"印刷フォーム20"}]
[null,null,{"$f":"IF(シート名設定!E5=0,\"\",シート名設定!E5)","v":"印刷フォーム21"}]
[null,null,{"$f":"IF(シート名設定!E6=0,\"\",シート名設定!E6)","v":"印刷フォーム22"}]
[null,null,{"$f":"IF(シート名設定!E7=0,\"\",シート名設定!E7)","v":"印刷フォーム23"}]
[null,null,{"$f":"IF(シート名設定!E8=0,\"\",シート名設定!E8)","v":"印刷フォーム24"}]
[null,null,{"$f":"IF(シート名設定!E9=0,\"\",シート名設定!E9)","v":"印刷フォーム25"}]
[null,null,{"$f":"IF(シート名設定!E10=0,\"\",シート名設定!E10)","v":"印刷フォーム26"}]
[null,null,{"$f":"IF(シート名設定!E11=0,\"\",シート名設定!E11)","v":"印刷フォーム27"}]
[null,null,{"$f":"IF(シート名設定!E12=0,\"\",シート名設定!E12)","v":"印刷フォーム28"}]
[null,null,{"$f":"IF(シート名設定!E13=0,\"\",シート名設定!E13)","v":"印刷フォーム29"}]
[null,null,{"$f":"IF(シート名設定!E14=0,\"\",シート名設定!E14)","v":"印刷フォーム30"}]
[null,null,{"$f":"IF(シート名設定!E15=0,\"\",シート名設定!E15)","v":"印刷フォーム1ソートデーター"}]
[null,null,{"$f":"IF(シート名設定!E16=0,\"\",シート名設定!E16)","v":"印刷フォーム2ソートデーター"}]
[null,null,{"$f":"IF(シート名設定!E17=0,\"\",シート名設定!E17)","v":"印刷フォーム3ソートデーター"}]
[null,null,{"$f":"IF(シート名設定!E18=0,\"\",シート名設定!E18)","v":"印刷フォーム4ソートデーター"}]
[null,null,{"$f":"IF(シート名設定!E19=0,\"\",シート名設定!E19)","v":"印刷フォーム5ソートデーター"}]
[null,null,{"$f":"IF(シート名設定!E20=0,\"\",シート名設定!E20)","v":"印刷フォーム6ソートデーター"}]
[null,null,{"$f":"IF(シート名設定!E21=0,\"\",シート名設定!E21)","v":"印刷フォーム7ソートデーター"}]
[null,null,{"$f":"IF(シート名設定!E22=0,\"\",シート名設定!E22)","v":"印刷フォーム8ソートデーター"}]
[null,null,{"$f":"IF(シート名設定!E23=0,\"\",シート名設定!E23)","v":"印刷フォーム9ソートデーター"}]
[null,null,{"$f":"IF(シート名設定!E24=0,\"\",シート名設定!E24)","v":"印刷フォーム10ソートデーター"}]
[null,null,{"$f":"IF(シート名設定!E25=0,\"\",シート名設定!E25)","v":"印刷フォーム11ソートデーター"}]
[null,null,{"$f":"IF(シート名設定!E26=0,\"\",シート名設定!E26)","v":"印刷フォーム12ソートデーター"}]
[null,null,{"$f":"IF(シート名設定!E27=0,\"\",シート名設定!E27)","v":"印刷フォーム13ソートデーター"}]
[null,null,{"$f":"IF(シート名設定!E28=0,\"\",シート名設定!E28)","v":"印刷フォーム14ソートデーター"}]
[null,null,{"$f":"IF(シート名設定!E29=0,\"\",シート名設定!E29)","v":"印刷フォーム15ソートデーター"}]
[null,null,{"$f":"IF(シート名設定!E30=0,\"\",シート名設定!E30)","v":"印刷フォーム16ソートデーター"}]
[null,null,{"$f":"IF(シート名設定!E31=0,\"\",シート名設定!E31)","v":"印刷フォーム17ソートデーター"}]
[null,null,{"$f":"IF(シート名設定!E32=0,\"\",シート名設定!E32)","v":"印刷フォーム18ソートデーター"}]
[null,null,{"$f":"IF(シート名設定!E33=0,\"\",シート名設定!E33)","v":"印刷フォーム19ソートデーター"}]
[null,null,{"$f":"IF(シート名設定!E34=0,\"\",シート名設定!E34)","v":"印刷フォーム20ソートデーター"}]
[null,null,{"$f":"IF(シート名設定!E35=0,\"\",シート名設定!E35)","v":"印刷フォーム21ソートデーター"}]
[null,null,{"$f":"IF(シート名設定!E36=0,\"\",シート名設定!E36)","v":"印刷フォーム22ソートデーター"}]
[null,null,{"$f":"IF(シート名設定!E37=0,\"\",シート名設定!E37)","v":"印刷フォーム23ソートデーター"}]
[null,null,{"$f":"IF(シート名設定!E38=0,\"\",シート名設定!E38)","v":"印刷フォーム24ソートデーター"}]
[null,null,{"$f":"IF(シート名設定!E39=0,\"\",シート名設定!E39)","v":"印刷フォーム25ソートデーター"}]
[null,null,{"$f":"IF(シート名設定!E40=0,\"\",シート名設定!E40)","v":"印刷フォーム26ソートデーター"}]
[null,null,{"$f":"IF(シート名設定!E41=0,\"\",シート名設定!E41)","v":"印刷フォーム27ソートデーター"}]
[null,null,{"$f":"IF(シート名設定!E42=0,\"\",シート名設定!E42)","v":"印刷フォーム28ソートデーター"}]
[null,null,{"$f":"IF(シート名設定!E43=0,\"\",シート名設定!E43)","v":"印刷フォーム29ソートデーター"}]
[null,null,{"$f":"IF(シート名設定!E44=0,\"\",シート名設定!E44)","v":"印刷フォーム30ソートデーター"}]
[null,null,{"$f":"IF(シート名設定!C30=0,\"\",シート名設定!C30)","v":"データー入力"}]

{"sheet":"一覧表付ファイル作成入力設定18","index":29,"n_rows":97,"n_cols":5,"rows_kept":97,"cut":false,"hidden":false,"merged":[[2,1,2,2]]}
[]
[]
[null,{"$f":"シート名設定!$C$26","v":"一覧表付ファイル作成入力設定18"}]
[null,"１．入力元の設定"]
[null,"項　　　　　　目","設定内容"]
[null,"シート名"]
[null,"データ先頭セル行番号"]
[null,"データ先頭セル列番号"]
[null,"異同比較列番号"]
[null,"データー数"]
[null,"For Next の増分"]
[]
[null,"２．入力先の設定"]
[null,"項　　　　　　目","設定内容"]
[null,"シート名"]
[null,"入力先頭セル行番号"]
[null,"入力先頭セル列番号"]
[null,"入力最終セル行番号"]
[null,"入力最終セル列番号"]
[null,"入力データー数"]
[null,"通しページ入力セル行番号"]
[null,"通しページ入力セル列番号"]
[null,"区分内ページ入力セル行番号"]
[null,"区分内ページ入力セル列番号"]
[null,"３．印刷処理かファイルのメール送信の設定"]
[null,"項　　　　　　目","設定内容"]
[null,"印刷処理か\nファイルの\nメール送信\nの選択",null,1]
[null,"ファイルのメール送信の場合の印刷フォームソートデーターシートのメールアドレスが入力されている列番号"]
[null,"ファイルのメール送信の場合の印刷フォームソートデーターシートの件名が入力されている列番号"]
[null,"ファイルのメール送信の場合の印刷フォームソートデーターシートの本文が入力されている列番号"]
[null,"ファイルのメール送信の場合の添付ファイルの保存先ドライブ及びフォルダー"]
[]
[]
[]
[]
[]
[null,null,{"$f":"IF(シート名設定!C35=0,\"\",シート名設定!C35)","v":"印刷フォーム1"},1,"印刷する"]
[null,null,{"$f":"IF(シート名設定!C36=0,\"\",シート名設定!C36)","v":"印刷フォーム2"},2,"メールで送信する"]
[null,null,{"$f":"IF(シート名設定!C37=0,\"\",シート名設定!C37)","v":"印刷フォーム3"},3,"添付ファイルなし件名本文のみのメール"]
[null,null,{"$f":"IF(シート名設定!C38=0,\"\",シート名設定!C38)","v":"印刷フォーム4"}]
[null,null,{"$f":"IF(シート名設定!C39=0,\"\",シート名設定!C39)","v":"印刷フォーム5"}]
[null,null,{"$f":"IF(シート名設定!C40=0,\"\",シート名設定!C40)","v":"印刷フォーム6"}]
[null,null,{"$f":"IF(シート名設定!C41=0,\"\",シート名設定!C41)","v":"印刷フォーム7"}]
[null,null,{"$f":"IF(シート名設定!C42=0,\"\",シート名設定!C42)","v":"印刷フォーム8"}]
[null,null,{"$f":"IF(シート名設定!C43=0,\"\",シート名設定!C43)","v":"印刷フォーム9"}]
[null,null,{"$f":"IF(シート名設定!C44=0,\"\",シート名設定!C44)","v":"印刷フォーム10"}]
[null,null,{"$f":"IF(シート名設定!C45=0,\"\",シート名設定!C45)","v":"印刷フォーム11"}]
[null,null,{"$f":"IF(シート名設定!C46=0,\"\",シート名設定!C46)","v":"印刷フォーム12"}]
[null,null,{"$f":"IF(シート名設定!C47=0,\"\",シート名設定!C47)","v":"印刷フォーム13"}]
[null,null,{"$f":"IF(シート名設定!C48=0,\"\",シート名設定!C48)","v":"印刷フォーム14"}]
[null,null,{"$f":"IF(シート名設定!C49=0,\"\",シート名設定!C49)","v":"印刷フォーム15"}]
[null,null,{"$f":"IF(シート名設定!C50=0,\"\",シート名設定!C50)","v":"印刷フォーム16"}]
[null,null,{"$f":"IF(シート名設定!C51=0,\"\",シート名設定!C51)","v":"印刷フォーム17"}]
[null,null,{"$f":"IF(シート名設定!C52=0,\"\",シート名設定!C52)","v":"印刷フォーム18"}]
[null,null,{"$f":"IF(シート名設定!C53=0,\"\",シート名設定!C53)","v":"印刷フォーム19"}]
[null,null,{"$f":"IF(シート名設定!C54=0,\"\",シート名設定!C54)","v":"印刷フォーム20"}]
[null,null,{"$f":"IF(シート名設定!E5=0,\"\",シート名設定!E5)","v":"印刷フォーム21"}]
[null,null,{"$f":"IF(シート名設定!E6=0,\"\",シート名設定!E6)","v":"印刷フォーム22"}]
[null,null,{"$f":"IF(シート名設定!E7=0,\"\",シート名設定!E7)","v":"印刷フォーム23"}]
[null,null,{"$f":"IF(シート名設定!E8=0,\"\",シート名設定!E8)","v":"印刷フォーム24"}]
[null,null,{"$f":"IF(シート名設定!E9=0,\"\",シート名設定!E9)","v":"印刷フォーム25"}]
[null,null,{"$f":"IF(シート名設定!E10=0,\"\",シート名設定!E10)","v":"印刷フォーム26"}]
[null,null,{"$f":"IF(シート名設定!E11=0,\"\",シート名設定!E11)","v":"印刷フォーム27"}]
[null,null,{"$f":"IF(シート名設定!E12=0,\"\",シート名設定!E12)","v":"印刷フォーム28"}]
[null,null,{"$f":"IF(シート名設定!E13=0,\"\",シート名設定!E13)","v":"印刷フォーム29"}]
[null,null,{"$f":"IF(シート名設定!E14=0,\"\",シート名設定!E14)","v":"印刷フォーム30"}]
[null,null,{"$f":"IF(シート名設定!E15=0,\"\",シート名設定!E15)","v":"印刷フォーム1ソートデーター"}]
[null,null,{"$f":"IF(シート名設定!E16=0,\"\",シート名設定!E16)","v":"印刷フォーム2ソートデーター"}]
[null,null,{"$f":"IF(シート名設定!E17=0,\"\",シート名設定!E17)","v":"印刷フォーム3ソートデーター"}]
[null,null,{"$f":"IF(シート名設定!E18=0,\"\",シート名設定!E18)","v":"印刷フォーム4ソートデーター"}]
[null,null,{"$f":"IF(シート名設定!E19=0,\"\",シート名設定!E19)","v":"印刷フォーム5ソートデーター"}]
[null,null,{"$f":"IF(シート名設定!E20=0,\"\",シート名設定!E20)","v":"印刷フォーム6ソートデーター"}]
[null,null,{"$f":"IF(シート名設定!E21=0,\"\",シート名設定!E21)","v":"印刷フォーム7ソートデーター"}]
[null,null,{"$f":"IF(シート名設定!E22=0,\"\",シート名設定!E22)","v":"印刷フォーム8ソートデーター"}]
[null,null,{"$f":"IF(シート名設定!E23=0,\"\",シート名設定!E23)","v":"印刷フォーム9ソートデーター"}]
[null,null,{"$f":"IF(シート名設定!E24=0,\"\",シート名設定!E24)","v":"印刷フォーム10ソートデーター"}]
[null,null,{"$f":"IF(シート名設定!E25=0,\"\",シート名設定!E25)","v":"印刷フォーム11ソートデーター"}]
[null,null,{"$f":"IF(シート名設定!E26=0,\"\",シート名設定!E26)","v":"印刷フォーム12ソートデーター"}]
[null,null,{"$f":"IF(シート名設定!E27=0,\"\",シート名設定!E27)","v":"印刷フォーム13ソートデーター"}]
[null,null,{"$f":"IF(シート名設定!E28=0,\"\",シート名設定!E28)","v":"印刷フォーム14ソートデーター"}]
[null,null,{"$f":"IF(シート名設定!E29=0,\"\",シート名設定!E29)","v":"印刷フォーム15ソートデーター"}]
[null,null,{"$f":"IF(シート名設定!E30=0,\"\",シート名設定!E30)","v":"印刷フォーム16ソートデーター"}]
[null,null,{"$f":"IF(シート名設定!E31=0,\"\",シート名設定!E31)","v":"印刷フォーム17ソートデーター"}]
[null,null,{"$f":"IF(シート名設定!E32=0,\"\",シート名設定!E32)","v":"印刷フォーム18ソートデーター"}]
[null,null,{"$f":"IF(シート名設定!E33=0,\"\",シート名設定!E33)","v":"印刷フォーム19ソートデーター"}]
[null,null,{"$f":"IF(シート名設定!E34=0,\"\",シート名設定!E34)","v":"印刷フォーム20ソートデーター"}]
[null,null,{"$f":"IF(シート名設定!E35=0,\"\",シート名設定!E35)","v":"印刷フォーム21ソートデーター"}]
[null,null,{"$f":"IF(シート名設定!E36=0,\"\",シート名設定!E36)","v":"印刷フォーム22ソートデーター"}]
[null,null,{"$f":"IF(シート名設定!E37=0,\"\",シート名設定!E37)","v":"印刷フォーム23ソートデーター"}]
[null,null,{"$f":"IF(シート名設定!E38=0,\"\",シート名設定!E38)","v":"印刷フォーム24ソートデーター"}]
[null,null,{"$f":"IF(シート名設定!E39=0,\"\",シート名設定!E39)","v":"印刷フォーム25ソートデーター"}]
[null,null,{"$f":"IF(シート名設定!E40=0,\"\",シート名設定!E40)","v":"印刷フォーム26ソートデーター"}]
[null,null,{"$f":"IF(シート名設定!E41=0,\"\",シート名設定!E41)","v":"印刷フォーム27ソートデーター"}]
[null,null,{"$f":"IF(シート名設定!E42=0,\"\",シート名設定!E42)","v":"印刷フォーム28ソートデーター"}]
[null,null,{"$f":"IF(シート名設定!E43=0,\"\",シート名設定!E43)","v":"印刷フォーム29ソートデーター"}]
[null,null,{"$f":"IF(シート名設定!E44=0,\"\",シート名設定!E44)","v":"印刷フォーム30ソートデーター"}]
[null,null,{"$f":"IF(シート名設定!C30=0,\"\",シート名設定!C30)","v":"データー入力"}]

{"sheet":"一覧表付ファイル作成入力設定19","index":30,"n_rows":97,"n_cols":5,"rows_kept":97,"cut":false,"hidden":false,"merged":[[2,1,2,2]]}
[]
[]
[null,{"$f":"シート名設定!$C$27","v":"一覧表付ファイル作成入力設定19"}]
[null,"１．入力元の設定"]
[null,"項　　　　　　目","設定内容"]
[null,"シート名"]
[null,"データ先頭セル行番号"]
[null,"データ先頭セル列番号"]
[null,"異同比較列番号"]
[null,"データー数"]
[null,"For Next の増分"]
[]
[null,"２．入力先の設定"]
[null,"項　　　　　　目","設定内容"]
[null,"シート名"]
[null,"入力先頭セル行番号"]
[null,"入力先頭セル列番号"]
[null,"入力最終セル行番号"]
[null,"入力最終セル列番号"]
[null,"入力データー数"]
[null,"通しページ入力セル行番号"]
[null,"通しページ入力セル列番号"]
[null,"区分内ページ入力セル行番号"]
[null,"区分内ページ入力セル列番号"]
[null,"３．印刷処理かファイルのメール送信の設定"]
[null,"項　　　　　　目","設定内容"]
[null,"印刷処理か\nファイルの\nメール送信\nの選択",null,1]
[null,"ファイルのメール送信の場合の印刷フォームソートデーターシートのメールアドレスが入力されている列番号"]
[null,"ファイルのメール送信の場合の印刷フォームソートデーターシートの件名が入力されている列番号"]
[null,"ファイルのメール送信の場合の印刷フォームソートデーターシートの本文が入力されている列番号"]
[null,"ファイルのメール送信の場合の添付ファイルの保存先ドライブ及びフォルダー"]
[]
[]
[]
[]
[]
[null,null,{"$f":"IF(シート名設定!C35=0,\"\",シート名設定!C35)","v":"印刷フォーム1"},1,"印刷する"]
[null,null,{"$f":"IF(シート名設定!C36=0,\"\",シート名設定!C36)","v":"印刷フォーム2"},2,"メールで送信する"]
[null,null,{"$f":"IF(シート名設定!C37=0,\"\",シート名設定!C37)","v":"印刷フォーム3"},3,"添付ファイルなし件名本文のみのメール"]
[null,null,{"$f":"IF(シート名設定!C38=0,\"\",シート名設定!C38)","v":"印刷フォーム4"}]
[null,null,{"$f":"IF(シート名設定!C39=0,\"\",シート名設定!C39)","v":"印刷フォーム5"}]
[null,null,{"$f":"IF(シート名設定!C40=0,\"\",シート名設定!C40)","v":"印刷フォーム6"}]
[null,null,{"$f":"IF(シート名設定!C41=0,\"\",シート名設定!C41)","v":"印刷フォーム7"}]
[null,null,{"$f":"IF(シート名設定!C42=0,\"\",シート名設定!C42)","v":"印刷フォーム8"}]
[null,null,{"$f":"IF(シート名設定!C43=0,\"\",シート名設定!C43)","v":"印刷フォーム9"}]
[null,null,{"$f":"IF(シート名設定!C44=0,\"\",シート名設定!C44)","v":"印刷フォーム10"}]
[null,null,{"$f":"IF(シート名設定!C45=0,\"\",シート名設定!C45)","v":"印刷フォーム11"}]
[null,null,{"$f":"IF(シート名設定!C46=0,\"\",シート名設定!C46)","v":"印刷フォーム12"}]
[null,null,{"$f":"IF(シート名設定!C47=0,\"\",シート名設定!C47)","v":"印刷フォーム13"}]
[null,null,{"$f":"IF(シート名設定!C48=0,\"\",シート名設定!C48)","v":"印刷フォーム14"}]
[null,null,{"$f":"IF(シート名設定!C49=0,\"\",シート名設定!C49)","v":"印刷フォーム15"}]
[null,null,{"$f":"IF(シート名設定!C50=0,\"\",シート名設定!C50)","v":"印刷フォーム16"}]
[null,null,{"$f":"IF(シート名設定!C51=0,\"\",シート名設定!C51)","v":"印刷フォーム17"}]
[null,null,{"$f":"IF(シート名設定!C52=0,\"\",シート名設定!C52)","v":"印刷フォーム18"}]
[null,null,{"$f":"IF(シート名設定!C53=0,\"\",シート名設定!C53)","v":"印刷フォーム19"}]
[null,null,{"$f":"IF(シート名設定!C54=0,\"\",シート名設定!C54)","v":"印刷フォーム20"}]
[null,null,{"$f":"IF(シート名設定!E5=0,\"\",シート名設定!E5)","v":"印刷フォーム21"}]
[null,null,{"$f":"IF(シート名設定!E6=0,\"\",シート名設定!E6)","v":"印刷フォーム22"}]
[null,null,{"$f":"IF(シート名設定!E7=0,\"\",シート名設定!E7)","v":"印刷フォーム23"}]
[null,null,{"$f":"IF(シート名設定!E8=0,\"\",シート名設定!E8)","v":"印刷フォーム24"}]
[null,null,{"$f":"IF(シート名設定!E9=0,\"\",シート名設定!E9)","v":"印刷フォーム25"}]
[null,null,{"$f":"IF(シート名設定!E10=0,\"\",シート名設定!E10)","v":"印刷フォーム26"}]
[null,null,{"$f":"IF(シート名設定!E11=0,\"\",シート名設定!E11)","v":"印刷フォーム27"}]
[null,null,{"$f":"IF(シート名設定!E12=0,\"\",シート名設定!E12)","v":"印刷フォーム28"}]
[null,null,{"$f":"IF(シート名設定!E13=0,\"\",シート名設定!E13)","v":"印刷フォーム29"}]
[null,null,{"$f":"IF(シート名設定!E14=0,\"\",シート名設定!E14)","v":"印刷フォーム30"}]
[null,null,{"$f":"IF(シート名設定!E15=0,\"\",シート名設定!E15)","v":"印刷フォーム1ソートデーター"}]
[null,null,{"$f":"IF(シート名設定!E16=0,\"\",シート名設定!E16)","v":"印刷フォーム2ソートデーター"}]
[null,null,{"$f":"IF(シート名設定!E17=0,\"\",シート名設定!E17)","v":"印刷フォーム3ソートデーター"}]
[null,null,{"$f":"IF(シート名設定!E18=0,\"\",シート名設定!E18)","v":"印刷フォーム4ソートデーター"}]
[null,null,{"$f":"IF(シート名設定!E19=0,\"\",シート名設定!E19)","v":"印刷フォーム5ソートデーター"}]
[null,null,{"$f":"IF(シート名設定!E20=0,\"\",シート名設定!E20)","v":"印刷フォーム6ソートデーター"}]
[null,null,{"$f":"IF(シート名設定!E21=0,\"\",シート名設定!E21)","v":"印刷フォーム7ソートデーター"}]
[null,null,{"$f":"IF(シート名設定!E22=0,\"\",シート名設定!E22)","v":"印刷フォーム8ソートデーター"}]
[null,null,{"$f":"IF(シート名設定!E23=0,\"\",シート名設定!E23)","v":"印刷フォーム9ソートデーター"}]
[null,null,{"$f":"IF(シート名設定!E24=0,\"\",シート名設定!E24)","v":"印刷フォーム10ソートデーター"}]
[null,null,{"$f":"IF(シート名設定!E25=0,\"\",シート名設定!E25)","v":"印刷フォーム11ソートデーター"}]
[null,null,{"$f":"IF(シート名設定!E26=0,\"\",シート名設定!E26)","v":"印刷フォーム12ソートデーター"}]
[null,null,{"$f":"IF(シート名設定!E27=0,\"\",シート名設定!E27)","v":"印刷フォーム13ソートデーター"}]
[null,null,{"$f":"IF(シート名設定!E28=0,\"\",シート名設定!E28)","v":"印刷フォーム14ソートデーター"}]
[null,null,{"$f":"IF(シート名設定!E29=0,\"\",シート名設定!E29)","v":"印刷フォーム15ソートデーター"}]
[null,null,{"$f":"IF(シート名設定!E30=0,\"\",シート名設定!E30)","v":"印刷フォーム16ソートデーター"}]
[null,null,{"$f":"IF(シート名設定!E31=0,\"\",シート名設定!E31)","v":"印刷フォーム17ソートデーター"}]
[null,null,{"$f":"IF(シート名設定!E32=0,\"\",シート名設定!E32)","v":"印刷フォーム18ソートデーター"}]
[null,null,{"$f":"IF(シート名設定!E33=0,\"\",シート名設定!E33)","v":"印刷フォーム19ソートデーター"}]
[null,null,{"$f":"IF(シート名設定!E34=0,\"\",シート名設定!E34)","v":"印刷フォーム20ソートデーター"}]
[null,null,{"$f":"IF(シート名設定!E35=0,\"\",シート名設定!E35)","v":"印刷フォーム21ソートデーター"}]
[null,null,{"$f":"IF(シート名設定!E36=0,\"\",シート名設定!E36)","v":"印刷フォーム22ソートデーター"}]
[null,null,{"$f":"IF(シート名設定!E37=0,\"\",シート名設定!E37)","v":"印刷フォーム23ソートデーター"}]
[null,null,{"$f":"IF(シート名設定!E38=0,\"\",シート名設定!E38)","v":"印刷フォーム24ソートデーター"}]
[null,null,{"$f":"IF(シート名設定!E39=0,\"\",シート名設定!E39)","v":"印刷フォーム25ソートデーター"}]
[null,null,{"$f":"IF(シート名設定!E40=0,\"\",シート名設定!E40)","v":"印刷フォーム26ソートデーター"}]
[null,null,{"$f":"IF(シート名設定!E41=0,\"\",シート名設定!E41)","v":"印刷フォーム27ソートデーター"}]
[null,null,{"$f":"IF(シート名設定!E42=0,\"\",シート名設定!E42)","v":"印刷フォーム28ソートデーター"}]
[null,null,{"$f":"IF(シート名設定!E43=0,\"\",シート名設定!E43)","v":"印刷フォーム29ソートデーター"}]
[null,null,{"$f":"IF(シート名設定!E44=0,\"\",シート名設定!E44)","v":"印刷フォーム30ソートデーター"}]
[null,null,{"$f":"IF(シート名設定!C30=0,\"\",シート名設定!C30)","v":"データー入力"}]

{"sheet":"一覧表付ファイル作成入力設定20","index":31,"n_rows":97,"n_cols":5,"rows_kept":97,"cut":false,"hidden":false,"merged":[[2,1,2,2]]}
[]
[]
[null,{"$f":"シート名設定!$C$28","v":"一覧表付ファイル作成入力設定20"}]
[null,"１．入力元の設定"]
[null,"項　　　　　　目","設定内容"]
[null,"シート名"]
[null,"データ先頭セル行番号"]
[null,"データ先頭セル列番号"]
[null,"異同比較列番号"]
[null,"データー数"]
[null,"For Next の増分"]
[]
[null,"２．入力先の設定"]
[null,"項　　　　　　目","設定内容"]
[null,"シート名"]
[null,"入力先頭セル行番号"]
[null,"入力先頭セル列番号"]
[null,"入力最終セル行番号"]
[null,"入力最終セル列番号"]
[null,"入力データー数"]
[null,"通しページ入力セル行番号"]
[null,"通しページ入力セル列番号"]
[null,"区分内ページ入力セル行番号"]
[null,"区分内ページ入力セル列番号"]
[null,"３．印刷処理かファイルのメール送信の設定"]
[null,"項　　　　　　目","設定内容"]
[null,"印刷処理か\nファイルの\nメール送信\nの選択",null,1]
[null,"ファイルのメール送信の場合の印刷フォームソートデーターシートのメールアドレスが入力されている列番号"]
[null,"ファイルのメール送信の場合の印刷フォームソートデーターシートの件名が入力されている列番号"]
[null,"ファイルのメール送信の場合の印刷フォームソートデーターシートの本文が入力されている列番号"]
[null,"ファイルのメール送信の場合の添付ファイルの保存先ドライブ及びフォルダー"]
[]
[]
[]
[]
[]
[null,null,{"$f":"IF(シート名設定!C35=0,\"\",シート名設定!C35)","v":"印刷フォーム1"},1,"印刷する"]
[null,null,{"$f":"IF(シート名設定!C36=0,\"\",シート名設定!C36)","v":"印刷フォーム2"},2,"メールで送信する"]
[null,null,{"$f":"IF(シート名設定!C37=0,\"\",シート名設定!C37)","v":"印刷フォーム3"},3,"添付ファイルなし件名本文のみのメール"]
[null,null,{"$f":"IF(シート名設定!C38=0,\"\",シート名設定!C38)","v":"印刷フォーム4"}]
[null,null,{"$f":"IF(シート名設定!C39=0,\"\",シート名設定!C39)","v":"印刷フォーム5"}]
[null,null,{"$f":"IF(シート名設定!C40=0,\"\",シート名設定!C40)","v":"印刷フォーム6"}]
[null,null,{"$f":"IF(シート名設定!C41=0,\"\",シート名設定!C41)","v":"印刷フォーム7"}]
[null,null,{"$f":"IF(シート名設定!C42=0,\"\",シート名設定!C42)","v":"印刷フォーム8"}]
[null,null,{"$f":"IF(シート名設定!C43=0,\"\",シート名設定!C43)","v":"印刷フォーム9"}]
[null,null,{"$f":"IF(シート名設定!C44=0,\"\",シート名設定!C44)","v":"印刷フォーム10"}]
[null,null,{"$f":"IF(シート名設定!C45=0,\"\",シート名設定!C45)","v":"印刷フォーム11"}]
[null,null,{"$f":"IF(シート名設定!C46=0,\"\",シート名設定!C46)","v":"印刷フォーム12"}]
[null,null,{"$f":"IF(シート名設定!C47=0,\"\",シート名設定!C47)","v":"印刷フォーム13"}]
[null,null,{"$f":"IF(シート名設定!C48=0,\"\",シート名設定!C48)","v":"印刷フォーム14"}]
[null,null,{"$f":"IF(シート名設定!C49=0,\"\",シート名設定!C49)","v":"印刷フォーム15"}]
[null,null,{"$f":"IF(シート名設定!C50=0,\"\",シート名設定!C50)","v":"印刷フォーム16"}]
[null,null,{"$f":"IF(シート名設定!C51=0,\"\",シート名設定!C51)","v":"印刷フォーム17"}]
[null,null,{"$f":"IF(シート名設定!C52=0,\"\",シート名設定!C52)","v":"印刷フォーム18"}]
[null,null,{"$f":"IF(シート名設定!C53=0,\"\",シート名設定!C53)","v":"印刷フォーム19"}]
[null,null,{"$f":"IF(シート名設定!C54=0,\"\",シート名設定!C54)","v":"印刷フォーム20"}]
[null,null,{"$f":"IF(シート名設定!E5=0,\"\",シート名設定!E5)","v":"印刷フォーム21"}]
[null,null,{"$f":"IF(シート名設定!E6=0,\"\",シート名設定!E6)","v":"印刷フォーム22"}]
[null,null,{"$f":"IF(シート名設定!E7=0,\"\",シート名設定!E7)","v":"印刷フォーム23"}]
[null,null,{"$f":"IF(シート名設定!E8=0,\"\",シート名設定!E8)","v":"印刷フォーム24"}]
[null,null,{"$f":"IF(シート名設定!E9=0,\"\",シート名設定!E9)","v":"印刷フォーム25"}]
[null,null,{"$f":"IF(シート名設定!E10=0,\"\",シート名設定!E10)","v":"印刷フォーム26"}]
[null,null,{"$f":"IF(シート名設定!E11=0,\"\",シート名設定!E11)","v":"印刷フォーム27"}]
[null,null,{"$f":"IF(シート名設定!E12=0,\"\",シート名設定!E12)","v":"印刷フォーム28"}]
[null,null,{"$f":"IF(シート名設定!E13=0,\"\",シート名設定!E13)","v":"印刷フォーム29"}]
[null,null,{"$f":"IF(シート名設定!E14=0,\"\",シート名設定!E14)","v":"印刷フォーム30"}]
[null,null,{"$f":"IF(シート名設定!E15=0,\"\",シート名設定!E15)","v":"印刷フォーム1ソートデーター"}]
[null,null,{"$f":"IF(シート名設定!E16=0,\"\",シート名設定!E16)","v":"印刷フォーム2ソートデーター"}]
[null,null,{"$f":"IF(シート名設定!E17=0,\"\",シート名設定!E17)","v":"印刷フォーム3ソートデーター"}]
[null,null,{"$f":"IF(シート名設定!E18=0,\"\",シート名設定!E18)","v":"印刷フォーム4ソートデーター"}]
[null,null,{"$f":"IF(シート名設定!E19=0,\"\",シート名設定!E19)","v":"印刷フォーム5ソートデーター"}]
[null,null,{"$f":"IF(シート名設定!E20=0,\"\",シート名設定!E20)","v":"印刷フォーム6ソートデーター"}]
[null,null,{"$f":"IF(シート名設定!E21=0,\"\",シート名設定!E21)","v":"印刷フォーム7ソートデーター"}]
[null,null,{"$f":"IF(シート名設定!E22=0,\"\",シート名設定!E22)","v":"印刷フォーム8ソートデーター"}]
[null,null,{"$f":"IF(シート名設定!E23=0,\"\",シート名設定!E23)","v":"印刷フォーム9ソートデーター"}]
[null,null,{"$f":"IF(シート名設定!E24=0,\"\",シート名設定!E24)","v":"印刷フォーム10ソートデーター"}]
[null,null,{"$f":"IF(シート名設定!E25=0,\"\",シート名設定!E25)","v":"印刷フォーム11ソートデーター"}]
[null,null,{"$f":"IF(シート名設定!E26=0,\"\",シート名設定!E26)","v":"印刷フォーム12ソートデーター"}]
[null,null,{"$f":"IF(シート名設定!E27=0,\"\",シート名設定!E27)","v":"印刷フォーム13ソートデーター"}]
[null,null,{"$f":"IF(シート名設定!E28=0,\"\",シート名設定!E28)","v":"印刷フォーム14ソートデーター"}]
[null,null,{"$f":"IF(シート名設定!E29=0,\"\",シート名設定!E29)","v":"印刷フォーム15ソートデーター"}]
[null,null,{"$f":"IF(シート名設定!E30=0,\"\",シート名設定!E30)","v":"印刷フォーム16ソートデーター"}]
[null,null,{"$f":"IF(シート名設定!E31=0,\"\",シート名設定!E31)","v":"印刷フォーム17ソートデーター"}]
[null,null,{"$f":"IF(シート名設定!E32=0,\"\",シート名設定!E32)","v":"印刷フォーム18ソートデーター"}]
[null,null,{"$f":"IF(シート名設定!E33=0,\"\",シート名設定!E33)","v":"印刷フォーム19ソートデーター"}]
[null,null,{"$f":"IF(シート名設定!E34=0,\"\",シート名設定!E34)","v":"印刷フォーム20ソートデーター"}]
[null,null,{"$f":"IF(シート名設定!E35=0,\"\",シート名設定!E35)","v":"印刷フォーム21ソートデーター"}]
[null,null,{"$f":"IF(シート名設定!E36=0,\"\",シート名設定!E36)","v":"印刷フォーム22ソートデーター"}]
[null,null,{"$f":"IF(シート名設定!E37=0,\"\",シート名設定!E37)","v":"印刷フォーム23ソートデーター"}]
[null,null,{"$f":"IF(シート名設定!E38=0,\"\",シート名設定!E38)","v":"印刷フォーム24ソートデーター"}]
[null,null,{"$f":"IF(シート名設定!E39=0,\"\",シート名設定!E39)","v":"印刷フォーム25ソートデーター"}]
[null,null,{"$f":"IF(シート名設定!E40=0,\"\",シート名設定!E40)","v":"印刷フォーム26ソートデーター"}]
[null,null,{"$f":"IF(シート名設定!E41=0,\"\",シート名設定!E41)","v":"印刷フォーム27ソートデーター"}]
[null,null,{"$f":"IF(シート名設定!E42=0,\"\",シート名設定!E42)","v":"印刷フォーム28ソートデーター"}]
[null,null,{"$f":"IF(シート名設定!E43=0,\"\",シート名設定!E43)","v":"印刷フォーム29ソートデーター"}]
[null,null,{"$f":"IF(シート名設定!E44=0,\"\",シート名設定!E44)","v":"印刷フォーム30ソートデーター"}]
[null,null,{"$f":"IF(シート名設定!C30=0,\"\",シート名設定!C30)","v":"データー入力"}]

{"sheet":"印刷フォーム1","index":32,"n_rows":2,"n_cols":2,"rows_kept":2,"cut":false,"hidden":false,"merged":[]}
[]
[null,"印刷フォーム1"]

{"sheet":"印刷フォーム2","index":33,"n_rows":2,"n_cols":2,"rows_kept":2,"cut":false,"hidden":false,"merged":[]}
[]
[null,{"$f":"シート名設定!$C$36","v":"印刷フォーム2"}]

{"sheet":"印刷フォーム3","index":34,"n_rows":2,"n_cols":2,"rows_kept":2,"cut":false,"hidden":false,"merged":[]}
[]
[null,{"$f":"シート名設定!$C$37","v":"印刷フォーム3"}]

{"sheet":"印刷フォーム4","index":35,"n_rows":2,"n_cols":2,"rows_kept":2,"cut":false,"hidden":false,"merged":[]}
[]
[null,{"$f":"シート名設定!$C$38","v":"印刷フォーム4"}]

{"sheet":"印刷フォーム5","index":36,"n_rows":2,"n_cols":2,"rows_kept":2,"cut":false,"hidden":false,"merged":[]}
[]
[null,{"$f":"シート名設定!$C$39","v":"印刷フォーム5"}]

{"sheet":"印刷フォーム6","index":37,"n_rows":2,"n_cols":2,"rows_kept":2,"cut":false,"hidden":false,"merged":[]}
[]
[null,{"$f":"シート名設定!$C$40","v":"印刷フォーム6"}]

{"sheet":"印刷フォーム7","index":38,"n_rows":2,"n_cols":2,"rows_kept":2,"cut":false,"hidden":false,"merged":[]}
[]
[null,{"$f":"シート名設定!$C$41","v":"印刷フォーム7"}]

{"sheet":"印刷フォーム8","index":39,"n_rows":2,"n_cols":2,"rows_kept":2,"cut":false,"hidden":false,"merged":[]}
[]
[null,{"$f":"シート名設定!$C$42","v":"印刷フォーム8"}]

{"sheet":"印刷フォーム9","index":40,"n_rows":2,"n_cols":2,"rows_kept":2,"cut":false,"hidden":false,"merged":[]}
[]
[null,{"$f":"シート名設定!$C$43","v":"印刷フォーム9"}]

{"sheet":"印刷フォーム10","index":41,"n_rows":2,"n_cols":2,"rows_kept":2,"cut":false,"hidden":false,"merged":[]}
[]
[null,{"$f":"シート名設定!$C$44","v":"印刷フォーム10"}]

{"sheet":"印刷フォーム11","index":42,"n_rows":2,"n_cols":2,"rows_kept":2,"cut":false,"hidden":false,"merged":[]}
[]
[null,{"$f":"シート名設定!$C$45","v":"印刷フォーム11"}]

{"sheet":"印刷フォーム12","index":43,"n_rows":2,"n_cols":2,"rows_kept":2,"cut":false,"hidden":false,"merged":[]}
[]
[null,{"$f":"シート名設定!$C$46","v":"印刷フォーム12"}]

{"sheet":"印刷フォーム13","index":44,"n_rows":2,"n_cols":2,"rows_kept":2,"cut":false,"hidden":false,"merged":[]}
[]
[null,{"$f":"シート名設定!$C$47","v":"印刷フォーム13"}]

{"sheet":"印刷フォーム14","index":45,"n_rows":2,"n_cols":2,"rows_kept":2,"cut":false,"hidden":false,"merged":[]}
[]
[null,{"$f":"シート名設定!$C$48","v":"印刷フォーム14"}]

{"sheet":"印刷フォーム15","index":46,"n_rows":2,"n_cols":2,"rows_kept":2,"cut":false,"hidden":false,"merged":[]}
[]
[null,{"$f":"シート名設定!$C$49","v":"印刷フォーム15"}]

{"sheet":"印刷フォーム16","index":47,"n_rows":2,"n_cols":2,"rows_kept":2,"cut":false,"hidden":false,"merged":[]}
[]
[null,{"$f":"シート名設定!$C$50","v":"印刷フォーム16"}]

{"sheet":"印刷フォーム17","index":48,"n_rows":2,"n_cols":2,"rows_kept":2,"cut":false,"hidden":false,"merged":[]}
[]
[null,{"$f":"シート名設定!$C$51","v":"印刷フォーム17"}]

{"sheet":"印刷フォーム18","index":49,"n_rows":2,"n_cols":2,"rows_kept":2,"cut":false,"hidden":false,"merged":[]}
[]
[null,{"$f":"シート名設定!$C$52","v":"印刷フォーム18"}]

{"sheet":"印刷フォーム19","index":50,"n_rows":2,"n_cols":2,"rows_kept":2,"cut":false,"hidden":false,"merged":[]}
[]
[null,{"$f":"シート名設定!$C$53","v":"印刷フォーム19"}]

{"sheet":"印刷フォーム20","index":51,"n_rows":2,"n_cols":2,"rows_kept":2,"cut":false,"hidden":false,"merged":[]}
[]
[null,{"$f":"シート名設定!$C$54","v":"印刷フォーム20"}]

{"sheet":"印刷フォーム21","index":52,"n_rows":2,"n_cols":2,"rows_kept":2,"cut":false,"hidden":false,"merged":[]}
[]
[null,{"$f":"シート名設定!$E$5","v":"印刷フォーム21"}]

{"sheet":"印刷フォーム22","index":53,"n_rows":2,"n_cols":2,"rows_kept":2,"cut":false,"hidden":false,"merged":[]}
[]
[null,{"$f":"シート名設定!$E$6","v":"印刷フォーム22"}]

{"sheet":"印刷フォーム23","index":54,"n_rows":2,"n_cols":2,"rows_kept":2,"cut":false,"hidden":false,"merged":[]}
[]
[null,{"$f":"シート名設定!$E$7","v":"印刷フォーム23"}]

{"sheet":"印刷フォーム24","index":55,"n_rows":2,"n_cols":2,"rows_kept":2,"cut":false,"hidden":false,"merged":[]}
[]
[null,{"$f":"シート名設定!$E$8","v":"印刷フォーム24"}]

{"sheet":"印刷フォーム25","index":56,"n_rows":2,"n_cols":2,"rows_kept":2,"cut":false,"hidden":false,"merged":[]}
[]
[null,{"$f":"シート名設定!$E$9","v":"印刷フォーム25"}]

{"sheet":"印刷フォーム26","index":57,"n_rows":2,"n_cols":2,"rows_kept":2,"cut":false,"hidden":false,"merged":[]}
[]
[null,{"$f":"シート名設定!$E$10","v":"印刷フォーム26"}]

{"sheet":"印刷フォーム27","index":58,"n_rows":2,"n_cols":2,"rows_kept":2,"cut":false,"hidden":false,"merged":[]}
[]
[null,{"$f":"シート名設定!$E$11","v":"印刷フォーム27"}]

{"sheet":"印刷フォーム28","index":59,"n_rows":2,"n_cols":2,"rows_kept":2,"cut":false,"hidden":false,"merged":[]}
[]
[null,{"$f":"シート名設定!$E$12","v":"印刷フォーム28"}]

{"sheet":"印刷フォーム29","index":60,"n_rows":2,"n_cols":2,"rows_kept":2,"cut":false,"hidden":false,"merged":[]}
[]
[null,{"$f":"シート名設定!$E$13","v":"印刷フォーム29"}]

{"sheet":"印刷フォーム30","index":61,"n_rows":2,"n_cols":2,"rows_kept":2,"cut":false,"hidden":false,"merged":[]}
[]
[null,{"$f":"シート名設定!$E$14","v":"印刷フォーム30"}]

{"sheet":"印刷フォーム1ソートデーター","index":62,"n_rows":2,"n_cols":2,"rows_kept":2,"cut":false,"hidden":false,"merged":[]}
[]
[null,{"$f":"シート名設定!$E$15","v":"印刷フォーム1ソートデーター"}]

{"sheet":"印刷フォーム2ソートデーター","index":63,"n_rows":2,"n_cols":2,"rows_kept":2,"cut":false,"hidden":false,"merged":[]}
[]
[null,{"$f":"シート名設定!$E$16","v":"印刷フォーム2ソートデーター"}]

{"sheet":"印刷フォーム3ソートデーター","index":64,"n_rows":2,"n_cols":2,"rows_kept":2,"cut":false,"hidden":false,"merged":[]}
[]
[null,{"$f":"シート名設定!$E$17","v":"印刷フォーム3ソートデーター"}]

{"sheet":"印刷フォーム4ソートデーター","index":65,"n_rows":2,"n_cols":2,"rows_kept":2,"cut":false,"hidden":false,"merged":[]}
[]
[null,{"$f":"シート名設定!$E$18","v":"印刷フォーム4ソートデーター"}]

{"sheet":"印刷フォーム5ソートデーター","index":66,"n_rows":2,"n_cols":2,"rows_kept":2,"cut":false,"hidden":false,"merged":[]}
[]
[null,{"$f":"シート名設定!$E$19","v":"印刷フォーム5ソートデーター"}]

{"sheet":"印刷フォーム6ソートデーター","index":67,"n_rows":2,"n_cols":2,"rows_kept":2,"cut":false,"hidden":false,"merged":[]}
[]
[null,{"$f":"シート名設定!$E$20","v":"印刷フォーム6ソートデーター"}]

{"sheet":"印刷フォーム7ソートデーター","index":68,"n_rows":2,"n_cols":2,"rows_kept":2,"cut":false,"hidden":false,"merged":[]}
[]
[null,{"$f":"シート名設定!$E$21","v":"印刷フォーム7ソートデーター"}]

{"sheet":"印刷フォーム8ソートデーター","index":69,"n_rows":2,"n_cols":2,"rows_kept":2,"cut":false,"hidden":false,"merged":[]}
[]
[null,{"$f":"シート名設定!$E$22","v":"印刷フォーム8ソートデーター"}]

{"sheet":"印刷フォーム9ソートデーター","index":70,"n_rows":2,"n_cols":2,"rows_kept":2,"cut":false,"hidden":false,"merged":[]}
[]
[null,{"$f":"シート名設定!$E$23","v":"印刷フォーム9ソートデーター"}]

{"sheet":"印刷フォーム10ソートデーター","index":71,"n_rows":2,"n_cols":2,"rows_kept":2,"cut":false,"hidden":false,"merged":[]}
[]
[null,{"$f":"シート名設定!$E$24","v":"印刷フォーム10ソートデーター"}]

{"sheet":"印刷フォーム11ソートデーター","index":72,"n_rows":2,"n_cols":2,"rows_kept":2,"cut":false,"hidden":false,"merged":[]}
[]
[null,{"$f":"シート名設定!$E$25","v":"印刷フォーム11ソートデーター"}]

{"sheet":"印刷フォーム12ソートデーター","index":73,"n_rows":2,"n_cols":2,"rows_kept":2,"cut":false,"hidden":false,"merged":[]}
[]
[null,{"$f":"シート名設定!$E$26","v":"印刷フォーム12ソートデーター"}]

{"sheet":"印刷フォーム13ソートデーター","index":74,"n_rows":2,"n_cols":2,"rows_kept":2,"cut":false,"hidden":false,"merged":[]}
[]
[null,{"$f":"シート名設定!$E$27","v":"印刷フォーム13ソートデーター"}]

{"sheet":"印刷フォーム14ソートデーター","index":75,"n_rows":2,"n_cols":2,"rows_kept":2,"cut":false,"hidden":false,"merged":[]}
[]
[null,{"$f":"シート名設定!$E$28","v":"印刷フォーム14ソートデーター"}]

{"sheet":"印刷フォーム15ソートデーター","index":76,"n_rows":2,"n_cols":2,"rows_kept":2,"cut":false,"hidden":false,"merged":[]}
[]
[null,{"$f":"シート名設定!$E$29","v":"印刷フォーム15ソートデーター"}]

{"sheet":"印刷フォーム16ソートデーター","index":77,"n_rows":2,"n_cols":2,"rows_kept":2,"cut":false,"hidden":false,"merged":[]}
[]
[null,{"$f":"シート名設定!$E$30","v":"印刷フォーム16ソートデーター"}]

{"sheet":"印刷フォーム17ソートデーター","index":78,"n_rows":2,"n_cols":2,"rows_kept":2,"cut":false,"hidden":false,"merged":[]}
[]
[null,{"$f":"シート名設定!$E$31","v":"印刷フォーム17ソートデーター"}]

{"sheet":"印刷フォーム18ソートデーター","index":79,"n_rows":2,"n_cols":2,"rows_kept":2,"cut":false,"hidden":false,"merged":[]}
[]
[null,{"$f":"シート名設定!$E$32","v":"印刷フォーム18ソートデーター"}]

{"sheet":"印刷フォーム19ソートデーター","index":80,"n_rows":2,"n_cols":2,"rows_kept":2,"cut":false,"hidden":false,"merged":[]}
[]
[null,{"$f":"シート名設定!$E$33","v":"印刷フォーム19ソートデーター"}]

{"sheet":"印刷フォーム20ソートデーター","index":81,"n_rows":2,"n_cols":2,"rows_kept":2,"cut":false,"hidden":false,"merged":[]}
[]
[null,{"$f":"シート名設定!$E$34","v":"印刷フォーム20ソートデーター"}]

{"sheet":"印刷フォーム21ソートデーター","index":82,"n_rows":2,"n_cols":2,"rows_kept":2,"cut":false,"hidden":false,"merged":[]}
[]
[null,{"$f":"シート名設定!$E$35","v":"印刷フォーム21ソートデーター"}]

{"sheet":"印刷フォーム22ソートデーター","index":83,"n_rows":2,"n_cols":2,"rows_kept":2,"cut":false,"hidden":false,"merged":[]}
[]
[null,{"$f":"シート名設定!$E$36","v":"印刷フォーム22ソートデーター"}]

{"sheet":"印刷フォーム23ソートデーター","index":84,"n_rows":2,"n_cols":2,"rows_kept":2,"cut":false,"hidden":false,"merged":[]}
[]
[null,{"$f":"シート名設定!$E$37","v":"印刷フォーム23ソートデーター"}]

{"sheet":"印刷フォーム24ソートデーター","index":85,"n_rows":2,"n_cols":2,"rows_kept":2,"cut":false,"hidden":false,"merged":[]}
[]
[null,{"$f":"シート名設定!$E$38","v":"印刷フォーム24ソートデーター"}]

{"sheet":"印刷フォーム25ソートデーター","index":86,"n_rows":2,"n_cols":2,"rows_kept":2,"cut":false,"hidden":false,"merged":[]}
[]
[null,{"$f":"シート名設定!$E$39","v":"印刷フォーム25ソートデーター"}]

{"sheet":"印刷フォーム26ソートデーター","index":87,"n_rows":2,"n_cols":2,"rows_kept":2,"cut":false,"hidden":false,"merged":[]}
[]
[null,{"$f":"シート名設定!$E$40","v":"印刷フォーム26ソートデーター"}]

{"sheet":"印刷フォーム27ソートデーター","index":88,"n_rows":2,"n_cols":2,"rows_kept":2,"cut":false,"hidden":false,"merged":[]}
[]
[null,{"$f":"シート名設定!$E$41","v":"印刷フォーム27ソートデーター"}]

{"sheet":"印刷フォーム28ソートデーター","index":89,"n_rows":2,"n_cols":2,"rows_kept":2,"cut":false,"hidden":false,"merged":[]}
[]
[null,{"$f":"シート名設定!$E$42","v":"印刷フォーム28ソートデーター"}]

{"sheet":"印刷フォーム29ソートデーター","index":90,"n_rows":2,"n_cols":2,"rows_kept":2,"cut":false,"hidden":false,"merged":[]}
[]
[null,{"$f":"シート名設定!$E$43","v":"印刷フォーム29ソートデーター"}]

{"sheet":"印刷フォーム30ソートデーター","index":91,"n_rows":2,"n_cols":2,"rows_kept":2,"cut":false,"hidden":false,"merged":[]}
[]
[null,{"$f":"シート名設定!$E$44","v":"印刷フォーム30ソートデーター"}]

{"sheet":"入力可能行数調査","index":92,"n_rows":4,"n_cols":2,"rows_kept":4,"cut":false,"hidden":true,"merged":[]}
[]
[]
[null,{"$f":"ROWS(データー入力!$B$8:$B$108)-1","v":100}]
[null,{"$f":"\"入力可能行数　\"&$B$3&\"行\"","v":"入力可能行数　100行"}]

{"sheet":"データー入力","index":93,"n_rows":108,"n_cols":103,"rows_kept":108,"cut":false,"hidden":false,"merged":[]}
[null,null,null,null,null,{"$f":"入力可能行数調査!B4","v":"入力可能行数　100行"}]
[null,{"$f":"シート名設定!C30","v":"データー入力"}]
[]
[]
[null,"ID","対象",{"$f":"IF(項目表示入力!C7=\"\",\"\",項目表示入力!C7)","v":"内容1,1"},{"$f":"IF(項目表示入力!D7=\"\",\"\",項目表示入力!D7)","v":"内容1,2"},{"$f":"IF(項目表示入力!E7=\"\",\"\",項目表示入力!E7)","v":"内容1,3"},{"$f":"IF(項目表示入力!F7=\"\",\"\",項目表示入力!F7)","v":"内容1,4"},{"$f":"IF(項目表示入力!G7=\"\",\"\",項目表示入力!G7)","v":"内容1,5"},{"$f":"IF(項目表示入力!H7=\"\",\"\",項目表示入力!H7)","v":"内容1,6"},{"$f":"IF(項目表示入力!I7=\"\",\"\",項目表示入力!I7)","v":"内容1,7"},{"$f":"IF(項目表示入力!J7=\"\",\"\",項目表示入力!J7)","v":"内容1,8"},{"$f":"IF(項目表示入力!K7=\"\",\"\",項目表示入力!K7)","v":"内容1,9"},{"$f":"IF(項目表示入力!L7=\"\",\"\",項目表示入力!L7)","v":"内容1,10"},{"$f":"IF(項目表示入力!M7=\"\",\"\",項目表示入力!M7)","v":"内容1,11"},{"$f":"IF(項目表示入力!N7=\"\",\"\",項目表示入力!N7)","v":"内容1,12"},{"$f":"IF(項目表示入力!O7=\"\",\"\",項目表示入力!O7)","v":"内容1,13"},{"$f":"IF(項目表示入力!P7=\"\",\"\",項目表示入力!P7)","v":"内容1,14"},{"$f":"IF(項目表示入力!Q7=\"\",\"\",項目表示入力!Q7)","v":"内容1,15"},{"$f":"IF(項目表示入力!R7=\"\",\"\",項目表示入力!R7)","v":"内容1,16"},{"$f":"IF(項目表示入力!S7=\"\",\"\",項目表示入力!S7)","v":"内容1,17"},{"$f":"IF(項目表示入力!T7=\"\",\"\",項目表示入力!T7)","v":"内容1,18"},{"$f":"IF(項目表示入力!U7=\"\",\"\",項目表示入力!U7)","v":"内容1,19"},{"$f":"IF(項目表示入力!V7=\"\",\"\",項目表示入力!V7)","v":"内容1,20"},{"$f":"IF(項目表示入力!C8=\"\",\"\",項目表示入力!C8)","v":"内容2,1"},{"$f":"IF(項目表示入力!D8=\"\",\"\",項目表示入力!D8)","v":"内容2,2"},{"$f":"IF(項目表示入力!E8=\"\",\"\",項目表示入力!E8)","v":"内容2,3"},{"$f":"IF(項目表示入力!F8=\"\",\"\",項目表示入力!F8)","v":"内容2,4"},{"$f":"IF(項目表示入力!G8=\"\",\"\",項目表示入力!G8)","v":"内容2,5"},{"$f":"IF(項目表示入力!H8=\"\",\"\",項目表示入力!H8)","v":"内容2,6"},{"$f":"IF(項目表示入力!I8=\"\",\"\",項目表示入力!I8)","v":"内容2,7"},{"$f":"IF(項目表示入力!J8=\"\",\"\",項目表示入力!J8)","v":"内容2,8"},{"$f":"IF(項目表示入力!K8=\"\",\"\",項目表示入力!K8)","v":"内容2,9"},{"$f":"IF(項目表示入力!L8=\"\",\"\",項目表示入力!L8)","v":"内容2,10"},{"$f":"IF(項目表示入力!M8=\"\",\"\",項目表示入力!M8)","v":"内容2,11"},{"$f":"IF(項目表示入力!N8=\"\",\"\",項目表示入力!N8)","v":"内容2,12"},{"$f":"IF(項目表示入力!O8=\"\",\"\",項目表示入力!O8)","v":"内容2,13"},{"$f":"IF(項目表示入力!P8=\"\",\"\",項目表示入力!P8)","v":"内容2,14"},{"$f":"IF(項目表示入力!Q8=\"\",\"\",項目表示入力!Q8)","v":"内容2,15"},{"$f":"IF(項目表示入力!R8=\"\",\"\",項目表示入力!R8)","v":"内容2,16"},{"$f":"IF(項目表示入力!S8=\"\",\"\",項目表示入力!S8)","v":"内容2,17"},{"$f":"IF(項目表示入力!T8=\"\",\"\",項目表示入力!T8)","v":"内容2,18"},{"$f":"IF(項目表示入力!U8=\"\",\"\",項目表示入力!U8)","v":"内容2,19"},{"$f":"IF(項目表示入力!V8=\"\",\"\",項目表示入力!V8)","v":"内容2,20"},{"$f":"IF(項目表示入力!C9=\"\",\"\",項目表示入力!C9)","v":"内容3,1"},{"$f":"IF(項目表示入力!D9=\"\",\"\",項目表示入力!D9)","v":"内容3,2"},{"$f":"IF(項目表示入力!E9=\"\",\"\",項目表示入力!E9)","v":"内容3,3"},{"$f":"IF(項目表示入力!F9=\"\",\"\",項目表示入力!F9)","v":"内容3,4"},{"$f":"IF(項目表示入力!G9=\"\",\"\",項目表示入力!G9)","v":"内容3,5"},{"$f":"IF(項目表示入力!H9=\"\",\"\",項目表示入力!H9)","v":"内容3,6"},{"$f":"IF(項目表示入力!I9=\"\",\"\",項目表示入力!I9)","v":"内容3,7"},{"$f":"IF(項目表示入力!J9=\"\",\"\",項目表示入力!J9)","v":"内容3,8"},{"$f":"IF(項目表示入力!K9=\"\",\"\",項目表示入力!K9)","v":"内容3,9"},{"$f":"IF(項目表示入力!L9=\"\",\"\",項目表示入力!L9)","v":"内容3,10"},{"$f":"IF(項目表示入力!M9=\"\",\"\",項目表示入力!M9)","v":"内容3,11"},{"$f":"IF(項目表示入力!N9=\"\",\"\",項目表示入力!N9)","v":"内容3,12"},{"$f":"IF(項目表示入力!O9=\"\",\"\",項目表示入力!O9)","v":"内容3,13"},{"$f":"IF(項目表示入力!P9=\"\",\"\",項目表示入力!P9)","v":"内容3,14"},{"$f":"IF(項目表示入力!Q9=\"\",\"\",項目表示入力!Q9)","v":"内容3,15"},{"$f":"IF(項目表示入力!R9=\"\",\"\",項目表示入力!R9)","v":"内容3,16"},{"$f":"IF(項目表示入力!S9=\"\",\"\",項目表示入力!S9)","v":"内容3,17"},{"$f":"IF(項目表示入力!T9=\"\",\"\",項目表示入力!T9)","v":"内容3,18"},{"$f":"IF(項目表示入力!U9=\"\",\"\",項目表示入力!U9)","v":"内容3,19"},{"$f":"IF(項目表示入力!V9=\"\",\"\",項目表示入力!V9)","v":"内容3,20"},{"$f":"IF(項目表示入力!C10=\"\",\"\",項目表示入力!C10)","v":"内容4,1"},{"$f":"IF(項目表示入力!D10=\"\",\"\",項目表示入力!D10)","v":"内容4,2"},{"$f":"IF(項目表示入力!E10=\"\",\"\",項目表示入力!E10)","v":"内容4,3"},{"$f":"IF(項目表示入力!F10=\"\",\"\",項目表示入力!F10)","v":"内容4,4"},{"$f":"IF(項目表示入力!G10=\"\",\"\",項目表示入力!G10)","v":"内容4,5"},{"$f":"IF(項目表示入力!H10=\"\",\"\",項目表示入力!H10)","v":"内容4,6"},{"$f":"IF(項目表示入力!I10=\"\",\"\",項目表示入力!I10)","v":"内容4,7"},{"$f":"IF(項目表示入力!J10=\"\",\"\",項目表示入力!J10)","v":"内容4,8"},{"$f":"IF(項目表示入力!K10=\"\",\"\",項目表示入力!K10)","v":"内容4,9"},{"$f":"IF(項目表示入力!L10=\"\",\"\",項目表示入力!L10)","v":"内容4,10"},{"$f":"IF(項目表示入力!M10=\"\",\"\",項目表示入力!M10)","v":"内容4,11"},{"$f":"IF(項目表示入力!N10=\"\",\"\",項目表示入力!N10)","v":"内容4,12"},{"$f":"IF(項目表示入力!O10=\"\",\"\",項目表示入力!O10)","v":"内容4,13"},{"$f":"IF(項目表示入力!P10=\"\",\"\",項目表示入力!P10)","v":"内容4,14"},{"$f":"IF(項目表示入力!Q10=\"\",\"\",項目表示入力!Q10)","v":"内容4,15"},{"$f":"IF(項目表示入力!R10=\"\",\"\",項目表示入力!R10)","v":"内容4,16"},{"$f":"IF(項目表示入力!S10=\"\",\"\",項目表示入力!S10)","v":"内容4,17"},{"$f":"IF(項目表示入力!T10=\"\",\"\",項目表示入力!T10)","v":"内容4,18"},{"$f":"IF(項目表示入力!U10=\"\",\"\",項目表示入力!U10)","v":"内容4,19"},{"$f":"IF(項目表示入力!V10=\"\",\"\",項目表示入力!V10)","v":"内容4,20"},{"$f":"IF(項目表示入力!C11=\"\",\"\",項目表示入力!C11)","v":"内容5,1"},{"$f":"IF(項目表示入力!D11=\"\",\"\",項目表示入力!D11)","v":"内容5,2"},{"$f":"IF(項目表示入力!E11=\"\",\"\",項目表示入力!E11)","v":"内容5,3"},{"$f":"IF(項目表示入力!F11=\"\",\"\",項目表示入力!F11)","v":"内容5,4"},{"$f":"IF(項目表示入力!G11=\"\",\"\",項目表示入力!G11)","v":"内容5,5"},{"$f":"IF(項目表示入力!H11=\"\",\"\",項目表示入力!H11)","v":"内容5,6"},{"$f":"IF(項目表示入力!I11=\"\",\"\",項目表示入力!I11)","v":"内容5,7"},{"$f":"IF(項目表示入力!J11=\"\",\"\",項目表示入力!J11)","v":"内容5,8"},{"$f":"IF(項目表示入力!K11=\"\",\"\",項目表示入力!K11)","v":"内容5,9"},{"$f":"IF(項目表示入力!L11=\"\",\"\",項目表示入力!L11)","v":"内容5,10"},{"$f":"IF(項目表示入力!M11=\"\",\"\",項目表示入力!M11)","v":"内容5,11"},{"$f":"IF(項目表示入力!N11=\"\",\"\",項目表示入力!N11)","v":"内容5,12"},{"$f":"IF(項目表示入力!O11=\"\",\"\",項目表示入力!O11)","v":"内容5,13"},{"$f":"IF(項目表示入力!P11=\"\",\"\",項目表示入力!P11)","v":"内容5,14"},{"$f":"IF(項目表示入力!Q11=\"\",\"\",項目表示入力!Q11)","v":"内容5,15"},{"$f":"IF(項目表示入力!R11=\"\",\"\",項目表示入力!R11)","v":"内容5,16"},{"$f":"IF(項目表示入力!S11=\"\",\"\",項目表示入力!S11)","v":"内容5,17"},{"$f":"IF(項目表示入力!T11=\"\",\"\",項目表示入力!T11)","v":"内容5,18"},{"$f":"IF(項目表示入力!U11=\"\",\"\",項目表示入力!U11)","v":"内容5,19"},{"$f":"IF(項目表示入力!V11=\"\",\"\",項目表示入力!V11)","v":"内容5,20"}]
[null,null,null,{"$f":"IF(オフセット番号A!$C$4=\"\",\"\",オフセット番号A!$C$4)","v":"列1"},{"$f":"IF(オフセット番号A!$D$4=\"\",\"\",オフセット番号A!$D$4)","v":"列2"},{"$f":"IF(オフセット番号A!$E$4=\"\",\"\",オフセット番号A!$E$4)","v":"列3"},{"$f":"IF(オフセット番号A!$F$4=\"\",\"\",オフセット番号A!$F$4)","v":"列4"},{"$f":"IF(オフセット番号A!$G$4=\"\",\"\",オフセット番号A!$G$4)","v":"列5"},{"$f":"IF(オフセット番号A!$H$4=\"\",\"\",オフセット番号A!$H$4)","v":"列6"},{"$f":"IF(オフセット番号A!$I$4=\"\",\"\",オフセット番号A!$I$4)","v":"列7"},{"$f":"IF(オフセット番号A!$J$4=\"\",\"\",オフセット番号A!$J$4)","v":"列8"},{"$f":"IF(オフセット番号A!$K$4=\"\",\"\",オフセット番号A!$K$4)","v":"列9"},{"$f":"IF(オフセット番号A!$L$4=\"\",\"\",オフセット番号A!$L$4)","v":"列10"},{"$f":"IF(オフセット番号A!$M$4=\"\",\"\",オフセット番号A!$M$4)","v":"列11"},{"$f":"IF(オフセット番号A!$N$4=\"\",\"\",オフセット番号A!$N$4)","v":"列12"},{"$f":"IF(オフセット番号A!$O$4=\"\",\"\",オフセット番号A!$O$4)","v":"列13"},{"$f":"IF(オフセット番号A!$P$4=\"\",\"\",オフセット番号A!$P$4)","v":"列14"},{"$f":"IF(オフセット番号A!$Q$4=\"\",\"\",オフセット番号A!$Q$4)","v":"列15"},{"$f":"IF(オフセット番号A!$R$4=\"\",\"\",オフセット番号A!$R$4)","v":"列16"},{"$f":"IF(オフセット番号A!$S$4=\"\",\"\",オフセット番号A!$S$4)","v":"列17"},{"$f":"IF(オフセット番号A!$T$4=\"\",\"\",オフセット番号A!$T$4)","v":"列18"},{"$f":"IF(オフセット番号A!$U$4=\"\",\"\",オフセット番号A!$U$4)","v":"列19"},{"$f":"IF(オフセット番号A!$V$4=\"\",\"\",オフセット番号A!$V$4)","v":"列20"},{"$f":"IF(オフセット番号A!$C$4=\"\",\"\",オフセット番号A!$C$4)","v":"列1"},{"$f":"IF(オフセット番号A!$D$4=\"\",\"\",オフセット番号A!$D$4)","v":"列2"},{"$f":"IF(オフセット番号A!$E$4=\"\",\"\",オフセット番号A!$E$4)","v":"列3"},{"$f":"IF(オフセット番号A!$F$4=\"\",\"\",オフセット番号A!$F$4)","v":"列4"},{"$f":"IF(オフセット番号A!$G$4=\"\",\"\",オフセット番号A!$G$4)","v":"列5"},{"$f":"IF(オフセット番号A!$H$4=\"\",\"\",オフセット番号A!$H$4)","v":"列6"},{"$f":"IF(オフセット番号A!$I$4=\"\",\"\",オフセット番号A!$I$4)","v":"列7"},{"$f":"IF(オフセット番号A!$J$4=\"\",\"\",オフセット番号A!$J$4)","v":"列8"},{"$f":"IF(オフセット番号A!$K$4=\"\",\"\",オフセット番号A!$K$4)","v":"列9"},{"$f":"IF(オフセット番号A!$L$4=\"\",\"\",オフセット番号A!$L$4)","v":"列10"},{"$f":"IF(オフセット番号A!$M$4=\"\",\"\",オフセット番号A!$M$4)","v":"列11"},{"$f":"IF(オフセット番号A!$N$4=\"\",\"\",オフセット番号A!$N$4)","v":"列12"},{"$f":"IF(オフセット番号A!$O$4=\"\",\"\",オフセット番号A!$O$4)","v":"列13"},{"$f":"IF(オフセット番号A!$P$4=\"\",\"\",オフセット番号A!$P$4)","v":"列14"},{"$f":"IF(オフセット番号A!$Q$4=\"\",\"\",オフセット番号A!$Q$4)","v":"列15"},{"$f":"IF(オフセット番号A!$R$4=\"\",\"\",オフセット番号A!$R$4)","v":"列16"},{"$f":"IF(オフセット番号A!$S$4=\"\",\"\",オフセット番号A!$S$4)","v":"列17"},{"$f":"IF(オフセット番号A!$T$4=\"\",\"\",オフセット番号A!$T$4)","v":"列18"},{"$f":"IF(オフセット番号A!$U$4=\"\",\"\",オフセット番号A!$U$4)","v":"列19"},{"$f":"IF(オフセット番号A!$V$4=\"\",\"\",オフセット番号A!$V$4)","v":"列20"},{"$f":"IF(オフセット番号A!$C$4=\"\",\"\",オフセット番号A!$C$4)","v":"列1"},{"$f":"IF(オフセット番号A!$D$4=\"\",\"\",オフセット番号A!$D$4)","v":"列2"},{"$f":"IF(オフセット番号A!$E$4=\"\",\"\",オフセット番号A!$E$4)","v":"列3"},{"$f":"IF(オフセット番号A!$F$4=\"\",\"\",オフセット番号A!$F$4)","v":"列4"},{"$f":"IF(オフセット番号A!$G$4=\"\",\"\",オフセット番号A!$G$4)","v":"列5"},{"$f":"IF(オフセット番号A!$H$4=\"\",\"\",オフセット番号A!$H$4)","v":"列6"},{"$f":"IF(オフセット番号A!$I$4=\"\",\"\",オフセット番号A!$I$4)","v":"列7"},{"$f":"IF(オフセット番号A!$J$4=\"\",\"\",オフセット番号A!$J$4)","v":"列8"},{"$f":"IF(オフセット番号A!$K$4=\"\",\"\",オフセット番号A!$K$4)","v":"列9"},{"$f":"IF(オフセット番号A!$L$4=\"\",\"\",オフセット番号A!$L$4)","v":"列10"},{"$f":"IF(オフセット番号A!$M$4=\"\",\"\",オフセット番号A!$M$4)","v":"列11"},{"$f":"IF(オフセット番号A!$N$4=\"\",\"\",オフセット番号A!$N$4)","v":"列12"},{"$f":"IF(オフセット番号A!$O$4=\"\",\"\",オフセット番号A!$O$4)","v":"列13"},{"$f":"IF(オフセット番号A!$P$4=\"\",\"\",オフセット番号A!$P$4)","v":"列14"},{"$f":"IF(オフセット番号A!$Q$4=\"\",\"\",オフセット番号A!$Q$4)","v":"列15"},{"$f":"IF(オフセット番号A!$R$4=\"\",\"\",オフセット番号A!$R$4)","v":"列16"},{"$f":"IF(オフセット番号A!$S$4=\"\",\"\",オフセット番号A!$S$4)","v":"列17"},{"$f":"IF(オフセット番号A!$T$4=\"\",\"\",オフセット番号A!$T$4)","v":"列18"},{"$f":"IF(オフセット番号A!$U$4=\"\",\"\",オフセット番号A!$U$4)","v":"列19"},{"$f":"IF(オフセット番号A!$V$4=\"\",\"\",オフセット番号A!$V$4)","v":"列20"},{"$f":"IF(オフセット番号A!$C$4=\"\",\"\",オフセット番号A!$C$4)","v":"列1"},{"$f":"IF(オフセット番号A!$D$4=\"\",\"\",オフセット番号A!$D$4)","v":"列2"},{"$f":"IF(オフセット番号A!$E$4=\"\",\"\",オフセット番号A!$E$4)","v":"列3"},{"$f":"IF(オフセット番号A!$F$4=\"\",\"\",オフセット番号A!$F$4)","v":"列4"},{"$f":"IF(オフセット番号A!$G$4=\"\",\"\",オフセット番号A!$G$4)","v":"列5"},{"$f":"IF(オフセット番号A!$H$4=\"\",\"\",オフセット番号A!$H$4)","v":"列6"},{"$f":"IF(オフセット番号A!$I$4=\"\",\"\",オフセット番号A!$I$4)","v":"列7"},{"$f":"IF(オフセット番号A!$J$4=\"\",\"\",オフセット番号A!$J$4)","v":"列8"},{"$f":"IF(オフセット番号A!$K$4=\"\",\"\",オフセット番号A!$K$4)","v":"列9"},{"$f":"IF(オフセット番号A!$L$4=\"\",\"\",オフセット番号A!$L$4)","v":"列10"},{"$f":"IF(オフセット番号A!$M$4=\"\",\"\",オフセット番号A!$M$4)","v":"列11"},{"$f":"IF(オフセット番号A!$N$4=\"\",\"\",オフセット番号A!$N$4)","v":"列12"},{"$f":"IF(オフセット番号A!$O$4=\"\",\"\",オフセット番号A!$O$4)","v":"列13"},{"$f":"IF(オフセット番号A!$P$4=\"\",\"\",オフセット番号A!$P$4)","v":"列14"},{"$f":"IF(オフセット番号A!$Q$4=\"\",\"\",オフセット番号A!$Q$4)","v":"列15"},{"$f":"IF(オフセット番号A!$R$4=\"\",\"\",オフセット番号A!$R$4)","v":"列16"},{"$f":"IF(オフセット番号A!$S$4=\"\",\"\",オフセット番号A!$S$4)","v":"列17"},{"$f":"IF(オフセット番号A!$T$4=\"\",\"\",オフセット番号A!$T$4)","v":"列18"},{"$f":"IF(オフセット番号A!$U$4=\"\",\"\",オフセット番号A!$U$4)","v":"列19"},{"$f":"IF(オフセット番号A!$V$4=\"\",\"\",オフセット番号A!$V$4)","v":"列20"},{"$f":"IF(オフセット番号A!$C$4=\"\",\"\",オフセット番号A!$C$4)","v":"列1"},{"$f":"IF(オフセット番号A!$D$4=\"\",\"\",オフセット番号A!$D$4)","v":"列2"},{"$f":"IF(オフセット番号A!$E$4=\"\",\"\",オフセット番号A!$E$4)","v":"列3"},{"$f":"IF(オフセット番号A!$F$4=\"\",\"\",オフセット番号A!$F$4)","v":"列4"},{"$f":"IF(オフセット番号A!$G$4=\"\",\"\",オフセット番号A!$G$4)","v":"列5"},{"$f":"IF(オフセット番号A!$H$4=\"\",\"\",オフセット番号A!$H$4)","v":"列6"},{"$f":"IF(オフセット番号A!$I$4=\"\",\"\",オフセット番号A!$I$4)","v":"列7"},{"$f":"IF(オフセット番号A!$J$4=\"\",\"\",オフセット番号A!$J$4)","v":"列8"},{"$f":"IF(オフセット番号A!$K$4=\"\",\"\",オフセット番号A!$K$4)","v":"列9"},{"$f":"IF(オフセット番号A!$L$4=\"\",\"\",オフセット番号A!$L$4)","v":"列10"},{"$f":"IF(オフセット番号A!$M$4=\"\",\"\",オフセット番号A!$M$4)","v":"列11"},{"$f":"IF(オフセット番号A!$N$4=\"\",\"\",オフセット番号A!$N$4)","v":"列12"},{"$f":"IF(オフセット番号A!$O$4=\"\",\"\",オフセット番号A!$O$4)","v":"列13"},{"$f":"IF(オフセット番号A!$P$4=\"\",\"\",オフセット番号A!$P$4)","v":"列14"},{"$f":"IF(オフセット番号A!$Q$4=\"\",\"\",オフセット番号A!$Q$4)","v":"列15"},{"$f":"IF(オフセット番号A!$R$4=\"\",\"\",オフセット番号A!$R$4)","v":"列16"},{"$f":"IF(オフセット番号A!$S$4=\"\",\"\",オフセット番号A!$S$4)","v":"列17"},{"$f":"IF(オフセット番号A!$T$4=\"\",\"\",オフセット番号A!$T$4)","v":"列18"},{"$f":"IF(オフセット番号A!$U$4=\"\",\"\",オフセット番号A!$U$4)","v":"列19"},{"$f":"IF(オフセット番号A!$V$4=\"\",\"\",オフセット番号A!$V$4)","v":"列20"}]
[null,null,null,{"$f":"IF(行列入力項目!$C$5=\"\",\"\",行列入力項目!$C$5)","v":"行1"},{"$f":"IF(行列入力項目!$C$5=\"\",\"\",行列入力項目!$C$5)","v":"行1"},{"$f":"IF(行列入力項目!$C$5=\"\",\"\",行列入力項目!$C$5)","v":"行1"},{"$f":"IF(行列入力項目!$C$5=\"\",\"\",行列入力項目!$C$5)","v":"行1"},{"$f":"IF(行列入力項目!$C$5=\"\",\"\",行列入力項目!$C$5)","v":"行1"},{"$f":"IF(行列入力項目!$C$5=\"\",\"\",行列入力項目!$C$5)","v":"行1"},{"$f":"IF(行列入力項目!$C$5=\"\",\"\",行列入力項目!$C$5)","v":"行1"},{"$f":"IF(行列入力項目!$C$5=\"\",\"\",行列入力項目!$C$5)","v":"行1"},{"$f":"IF(行列入力項目!$C$5=\"\",\"\",行列入力項目!$C$5)","v":"行1"},{"$f":"IF(行列入力項目!$C$5=\"\",\"\",行列入力項目!$C$5)","v":"行1"},{"$f":"IF(行列入力項目!$C$5=\"\",\"\",行列入力項目!$C$5)","v":"行1"},{"$f":"IF(行列入力項目!$C$5=\"\",\"\",行列入力項目!$C$5)","v":"行1"},{"$f":"IF(行列入力項目!$C$5=\"\",\"\",行列入力項目!$C$5)","v":"行1"},{"$f":"IF(行列入力項目!$C$5=\"\",\"\",行列入力項目!$C$5)","v":"行1"},{"$f":"IF(行列入力項目!$C$5=\"\",\"\",行列入力項目!$C$5)","v":"行1"},{"$f":"IF(行列入力項目!$C$5=\"\",\"\",行列入力項目!$C$5)","v":"行1"},{"$f":"IF(行列入力項目!$C$5=\"\",\"\",行列入力項目!$C$5)","v":"行1"},{"$f":"IF(行列入力項目!$C$5=\"\",\"\",行列入力項目!$C$5)","v":"行1"},{"$f":"IF(行列入力項目!$C$5=\"\",\"\",行列入力項目!$C$5)","v":"行1"},{"$f":"IF(行列入力項目!$C$5=\"\",\"\",行列入力項目!$C$5)","v":"行1"},{"$f":"IF(行列入力項目!$C$6=\"\",\"\",行列入力項目!$C$6)","v":"行2"},{"$f":"IF(行列入力項目!$C$6=\"\",\"\",行列入力項目!$C$6)","v":"行2"},{"$f":"IF(行列入力項目!$C$6=\"\",\"\",行列入力項目!$C$6)","v":"行2"},{"$f":"IF(行列入力項目!$C$6=\"\",\"\",行列入力項目!$C$6)","v":"行2"},{"$f":"IF(行列入力項目!$C$6=\"\",\"\",行列入力項目!$C$6)","v":"行2"},{"$f":"IF(行列入力項目!$C$6=\"\",\"\",行列入力項目!$C$6)","v":"行2"},{"$f":"IF(行列入力項目!$C$6=\"\",\"\",行列入力項目!$C$6)","v":"行2"},{"$f":"IF(行列入力項目!$C$6=\"\",\"\",行列入力項目!$C$6)","v":"行2"},{"$f":"IF(行列入力項目!$C$6=\"\",\"\",行列入力項目!$C$6)","v":"行2"},{"$f":"IF(行列入力項目!$C$6=\"\",\"\",行列入力項目!$C$6)","v":"行2"},{"$f":"IF(行列入力項目!$C$6=\"\",\"\",行列入力項目!$C$6)","v":"行2"},{"$f":"IF(行列入力項目!$C$6=\"\",\"\",行列入力項目!$C$6)","v":"行2"},{"$f":"IF(行列入力項目!$C$6=\"\",\"\",行列入力項目!$C$6)","v":"行2"},{"$f":"IF(行列入力項目!$C$6=\"\",\"\",行列入力項目!$C$6)","v":"行2"},{"$f":"IF(行列入力項目!$C$6=\"\",\"\",行列入力項目!$C$6)","v":"行2"},{"$f":"IF(行列入力項目!$C$6=\"\",\"\",行列入力項目!$C$6)","v":"行2"},{"$f":"IF(行列入力項目!$C$6=\"\",\"\",行列入力項目!$C$6)","v":"行2"},{"$f":"IF(行列入力項目!$C$6=\"\",\"\",行列入力項目!$C$6)","v":"行2"},{"$f":"IF(行列入力項目!$C$6=\"\",\"\",行列入力項目!$C$6)","v":"行2"},{"$f":"IF(行列入力項目!$C$6=\"\",\"\",行列入力項目!$C$6)","v":"行2"},{"$f":"IF(行列入力項目!$C$7=\"\",\"\",行列入力項目!$C$7)","v":"行3"},{"$f":"IF(行列入力項目!$C$7=\"\",\"\",行列入力項目!$C$7)","v":"行3"},{"$f":"IF(行列入力項目!$C$7=\"\",\"\",行列入力項目!$C$7)","v":"行3"},{"$f":"IF(行列入力項目!$C$7=\"\",\"\",行列入力項目!$C$7)","v":"行3"},{"$f":"IF(行列入力項目!$C$7=\"\",\"\",行列入力項目!$C$7)","v":"行3"},{"$f":"IF(行列入力項目!$C$7=\"\",\"\",行列入力項目!$C$7)","v":"行3"},{"$f":"IF(行列入力項目!$C$7=\"\",\"\",行列入力項目!$C$7)","v":"行3"},{"$f":"IF(行列入力項目!$C$7=\"\",\"\",行列入力項目!$C$7)","v":"行3"},{"$f":"IF(行列入力項目!$C$7=\"\",\"\",行列入力項目!$C$7)","v":"行3"},{"$f":"IF(行列入力項目!$C$7=\"\",\"\",行列入力項目!$C$7)","v":"行3"},{"$f":"IF(行列入力項目!$C$7=\"\",\"\",行列入力項目!$C$7)","v":"行3"},{"$f":"IF(行列入力項目!$C$7=\"\",\"\",行列入力項目!$C$7)","v":"行3"},{"$f":"IF(行列入力項目!$C$7=\"\",\"\",行列入力項目!$C$7)","v":"行3"},{"$f":"IF(行列入力項目!$C$7=\"\",\"\",行列入力項目!$C$7)","v":"行3"},{"$f":"IF(行列入力項目!$C$7=\"\",\"\",行列入力項目!$C$7)","v":"行3"},{"$f":"IF(行列入力項目!$C$7=\"\",\"\",行列入力項目!$C$7)","v":"行3"},{"$f":"IF(行列入力項目!$C$7=\"\",\"\",行列入力項目!$C$7)","v":"行3"},{"$f":"IF(行列入力項目!$C$7=\"\",\"\",行列入力項目!$C$7)","v":"行3"},{"$f":"IF(行列入力項目!$C$7=\"\",\"\",行列入力項目!$C$7)","v":"行3"},{"$f":"IF(行列入力項目!$C$7=\"\",\"\",行列入力項目!$C$7)","v":"行3"},{"$f":"IF(行列入力項目!$C$8=\"\",\"\",行列入力項目!$C$8)","v":"行4"},{"$f":"IF(行列入力項目!$C$8=\"\",\"\",行列入力項目!$C$8)","v":"行4"},{"$f":"IF(行列入力項目!$C$8=\"\",\"\",行列入力項目!$C$8)","v":"行4"},{"$f":"IF(行列入力項目!$C$8=\"\",\"\",行列入力項目!$C$8)","v":"行4"},{"$f":"IF(行列入力項目!$C$8=\"\",\"\",行列入力項目!$C$8)","v":"行4"},{"$f":"IF(行列入力項目!$C$8=\"\",\"\",行列入力項目!$C$8)","v":"行4"},{"$f":"IF(行列入力項目!$C$8=\"\",\"\",行列入力項目!$C$8)","v":"行4"},{"$f":"IF(行列入力項目!$C$8=\"\",\"\",行列入力項目!$C$8)","v":"行4"},{"$f":"IF(行列入力項目!$C$8=\"\",\"\",行列入力項目!$C$8)","v":"行4"},{"$f":"IF(行列入力項目!$C$8=\"\",\"\",行列入力項目!$C$8)","v":"行4"},{"$f":"IF(行列入力項目!$C$8=\"\",\"\",行列入力項目!$C$8)","v":"行4"},{"$f":"IF(行列入力項目!$C$8=\"\",\"\",行列入力項目!$C$8)","v":"行4"},{"$f":"IF(行列入力項目!$C$8=\"\",\"\",行列入力項目!$C$8)","v":"行4"},{"$f":"IF(行列入力項目!$C$8=\"\",\"\",行列入力項目!$C$8)","v":"行4"},{"$f":"IF(行列入力項目!$C$8=\"\",\"\",行列入力項目!$C$8)","v":"行4"},{"$f":"IF(行列入力項目!$C$8=\"\",\"\",行列入力項目!$C$8)","v":"行4"},{"$f":"IF(行列入力項目!$C$8=\"\",\"\",行列入力項目!$C$8)","v":"行4"},{"$f":"IF(行列入力項目!$C$8=\"\",\"\",行列入力項目!$C$8)","v":"行4"},{"$f":"IF(行列入力項目!$C$8=\"\",\"\",行列入力項目!$C$8)","v":"行4"},{"$f":"IF(行列入力項目!$C$8=\"\",\"\",行列入力項目!$C$8)","v":"行4"},{"$f":"IF(行列入力項目!$C$9=\"\",\"\",行列入力項目!$C$9)","v":"行5"},{"$f":"IF(行列入力項目!$C$9=\"\",\"\",行列入力項目!$C$9)","v":"行5"},{"$f":"IF(行列入力項目!$C$9=\"\",\"\",行列入力項目!$C$9)","v":"行5"},{"$f":"IF(行列入力項目!$C$9=\"\",\"\",行列入力項目!$C$9)","v":"行5"},{"$f":"IF(行列入力項目!$C$9=\"\",\"\",行列入力項目!$C$9)","v":"行5"},{"$f":"IF(行列入力項目!$C$9=\"\",\"\",行列入力項目!$C$9)","v":"行5"},{"$f":"IF(行列入力項目!$C$9=\"\",\"\",行列入力項目!$C$9)","v":"行5"},{"$f":"IF(行列入力項目!$C$9=\"\",\"\",行列入力項目!$C$9)","v":"行5"},{"$f":"IF(行列入力項目!$C$9=\"\",\"\",行列入力項目!$C$9)","v":"行5"},{"$f":"IF(行列入力項目!$C$9=\"\",\"\",行列入力項目!$C$9)","v":"行5"},{"$f":"IF(行列入力項目!$C$9=\"\",\"\",行列入力項目!$C$9)","v":"行5"},{"$f":"IF(行列入力項目!$C$9=\"\",\"\",行列入力項目!$C$9)","v":"行5"},{"$f":"IF(行列入力項目!$C$9=\"\",\"\",行列入力項目!$C$9)","v":"行5"},{"$f":"IF(行列入力項目!$C$9=\"\",\"\",行列入力項目!$C$9)","v":"行5"},{"$f":"IF(行列入力項目!$C$9=\"\",\"\",行列入力項目!$C$9)","v":"行5"},{"$f":"IF(行列入力項目!$C$9=\"\",\"\",行列入力項目!$C$9)","v":"行5"},{"$f":"IF(行列入力項目!$C$9=\"\",\"\",行列入力項目!$C$9)","v":"行5"},{"$f":"IF(行列入力項目!$C$9=\"\",\"\",行列入力項目!$C$9)","v":"行5"},{"$f":"IF(行列入力項目!$C$9=\"\",\"\",行列入力項目!$C$9)","v":"行5"},{"$f":"IF(行列入力項目!$C$9=\"\",\"\",行列入力項目!$C$9)","v":"行5"}]
[null,1,"対象1"]
[null,2,"対象2"]
[null,3,"対象3"]
[null,4,"対象4"]
[null,5,"対象5"]
[null,6,"対象6"]
[null,7,"対象7"]
[null,8,"対象8"]
[null,9,"対象9"]
[null,10,"対象10"]
[null,11,"対象11"]
[null,12,"対象12"]
[null,13,"対象13"]
[null,14,"対象14"]
[null,15,"対象15"]
[null,16,"対象16"]
[null,17,"対象17"]
[null,18,"対象18"]
[null,19,"対象19"]
[null,20,"対象20"]
[null,21,"対象21"]
[null,22,"対象22"]
[null,23,"対象23"]
[null,24,"対象24"]
[null,25,"対象25"]
[null,26,"対象26"]
[null,27,"対象27"]
[null,28,"対象28"]
[null,29,"対象29"]
[null,30,"対象30"]
[null,31,"対象31"]
[null,32,"対象32"]
[null,33,"対象33"]
[null,34,"対象34"]
[null,35,"対象35"]
[null,36,"対象36"]
[null,37,"対象37"]
[null,38,"対象38"]
[null,39,"対象39"]
[null,40,"対象40"]
[null,41,"対象41"]
[null,42,"対象42"]
[null,43,"対象43"]
[null,44,"対象44"]
[null,45,"対象45"]
[null,46,"対象46"]
[null,47,"対象47"]
[null,48,"対象48"]
[null,49,"対象49"]
[null,50,"対象50"]
[null,51,"対象51"]
[null,52,"対象52"]
[null,53,"対象53"]
[null,54,"対象54"]
[null,55,"対象55"]
[null,56,"対象56"]
[null,57,"対象57"]
[null,58,"対象58"]
[null,59,"対象59"]
[null,60,"対象60"]
[null,61,"対象61"]
[null,62,"対象62"]
[null,63,"対象63"]
[null,64,"対象64"]
[null,65,"対象65"]
[null,66,"対象66"]
[null,67,"対象67"]
[null,68,"対象68"]
[null,69,"対象69"]
[null,70,"対象70"]
[null,71,"対象71"]
[null,72,"対象72"]
[null,73,"対象73"]
[null,74,"対象74"]
[null,75,"対象75"]
[null,76,"対象76"]
[null,77,"対象77"]
[null,78,"対象78"]
[null,79,"対象79"]
[null,80,"対象80"]
[null,81,"対象81"]
[null,82,"対象82"]
[null,83,"対象83"]
[null,84,"対象84"]
[null,85,"対象85"]
[null,86,"対象86"]
[null,87,"対象87"]
[null,88,"対象88"]
[null,89,"対象89"]
[null,90,"対象90"]
[null,91,"対象91"]
[null,92,"対象92"]
[null,93,"対象93"]
[null,94,"対象94"]
[null,95,"対象95"]
[null,96,"対象96"]
[null,97,"対象97"]
[null,98,"対象98"]
[null,99,"対象99"]
[null,100,"対象100"]
[null,"削除禁止行","削除禁止行","削除禁止行","削除禁止行","削除禁止行","削除禁止行","削除禁止行","削除禁止行","削除禁止行","削除禁止行","削除禁止行","削除禁止行","削除禁止行","削除禁止行","削除禁止行","削除禁止行","削除禁止行","削除禁止行","削除禁止行","削除禁止行","削除禁止行","削除禁止行","削除禁止行","削除禁止行","削除禁止行","削除禁止行","削除禁止行","削除禁止行","削除禁止行","削除禁止行","削除禁止行","削除禁止行","削除禁止行","削除禁止行","削除禁止行","削除禁止行","削除禁止行","削除禁止行","削除禁止行","削除禁止行","削除禁止行","削除禁止行","削除禁止行","削除禁止行","削除禁止行","削除禁止行","削除禁止行","削除禁止行","削除禁止行","削除禁止行","削除禁止行","削除禁止行","削除禁止行","削除禁止行","削除禁止行","削除禁止行","削除禁止行","削除禁止行","削除禁止行","削除禁止行","削除禁止行","削除禁止行","削除禁止行","削除禁止行","削除禁止行","削除禁止行","削除禁止行","削除禁止行","削除禁止行","削除禁止行","削除禁止行","削除禁止行","削除禁止行","削除禁止行","削除禁止行","削除禁止行","削除禁止行","削除禁止行","削除禁止行","削除禁止行","削除禁止行","削除禁止行","削除禁止行","削除禁止行","削除禁止行","削除禁止行","削除禁止行","削除禁止行","削除禁止行","削除禁止行","削除禁止行","削除禁止行","削除禁止行","削除禁止行","削除禁止行","削除禁止行","削除禁止行","削除禁止行","削除禁止行","削除禁止行","削除禁止行","削除禁止行"]