{"text_format":"1","workbook":"xlsx","n_sheets":101,"sheets":["Sheet1","無地画面","既定シート現在名","標準シート名等","シート名設定","入力シート入力可能行数調査","追加ワークシート名設定","インターフェース画面設定","項目表示入力","項目表示入力既定番地","項目表示作成","行列入力項目","オフセット番号A","ﾌｧｲﾙ作成原版A","一覧表付ファイル作成入力設定1","一覧表付ファイル作成入力設定2","一覧表付ファイル作成入力設定3","一覧表付ファイル作成入力設定4","一覧表付ファイル作成入力設定5","一覧表付ファイル作成入力設定6","一覧表付ファイル作成入力設定7","一覧表付ファイル作成入力設定8","一覧表付ファイル作成入力設定9","一覧表付ファイル作成入力設定10","一覧表付ファイル作成入力設定11","一覧表付ファイル作成入力設定12","一覧表付ファイル作成入力設定13","一覧表付ファイル作成入力設定14","一覧表付ファイル作成入力設定15","一覧表付ファイル作成入力設定16","一覧表付ファイル作成入力設定17","一覧表付ファイル作成入力設定18","一覧表付ファイル作成入力設定19","一覧表付ファイル作成入力設定20","ファイル作成コピー用","ファイル作成作業用シート","印刷フォーム1","印刷フォーム2","印刷フォーム3","印刷フォーム4","印刷フォーム5","印刷フォーム6","印刷フォーム7","印刷フォーム8","印刷フォーム9","印刷フォーム10","印刷フォーム11","印刷フォーム12","印刷フォーム13","印刷フォーム14","印刷フォーム15","印刷フォーム16","印刷フォーム17","印刷フォーム18","印刷フォーム19","印刷フォーム20","印刷フォーム21","印刷フォーム22","印刷フォーム23","印刷フォーム24","印刷フォーム25","印刷フォーム26","印刷フォーム27","印刷フォーム28","印刷フォーム29","印刷フォーム30","印刷フォーム1ソートデーター","印刷フォーム2ソートデーター","印刷フォーム3ソートデーター","印刷フォーム4ソートデーター","印刷フォーム5ソートデーター","印刷フォーム6ソートデーター","印刷フォーム7ソートデーター","印刷フォーム8ソートデーター","印刷フォーム9ソートデーター","印刷フォーム10ソートデーター","印刷フォーム11ソートデーター","印刷フォーム12ソートデーター","印刷フォーム13ソートデーター","印刷フォーム14ソートデーター","印刷フォーム15ソートデーター","印刷フォーム16ソートデーター","印刷フォーム17ソートデーター","印刷フォーム18ソートデーター","印刷フォーム19ソートデーター","印刷フォーム20ソートデーター","印刷フォーム21ソートデーター","印刷フォーム22ソートデーター","印刷フォーム23ソートデーター","印刷フォーム24ソートデーター","印刷フォーム25ソートデーター","印刷フォーム26ソートデーター","印刷フォーム27ソートデーター","印刷フォーム28ソートデーター","印刷フォーム29ソートデーター","印刷フォーム30ソートデーター","入力AA1","入力AA2","入力AA3","入力AA4","入力AA5"],"not_rendered":{"charts":0,"images":3,"macros":1,"external_links":0,"defined_names":47,"comments":99,"pivot_tables":0},"unopened":[],"bounds":{"document_bytes":16777216,"sheet_cells":100000,"rows_first":2000,"rows_last":500,"rows_between":2000,"halvings":0,"cell_chars":16384,"cell_head_chars":4096},"cells_cut":0,"cells_raw":0,"read":"whole","date_system":"1900"}

{"sheet":"Sheet1","index":0,"n_rows":0,"n_cols":0,"rows_kept":0,"cut":false,"hidden":true,"merged":[]}

{"sheet":"無地画面","index":1,"n_rows":0,"n_cols":0,"rows_kept":0,"cut":false,"hidden":false,"merged":[]}

{"sheet":"既定シート現在名","index":2,"n_rows":54,"n_cols":11,"rows_kept":54,"cut":false,"hidden":false,"merged":[]}
[]
[null,null,null,null,"既定シート現在名"]
[]
[null,"NO","シート名・インターフェースボタン名","NO","シート名・インターフェースボタン名","NO","シート名・インターフェースボタン名","NO","シート名・インターフェースボタン名","NO","シート名・インターフェースボタン名"]
[null,1,"シート名設定",51,"印刷フォーム21",101,{"$f":"C19&\"印刷ボタン\"","v":"一覧表付ファイル作成入力設定11印刷ボタン"},151,null,201]
[null,2,"項目表示入力",52,"印刷フォーム22",102,{"$f":"C20&\"印刷ボタン\"","v":"一覧表付ファイル作成入力設定12印刷ボタン"},152,null,202]
[null,3,"項目表示作成",53,"印刷フォーム23",103,"一覧表付ファイル作成入力設定13印刷ボタン",153,null,203]
[null,4,"行列入力項目",54,"印刷フォーム24",104,"一覧表付ファイル作成入力設定14印刷ボタン",154,null,204]
[null,5,"一覧表付ファイル作成入力設定1",55,"印刷フォーム25",105,"一覧表付ファイル作成入力設定15印刷ボタン",155,null,205]
[null,6,"一覧表付ファイル作成入力設定2",56,"印刷フォーム26",106,"一覧表付ファイル作成入力設定16印刷ボタン",156,null,206]
[null,7,"一覧表付ファイル作成入力設定3",57,"印刷フォーム27",107,"一覧表付ファイル作成入力設定17印刷ボタン",157,null,207]
[null,8,"一覧表付ファイル作成入力設定4",58,"印刷フォーム28",108,"一覧表付ファイル作成入力設定18印刷ボタン",158,null,208]
[null,9,"一覧表付ファイル作成入力設定5",59,"印刷フォーム29",109,"一覧表付ファイル作成入力設定19印刷ボタン",159,null,209]
[null,10,"一覧表付ファイル作成入力設定6",60,"印刷フォーム30",110,"一覧表付ファイル作成入力設定20印刷ボタン",160,null,210]
[null,11,"一覧表付ファイル作成入力設定7",61,"印刷フォーム1ソートデーター",111,{"$f":"C9&\"印刷\"","v":"一覧表付ファイル作成入力設定1印刷"},161,null,211]
[null,12,"一覧表付ファイル作成入力設定8",62,"印刷フォーム2ソートデーター",112,{"$f":"C10&\"印刷\"","v":"一覧表付ファイル作成入力設定2印刷"},162,null,212]
[null,13,"一覧表付ファイル作成入力設定9",63,"印刷フォーム3ソートデーター",113,"一覧表付ファイル作成入力設定3印刷",163,null,213]
[null,14,"一覧表付ファイル作成入力設定10",64,"印刷フォーム4ソートデーター",114,"一覧表付ファイル作成入力設定4印刷",164,null,214]
[null,15,"一覧表付ファイル作成入力設定11",65,"印刷フォーム5ソートデーター",115,"一覧表付ファイル作成入力設定5印刷",165,null,215]
[null,16,"一覧表付ファイル作成入力設定12",66,"印刷フォーム6ソートデーター",116,"一覧表付ファイル作成入力設定6印刷",166,null,216]
[null,17,"一覧表付ファイル作成入力設定13",67,"印刷フォーム7ソートデーター",117,"一覧表付ファイル作成入力設定7印刷",167,null,217]
[null,18,"一覧表付ファイル作成入力設定14",68,"印刷フォーム8ソートデーター",118,"一覧表付ファイル作成入力設定8印刷",168,null,218]
[null,19,"一覧表付ファイル作成入力設定15",69,"印刷フォーム9ソートデーター",119,"一覧表付ファイル作成入力設定9印刷",169,null,219]
[null,20,"一覧表付ファイル作成入力設定16",70,"印刷フォーム10ソートデーター",120,"一覧表付ファイル作成入力設定10印刷",170,null,220]
[null,21,"一覧表付ファイル作成入力設定17",71,"印刷フォーム11ソートデーター",121,"一覧表付ファイル作成入力設定11印刷",171,null,221]
[null,22,"一覧表付ファイル作成入力設定18",72,"印刷フォーム12ソートデーター",122,"一覧表付ファイル作成入力設定12印刷",172,null,222]
[null,23,"一覧表付ファイル作成入力設定19",73,"印刷フォーム13ソートデーター",123,"一覧表付ファイル作成入力設定13印刷",173,null,223]
[null,24,"一覧表付ファイル作成入力設定20",74,"印刷フォーム14ソートデーター",124,"一覧表付ファイル作成入力設定14印刷",174,null,224]
[null,25,"ファイル作成コピー用",75,"印刷フォーム15ソートデーター",125,"一覧表付ファイル作成入力設定15印刷",175,null,225]
[null,26,"入力AA1",76,"印刷フォーム16ソートデーター",126,"一覧表付ファイル作成入力設定16印刷",176,null,226]
[null,27,"入力AA2",77,"印刷フォーム17ソートデーター",127,"一覧表付ファイル作成入力設定17印刷",177,null,227]
[null,28,"入力AA3",78,"印刷フォーム18ソートデーター",128,"一覧表付ファイル作成入力設定18印刷",178,null,228]
[null,29,"入力AA4",79,"印刷フォーム19ソートデーター",129,"一覧表付ファイル作成入力設定19印刷",179,null,229]
[null,30,"入力AA5",80,"印刷フォーム20ソートデーター",130,"一覧表付ファイル作成入力設定20印刷",180,null,230]
[null,31,"印刷フォーム1",81,"印刷フォーム21ソートデーター",131,"インターフェース画面設定",181,null,231]
[null,32,"印刷フォーム2",82,"印刷フォーム22ソートデーター",132,"追加ワークシート名設定",182,null,232]
[null,33,"印刷フォーム3",83,"印刷フォーム23ソートデーター",133,"ファイル作成作業用シート",183,null,233]
[null,34,"印刷フォーム4",84,"印刷フォーム24ソートデーター",134,null,184,null,234]
[null,35,"印刷フォーム5",85,"印刷フォーム25ソートデーター",135,null,185,null,235]
[null,36,"印刷フォーム6",86,"印刷フォーム26ソートデーター",136,null,186,null,236]
[null,37,"印刷フォーム7",87,"印刷フォーム27ソートデーター",137,null,187,null,237]
[null,38,"印刷フォーム8",88,"印刷フォーム28ソートデーター",138,null,188,null,238]
[null,39,"印刷フォーム9",89,"印刷フォーム29ソートデーター",139,null,189,null,239]
[null,40,"印刷フォーム10",90,"印刷フォーム30ソートデーター",140,null,190,null,240]
[null,41,"印刷フォーム11",91,{"$f":"C9&\"印刷ボタン\"","v":"一覧表付ファイル作成入力設定1印刷ボタン"},141,null,191,null,241]
[null,42,"印刷フォーム12",92,{"$f":"C10&\"印刷ボタン\"","v":"一覧表付ファイル作成入力設定2印刷ボタン"},142,null,192,null,242]
[null,43,"印刷フォーム13",93,"一覧表付ファイル作成入力設定3印刷ボタン",143,null,193,null,243]
[null,44,"印刷フォーム14",94,"一覧表付ファイル作成入力設定4印刷ボタン",144,null,194,null,244]
[null,45,"印刷フォーム15",95,"一覧表付ファイル作成入力設定5印刷ボタン",145,null,195,null,245]
[null,46,"印刷フォーム16",96,"一覧表付ファイル作成入力設定6印刷ボタン",146,null,196,null,246]
[null,47,"印刷フォーム17",97,"一覧表付ファイル作成入力設定7印刷ボタン",147,null,197,null,247]
[null,48,"印刷フォーム18",98,"一覧表付ファイル作成入力設定8印刷ボタン",148,null,198,null,248]
[null,49,"印刷フォーム19",99,"一覧表付ファイル作成入力設定9印刷ボタン",149,null,199,null,249]
[null,50,"印刷フォーム20",100,"一覧表付ファイル作成入力設定10印刷ボタン",150,null,200,null,250]

{"sheet":"標準シート名等","index":3,"n_rows":54,"n_cols":11,"rows_kept":54,"cut":false,"hidden":false,"merged":[]}
[]
[null,null,null,null,"標準シート名等"]
[]
[null,"NO","シート名・インターフェースボタン名","NO","シート名・インターフェースボタン名","NO","シート名・インターフェースボタン名","NO","シート名・インターフェースボタン名","NO","シート名・インターフェースボタン名"]
[null,1,"シート名設定",51,"印刷フォーム21",101,{"$f":"C19&\"印刷ボタン\"","v":"一覧表付ファイル作成入力設定11印刷ボタン"},151,null,201]
[null,2,"項目表示入力",52,"印刷フォーム22",102,{"$f":"C20&\"印刷ボタン\"","v":"一覧表付ファイル作成入力設定12印刷ボタン"},152,null,202]
[null,3,"項目表示作成",53,"印刷フォーム23",103,"一覧表付ファイル作成入力設定13印刷ボタン",153,null,203]
[null,4,"行列入力項目",54,"印刷フォーム24",104,"一覧表付ファイル作成入力設定14印刷ボタン",154,null,204]
[null,5,"一覧表付ファイル作成入力設定1",55,"印刷フォーム25",105,"一覧表付ファイル作成入力設定15印刷ボタン",155,null,205]
[null,6,"一覧表付ファイル作成入力設定2",56,"印刷フォーム26",106,"一覧表付ファイル作成入力設定16印刷ボタン",156,null,206]
[null,7,"一覧表付ファイル作成入力設定3",57,"印刷フォーム27",107,"一覧表付ファイル作成入力設定17印刷ボタン",157,null,207]
[null,8,"一覧表付ファイル作成入力設定4",58,"印刷フォーム28",108,"一覧表付ファイル作成入力設定18印刷ボタン",158,null,208]
[null,9,"一覧表付ファイル作成入力設定5",59,"印刷フォーム29",109,"一覧表付ファイル作成入力設定19印刷ボタン",159,null,209]
[null,10,"一覧表付ファイル作成入力設定6",60,"印刷フォーム30",110,"一覧表付ファイル作成入力設定20印刷ボタン",160,null,210]
[null,11,"一覧表付ファイル作成入力設定7",61,"印刷フォーム1ソートデーター",111,{"$f":"C9&\"印刷\"","v":"一覧表付ファイル作成入力設定1印刷"},161,null,211]
[null,12,"一覧表付ファイル作成入力設定8",62,"印刷フォーム2ソートデーター",112,{"$f":"C10&\"印刷\"","v":"一覧表付ファイル作成入力設定2印刷"},162,null,212]
[null,13,"一覧表付ファイル作成入力設定9",63,"印刷フォーム3ソートデーター",113,"一覧表付ファイル作成入力設定3印刷",163,null,213]
[null,14,"一覧表付ファイル作成入力設定10",64,"印刷フォーム4ソートデーター",114,"一覧表付ファイル作成入力設定4印刷",164,null,214]
[null,15,"一覧表付ファイル作成入力設定11",65,"印刷フォーム5ソートデーター",115,"一覧表付ファイル作成入力設定5印刷",165,null,215]
[null,16,"一覧表付ファイル作成入力設定12",66,"印刷フォーム6ソートデーター",116,"一覧表付ファイル作成入力設定6印刷",166,null,216]
[null,17,"一覧表付ファイル作成入力設定13",67,"印刷フォーム7ソートデーター",117,"一覧表付ファイル作成入力設定7印刷",167,null,217]
[null,18,"一覧表付ファイル作成入力設定14",68,"印刷フォーム8ソートデーター",118,"一覧表付ファイル作成入力設定8印刷",168,null,218]
[null,19,"一覧表付ファイル作成入力設定15",69,"印刷フォーム9ソートデーター",119,"一覧表付ファイル作成入力設定9印刷",169,null,219]
[null,20,"一覧表付ファイル作成入力設定16",70,"印刷フォーム10ソートデーター",120,"一覧表付ファイル作成入力設定10印刷",170,null,220]
[null,21,"一覧表付ファイル作成入力設定17",71,"印刷フォーム11ソートデーター",121,"一覧表付ファイル作成入力設定11印刷",171,null,221]
[null,22,"一覧表付ファイル作成入力設定18",72,"印刷フォーム12ソートデーター",122,"一覧表付ファイル作成入力設定12印刷",172,null,222]
[null,23,"一覧表付ファイル作成入力設定19",73,"印刷フォーム13ソートデーター",123,"一覧表付ファイル作成入力設定13印刷",173,null,223]
[null,24,"一覧表付ファイル作成入力設定20",74,"印刷フォーム14ソートデーター",124,"一覧表付ファイル作成入力設定14印刷",174,null,224]
[null,25,"ファイル作成コピー用",75,"印刷フォーム15ソートデーター",125,"一覧表付ファイル作成入力設定15印刷",175,null,225]
[null,26,"入力AA1",76,"印刷フォーム16ソートデーター",126,"一覧表付ファイル作成入力設定16印刷",176,null,226]
[null,27,"入力AA2",77,"印刷フォーム17ソートデーター",127,"一覧表付ファイル作成入力設定17印刷",177,null,227]
[null,28,"入力AA3",78,"印刷フォーム18ソートデーター",128,"一覧表付ファイル作成入力設定18印刷",178,null,228]
[null,29,"入力AA4",79,"印刷フォーム19ソートデーター",129,"一覧表付ファイル作成入力設定19印刷",179,null,229]
[null,30,"入力AA5",80,"印刷フォーム20ソートデーター",130,"一覧表付ファイル作成入力設定20印刷",180,null,230]
[null,31,"印刷フォーム1",81,"印刷フォーム21ソートデーター",131,"インターフェース画面設定",181,null,231]
[null,32,"印刷フォーム2",82,"印刷フォーム22ソートデーター",132,"追加ワークシート名設定",182,null,232]
[null,33,"印刷フォーム3",83,"印刷フォーム23ソートデーター",133,"ファイル作成作業用シート",183,null,233]
[null,34,"印刷フォーム4",84,"印刷フォーム24ソートデーター",134,null,184,null,234]
[null,35,"印刷フォーム5",85,"印刷フォーム25ソートデーター",135,null,185,null,235]
[null,36,"印刷フォーム6",86,"印刷フォーム26ソートデーター",136,null,186,null,236]
[null,37,"印刷フォーム7",87,"印刷フォーム27ソートデーター",137,null,187,null,237]
[null,38,"印刷フォーム8",88,"印刷フォーム28ソートデーター",138,null,188,null,238]
[null,39,"印刷フォーム9",89,"印刷フォーム29ソートデーター",139,null,189,null,239]
[null,40,"印刷フォーム10",90,"印刷フォーム30ソートデーター",140,null,190,null,240]
[null,41,"印刷フォーム11",91,{"$f":"C9&\"印刷ボタン\"","v":"一覧表付ファイル作成入力設定1印刷ボタン"},141,null,191,null,241]
[null,42,"印刷フォーム12",92,{"$f":"C10&\"印刷ボタン\"","v":"一覧表付ファイル作成入力設定2印刷ボタン"},142,null,192,null,242]
[null,43,"印刷フォーム13",93,"一覧表付ファイル作成入力設定3印刷ボタン",143,null,193,null,243]
[null,44,"印刷フォーム14",94,"一覧表付ファイル作成入力設定4印刷ボタン",144,null,194,null,244]
[null,45,"印刷フォーム15",95,"一覧表付ファイル作成入力設定5印刷ボタン",145,null,195,null,245]
[null,46,"印刷フォーム16",96,"一覧表付ファイル作成入力設定6印刷ボタン",146,null,196,null,246]
[null,47,"印刷フォーム17",97,"一覧表付ファイル作成入力設定7印刷ボタン",147,null,197,null,247]
[null,48,"印刷フォーム18",98,"一覧表付ファイル作成入力設定8印刷ボタン",148,null,198,null,248]
[null,49,"印刷フォーム19",99,"一覧表付ファイル作成入力設定9印刷ボタン",149,null,199,null,249]
[null,50,"印刷フォーム20",100,"一覧表付ファイル作成入力設定10印刷ボタン",150,null,200,null,250]

{"sheet":"シート名設定","index":4,"n_rows":62,"n_cols":11,"rows_kept":62,"cut":false,"hidden":false,"merged":[]}
[]
[null,null,null,null,{"$f":"シート名設定!C5","v":"シート名設定"}]
[]
[null,"NO","シート名・インターフェースボタン名","NO","シート名・インターフェースボタン名","NO","シート名・インターフェースボタン名","NO","シート名・インターフェースボタン名","NO","シート名・インターフェースボタン名"]
[null,1,"シート名設定",51,"印刷フォーム21",101,{"$f":"C19&\"印刷ボタン\"","v":"一覧表付ファイル作成入力設定11印刷ボタン"},151,null,201]
[null,2,"項目表示入力",52,"印刷フォーム22",102,{"$f":"C20&\"印刷ボタン\"","v":"一覧表付ファイル作成入力設定12印刷ボタン"},152,null,202]
[null,3,"項目表示作成",53,"印刷フォーム23",103,"一覧表付ファイル作成入力設定13印刷ボタン",153,null,203]
[null,4,"行列入力項目",54,"印刷フォーム24",104,"一覧表付ファイル作成入力設定14印刷ボタン",154,null,204]
[null,5,"一覧表付ファイル作成入力設定1",55,"印刷フォーム25",105,"一覧表付ファイル作成入力設定15印刷ボタン",155,null,205]
[null,6,"一覧表付ファイル作成入力設定2",56,"印刷フォーム26",106,"一覧表付ファイル作成入力設定16印刷ボタン",156,null,206]
[null,7,"一覧表付ファイル作成入力設定3",57,"印刷フォーム27",107,"一覧表付ファイル作成入力設定17印刷ボタン",157,null,207]
[null,8,"一覧表付ファイル作成入力設定4",58,"印刷フォーム28",108,"一覧表付ファイル作成入力設定18印刷ボタン",158,null,208]
[null,9,"一覧表付ファイル作成入力設定5",59,"印刷フォーム29",109,"一覧表付ファイル作成入力設定19印刷ボタン",159,null,209]
[null,10,"一覧表付ファイル作成入力設定6",60,"印刷フォーム30",110,"一覧表付ファイル作成入力設定20印刷ボタン",160,null,210]
[null,11,"一覧表付ファイル作成入力設定7",61,"印刷フォーム1ソートデーター",111,{"$f":"C9&\"印刷\"","v":"一覧表付ファイル作成入力設定1印刷"},161,null,211]
[null,12,"一覧表付ファイル作成入力設定8",62,"印刷フォーム2ソートデーター",112,{"$f":"C10&\"印刷\"","v":"一覧表付ファイル作成入力設定2印刷"},162,null,212]
[null,13,"一覧表付ファイル作成入力設定9",63,"印刷フォーム3ソートデーター",113,"一覧表付ファイル作成入力設定3印刷",163,null,213]
[null,14,"一覧表付ファイル作成入力設定10",64,"印刷フォーム4ソートデーター",114,"一覧表付ファイル作成入力設定4印刷",164,null,214]
[null,15,"一覧表付ファイル作成入力設定11",65,"印刷フォーム5ソートデーター",115,"一覧表付ファイル作成入力設定5印刷",165,null,215]
[null,16,"一覧表付ファイル作成入力設定12",66,"印刷フォーム6ソートデーター",116,"一覧表付ファイル作成入力設定6印刷",166,null,216]
[null,17,"一覧表付ファイル作成入力設定13",67,"印刷フォーム7ソートデーター",117,"一覧表付ファイル作成入力設定7印刷",167,null,217]
[null,18,"一覧表付ファイル作成入力設定14",68,"印刷フォーム8ソートデーター",118,"一覧表付ファイル作成入力設定8印刷",168,null,218]
[null,19,"一覧表付ファイル作成入力設定15",69,"印刷フォーム9ソートデーター",119,"一覧表付ファイル作成入力設定9印刷",169,null,219]
[null,20,"一覧表付ファイル作成入力設定16",70,"印刷フォーム10ソートデーター",120,"一覧表付ファイル作成入力設定10印刷",170,null,220]
[null,21,"一覧表付ファイル作成入力設定17",71,"印刷フォーム11ソートデーター",121,"一覧表付ファイル作成入力設定11印刷",171,null,221]
[null,22,"一覧表付ファイル作成入力設定18",72,"印刷フォーム12ソートデーター",122,"一覧表付ファイル作成入力設定12印刷",172,null,222]
[null,23,"一覧表付ファイル作成入力設定19",73,"印刷フォーム13ソートデーター",123,"一覧表付ファイル作成入力設定13印刷",173,null,223]
[null,24,"一覧表付ファイル作成入力設定20",74,"印刷フォーム14ソートデーター",124,"一覧表付ファイル作成入力設定14印刷",174,null,224]
[null,25,"ファイル作成コピー用",75,"印刷フォーム15ソートデーター",125,"一覧表付ファイル作成入力設定15印刷",175,null,225]
[null,26,"入力AA1",76,"印刷フォーム16ソートデーター",126,"一覧表付ファイル作成入力設定16印刷",176,null,226]
[null,27,"入力AA2",77,"印刷フォーム17ソートデーター",127,"一覧表付ファイル作成入力設定17印刷",177,null,227]
[null,28,"入力AA3",78,"印刷フォーム18ソートデーター",128,"一覧表付ファイル作成入力設定18印刷",178,null,228]
[null,29,"入力AA4",79,"印刷フォーム19ソートデーター",129,"一覧表付ファイル作成入力設定19印刷",179,null,229]
[null,30,"入力AA5",80,"印刷フォーム20ソートデーター",130,"一覧表付ファイル作成入力設定20印刷",180,null,230]
[null,31,"印刷フォーム1",81,"印刷フォーム21ソートデーター",131,"インターフェース画面設定",181,null,231]
[null,32,"印刷フォーム2",82,"印刷フォーム22ソートデーター",132,"追加ワークシート名設定",182,null,232]
[null,33,"印刷フォーム3",83,"印刷フォーム23ソートデーター",133,"ファイル作成作業用シート",183,null,233]
[null,34,"印刷フォーム4",84,"印刷フォーム24ソートデーター",134,null,184,null,234]
[null,35,"印刷フォーム5",85,"印刷フォーム25ソートデーター",135,null,185,null,235]
[null,36,"印刷フォーム6",86,"印刷フォーム26ソートデーター",136,null,186,null,236]
[null,37,"印刷フォーム7",87,"印刷フォーム27ソートデーター",137,null,187,null,237]
[null,38,"印刷フォーム8",88,"印刷フォーム28ソートデーター",138,null,188,null,238]
[null,39,"印刷フォーム9",89,"印刷フォーム29ソートデーター",139,null,189,null,239]
[null,40,"印刷フォーム10",90,"印刷フォーム30ソートデーター",140,null,190,null,240]
[null,41,"印刷フォーム11",91,{"$f":"C9&\"印刷ボタン\"","v":"一覧表付ファイル作成入力設定1印刷ボタン"},141,null,191,null,241]
[null,42,"印刷フォーム12",92,{"$f":"C10&\"印刷ボタン\"","v":"一覧表付ファイル作成入力設定2印刷ボタン"},142,null,192,null,242]
[null,43,"印刷フォーム13",93,"一覧表付ファイル作成入力設定3印刷ボタン",143,null,193,null,243]
[null,44,"印刷フォーム14",94,"一覧表付ファイル作成入力設定4印刷ボタン",144,null,194,null,244]
[null,45,"印刷フォーム15",95,"一覧表付ファイル作成入力設定5印刷ボタン",145,null,195,null,245]
[null,46,"印刷フォーム16",96,"一覧表付ファイル作成入力設定6印刷ボタン",146,null,196,null,246]
[null,47,"印刷フォーム17",97,"一覧表付ファイル作成入力設定7印刷ボタン",147,null,197,null,247]
[null,48,"印刷フォーム18",98,"一覧表付ファイル作成入力設定8印刷ボタン",148,null,198,null,248]
[null,49,"印刷フォーム19",99,"一覧表付ファイル作成入力設定9印刷ボタン",149,null,199,null,249]
[null,50,"印刷フォーム20",100,"一覧表付ファイル作成入力設定10印刷ボタン",150,null,200,null,250]
[]
[]
[]
[]
[]
[]
[null,null,"E4903057189AF4BA多田記一",1]
[null,null,null,"2019cvdatabaseadvance1000ver1no1.xlsm"]

{"sheet":"入力シート入力可能行数調査","index":5,"n_rows":102,"n_cols":4,"rows_kept":102,"cut":false,"hidden":false,"merged":[[2,2,2,3]]}
[]
[]
[null,null,"入力シート入力可能行数調査"]
[]
[null,null,"最大入力可能行数",{"$f":"MAX($D$8:$D$12)","v":50}]
[]
[null,null,"入力シート名","入力可能行数"]
[null,null,{"$f":"シート名設定!C30","v":"入力AA1"},{"$f":"ROWS(入力AA1!$B$8:$B$58)-1","v":50}]
[null,null,{"$f":"シート名設定!C31","v":"入力AA2"},{"$f":"ROWS(入力AA2!$B$8:$B$58)-1","v":50}]
[null,null,{"$f":"シート名設定!C32","v":"入力AA3"},{"$f":"ROWS(入力AA3!$B$8:$B$58)-1","v":50}]
[null,null,{"$f":"シート名設定!C33","v":"入力AA4"},{"$f":"ROWS(入力AA4!$B$8:$B$58)-1","v":50}]
[null,null,{"$f":"シート名設定!C34","v":"入力AA5"},{"$f":"ROWS(入力AA5!$B$8:$B$58)-1","v":50}]
[]
[]
[]
[]
[]
[]
[]
[]
[null,null,{"$f":"C8","v":"入力AA1"},{"$f":"\"入力可能行数　\"&D8&\" 行\"","v":"入力可能行数　50 行"}]
[null,null,{"$f":"C9","v":"入力AA2"},{"$f":"\"入力可能行数　\"&D9&\" 行\"","v":"入力可能行数　50 行"}]
[null,null,{"$f":"C10","v":"入力AA3"},{"$f":"\"入力可能行数　\"&D10&\" 行\"","v":"入力可能行数　50 行"}]
[null,null,{"$f":"C11","v":"入力AA4"},{"$f":"\"入力可能行数　\"&D11&\" 行\"","v":"入力可能行数　50 行"}]
[null,null,{"$f":"C12","v":"入力AA5"},{"$f":"\"入力可能行数　\"&D12&\" 行\"","v":"入力可能行数　50 行"}]
[]
[]
[]
[]
[]
[]
[]
[]
[]
[]
[]
[]
[]
[]
[]
[]
[]
[]
[]
[]
[]
[]
[]
[]
[]
[]
[]
[]
[]
[]
[]
[]
[]
[]
[]
[]
[]
[]
[]
[]
[]
[]
[]
[]
[]
[]
[]
[]
[]
[]
[]
[]
[]
[]
[]
[]
[]
[]
[]
[]
[]
[]
[]
[]
[]
[]
[]
[]
[]
[]
[]
[]
[]
[]
[]
[null,null,{"$f":"IF(ISERROR(シート名設定!C4)=TRUE,1,0)","v":0}]
[null,null,{"$f":"IF(ISERROR(Sheet1!C5)=TRUE,1,0)","v":0}]

{"sheet":"追加ワークシート名設定","index":6,"n_rows":69,"n_cols":8,"rows_kept":69,"cut":false,"hidden":false,"merged":[]}
[]
[]
[null,null,null,"追加ワークシート名設定"]
[]
[null,null,"NO","追加シート名",null,"NO","追加シート名変更","変更ダブルクリック"]
[null,null,1,null,"←",1,null,"■"]
[null,null,2,null,"←",2,null,"■"]
[null,null,3,null,"←",3,null,"■"]
[null,null,4,null,"←",4,null,"■"]
[null,null,5,null,"←",5,null,"■"]
[null,null,6,null,"←",6,null,"■"]
[null,null,7,null,"←",7,null,"■"]
[null,null,8,null,"←",8,null,"■"]
[null,null,9,null,"←",9,null,"■"]
[null,null,10,null,"←",10,null,"■"]
[null,null,11,null,"←",11,null,"■"]
[null,null,12,null,"←",12,null,"■"]
[null,null,13,null,"←",13,null,"■"]
[null,null,14,null,"←",14,null,"■"]
[null,null,15,null,"←",15,null,"■"]
[null,null,16,null,"←",16,null,"■"]
[null,null,17,null,"←",17,null,"■"]
[null,null,18,null,"←",18,null,"■"]
[null,null,19,null,"←",19,null,"■"]
[null,null,20,null,"←",20,null,"■"]
[null,null,21,null,"←",21,null,"■"]
[null,null,22,null,"←",22,null,"■"]
[null,null,23,null,"←",23,null,"■"]
[null,null,24,null,"←",24,null,"■"]
[null,null,25,null,"←",25,null,"■"]
[null,null,26,null,"←",26,null,"■"]
[null,null,27,null,"←",27,null,"■"]
[null,null,28,null,"←",28,null,"■"]
[null,null,29,null,"←",29,null,"■"]
[null,null,30,null,"←",30,null,"■"]
[null,null,31,null,"←",31,null,"■"]
[null,null,32,null,"←",32,null,"■"]
[null,null,33,null,"←",33,null,"■"]
[null,null,34,null,"←",34,null,"■"]
[null,null,35,null,"←",35,null,"■"]
[null,null,36,null,"←",36,null,"■"]
[null,null,37,null,"←",37,null,"■"]
[null,null,38,null,"←",38,null,"■"]
[null,null,39,null,"←",39,null,"■"]
[null,null,40,null,"←",40,null,"■"]
[null,null,41,null,"←",41,null,"■"]
[null,null,42,null,"←",42,null,"■"]
[null,null,43,null,"←",43,null,"■"]
[null,null,44,null,"←",44,null,"■"]
[null,null,45,null,"←",45,null,"■"]
[null,null,46,null,"←",46,null,"■"]
[null,null,47,null,"←",47,null,"■"]
[null,null,48,null,"←",48,null,"■"]
[null,null,49,null,"←",49,null,"■"]
[null,null,50,null,"←",50,null,"■"]
[null,null,51,null,"←",51,null,"■"]
[null,null,52,null,"←",52,null,"■"]
[null,null,53,null,"←",53,null,"■"]
[null,null,54,null,"←",54,null,"■"]
[null,null,55,null,"←",55,null,"■"]
[null,null,56,null,"←",56,null,"■"]
[null,null,57,null,"←",57,null,"■"]
[null,null,58,null,"←",58,null,"■"]
[null,null,59,null,"←",59,null,"■"]
[null,null,60,null,"←",60,null,"■"]
[null,null,61,null,"←",61,null,"■"]
[null,null,62,null,"←",62,null,"■"]
[null,null,63,null,"←",63,null,"■"]
[null,null,64,null,"←",64,null,"■"]

{"sheet":"インターフェース画面設定","index":7,"n_rows":8,"n_cols":9,"rows_kept":8,"cut":false,"hidden":false,"merged":[[1,1,1,2]]}
[]
[null,"インターフェース画面設定"]
[]
[null,"設定項目","設定値",3]
[null,"画面高さ",{"$f":"IF(D$4=1,D5,IF(D$4=2,E5,IF(D$4=3,F5,IF(D$4=4,G5,IF(D$4=5,H5,IF(D$4=6,I5,I5))))))","v":810},810,810,{"$f":"E5","v":810},{"$f":"D5*G$8","v":810},{"$f":"E5*H$8","v":810},750]
[null,"画面幅",{"$f":"IF(D$4=1,D6,IF(D$4=2,E6,IF(D$4=3,F6,IF(D$4=4,G6,IF(D$4=5,H6,IF(D$4=6,I6,I6))))))","v":1440},964.80000000000007,1440,{"$f":"E6","v":1440},{"$f":"D6*G$8","v":964.80000000000007},1440,1200]
[null,"画面Zoom",97,94,100,97,94,100,87]
[null,null,null,null,null,"表示倍率",1,1]

{"sheet":"項目表示入力","index":8,"n_rows":56,"n_cols":22,"rows_kept":56,"cut":false,"hidden":false,"merged":[]}
[null,null,null,null,null,null,"■","■"]
[null,{"$f":"シート名設定!C6","v":"項目表示入力"}]
[]
[]
[]
[null,null,{"$f":"IF(行列入力項目!$D$5=\"\",\"\",行列入力項目!$D$5)","v":"列1"},{"$f":"IF(行列入力項目!$D$6=\"\",\"\",行列入力項目!$D$6)","v":"列2"},{"$f":"IF(行列入力項目!$D$7=\"\",\"\",行列入力項目!$D$7)","v":"列3"},{"$f":"IF(行列入力項目!$D$8=\"\",\"\",行列入力項目!$D$8)","v":"列4"},{"$f":"IF(行列入力項目!$D$9=\"\",\"\",行列入力項目!$D$9)","v":"列5"},{"$f":"IF(行列入力項目!$D$10=\"\",\"\",行列入力項目!$D$10)","v":"列6"},{"$f":"IF(行列入力項目!$D$11=\"\",\"\",行列入力項目!$D$11)","v":"列7"},{"$f":"IF(行列入力項目!$D$12=\"\",\"\",行列入力項目!$D$12)","v":"列8"},{"$f":"IF(行列入力項目!$D$13=\"\",\"\",行列入力項目!$D$13)","v":"列9"},{"$f":"IF(行列入力項目!$D$14=\"\",\"\",行列入力項目!$D$14)","v":"列10"},{"$f":"IF(行列入力項目!$D$15=\"\",\"\",行列入力項目!$D$15)","v":"列11"},{"$f":"IF(行列入力項目!$D$16=\"\",\"\",行列入力項目!$D$16)","v":"列12"},{"$f":"IF(行列入力項目!$D$17=\"\",\"\",行列入力項目!$D$17)","v":"列13"},{"$f":"IF(行列入力項目!$D$18=\"\",\"\",行列入力項目!$D$18)","v":"列14"},{"$f":"IF(行列入力項目!$D$19=\"\",\"\",行列入力項目!$D$19)","v":"列15"},{"$f":"IF(行列入力項目!$D$20=\"\",\"\",行列入力項目!$D$20)","v":"列16"},{"$f":"IF(行列入力項目!$D$21=\"\",\"\",行列入力項目!$D$21)","v":"列17"},{"$f":"IF(行列入力項目!$D$22=\"\",\"\",行列入力項目!$D$22)","v":"列18"},{"$f":"IF(行列入力項目!$D$23=\"\",\"\",行列入力項目!$D$23)","v":"列19"},{"$f":"IF(行列入力項目!$D$24=\"\",\"\",行列入力項目!$D$24)","v":"列20"}]
[null,{"$f":"IF(行列入力項目!$C$5=\"\",\"\",行列入力項目!$C$5)","v":"行1"},"内容1,1","内容1,2","内容1,3","内容1,4","内容1,5","内容1,6","内容1,7","内容1,8","内容1,9","内容1,10","内容1,11","内容1,12","内容1,13","内容1,14","内容1,15","内容1,16","内容1,17","内容1,18","内容1,19","内容1,20"]
[null,{"$f":"IF(行列入力項目!$C$6=\"\",\"\",行列入力項目!$C$6)","v":"行2"},"内容2,1","内容2,2","内容2,3","内容2,4","内容2,5","内容2,6","内容2,7","内容2,8","内容2,9","内容2,10","内容2,11","内容2,12","内容2,13","内容2,14","内容2,15","内容2,16","内容2,17","内容2,18","内容2,19","内容2,20"]
[null,{"$f":"IF(行列入力項目!$C$7=\"\",\"\",行列入力項目!$C$7)","v":"行3"},"内容3,1","内容3,2","内容3,3","内容3,4","内容3,5","内容3,6","内容3,7","内容3,8","内容3,9","内容3,10","内容3,11","内容3,12","内容3,13","内容3,14","内容3,15","内容3,16","内容3,17","内容3,18","内容3,19","内容3,20"]
[null,{"$f":"IF(行列入力項目!$C$8=\"\",\"\",行列入力項目!$C$8)","v":"行4"},"内容4,1","内容4,2","内容4,3","内容4,4","内容4,5","内容4,6","内容4,7","内容4,8","内容4,9","内容4,10","内容4,11","内容4,12","内容4,13","内容4,14","内容4,15","内容4,16","内容4,17","内容4,18","内容4,19","内容4,20"]
[null,{"$f":"IF(行列入力項目!$C$9=\"\",\"\",行列入力項目!$C$9)","v":"行5"},"内容5,1","内容5,2","内容5,3","内容5,4","内容5,5","内容5,6","内容5,7","内容5,8","内容5,9","内容5,10","内容5,11","内容5,12","内容5,13","内容5,14","内容5,15","内容5,16","内容5,17","内容5,18","内容5,19","内容5,20"]
[null,{"$f":"IF(行列入力項目!$C$10=\"\",\"\",行列入力項目!$C$10)","v":"行6"},"内容6,1","内容6,2","内容6,3","内容6,4","内容6,5","内容6,6","内容6,7","内容6,8","内容6,9","内容6,10","内容6,11","内容6,12","内容6,13","内容6,14","内容6,15","内容6,16","内容6,17","内容6,18","内容6,19","内容6,20"]
[null,{"$f":"IF(行列入力項目!$C$11=\"\",\"\",行列入力項目!$C$11)","v":"行7"},"内容7,1","内容7,2","内容7,3","内容7,4","内容7,5","内容7,6","内容7,7","内容7,8","内容7,9","内容7,10","内容7,11","内容7,12","内容7,13","内容7,14","内容7,15","内容7,16","内容7,17","内容7,18","内容7,19","内容7,20"]
[null,{"$f":"IF(行列入力項目!$C$12=\"\",\"\",行列入力項目!$C$12)","v":"行8"},"内容8,1","内容8,2","内容8,3","内容8,4","内容8,5","内容8,6","内容8,7","内容8,8","内容8,9","内容8,10","内容8,11","内容8,12","内容8,13","内容8,14","内容8,15","内容8,16","内容8,17","内容8,18","内容8,19","内容8,20"]
[null,{"$f":"IF(行列入力項目!$C$13=\"\",\"\",行列入力項目!$C$13)","v":"行9"},"内容9,1","内容9,2","内容9,3","内容9,4","内容9,5","内容9,6","内容9,7","内容9,8","内容9,9","内容9,10","内容9,11","内容9,12","内容9,13","内容9,14","内容9,15","内容9,16","内容9,17","内容9,18","内容9,19","内容9,20"]
[null,{"$f":"IF(行列入力項目!$C$14=\"\",\"\",行列入力項目!$C$14)","v":"行10"},"内容10,1","内容10,2","内容10,3","内容10,4","内容10,5","内容10,6","内容10,7","内容10,8","内容10,9","内容10,10","内容10,11","内容10,12","内容10,13","内容10,14","内容10,15","内容10,16","内容10,17","内容10,18","内容10,19","内容10,20"]
[null,{"$f":"IF(行列入力項目!$C$15=\"\",\"\",行列入力項目!$C$15)","v":"行11"},"内容11,1","内容11,2","内容11,3","内容11,4","内容11,5","内容11,6","内容11,7","内容11,8","内容11,9","内容11,10","内容11,11","内容11,12","内容11,13","内容11,14","内容11,15","内容11,16","内容11,17","内容11,18","内容11,19","内容11,20"]
[null,{"$f":"IF(行列入力項目!$C$16=\"\",\"\",行列入力項目!$C$16)","v":"行12"},"内容12,1","内容12,2","内容12,3","内容12,4","内容12,5","内容12,6","内容12,7","内容12,8","内容12,9","内容12,10","内容12,11","内容12,12","内容12,13","内容12,14","内容12,15","内容12,16","内容12,17","内容12,18","内容12,19","内容12,20"]
[null,{"$f":"IF(行列入力項目!$C$17=\"\",\"\",行列入力項目!$C$17)","v":"行13"},"内容13,1","内容13,2","内容13,3","内容13,4","内容13,5","内容13,6","内容13,7","内容13,8","内容13,9","内容13,10","内容13,11","内容13,12","内容13,13","内容13,14","内容13,15","内容13,16","内容13,17","内容13,18","内容13,19","内容13,20"]
[null,{"$f":"IF(行列入力項目!$C$18=\"\",\"\",行列入力項目!$C$18)","v":"行14"},"内容14,1","内容14,2","内容14,3","内容14,4","内容14,5","内容14,6","内容14,7","内容14,8","内容14,9","内容14,10","内容14,11","内容14,12","内容14,13","内容14,14","内容14,15","内容14,16","内容14,17","内容14,18","内容14,19","内容14,20"]
[null,{"$f":"IF(行列入力項目!$C$19=\"\",\"\",行列入力項目!$C$19)","v":"行15"},"内容15,1","内容15,2","内容15,3","内容15,4","内容15,5","内容15,6","内容15,7","内容15,8","内容15,9","内容15,10","内容15,11","内容15,12","内容15,13","内容15,14","内容15,15","内容15,16","内容15,17","内容15,18","内容15,19","内容15,20"]
[null,{"$f":"IF(行列入力項目!$C$20=\"\",\"\",行列入力項目!$C$20)","v":"行16"},"内容16,1","内容16,2","内容16,3","内容16,4","内容16,5","内容16,6","内容16,7","内容16,8","内容16,9","内容16,10","内容16,11","内容16,12","内容16,13","内容16,14","内容16,15","内容16,16","内容16,17","内容16,18","内容16,19","内容16,20"]
[null,{"$f":"IF(行列入力項目!$C$21=\"\",\"\",行列入力項目!$C$21)","v":"行17"},"内容17,1","内容17,2","内容17,3","内容17,4","内容17,5","内容17,6","内容17,7","内容17,8","内容17,9","内容17,10","内容17,11","内容17,12","内容17,13","内容17,14","内容17,15","内容17,16","内容17,17","内容17,18","内容17,19","内容17,20"]
[null,{"$f":"IF(行列入力項目!$C$22=\"\",\"\",行列入力項目!$C$22)","v":"行18"},"内容18,1","内容18,2","内容18,3","内容18,4","内容18,5","内容18,6","内容18,7","内容18,8","内容18,9","内容18,10","内容18,11","内容18,12","内容18,13","内容18,14","内容18,15","内容18,16","内容18,17","内容18,18","内容18,19","内容18,20"]
[null,{"$f":"IF(行列入力項目!$C$23=\"\",\"\",行列入力項目!$C$23)","v":"行19"},"内容19,1","内容19,2","内容19,3","内容19,4","内容19,5","内容19,6","内容19,7","内容19,8","内容19,9","内容19,10","内容19,11","内容19,12","内容19,13","内容19,14","内容19,15","内容19,16","内容19,17","内容19,18","内容19,19","内容19,20"]
[null,{"$f":"IF(行列入力項目!$C$24=\"\",\"\",行列入力項目!$C$24)","v":"行20"},"内容20,1","内容20,2","内容20,3","内容20,4","内容20,5","内容20,6","内容20,7","内容20,8","内容20,9","内容20,10","内容20,11","内容20,12","内容20,13","内容20,14","内容20,15","内容20,16","内容20,17","内容20,18","内容20,19","内容20,20"]
[null,{"$f":"IF(行列入力項目!$C$25=\"\",\"\",行列入力項目!$C$25)","v":"行21"},"内容21,1","内容21,2","内容21,3","内容21,4","内容21,5","内容21,6","内容21,7","内容21,8","内容21,9","内容21,10","内容21,11","内容21,12","内容21,13","内容21,14","内容21,15","内容21,16","内容21,17","内容21,18","内容21,19","内容21,20"]
[null,{"$f":"IF(行列入力項目!$C$26=\"\",\"\",行列入力項目!$C$26)","v":"行22"},"内容22,1","内容22,2","内容22,3","内容22,4","内容22,5","内容22,6","内容22,7","内容22,8","内容22,9","内容22,10","内容22,11","内容22,12","内容22,13","内容22,14","内容22,15","内容22,16","内容22,17","内容22,18","内容22,19","内容22,20"]
[null,{"$f":"IF(行列入力項目!$C$27=\"\",\"\",行列入力項目!$C$27)","v":"行23"},"内容23,1","内容23,2","内容23,3","内容23,4","内容23,5","内容23,6","内容23,7","内容23,8","内容23,9","内容23,10","内容23,11","内容23,12","内容23,13","内容23,14","内容23,15","内容23,16","内容23,17","内容23,18","内容23,19","内容23,20"]
[null,{"$f":"IF(行列入力項目!$C$28=\"\",\"\",行列入力項目!$C$28)","v":"行24"},"内容24,1","内容24,2","内容24,3","内容24,4","内容24,5","内容24,6","内容24,7","内容24,8","内容24,9","内容24,10","内容24,11","内容24,12","内容24,13","内容24,14","内容24,15","内容24,16","内容24,17","内容24,18","内容24,19","内容24,20"]
[null,{"$f":"IF(行列入力項目!$C$29=\"\",\"\",行列入力項目!$C$29)","v":"行25"},"内容25,1","内容25,2","内容25,3","内容25,4","内容25,5","内容25,6","内容25,7","内容25,8","内容25,9","内容25,10","内容25,11","内容25,12","内容25,13","内容25,14","内容25,15","内容25,16","内容25,17","内容25,18","内容25,19","内容25,20"]
[null,{"$f":"IF(行列入力項目!$C$30=\"\",\"\",行列入力項目!$C$30)","v":"行26"},"内容26,1","内容26,2","内容26,3","内容26,4","内容26,5","内容26,6","内容26,7","内容26,8","内容26,9","内容26,10","内容26,11","内容26,12","内容26,13","内容26,14","内容26,15","内容26,16","内容26,17","内容26,18","内容26,19","内容26,20"]
[null,{"$f":"IF(行列入力項目!$C$31=\"\",\"\",行列入力項目!$C$31)","v":"行27"},"内容27,1","内容27,2","内容27,3","内容27,4","内容27,5","内容27,6","内容27,7","内容27,8","内容27,9","内容27,10","内容27,11","内容27,12","内容27,13","内容27,14","内容27,15","内容27,16","内容27,17","内容27,18","内容27,19","内容27,20"]
[null,{"$f":"IF(行列入力項目!$C$32=\"\",\"\",行列入力項目!$C$32)","v":"行28"},"内容28,1","内容28,2","内容28,3","内容28,4","内容28,5","内容28,6","内容28,7","内容28,8","内容28,9","内容28,10","内容28,11","内容28,12","内容28,13","内容28,14","内容28,15","内容28,16","内容28,17","内容28,18","内容28,19","内容28,20"]
[null,{"$f":"IF(行列入力項目!$C$33=\"\",\"\",行列入力項目!$C$33)","v":"行29"},"内容29,1","内容29,2","内容29,3","内容29,4","内容29,5","内容29,6","内容29,7","内容29,8","内容29,9","内容29,10","内容29,11","内容29,12","内容29,13","内容29,14","内容29,15","内容29,16","内容29,17","内容29,18","内容29,19","内容29,20"]
[null,{"$f":"IF(行列入力項目!$C$34=\"\",\"\",行列入力項目!$C$34)","v":"行30"},"内容30,1","内容30,2","内容30,3","内容30,4","内容30,5","内容30,6","内容30,7","内容30,8","内容30,9","内容30,10","内容30,11","内容30,12","内容30,13","内容30,14","内容30,15","内容30,16","内容30,17","内容30,18","内容30,19","内容30,20"]
[null,{"$f":"IF(行列入力項目!$C$35=\"\",\"\",行列入力項目!$C$35)","v":"行31"},"内容31,1","内容31,2","内容31,3","内容31,4","内容31,5","内容31,6","内容31,7","内容31,8","内容31,9","内容31,10","内容31,11","内容31,12","内容31,13","内容31,14","内容31,15","内容31,16","内容31,17","内容31,18","内容31,19","内容31,20"]
[null,{"$f":"IF(行列入力項目!$C$36=\"\",\"\",行列入力項目!$C$36)","v":"行32"},"内容32,1","内容32,2","内容32,3","内容32,4","内容32,5","内容32,6","内容32,7","内容32,8","内容32,9","内容32,10","内容32,11","内容32,12","内容32,13","内容32,14","内容32,15","内容32,16","内容32,17","内容32,18","内容32,19","内容32,20"]
[null,{"$f":"IF(行列入力項目!$C$37=\"\",\"\",行列入力項目!$C$37)","v":"行33"},"内容33,1","内容33,2","内容33,3","内容33,4","内容33,5","内容33,6","内容33,7","内容33,8","内容33,9","内容33,10","内容33,11","内容33,12","内容33,13","内容33,14","内容33,15","内容33,16","内容33,17","内容33,18","内容33,19","内容33,20"]
[null,{"$f":"IF(行列入力項目!$C$38=\"\",\"\",行列入力項目!$C$38)","v":"行34"},"内容34,1","内容34,2","内容34,3","内容34,4","内容34,5","内容34,6","内容34,7","内容34,8","内容34,9","内容34,10","内容34,11","内容34,12","内容34,13","内容34,14","内容34,15","内容34,16","内容34,17","内容34,18","内容34,19","内容34,20"]
[null,{"$f":"IF(行列入力項目!$C$39=\"\",\"\",行列入力項目!$C$39)","v":"行35"},"内容35,1","内容35,2","内容35,3","内容35,4","内容35,5","内容35,6","内容35,7","内容35,8","内容35,9","内容35,10","内容35,11","内容35,12","内容35,13","内容35,14","内容35,15","内容35,16","内容35,17","内容35,18","内容35,19","内容35,20"]
[null,{"$f":"IF(行列入力項目!$C$40=\"\",\"\",行列入力項目!$C$40)","v":"行36"},"内容36,1","内容36,2","内容36,3","内容36,4","内容36,5","内容36,6","内容36,7","内容36,8","内容36,9","内容36,10","内容36,11","内容36,12","内容36,13","内容36,14","内容36,15","内容36,16","内容36,17","内容36,18","内容36,19","内容36,20"]
[null,{"$f":"IF(行列入力項目!$C$41=\"\",\"\",行列入力項目!$C$41)","v":"行37"},"内容37,1","内容37,2","内容37,3","内容37,4","内容37,5","内容37,6","内容37,7","内容37,8","内容37,9","内容37,10","内容37,11","内容37,12","内容37,13","内容37,14","内容37,15","内容37,16","内容37,17","内容37,18","内容37,19","内容37,20"]
[null,{"$f":"IF(行列入力項目!$C$42=\"\",\"\",行列入力項目!$C$42)","v":"行38"},"内容38,1","内容38,2","内容38,3","内容38,4","内容38,5","内容38,6","内容38,7","内容38,8","内容38,9","内容38,10","内容38,11","内容38,12","内容38,13","内容38,14","内容38,15","内容38,16","内容38,17","内容38,18","内容38,19","内容38,20"]
[null,{"$f":"IF(行列入力項目!$C$43=\"\",\"\",行列入力項目!$C$43)","v":"行39"},"内容39,1","内容39,2","内容39,3","内容39,4","内容39,5","内容39,6","内容39,7","内容39,8","内容39,9","内容39,10","内容39,11","内容39,12","内容39,13","内容39,14","内容39,15","内容39,16","内容39,17","内容39,18","内容39,19","内容39,20"]
[null,{"$f":"IF(行列入力項目!$C$44=\"\",\"\",行列入力項目!$C$44)","v":"行40"},"内容40,1","内容40,2","内容40,3","内容40,4","内容40,5","内容40,6","内容40,7","内容40,8","内容40,9","内容40,10","内容40,11","内容40,12","内容40,13","内容40,14","内容40,15","内容40,16","内容40,17","内容40,18","内容40,19","内容40,20"]
[null,{"$f":"IF(行列入力項目!$C$45=\"\",\"\",行列入力項目!$C$45)","v":"行41"},"内容41,1","内容41,2","内容41,3","内容41,4","内容41,5","内容41,6","内容41,7","内容41,8","内容41,9","内容41,10","内容41,11","内容41,12","内容41,13","内容41,14","内容41,15","内容41,16","内容41,17","内容41,18","内容41,19","内容41,20"]
[null,{"$f":"IF(行列入力項目!$C$46=\"\",\"\",行列入力項目!$C$46)","v":"行42"},"内容42,1","内容42,2","内容42,3","内容42,4","内容42,5","内容42,6","内容42,7","内容42,8","内容42,9","内容42,10","内容42,11","内容42,12","内容42,13","内容42,14","内容42,15","内容42,16","内容42,17","内容42,18","内容42,19","内容42,20"]
[null,{"$f":"IF(行列入力項目!$C$47=\"\",\"\",行列入力項目!$C$47)","v":"行43"},"内容43,1","内容43,2","内容43,3","内容43,4","内容43,5","内容43,6","内容43,7","内容43,8","内容43,9","内容43,10","内容43,11","内容43,12","内容43,13","内容43,14","内容43,15","内容43,16","内容43,17","内容43,18","内容43,19","内容43,20"]
[null,{"$f":"IF(行列入力項目!$C$48=\"\",\"\",行列入力項目!$C$48)","v":"行44"},"内容44,1","内容44,2","内容44,3","内容44,4","内容44,5","内容44,6","内容44,7","内容44,8","内容44,9","内容44,10","内容44,11","内容44,12","内容44,13","内容44,14","内容44,15","内容44,16","内容44,17","内容44,18","内容44,19","内容44,20"]
[null,{"$f":"IF(行列入力項目!$C$49=\"\",\"\",行列入力項目!$C$49)","v":"行45"},"内容45,1","内容45,2","内容45,3","内容45,4","内容45,5","内容45,6","内容45,7","内容45,8","内容45,9","内容45,10","内容45,11","内容45,12","内容45,13","内容45,14","内容45,15","内容45,16","内容45,17","内容45,18","内容45,19","内容45,20"]
[null,{"$f":"IF(行列入力項目!$C$50=\"\",\"\",行列入力項目!$C$50)","v":"行46"},"内容46,1","内容46,2","内容46,3","内容46,4","内容46,5","内容46,6","内容46,7","内容46,8","内容46,9","内容46,10","内容46,11","内容46,12","内容46,13","内容46,14","内容46,15","内容46,16","内容46,17","内容46,18","内容46,19","内容46,20"]
[null,{"$f":"IF(行列入力項目!$C$51=\"\",\"\",行列入力項目!$C$51)","v":"行47"},"内容47,1","内容47,2","内容47,3","内容47,4","内容47,5","内容47,6","内容47,7","内容47,8","内容47,9","内容47,10","内容47,11","内容47,12","内容47,13","内容47,14","内容47,15","内容47,16","内容47,17","内容47,18","内容47,19","内容47,20"]
[null,{"$f":"IF(行列入力項目!$C$52=\"\",\"\",行列入力項目!$C$52)","v":"行48"},"内容48,1","内容48,2","内容48,3","内容48,4","内容48,5","内容48,6","内容48,7","内容48,8","内容48,9","内容48,10","内容48,11","内容48,12","内容48,13","内容48,14","内容48,15","内容48,16","内容48,17","内容48,18","内容48,19","内容48,20"]
[null,{"$f":"IF(行列入力項目!$C$53=\"\",\"\",行列入力項目!$C$53)","v":"行49"},"内容49,1","内容49,2","内容49,3","内容49,4","内容49,5","内容49,6","内容49,7","内容49,8","内容49,9","内容49,10","内容49,11","内容49,12","内容49,13","内容49,14","内容49,15","内容49,16","内容49,17","内容49,18","内容49,19","内容49,20"]
[null,{"$f":"IF(行列入力項目!$C$54=\"\",\"\",行列入力項目!$C$54)","v":"行50"},"内容50,1","内容50,2","内容50,3","内容50,4","内容50,5","内容50,6","内容50,7","内容50,8","内容50,9","内容50,10","内容50,11","内容50,12","内容50,13","内容50,14","内容50,15","内容50,16","内容50,17","内容50,18","内容50,19","内容50,20"]

{"sheet":"項目表示入力既定番地","index":9,"n_rows":56,"n_cols":22,"rows_kept":56,"cut":false,"hidden":false,"merged":[]}
[null,null,null,null,null,null,"■","■"]
[null,"項目表示入力既定番地"]
[]
[]
[]
[null,null,{"$f":"IF(行列入力項目!$D$5=\"\",\"\",行列入力項目!$D$5)","v":"列1"},{"$f":"IF(行列入力項目!$D$6=\"\",\"\",行列入力項目!$D$6)","v":"列2"},{"$f":"IF(行列入力項目!$D$7=\"\",\"\",行列入力項目!$D$7)","v":"列3"},{"$f":"IF(行列入力項目!$D$8=\"\",\"\",行列入力項目!$D$8)","v":"列4"},{"$f":"IF(行列入力項目!$D$9=\"\",\"\",行列入力項目!$D$9)","v":"列5"},{"$f":"IF(行列入力項目!$D$10=\"\",\"\",行列入力項目!$D$10)","v":"列6"},{"$f":"IF(行列入力項目!$D$11=\"\",\"\",行列入力項目!$D$11)","v":"列7"},{"$f":"IF(行列入力項目!$D$12=\"\",\"\",行列入力項目!$D$12)","v":"列8"},{"$f":"IF(行列入力項目!$D$13=\"\",\"\",行列入力項目!$D$13)","v":"列9"},{"$f":"IF(行列入力項目!$D$14=\"\",\"\",行列入力項目!$D$14)","v":"列10"},{"$f":"IF(行列入力項目!$D$15=\"\",\"\",行列入力項目!$D$15)","v":"列11"},{"$f":"IF(行列入力項目!$D$16=\"\",\"\",行列入力項目!$D$16)","v":"列12"},{"$f":"IF(行列入力項目!$D$17=\"\",\"\",行列入力項目!$D$17)","v":"列13"},{"$f":"IF(行列入力項目!$D$18=\"\",\"\",行列入力項目!$D$18)","v":"列14"},{"$f":"IF(行列入力項目!$D$19=\"\",\"\",行列入力項目!$D$19)","v":"列15"},{"$f":"IF(行列入力項目!$D$20=\"\",\"\",行列入力項目!$D$20)","v":"列16"},{"$f":"IF(行列入力項目!$D$21=\"\",\"\",行列入力項目!$D$21)","v":"列17"},{"$f":"IF(行列入力項目!$D$22=\"\",\"\",行列入力項目!$D$22)","v":"列18"},{"$f":"IF(行列入力項目!$D$23=\"\",\"\",行列入力項目!$D$23)","v":"列19"},{"$f":"IF(行列入力項目!$D$24=\"\",\"\",行列入力項目!$D$24)","v":"列20"}]
[null,{"$f":"IF(行列入力項目!$C$5=\"\",\"\",行列入力項目!$C$5)","v":"行1"},"内容1,1","内容1,2","内容1,3","内容1,4","内容1,5","内容1,6","内容1,7","内容1,8","内容1,9","内容1,10","内容1,11","内容1,12","内容1,13","内容1,14","内容1,15","内容1,16","内容1,17","内容1,18","内容1,19","内容1,20"]
[null,{"$f":"IF(行列入力項目!$C$6=\"\",\"\",行列入力項目!$C$6)","v":"行2"},"内容2,1","内容2,2","内容2,3","内容2,4","内容2,5","内容2,6","内容2,7","内容2,8","内容2,9","内容2,10","内容2,11","内容2,12","内容2,13","内容2,14","内容2,15","内容2,16","内容2,17","内容2,18","内容2,19","内容2,20"]
[null,{"$f":"IF(行列入力項目!$C$7=\"\",\"\",行列入力項目!$C$7)","v":"行3"},"内容3,1","内容3,2","内容3,3","内容3,4","内容3,5","内容3,6","内容3,7","内容3,8","内容3,9","内容3,10","内容3,11","内容3,12","内容3,13","内容3,14","内容3,15","内容3,16","内容3,17","内容3,18","内容3,19","内容3,20"]
[null,{"$f":"IF(行列入力項目!$C$8=\"\",\"\",行列入力項目!$C$8)","v":"行4"},"内容4,1","内容4,2","内容4,3","内容4,4","内容4,5","内容4,6","内容4,7","内容4,8","内容4,9","内容4,10","内容4,11","内容4,12","内容4,13","内容4,14","内容4,15","内容4,16","内容4,17","内容4,18","内容4,19","内容4,20"]
[null,{"$f":"IF(行列入力項目!$C$9=\"\",\"\",行列入力項目!$C$9)","v":"行5"},"内容5,1","内容5,2","内容5,3","内容5,4","内容5,5","内容5,6","内容5,7","内容5,8","内容5,9","内容5,10","内容5,11","内容5,12","内容5,13","内容5,14","内容5,15","内容5,16","内容5,17","内容5,18","内容5,19","内容5,20"]
[null,{"$f":"IF(行列入力項目!$C$10=\"\",\"\",行列入力項目!$C$10)","v":"行6"},"内容6,1","内容6,2","内容6,3","内容6,4","内容6,5","内容6,6","内容6,7","内容6,8","内容6,9","内容6,10","内容6,11","内容6,12","内容6,13","内容6,14","内容6,15","内容6,16","内容6,17","内容6,18","内容6,19","内容6,20"]
[null,{"$f":"IF(行列入力項目!$C$11=\"\",\"\",行列入力項目!$C$11)","v":"行7"},"内容7,1","内容7,2","内容7,3","内容7,4","内容7,5","内容7,6","内容7,7","内容7,8","内容7,9","内容7,10","内容7,11","内容7,12","内容7,13","内容7,14","内容7,15","内容7,16","内容7,17","内容7,18","内容7,19","内容7,20"]
[null,{"$f":"IF(行列入力項目!$C$12=\"\",\"\",行列入力項目!$C$12)","v":"行8"},"内容8,1","内容8,2","内容8,3","内容8,4","内容8,5","内容8,6","内容8,7","内容8,8","内容8,9","内容8,10","内容8,11","内容8,12","内容8,13","内容8,14","内容8,15","内容8,16","内容8,17","内容8,18","内容8,19","内容8,20"]
[null,{"$f":"IF(行列入力項目!$C$13=\"\",\"\",行列入力項目!$C$13)","v":"行9"},"内容9,1","内容9,2","内容9,3","内容9,4","内容9,5","内容9,6","内容9,7","内容9,8","内容9,9","内容9,10","内容9,11","内容9,12","内容9,13","内容9,14","内容9,15","内容9,16","内容9,17","内容9,18","内容9,19","内容9,20"]
[null,{"$f":"IF(行列入力項目!$C$14=\"\",\"\",行列入力項目!$C$14)","v":"行10"},"内容10,1","内容10,2","内容10,3","内容10,4","内容10,5","内容10,6","内容10,7","内容10,8","内容10,9","内容10,10","内容10,11","内容10,12","内容10,13","内容10,14","内容10,15","内容10,16","内容10,17","内容10,18","内容10,19","内容10,20"]
[null,{"$f":"IF(行列入力項目!$C$15=\"\",\"\",行列入力項目!$C$15)","v":"行11"},"内容11,1","内容11,2","内容11,3","内容11,4","内容11,5","内容11,6","内容11,7","内容11,8","内容11,9","内容11,10","内容11,11","内容11,12","内容11,13","内容11,14","内容11,15","内容11,16","内容11,17","内容11,18","内容11,19","内容11,20"]
[null,{"$f":"IF(行列入力項目!$C$16=\"\",\"\",行列入力項目!$C$16)","v":"行12"},"内容12,1","内容12,2","内容12,3","内容12,4","内容12,5","内容12,6","内容12,7","内容12,8","内容12,9","内容12,10","内容12,11","内容12,12","内容12,13","内容12,14","内容12,15","内容12,16","内容12,17","内容12,18","内容12,19","内容12,20"]
[null,{"$f":"IF(行列入力項目!$C$17=\"\",\"\",行列入力項目!$C$17)","v":"行13"},"内容13,1","内容13,2","内容13,3","内容13,4","内容13,5","内容13,6","内容13,7","内容13,8","内容13,9","内容13,10","内容13,11","内容13,12","内容13,13","内容13,14","内容13,15","内容13,16","内容13,17","内容13,18","内容13,19","内容13,20"]
[null,{"$f":"IF(行列入力項目!$C$18=\"\",\"\",行列入力項目!$C$18)","v":"行14"},"内容14,1","内容14,2","内容14,3","内容14,4","内容14,5","内容14,6","内容14,7","内容14,8","内容14,9","内容14,10","内容14,11","内容14,12","内容14,13","内容14,14","内容14,15","内容14,16","内容14,17","内容14,18","内容14,19","内容14,20"]
[null,{"$f":"IF(行列入力項目!$C$19=\"\",\"\",行列入力項目!$C$19)","v":"行15"},"内容15,1","内容15,2","内容15,3","内容15,4","内容15,5","内容15,6","内容15,7","内容15,8","内容15,9","内容15,10","内容15,11","内容15,12","内容15,13","内容15,14","内容15,15","内容15,16","内容15,17","内容15,18","内容15,19","内容15,20"]
[null,{"$f":"IF(行列入力項目!$C$20=\"\",\"\",行列入力項目!$C$20)","v":"行16"},"内容16,1","内容16,2","内容16,3","内容16,4","内容16,5","内容16,6","内容16,7","内容16,8","内容16,9","内容16,10","内容16,11","内容16,12","内容16,13","内容16,14","内容16,15","内容16,16","内容16,17","内容16,18","内容16,19","内容16,20"]
[null,{"$f":"IF(行列入力項目!$C$21=\"\",\"\",行列入力項目!$C$21)","v":"行17"},"内容17,1","内容17,2","内容17,3","内容17,4","内容17,5","内容17,6","内容17,7","内容17,8","内容17,9","内容17,10","内容17,11","内容17,12","内容17,13","内容17,14","内容17,15","内容17,16","内容17,17","内容17,18","内容17,19","内容17,20"]
[null,{"$f":"IF(行列入力項目!$C$22=\"\",\"\",行列入力項目!$C$22)","v":"行18"},"内容18,1","内容18,2","内容18,3","内容18,4","内容18,5","内容18,6","内容18,7","内容18,8","内容18,9","内容18,10","内容18,11","内容18,12","内容18,13","内容18,14","内容18,15","内容18,16","内容18,17","内容18,18","内容18,19","内容18,20"]
[null,{"$f":"IF(行列入力項目!$C$23=\"\",\"\",行列入力項目!$C$23)","v":"行19"},"内容19,1","内容19,2","内容19,3","内容19,4","内容19,5","内容19,6","内容19,7","内容19,8","内容19,9","内容19,10","内容19,11","内容19,12","内容19,13","内容19,14","内容19,15","内容19,16","内容19,17","内容19,18","内容19,19","内容19,20"]
[null,{"$f":"IF(行列入力項目!$C$24=\"\",\"\",行列入力項目!$C$24)","v":"行20"},"内容20,1","内容20,2","内容20,3","内容20,4","内容20,5","内容20,6","内容20,7","内容20,8","内容20,9","内容20,10","内容20,11","内容20,12","内容20,13","内容20,14","内容20,15","内容20,16","内容20,17","内容20,18","内容20,19","内容20,20"]
[null,{"$f":"IF(行列入力項目!$C$25=\"\",\"\",行列入力項目!$C$25)","v":"行21"},"内容21,1","内容21,2","内容21,3","内容21,4","内容21,5","内容21,6","内容21,7","内容21,8","内容21,9","内容21,10","内容21,11","内容21,12","内容21,13","内容21,14","内容21,15","内容21,16","内容21,17","内容21,18","内容21,19","内容21,20"]
[null,{"$f":"IF(行列入力項目!$C$26=\"\",\"\",行列入力項目!$C$26)","v":"行22"},"内容22,1","内容22,2","内容22,3","内容22,4","内容22,5","内容22,6","内容22,7","内容22,8","内容22,9","内容22,10","内容22,11","内容22,12","内容22,13","内容22,14","内容22,15","内容22,16","内容22,17","内容22,18","内容22,19","内容22,20"]
[null,{"$f":"IF(行列入力項目!$C$27=\"\",\"\",行列入力項目!$C$27)","v":"行23"},"内容23,1","内容23,2","内容23,3","内容23,4","内容23,5","内容23,6","内容23,7","内容23,8","内容23,9","内容23,10","内容23,11","内容23,12","内容23,13","内容23,14","内容23,15","内容23,16","内容23,17","内容23,18","内容23,19","内容23,20"]
[null,{"$f":"IF(行列入力項目!$C$28=\"\",\"\",行列入力項目!$C$28)","v":"行24"},"内容24,1","内容24,2","内容24,3","内容24,4","内容24,5","内容24,6","内容24,7","内容24,8","内容24,9","内容24,10","内容24,11","内容24,12","内容24,13","内容24,14","内容24,15","内容24,16","内容24,17","内容24,18","内容24,19","内容24,20"]
[null,{"$f":"IF(行列入力項目!$C$29=\"\",\"\",行列入力項目!$C$29)","v":"行25"},"内容25,1","内容25,2","内容25,3","内容25,4","内容25,5","内容25,6","内容25,7","内容25,8","内容25,9","内容25,10","内容25,11","内容25,12","内容25,13","内容25,14","内容25,15","内容25,16","内容25,17","内容25,18","内容25,19","内容25,20"]
[null,{"$f":"IF(行列入力項目!$C$30=\"\",\"\",行列入力項目!$C$30)","v":"行26"},"内容26,1","内容26,2","内容26,3","内容26,4","内容26,5","内容26,6","内容26,7","内容26,8","内容26,9","内容26,10","内容26,11","内容26,12","内容26,13","内容26,14","内容26,15","内容26,16","内容26,17","内容26,18","内容26,19","内容26,20"]
[null,{"$f":"IF(行列入力項目!$C$31=\"\",\"\",行列入力項目!$C$31)","v":"行27"},"内容27,1","内容27,2","内容27,3","内容27,4","内容27,5","内容27,6","内容27,7","内容27,8","内容27,9","内容27,10","内容27,11","内容27,12","内容27,13","内容27,14","内容27,15","内容27,16","内容27,17","内容27,18","内容27,19","内容27,20"]
[null,{"$f":"IF(行列入力項目!$C$32=\"\",\"\",行列入力項目!$C$32)","v":"行28"},"内容28,1","内容28,2","内容28,3","内容28,4","内容28,5","内容28,6","内容28,7","内容28,8","内容28,9","内容28,10","内容28,11","内容28,12","内容28,13","内容28,14","内容28,15","内容28,16","内容28,17","内容28,18","内容28,19","内容28,20"]
[null,{"$f":"IF(行列入力項目!$C$33=\"\",\"\",行列入力項目!$C$33)","v":"行29"},"内容29,1","内容29,2","内容29,3","内容29,4","内容29,5","内容29,6","内容29,7","内容29,8","内容29,9","内容29,10","内容29,11","内容29,12","内容29,13","内容29,14","内容29,15","内容29,16","内容29,17","内容29,18","内容29,19","内容29,20"]
[null,{"$f":"IF(行列入力項目!$C$34=\"\",\"\",行列入力項目!$C$34)","v":"行30"},"内容30,1","内容30,2","内容30,3","内容30,4","内容30,5","内容30,6","内容30,7","内容30,8","内容30,9","内容30,10","内容30,11","内容30,12","内容30,13","内容30,14","内容30,15","内容30,16","内容30,17","内容30,18","内容30,19","内容30,20"]
[null,{"$f":"IF(行列入力項目!$C$35=\"\",\"\",行列入力項目!$C$35)","v":"行31"},"内容31,1","内容31,2","内容31,3","内容31,4","内容31,5","内容31,6","内容31,7","内容31,8","内容31,9","内容31,10","内容31,11","内容31,12","内容31,13","内容31,14","内容31,15","内容31,16","内容31,17","内容31,18","内容31,19","内容31,20"]
[null,{"$f":"IF(行列入力項目!$C$36=\"\",\"\",行列入力項目!$C$36)","v":"行32"},"内容32,1","内容32,2","内容32,3","内容32,4","内容32,5","内容32,6","内容32,7","内容32,8","内容32,9","内容32,10","内容32,11","内容32,12","内容32,13","内容32,14","内容32,15","内容32,16","内容32,17","内容32,18","内容32,19","内容32,20"]
[null,{"$f":"IF(行列入力項目!$C$37=\"\",\"\",行列入力項目!$C$37)","v":"行33"},"内容33,1","内容33,2","内容33,3","内容33,4","内容33,5","内容33,6","内容33,7","内容33,8","内容33,9","内容33,10","内容33,11","内容33,12","内容33,13","内容33,14","内容33,15","内容33,16","内容33,17","内容33,18","内容33,19","内容33,20"]
[null,{"$f":"IF(行列入力項目!$C$38=\"\",\"\",行列入力項目!$C$38)","v":"行34"},"内容34,1","内容34,2","内容34,3","内容34,4","内容34,5","内容34,6","内容34,7","内容34,8","内容34,9","内容34,10","内容34,11","内容34,12","内容34,13","内容34,14","内容34,15","内容34,16","内容34,17","内容34,18","内容34,19","内容34,20"]
[null,{"$f":"IF(行列入力項目!$C$39=\"\",\"\",行列入力項目!$C$39)","v":"行35"},"内容35,1","内容35,2","内容35,3","内容35,4","内容35,5","内容35,6","内容35,7","内容35,8","内容35,9","内容35,10","内容35,11","内容35,12","内容35,13","内容35,14","内容35,15","内容35,16","内容35,17","内容35,18","内容35,19","内容35,20"]
[null,{"$f":"IF(行列入力項目!$C$40=\"\",\"\",行列入力項目!$C$40)","v":"行36"},"内容36,1","内容36,2","内容36,3","内容36,4","内容36,5","内容36,6","内容36,7","内容36,8","内容36,9","内容36,10","内容36,11","内容36,12","内容36,13","内容36,14","内容36,15","内容36,16","内容36,17","内容36,18","内容36,19","内容36,20"]
[null,{"$f":"IF(行列入力項目!$C$41=\"\",\"\",行列入力項目!$C$41)","v":"行37"},"内容37,1","内容37,2","内容37,3","内容37,4","内容37,5","内容37,6","内容37,7","内容37,8","内容37,9","内容37,10","内容37,11","内容37,12","内容37,13","内容37,14","内容37,15","内容37,16","内容37,17","内容37,18","内容37,19","内容37,20"]
[null,{"$f":"IF(行列入力項目!$C$42=\"\",\"\",行列入力項目!$C$42)","v":"行38"},"内容38,1","内容38,2","内容38,3","内容38,4","内容38,5","内容38,6","内容38,7","内容38,8","内容38,9","内容38,10","内容38,11","内容38,12","内容38,13","内容38,14","内容38,15","内容38,16","内容38,17","内容38,18","内容38,19","内容38,20"]
[null,{"$f":"IF(行列入力項目!$C$43=\"\",\"\",行列入力項目!$C$43)","v":"行39"},"内容39,1","内容39,2","内容39,3","内容39,4","内容39,5","内容39,6","内容39,7","内容39,8","内容39,9","内容39,10","内容39,11","内容39,12","内容39,13","内容39,14","内容39,15","内容39,16","内容39,17","内容39,18","内容39,19","内容39,20"]
[null,{"$f":"IF(行列入力項目!$C$44=\"\",\"\",行列入力項目!$C$44)","v":"行40"},"内容40,1","内容40,2","内容40,3","内容40,4","内容40,5","内容40,6","内容40,7","内容40,8","内容40,9","内容40,10","内容40,11","内容40,12","内容40,13","内容40,14","内容40,15","内容40,16","内容40,17","内容40,18","内容40,19","内容40,20"]
[null,{"$f":"IF(行列入力項目!$C$45=\"\",\"\",行列入力項目!$C$45)","v":"行41"},"内容41,1","内容41,2","内容41,3","内容41,4","内容41,5","内容41,6","内容41,7","内容41,8","内容41,9","内容41,10","内容41,11","内容41,12","内容41,13","内容41,14","内容41,15","内容41,16","内容41,17","内容41,18","内容41,19","内容41,20"]
[null,{"$f":"IF(行列入力項目!$C$46=\"\",\"\",行列入力項目!$C$46)","v":"行42"},"内容42,1","内容42,2","内容42,3","内容42,4","内容42,5","内容42,6","内容42,7","内容42,8","内容42,9","内容42,10","内容42,11","内容42,12","内容42,13","内容42,14","内容42,15","内容42,16","内容42,17","内容42,18","内容42,19","内容42,20"]
[null,{"$f":"IF(行列入力項目!$C$47=\"\",\"\",行列入力項目!$C$47)","v":"行43"},"内容43,1","内容43,2","内容43,3","内容43,4","内容43,5","内容43,6","内容43,7","内容43,8","内容43,9","内容43,10","内容43,11","内容43,12","内容43,13","内容43,14","内容43,15","内容43,16","内容43,17","内容43,18","内容43,19","内容43,20"]
[null,{"$f":"IF(行列入力項目!$C$48=\"\",\"\",行列入力項目!$C$48)","v":"行44"},"内容44,1","内容44,2","内容44,3","内容44,4","内容44,5","内容44,6","内容44,7","内容44,8","内容44,9","内容44,10","内容44,11","内容44,12","内容44,13","内容44,14","内容44,15","内容44,16","内容44,17","内容44,18","内容44,19","内容44,20"]
[null,{"$f":"IF(行列入力項目!$C$49=\"\",\"\",行列入力項目!$C$49)","v":"行45"},"内容45,1","内容45,2","内容45,3","内容45,4","内容45,5","内容45,6","内容45,7","内容45,8","内容45,9","内容45,10","内容45,11","内容45,12","内容45,13","内容45,14","内容45,15","内容45,16","内容45,17","内容45,18","内容45,19","内容45,20"]
[null,{"$f":"IF(行列入力項目!$C$50=\"\",\"\",行列入力項目!$C$50)","v":"行46"},"内容46,1","内容46,2","内容46,3","内容46,4","内容46,5","内容46,6","内容46,7","内容46,8","内容46,9","内容46,10","内容46,11","内容46,12","内容46,13","内容46,14","内容46,15","内容46,16","内容46,17","内容46,18","内容46,19","内容46,20"]
[null,{"$f":"IF(行列入力項目!$C$51=\"\",\"\",行列入力項目!$C$51)","v":"行47"},"内容47,1","内容47,2","内容47,3","内容47,4","内容47,5","内容47,6","内容47,7","内容47,8","内容47,9","内容47,10","内容47,11","内容47,12","内容47,13","内容47,14","内容47,15","内容47,16","内容47,17","内容47,18","内容47,19","内容47,20"]
[null,{"$f":"IF(行列入力項目!$C$52=\"\",\"\",行列入力項目!$C$52)","v":"行48"},"内容48,1","内容48,2","内容48,3","内容48,4","内容48,5","内容48,6","内容48,7","内容48,8","内容48,9","内容48,10","内容48,11","内容48,12","内容48,13","内容48,14","内容48,15","内容48,16","内容48,17","内容48,18","内容48,19","内容48,20"]
[null,{"$f":"IF(行列入力項目!$C$53=\"\",\"\",行列入力項目!$C$53)","v":"行49"},"内容49,1","内容49,2","内容49,3","内容49,4","内容49,5","内容49,6","内容49,7","内容49,8","内容49,9","内容49,10","内容49,11","内容49,12","内容49,13","内容49,14","内容49,15","内容49,16","内容49,17","内容49,18","内容49,19","内容49,20"]
[null,{"$f":"IF(行列入力項目!$C$54=\"\",\"\",行列入力項目!$C$54)","v":"行50"},"内容50,1","内容50,2","内容50,3","内容50,4","内容50,5","内容50,6","内容50,7","内容50,8","内容50,9","内容50,10","内容50,11","内容50,12","内容50,13","内容50,14","内容50,15","内容50,16","内容50,17","内容50,18","内容50,19","内容50,20"]

{"sheet":"項目表示作成","index":10,"n_rows":56,"n_cols":22,"rows_kept":56,"cut":false,"hidden":false,"merged":[]}
[]
[null,{"$f":"シート名設定!C7","v":"項目表示作成"}]
[]
[]
[]
[null,null,{"$f":"IF(行列入力項目!$D$5=\"\",\"\",行列入力項目!$D$5)","v":"列1"},{"$f":"IF(行列入力項目!$D$6=\"\",\"\",行列入力項目!$D$6)","v":"列2"},{"$f":"IF(行列入力項目!$D$7=\"\",\"\",行列入力項目!$D$7)","v":"列3"},{"$f":"IF(行列入力項目!$D$8=\"\",\"\",行列入力項目!$D$8)","v":"列4"},{"$f":"IF(行列入力項目!$D$9=\"\",\"\",行列入力項目!$D$9)","v":"列5"},{"$f":"IF(行列入力項目!$D$10=\"\",\"\",行列入力項目!$D$10)","v":"列6"},{"$f":"IF(行列入力項目!$D$11=\"\",\"\",行列入力項目!$D$11)","v":"列7"},{"$f":"IF(行列入力項目!$D$12=\"\",\"\",行列入力項目!$D$12)","v":"列8"},{"$f":"IF(行列入力項目!$D$13=\"\",\"\",行列入力項目!$D$13)","v":"列9"},{"$f":"IF(行列入力項目!$D$14=\"\",\"\",行列入力項目!$D$14)","v":"列10"},{"$f":"IF(行列入力項目!$D$15=\"\",\"\",行列入力項目!$D$15)","v":"列11"},{"$f":"IF(行列入力項目!$D$16=\"\",\"\",行列入力項目!$D$16)","v":"列12"},{"$f":"IF(行列入力項目!$D$17=\"\",\"\",行列入力項目!$D$17)","v":"列13"},{"$f":"IF(行列入力項目!$D$18=\"\",\"\",行列入力項目!$D$18)","v":"列14"},{"$f":"IF(行列入力項目!$D$19=\"\",\"\",行列入力項目!$D$19)","v":"列15"},{"$f":"IF(行列入力項目!$D$20=\"\",\"\",行列入力項目!$D$20)","v":"列16"},{"$f":"IF(行列入力項目!$D$21=\"\",\"\",行列入力項目!$D$21)","v":"列17"},{"$f":"IF(行列入力項目!$D$22=\"\",\"\",行列入力項目!$D$22)","v":"列18"},{"$f":"IF(行列入力項目!$D$23=\"\",\"\",行列入力項目!$D$23)","v":"列19"},{"$f":"IF(行列入力項目!$D$24=\"\",\"\",行列入力項目!$D$24)","v":"列20"}]
[null,{"$f":"IF(行列入力項目!$C$5=\"\",\"\",行列入力項目!$C$5)","v":"行1"},{"$f":"C$6&$B7","v":"列1行1"},"列2行1","列3行1","列4行1","列5行1","列6行1","列7行1","列8行1","列9行1","列10行1",{"$f":"M$6&$B7","v":"列11行1"},"列12行1","列13行1","列14行1","列15行1","列16行1","列17行1","列18行1","列19行1","列20行1"]
[null,{"$f":"IF(行列入力項目!$C$6=\"\",\"\",行列入力項目!$C$6)","v":"行2"},"列1行2","列2行2","列3行2","列4行2","列5行2","列6行2","列7行2","列8行2","列9行2","列10行2","列11行2","列12行2","列13行2","列14行2","列15行2","列16行2","列17行2","列18行2","列19行2","列20行2"]
[null,{"$f":"IF(行列入力項目!$C$7=\"\",\"\",行列入力項目!$C$7)","v":"行3"},"列1行3","列2行3","列3行3","列4行3","列5行3","列6行3","列7行3","列8行3","列9行3","列10行3","列11行3","列12行3","列13行3","列14行3","列15行3","列16行3","列17行3","列18行3","列19行3","列20行3"]
[null,{"$f":"IF(行列入力項目!$C$8=\"\",\"\",行列入力項目!$C$8)","v":"行4"},"列1行4","列2行4","列3行4","列4行4","列5行4","列6行4","列7行4","列8行4","列9行4","列10行4","列11行4","列12行4","列13行4","列14行4","列15行4","列16行4","列17行4","列18行4","列19行4","列20行4"]
[null,{"$f":"IF(行列入力項目!$C$9=\"\",\"\",行列入力項目!$C$9)","v":"行5"},"列1行5","列2行5","列3行5","列4行5","列5行5","列6行5","列7行5","列8行5","列9行5","列10行5","列11行5","列12行5","列13行5","列14行5","列15行5","列16行5","列17行5","列18行5","列19行5","列20行5"]
[null,{"$f":"IF(行列入力項目!$C$10=\"\",\"\",行列入力項目!$C$10)","v":"行6"},"列1行6","列2行6","列3行6","列4行6","列5行6","列6行6","列7行6","列8行6","列9行6","列10行6","列11行6","列12行6","列13行6","列14行6","列15行6","列16行6","列17行6","列18行6","列19行6","列20行6"]
[null,{"$f":"IF(行列入力項目!$C$11=\"\",\"\",行列入力項目!$C$11)","v":"行7"},"列1行7","列2行7","列3行7","列4行7","列5行7","列6行7","列7行7","列8行7","列9行7","列10行7","列11行7","列12行7","列13行7","列14行7","列15行7","列16行7","列17行7","列18行7","列19行7","列20行7"]
[null,{"$f":"IF(行列入力項目!$C$12=\"\",\"\",行列入力項目!$C$12)","v":"行8"},"列1行8","列2行8","列3行8","列4行8","列5行8","列6行8","列7行8","列8行8","列9行8","列10行8","列11行8","列12行8","列13行8","列14行8","列15行8","列16行8","列17行8","列18行8","列19行8","列20行8"]
[null,{"$f":"IF(行列入力項目!$C$13=\"\",\"\",行列入力項目!$C$13)","v":"行9"},"列1行9","列2行9","列3行9","列4行9","列5行9","列6行9","列7行9","列8行9","列9行9","列10行9","列11行9","列12行9","列13行9","列14行9","列15行9","列16行9","列17行9","列18行9","列19行9","列20行9"]
[null,{"$f":"IF(行列入力項目!$C$14=\"\",\"\",行列入力項目!$C$14)","v":"行10"},"列1行10","列2行10","列3行10","列4行10","列5行10","列6行10","列7行10","列8行10","列9行10","列10行10","列11行10","列12行10","列13行10","列14行10","列15行10","列16行10","列17行10","列18行10","列19行10","列20行10"]
[null,{"$f":"IF(行列入力項目!$C$15=\"\",\"\",行列入力項目!$C$15)","v":"行11"},{"$f":"C$6&$B17","v":"列1行11"},"列2行11","列3行11","列4行11","列5行11","列6行11","列7行11","列8行11","列9行11","列10行11",{"$f":"M$6&$B17","v":"列11行11"},"列12行11","列13行11","列14行11","列15行11","列16行11","列17行11","列18行11","列19行11","列20行11"]
[null,{"$f":"IF(行列入力項目!$C$16=\"\",\"\",行列入力項目!$C$16)","v":"行12"},"列1行12","列2行12","列3行12","列4行12","列5行12","列6行12","列7行12","列8行12","列9行12","列10行12","列11行12","列12行12","列13行12","列14行12","列15行12","列16行12","列17行12","列18行12","列19行12","列20行12"]
[null,{"$f":"IF(行列入力項目!$C$17=\"\",\"\",行列入力項目!$C$17)","v":"行13"},"列1行13","列2行13","列3行13","列4行13","列5行13","列6行13","列7行13","列8行13","列9行13","列10行13","列11行13","列12行13","列13行13","列14行13","列15行13","列16行13","列17行13","列18行13","列19行13","列20行13"]
[null,{"$f":"IF(行列入力項目!$C$18=\"\",\"\",行列入力項目!$C$18)","v":"行14"},"列1行14","列2行14","列3行14","列4行14","列5行14","列6行14","列7行14","列8行14","列9行14","列10行14","列11行14","列12行14","列13行14","列14行14","列15行14","列16行14","列17行14","列18行14","列19行14","列20行14"]
[null,{"$f":"IF(行列入力項目!$C$19=\"\",\"\",行列入力項目!$C$19)","v":"行15"},"列1行15","列2行15","列3行15","列4行15","列5行15","列6行15","列7行15","列8行15","列9行15","列10行15","列11行15","列12行15","列13行15","列14行15","列15行15","列16行15","列17行15","列18行15","列19行15","列20行15"]
[null,{"$f":"IF(行列入力項目!$C$20=\"\",\"\",行列入力項目!$C$20)","v":"行16"},"列1行16","列2行16","列3行16","列4行16","列5行16","列6行16","列7行16","列8行16","列9行16","列10行16","列11行16","列12行16","列13行16","列14行16","列15行16","列16行16","列17行16","列18行16","列19行16","列20行16"]
[null,{"$f":"IF(行列入力項目!$C$21=\"\",\"\",行列入力項目!$C$21)","v":"行17"},"列1行17","列2行17","列3行17","列4行17","列5行17","列6行17","列7行17","列8行17","列9行17","列10行17","列11行17","列12行17","列13行17","列14行17","列15行17","列16行17","列17行17","列18行17","列19行17","列20行17"]
[null,{"$f":"IF(行列入力項目!$C$22=\"\",\"\",行列入力項目!$C$22)","v":"行18"},"列1行18","列2行18","列3行18","列4行18","列5行18","列6行18","列7行18","列8行18","列9行18","列10行18","列11行18","列12行18","列13行18","列14行18","列15行18","列16行18","列17行18","列18行18","列19行18","列20行18"]
[null,{"$f":"IF(行列入力項目!$C$23=\"\",\"\",行列入力項目!$C$23)","v":"行19"},"列1行19","列2行19","列3行19","列4行19","列5行19","列6行19","列7行19","列8行19","列9行19","列10行19","列11行19","列12行19","列13行19","列14行19","列15行19","列16行19","列17行19","列18行19","列19行19","列20行19"]
[null,{"$f":"IF(行列入力項目!$C$24=\"\",\"\",行列入力項目!$C$24)","v":"行20"},"列1行20","列2行20","列3行20","列4行20","列5行20","列6行20","列7行20","列8行20","列9行20","列10行20","列11行20","列12行20","列13行20","列14行20","列15行20","列16行20","列17行20","列18行20","列19行20","列20行20"]
[null,{"$f":"IF(行列入力項目!$C$25=\"\",\"\",行列入力項目!$C$25)","v":"行21"},{"$f":"C$6&$B27","v":"列1行21"},"列2行21","列3行21","列4行21","列5行21","列6行21","列7行21","列8行21","列9行21","列10行21",{"$f":"M$6&$B27","v":"列11行21"},"列12行21","列13行21","列14行21","列15行21","列16行21","列17行21","列18行21","列19行21","列20行21"]
[null,{"$f":"IF(行列入力項目!$C$26=\"\",\"\",行列入力項目!$C$26)","v":"行22"},"列1行22","列2行22","列3行22","列4行22","列5行22","列6行22","列7行22","列8行22","列9行22","列10行22","列11行22","列12行22","列13行22","列14行22","列15行22","列16行22","列17行22","列18行22","列19行22","列20行22"]
[null,{"$f":"IF(行列入力項目!$C$27=\"\",\"\",行列入力項目!$C$27)","v":"行23"},"列1行23","列2行23","列3行23","列4行23","列5行23","列6行23","列7行23","列8行23","列9行23","列10行23","列11行23","列12行23","列13行23","列14行23","列15行23","列16行23","列17行23","列18行23","列19行23","列20行23"]
[null,{"$f":"IF(行列入力項目!$C$28=\"\",\"\",行列入力項目!$C$28)","v":"行24"},"列1行24","列2行24","列3行24","列4行24","列5行24","列6行24","列7行24","列8行24","列9行24","列10行24","列11行24","列12行24","列13行24","列14行24","列15行24","列16行24","列17行24","列18行24","列19行24","列20行24"]
[null,{"$f":"IF(行列入力項目!$C$29=\"\",\"\",行列入力項目!$C$29)","v":"行25"},"列1行25","列2行25","列3行25","列4行25","列5行25","列6行25","列7行25","列8行25","列9行25","列10行25","列11行25","列12行25","列13行25","列14行25","列15行25","列16行25","列17行25","列18行25","列19行25","列20行25"]
[null,{"$f":"IF(行列入力項目!$C$30=\"\",\"\",行列入力項目!$C$30)","v":"行26"},"列1行26","列2行26","列3行26","列4行26","列5行26","列6行26","列7行26","列8行26","列9行26","列10行26","列11行26","列12行26","列13行26","列14行26","列15行26","列16行26","列17行26","列18行26","列19行26","列20行26"]
[null,{"$f":"IF(行列入力項目!$C$31=\"\",\"\",行列入力項目!$C$31)","v":"行27"},"列1行27","列2行27","列3行27","列4行27","列5行27","列6行27","列7行27","列8行27","列9行27","列10行27","列11行27","列12行27","列13行27","列14行27","列15行27","列16行27","列17行27","列18行27","列19行27","列20行27"]
[null,{"$f":"IF(行列入力項目!$C$32=\"\",\"\",行列入力項目!$C$32)","v":"行28"},"列1行28","列2行28","列3行28","列4行28","列5行28","列6行28","列7行28","列8行28","列9行28","列10行28","列11行28","列12行28","列13行28","列14行28","列15行28","列16行28","列17行28","列18行28","列19行28","列20行28"]
[null,{"$f":"IF(行列入力項目!$C$33=\"\",\"\",行列入力項目!$C$33)","v":"行29"},"列1行29","列2行29","列3行29","列4行29","列5行29","列6行29","列7行29","列8行29","列9行29","列10行29","列11行29","列12行29","列13行29","列14行29","列15行29","列16行29","列17行29","列18行29","列19行29","列20行29"]
[null,{"$f":"IF(行列入力項目!$C$34=\"\",\"\",行列入力項目!$C$34)","v":"行30"},"列1行30","列2行30","列3行30","列4行30","列5行30","列6行30","列7行30","列8行30","列9行30","列10行30","列11行30","列12行30","列13行30","列14行30","列15行30","列16行30","列17行30","列18行30","列19行30","列20行30"]
[null,{"$f":"IF(行列入力項目!$C$35=\"\",\"\",行列入力項目!$C$35)","v":"行31"},{"$f":"C$6&$B37","v":"列1行31"},"列2行31","列3行31","列4行31","列5行31","列6行31","列7行31","列8行31","列9行31","列10行31",{"$f":"M$6&$B37","v":"列11行31"},"列12行31","列13行31","列14行31","列15行31","列16行31","列17行31","列18行31","列19行31","列20行31"]
[null,{"$f":"IF(行列入力項目!$C$36=\"\",\"\",行列入力項目!$C$36)","v":"行32"},"列1行32","列2行32","列3行32","列4行32","列5行32","列6行32","列7行32","列8行32","列9行32","列10行32","列11行32","列12行32","列13行32","列14行32","列15行32","列16行32","列17行32","列18行32","列19行32","列20行32"]
[null,{"$f":"IF(行列入力項目!$C$37=\"\",\"\",行列入力項目!$C$37)","v":"行33"},"列1行33","列2行33","列3行33","列4行33","列5行33","列6行33","列7行33","列8行33","列9行33","列10行33","列11行33","列12行33","列13行33","列14行33","列15行33","列16行33","列17行33","列18行33","列19行33","列20行33"]
[null,{"$f":"IF(行列入力項目!$C$38=\"\",\"\",行列入力項目!$C$38)","v":"行34"},"列1行34","列2行34","列3行34","列4行34","列5行34","列6行34","列7行34","列8行34","列9行34","列10行34","列11行34","列12行34","列13行34","列14行34","列15行34","列16行34","列17行34","列18行34","列19行34","列20行34"]
[null,{"$f":"IF(行列入力項目!$C$39=\"\",\"\",行列入力項目!$C$39)","v":"行35"},"列1行35","列2行35","列3行35","列4行35","列5行35","列6行35","列7行35","列8行35","列9行35","列10行35","列11行35","列12行35","列13行35","列14行35","列15行35","列16行35","列17行35","列18行35","列19行35","列20行35"]
[null,{"$f":"IF(行列入力項目!$C$40=\"\",\"\",行列入力項目!$C$40)","v":"行36"},"列1行36","列2行36","列3行36","列4行36","列5行36","列6行36","列7行36","列8行36","列9行36","列10行36","列11行36","列12行36","列13行36","列14行36","列15行36","列16行36","列17行36","列18行36","列19行36","列20行36"]
[null,{"$f":"IF(行列入力項目!$C$41=\"\",\"\",行列入力項目!$C$41)","v":"行37"},"列1行37","列2行37","列3行37","列4行37","列5行37","列6行37","列7行37","列8行37","列9行37","列10行37","列11行37","列12行37","列13行37","列14行37","列15行37","列16行37","列17行37","列18行37","列19行37","列20行37"]
[null,{"$f":"IF(行列入力項目!$C$42=\"\",\"\",行列入力項目!$C$42)","v":"行38"},"列1行38","列2行38","列3行38","列4行38","列5行38","列6行38","列7行38","列8行38","列9行38","列10行38","列11行38","列12行38","列13行38","列14行38","列15行38","列16行38","列17行38","列18行38","列19行38","列20行38"]
[null,{"$f":"IF(行列入力項目!$C$43=\"\",\"\",行列入力項目!$C$43)","v":"行39"},"列1行39","列2行39","列3行39","列4行39","列5行39","列6行39","列7行39","列8行39","列9行39","列10行39","列11行39","列12行39","列13行39","列14行39","列15行39","列16行39","列17行39","列18行39","列19行39","列20行39"]
[null,{"$f":"IF(行列入力項目!$C$44=\"\",\"\",行列入力項目!$C$44)","v":"行40"},"列1行40","列2行40","列3行40","列4行40","列5行40","列6行40","列7行40","列8行40","列9行40","列10行40","列11行40","列12行40","列13行40","列14行40","列15行40","列16行40","列17行40","列18行40","列19行40","列20行40"]
[null,{"$f":"IF(行列入力項目!$C$45=\"\",\"\",行列入力項目!$C$45)","v":"行41"},{"$f":"C$6&$B47","v":"列1行41"},"列2行41","列3行41","列4行41","列5行41","列6行41","列7行41","列8行41","列9行41","列10行41",{"$f":"M$6&$B47","v":"列11行41"},"列12行41","列13行41","列14行41","列15行41","列16行41","列17行41","列18行41","列19行41","列20行41"]
[null,{"$f":"IF(行列入力項目!$C$46=\"\",\"\",行列入力項目!$C$46)","v":"行42"},"列1行42","列2行42","列3行42","列4行42","列5行42","列6行42","列7行42","列8行42","列9行42","列10行42","列11行42","列12行42","列13行42","列14行42","列15行42","列16行42","列17行42","列18行42","列19行42","列20行42"]
[null,{"$f":"IF(行列入力項目!$C$47=\"\",\"\",行列入力項目!$C$47)","v":"行43"},"列1行43","列2行43","列3行43","列4行43","列5行43","列6行43","列7行43","列8行43","列9行43","列10行43","列11行43","列12行43","列13行43","列14行43","列15行43","列16行43","列17行43","列18行43","列19行43","列20行43"]
[null,{"$f":"IF(行列入力項目!$C$48=\"\",\"\",行列入力項目!$C$48)","v":"行44"},"列1行44","列2行44","列3行44","列4行44","列5行44","列6行44","列7行44","列8行44","列9行44","列10行44","列11行44","列12行44","列13行44","列14行44","列15行44","列16行44","列17行44","列18行44","列19行44","列20行44"]
[null,{"$f":"IF(行列入力項目!$C$49=\"\",\"\",行列入力項目!$C$49)","v":"行45"},"列1行45","列2行45","列3行45","列4行45","列5行45","列6行45","列7行45","列8行45","列9行45","列10行45","列11行45","列12行45","列13行45","列14行45","列15行45","列16行45","列17行45","列18行45","列19行45","列20行45"]
[null,{"$f":"IF(行列入力項目!$C$50=\"\",\"\",行列入力項目!$C$50)","v":"行46"},"列1行46","列2行46","列3行46","列4行46","列5行46","列6行46","列7行46","列8行46","列9行46","列10行46","列11行46","列12行46","列13行46","列14行46","列15行46","列16行46","列17行46","列18行46","列19行46","列20行46"]
[null,{"$f":"IF(行列入力項目!$C$51=\"\",\"\",行列入力項目!$C$51)","v":"行47"},"列1行47","列2行47","列3行47","列4行47","列5行47","列6行47","列7行47","列8行47","列9行47","列10行47","列11行47","列12行47","列13行47","列14行47","列15行47","列16行47","列17行47","列18行47","列19行47","列20行47"]
[null,{"$f":"IF(行列入力項目!$C$52=\"\",\"\",行列入力項目!$C$52)","v":"行48"},"列1行48","列2行48","列3行48","列4行48","列5行48","列6行48","列7行48","列8行48","列9行48","列10行48","列11行48","列12行48","列13行48","列14行48","列15行48","列16行48","列17行48","列18行48","列19行48","列20行48"]
[null,{"$f":"IF(行列入力項目!$C$53=\"\",\"\",行列入力項目!$C$53)","v":"行49"},"列1行49","列2行49","列3行49","列4行49","列5行49","列6行49","列7行49","列8行49","列9行49","列10行49","列11行49","列12行49","列13行49","列14行49","列15行49","列16行49","列17行49","列18行49","列19行49","列20行49"]
[null,{"$f":"IF(行列入力項目!$C$54=\"\",\"\",行列入力項目!$C$54)","v":"行50"},"列1行50","列2行50","列3行50","列4行50","列5行50","列6行50","列7行50","列8行50","列9行50","列10行50","列11行50","列12行50","列13行50","列14行50","列15行50","列16行50","列17行50","列18行50","列19行50","列20行50"]

{"sheet":"行列入力項目","index":11,"n_rows":54,"n_cols":4,"rows_kept":54,"cut":false,"hidden":false,"merged":[]}
[]
[null,{"$f":"シート名設定!C8","v":"行列入力項目"}]
[]
[null,"NO.","行項目入力","列項目入力"]
[null,1,"行1","列1"]
[null,2,"行2","列2"]
[null,3,"行3","列3"]
[null,4,"行4","列4"]
[null,5,"行5","列5"]
[null,6,"行6","列6"]
[null,7,"行7","列7"]
[null,8,"行8","列8"]
[null,9,"行9","列9"]
[null,10,"行10","列10"]
[null,11,"行11","列11"]
[null,12,"行12","列12"]
[null,13,"行13","列13"]
[null,14,"行14","列14"]
[null,15,"行15","列15"]
[null,16,"行16","列16"]
[null,17,"行17","列17"]
[null,18,"行18","列18"]
[null,19,"行19","列19"]
[null,20,"行20","列20"]
[null,21,"行21"]
[null,22,"行22"]
[null,23,"行23"]
[null,24,"行24"]
[null,25,"行25"]
[null,26,"行26"]
[null,27,"行27"]
[null,28,"行28"]
[null,29,"行29"]
[null,30,"行30"]
[null,31,"行31"]
[null,32,"行32"]
[null,33,"行33"]
[null,34,"行34"]
[null,35,"行35"]
[null,36,"行36"]
[null,37,"行37"]
[null,38,"行38"]
[null,39,"行39"]
[null,40,"行40"]
[null,41,"行41"]
[null,42,"行42"]
[null,43,"行43"]
[null,44,"行44"]
[null,45,"行45"]
[null,46,"行46"]
[null,47,"行47"]
[null,48,"行48"]
[null,49,"行49"]
[null,50,"行50"]

{"sheet":"オフセット番号A","index":12,"n_rows":54,"n_cols":22,"rows_kept":54,"cut":false,"hidden":true,"merged":[]}
[]
[null,"オフセット番号A"]
[]
[null,null,{"$f":"IF(行列入力項目!$D$5=\"\",\"\",行列入力項目!$D$5)","v":"列1"},{"$f":"IF(行列入力項目!$D$6=\"\",\"\",行列入力項目!$D$6)","v":"列2"},{"$f":"IF(行列入力項目!$D$7=\"\",\"\",行列入力項目!$D$7)","v":"列3"},{"$f":"IF(行列入力項目!$D$8=\"\",\"\",行列入力項目!$D$8)","v":"列4"},{"$f":"IF(行列入力項目!$D$9=\"\",\"\",行列入力項目!$D$9)","v":"列5"},{"$f":"IF(行列入力項目!$D$10=\"\",\"\",行列入力項目!$D$10)","v":"列6"},{"$f":"IF(行列入力項目!$D$11=\"\",\"\",行列入力項目!$D$11)","v":"列7"},{"$f":"IF(行列入力項目!$D$12=\"\",\"\",行列入力項目!$D$12)","v":"列8"},{"$f":"IF(行列入力項目!$D$13=\"\",\"\",行列入力項目!$D$13)","v":"列9"},{"$f":"IF(行列入力項目!$D$14=\"\",\"\",行列入力項目!$D$14)","v":"列10"},{"$f":"IF(行列入力項目!$D$15=\"\",\"\",行列入力項目!$D$15)","v":"列11"},{"$f":"IF(行列入力項目!$D$16=\"\",\"\",行列入力項目!$D$16)","v":"列12"},{"$f":"IF(行列入力項目!$D$17=\"\",\"\",行列入力項目!$D$17)","v":"列13"},{"$f":"IF(行列入力項目!$D$18=\"\",\"\",行列入力項目!$D$18)","v":"列14"},{"$f":"IF(行列入力項目!$D$19=\"\",\"\",行列入力項目!$D$19)","v":"列15"},{"$f":"IF(行列入力項目!$D$20=\"\",\"\",行列入力項目!$D$20)","v":"列16"},{"$f":"IF(行列入力項目!$D$21=\"\",\"\",行列入力項目!$D$21)","v":"列17"},{"$f":"IF(行列入力項目!$D$22=\"\",\"\",行列入力項目!$D$22)","v":"列18"},{"$f":"IF(行列入力項目!$D$23=\"\",\"\",行列入力項目!$D$23)","v":"列19"},{"$f":"IF(行列入力項目!$D$24=\"\",\"\",行列入力項目!$D$24)","v":"列20"}]
[null,{"$f":"IF(行列入力項目!$C$5=\"\",\"\",行列入力項目!$C$5)","v":"行1"},2,3,4,5,6,7,8,9,10,11,12,13,14,15,16,17,18,19,20,21]
[null,{"$f":"IF(行列入力項目!$C$6=\"\",\"\",行列入力項目!$C$6)","v":"行2"},22,23,24,25,26,27,28,29,30,31,32,33,34,35,36,37,38,39,40,41]
[null,{"$f":"IF(行列入力項目!$C$7=\"\",\"\",行列入力項目!$C$7)","v":"行3"},42,43,44,45,46,47,48,49,50,51,52,53,54,55,56,57,58,59,60,61]
[null,{"$f":"IF(行列入力項目!$C$8=\"\",\"\",行列入力項目!$C$8)","v":"行4"},62,63,64,65,66,67,68,69,70,71,72,73,74,75,76,77,78,79,80,81]
[null,{"$f":"IF(行列入力項目!$C$9=\"\",\"\",行列入力項目!$C$9)","v":"行5"},82,83,84,85,86,87,88,89,90,91,92,93,94,95,96,97,98,99,100,101]
[null,{"$f":"IF(行列入力項目!$C$10=\"\",\"\",行列入力項目!$C$10)","v":"行6"},102,103,104,105,106,107,108,109,110,111,112,113,114,115,116,117,118,119,120,121]
[null,{"$f":"IF(行列入力項目!$C$11=\"\",\"\",行列入力項目!$C$11)","v":"行7"},122,123,124,125,126,127,128,129,130,131,132,133,134,135,136,137,138,139,140,141]
[null,{"$f":"IF(行列入力項目!$C$12=\"\",\"\",行列入力項目!$C$12)","v":"行8"},142,143,144,145,146,147,148,149,150,151,152,153,154,155,156,157,158,159,160,161]
[null,{"$f":"IF(行列入力項目!$C$13=\"\",\"\",行列入力項目!$C$13)","v":"行9"},162,163,164,165,166,167,168,169,170,171,172,173,174,175,176,177,178,179,180,181]
[null,{"$f":"IF(行列入力項目!$C$14=\"\",\"\",行列入力項目!$C$14)","v":"行10"},182,183,184,185,186,187,188,189,190,191,192,193,194,195,196,197,198,199,200,201]
[null,{"$f":"IF(行列入力項目!$C$15=\"\",\"\",行列入力項目!$C$15)","v":"行11"},2,3,4,5,6,7,8,9,10,11,12,13,14,15,16,17,18,19,20,21]
[null,{"$f":"IF(行列入力項目!$C$16=\"\",\"\",行列入力項目!$C$16)","v":"行12"},22,23,24,25,26,27,28,29,30,31,32,33,34,35,36,37,38,39,40,41]
[null,{"$f":"IF(行列入力項目!$C$17=\"\",\"\",行列入力項目!$C$17)","v":"行13"},42,43,44,45,46,47,48,49,50,51,52,53,54,55,56,57,58,59,60,61]
[null,{"$f":"IF(行列入力項目!$C$18=\"\",\"\",行列入力項目!$C$18)","v":"行14"},62,63,64,65,66,67,68,69,70,71,72,73,74,75,76,77,78,79,80,81]
[null,{"$f":"IF(行列入力項目!$C$19=\"\",\"\",行列入力項目!$C$19)","v":"行15"},82,83,84,85,86,87,88,89,90,91,92,93,94,95,96,97,98,99,100,101]
[null,{"$f":"IF(行列入力項目!$C$20=\"\",\"\",行列入力項目!$C$20)","v":"行16"},102,103,104,105,106,107,108,109,110,111,112,113,114,115,116,117,118,119,120,121]
[null,{"$f":"IF(行列入力項目!$C$21=\"\",\"\",行列入力項目!$C$21)","v":"行17"},122,123,124,125,126,127,128,129,130,131,132,133,134,135,136,137,138,139,140,141]
[null,{"$f":"IF(行列入力項目!$C$22=\"\",\"\",行列入力項目!$C$22)","v":"行18"},142,143,144,145,146,147,148,149,150,151,152,153,154,155,156,157,158,159,160,161]
[null,{"$f":"IF(行列入力項目!$C$23=\"\",\"\",行列入力項目!$C$23)","v":"行19"},162,163,164,165,166,167,168,169,170,171,172,173,174,175,176,177,178,179,180,181]
[null,{"$f":"IF(行列入力項目!$C24=\"\",\"\",行列入力項目!$C24)","v":"行20"},182,183,184,185,186,187,188,189,190,191,192,193,194,195,196,197,198,199,200,201]
[null,{"$f":"IF(行列入力項目!$C$25=\"\",\"\",行列入力項目!$C$25)","v":"行21"},2,3,4,5,6,7,8,9,10,11,12,13,14,15,16,17,18,19,20,21]
[null,{"$f":"IF(行列入力項目!$C$26=\"\",\"\",行列入力項目!$C$26)","v":"行22"},22,23,24,25,26,27,28,29,30,31,32,33,34,35,36,37,38,39,40,41]
[null,{"$f":"IF(行列入力項目!$C$27=\"\",\"\",行列入力項目!$C$27)","v":"行23"},42,43,44,45,46,47,48,49,50,51,52,53,54,55,56,57,58,59,60,61]
[null,{"$f":"IF(行列入力項目!$C$28=\"\",\"\",行列入力項目!$C$28)","v":"行24"},62,63,64,65,66,67,68,69,70,71,72,73,74,75,76,77,78,79,80,81]
[null,{"$f":"IF(行列入力項目!$C$29=\"\",\"\",行列入力項目!$C$29)","v":"行25"},82,83,84,85,86,87,88,89,90,91,92,93,94,95,96,97,98,99,100,101]
[null,{"$f":"IF(行列入力項目!$C$30=\"\",\"\",行列入力項目!$C$30)","v":"行26"},102,103,104,105,106,107,108,109,110,111,112,113,114,115,116,117,118,119,120,121]
[null,{"$f":"IF(行列入力項目!$C$31=\"\",\"\",行列入力項目!$C$31)","v":"行27"},122,123,124,125,126,127,128,129,130,131,132,133,134,135,136,137,138,139,140,141]
[null,{"$f":"IF(行列入力項目!$C$32=\"\",\"\",行列入力項目!$C$32)","v":"行28"},142,143,144,145,146,147,148,149,150,151,152,153,154,155,156,157,158,159,160,161]
[null,{"$f":"IF(行列入力項目!$C$33=\"\",\"\",行列入力項目!$C$33)","v":"行29"},162,163,164,165,166,167,168,169,170,171,172,173,174,175,176,177,178,179,180,181]
[null,{"$f":"IF(行列入力項目!$C$34=\"\",\"\",行列入力項目!$C$34)","v":"行30"},182,183,184,185,186,187,188,189,190,191,192,193,194,195,196,197,198,199,200,201]
[null,{"$f":"IF(行列入力項目!$C$35=\"\",\"\",行列入力項目!$C$35)","v":"行31"},2,3,4,5,6,7,8,9,10,11,12,13,14,15,16,17,18,19,20,21]
[null,{"$f":"IF(行列入力項目!$C$36=\"\",\"\",行列入力項目!$C$36)","v":"行32"},22,23,24,25,26,27,28,29,30,31,32,33,34,35,36,37,38,39,40,41]
[null,{"$f":"IF(行列入力項目!$C$37=\"\",\"\",行列入力項目!$C$37)","v":"行33"},42,43,44,45,46,47,48,49,50,51,52,53,54,55,56,57,58,59,60,61]
[null,{"$f":"IF(行列入力項目!$C$38=\"\",\"\",行列入力項目!$C$38)","v":"行34"},62,63,64,65,66,67,68,69,70,71,72,73,74,75,76,77,78,79,80,81]
[null,{"$f":"IF(行列入力項目!$C$39=\"\",\"\",行列入力項目!$C$39)","v":"行35"},82,83,84,85,86,87,88,89,90,91,92,93,94,95,96,97,98,99,100,101]
[null,{"$f":"IF(行列入力項目!$C$40=\"\",\"\",行列入力項目!$C$40)","v":"行36"},102,103,104,105,106,107,108,109,110,111,112,113,114,115,116,117,118,119,120,121]
[null,{"$f":"IF(行列入力項目!$C$41=\"\",\"\",行列入力項目!$C$41)","v":"行37"},122,123,124,125,126,127,128,129,130,131,132,133,134,135,136,137,138,139,140,141]
[null,{"$f":"IF(行列入力項目!$C$42=\"\",\"\",行列入力項目!$C$42)","v":"行38"},142,143,144,145,146,147,148,149,150,151,152,153,154,155,156,157,158,159,160,161]
[null,{"$f":"IF(行列入力項目!$C$43=\"\",\"\",行列入力項目!$C$43)","v":"行39"},162,163,164,165,166,167,168,169,170,171,172,173,174,175,176,177,178,179,180,181]
[null,{"$f":"IF(行列入力項目!$C$44=\"\",\"\",行列入力項目!$C$44)","v":"行40"},182,183,184,185,186,187,188,189,190,191,192,193,194,195,196,197,198,199,200,201]
[null,{"$f":"IF(行列入力項目!$C$45=\"\",\"\",行列入力項目!$C$45)","v":"行41"},2,3,4,5,6,7,8,9,10,11,12,13,14,15,16,17,18,19,20,21]
[null,{"$f":"IF(行列入力項目!$C$46=\"\",\"\",行列入力項目!$C$46)","v":"行42"},22,23,24,25,26,27,28,29,30,31,32,33,34,35,36,37,38,39,40,41]
[null,{"$f":"IF(行列入力項目!$C$47=\"\",\"\",行列入力項目!$C$47)","v":"行43"},42,43,44,45,46,47,48,49,50,51,52,53,54,55,56,57,58,59,60,61]
[null,{"$f":"IF(行列入力項目!$C$48=\"\",\"\",行列入力項目!$C$48)","v":"行44"},62,63,64,65,66,67,68,69,70,71,72,73,74,75,76,77,78,79,80,81]
[null,{"$f":"IF(行列入力項目!$C$49=\"\",\"\",行列入力項目!$C$49)","v":"行45"},82,83,84,85,86,87,88,89,90,91,92,93,94,95,96,97,98,99,100,101]
[null,{"$f":"IF(行列入力項目!$C$50=\"\",\"\",行列入力項目!$C$50)","v":"行46"},102,103,104,105,106,107,108,109,110,111,112,113,114,115,116,117,118,119,120,121]
[null,{"$f":"IF(行列入力項目!$C$51=\"\",\"\",行列入力項目!$C$51)","v":"行47"},122,123,124,125,126,127,128,129,130,131,132,133,134,135,136,137,138,139,140,141]
[null,{"$f":"IF(行列入力項目!$C$52=\"\",\"\",行列入力項目!$C$52)","v":"行48"},142,143,144,145,146,147,148,149,150,151,152,153,154,155,156,157,158,159,160,161]
[null,{"$f":"IF(行列入力項目!$C$53=\"\",\"\",行列入力項目!$C$53)","v":"行49"},162,163,164,165,166,167,168,169,170,171,172,173,174,175,176,177,178,179,180,181]
[null,{"$f":"IF(行列入力項目!$C$54=\"\",\"\",行列入力項目!$C$54)","v":"行50"},182,183,184,185,186,187,188,189,190,191,192,193,194,195,196,197,198,199,200,201]

{"sheet":"ﾌｧｲﾙ作成原版A","index":13,"n_rows":61,"n_cols":22,"rows_kept":61,"cut":false,"hidden":true,"merged":[]}
[]
[]
[]
[null,"ﾌｧｲﾙ作成原版A"]
[null,"     入力項目表示とデーター表示の切替     →",null,null,null,1]
[null,"     入力項目表示は1，データ表示は2を入力"]
[]
[]
[null,1,{"$f":"IF(ISERR(VLOOKUP(B9,入力AA1!$B$8:$GU$58,2))=1,\"\",VLOOKUP(B9,入力AA1!$B$8:$GU$58,2))","v":"対象1"}]
[]
[null,null,{"$f":"IF(オフセット番号A!$C$4=\"\",\"\",オフセット番号A!$C$4)","v":"列1"},{"$f":"IF(オフセット番号A!$D$4=\"\",\"\",オフセット番号A!$D$4)","v":"列2"},{"$f":"IF(オフセット番号A!$E$4=\"\",\"\",オフセット番号A!$E$4)","v":"列3"},{"$f":"IF(オフセット番号A!$F$4=\"\",\"\",オフセット番号A!$F$4)","v":"列4"},{"$f":"IF(オフセット番号A!$G$4=\"\",\"\",オフセット番号A!$G$4)","v":"列5"},{"$f":"IF(オフセット番号A!$H$4=\"\",\"\",オフセット番号A!$H$4)","v":"列6"},{"$f":"IF(オフセット番号A!$I$4=\"\",\"\",オフセット番号A!$I$4)","v":"列7"},{"$f":"IF(オフセット番号A!$J$4=\"\",\"\",オフセット番号A!$J$4)","v":"列8"},{"$f":"IF(オフセット番号A!$K$4=\"\",\"\",オフセット番号A!$K$4)","v":"列9"},{"$f":"IF(オフセット番号A!$L$4=\"\",\"\",オフセット番号A!$L$4)","v":"列10"},{"$f":"IF(オフセット番号A!$M$4=\"\",\"\",オフセット番号A!$M$4)","v":"列11"},{"$f":"IF(オフセット番号A!$N$4=\"\",\"\",オフセット番号A!$N$4)","v":"列12"},{"$f":"IF(オフセット番号A!$O$4=\"\",\"\",オフセット番号A!$O$4)","v":"列13"},{"$f":"IF(オフセット番号A!$P$4=\"\",\"\",オフセット番号A!$P$4)","v":"列14"},{"$f":"IF(オフセット番号A!$Q$4=\"\",\"\",オフセット番号A!$Q$4)","v":"列15"},{"$f":"IF(オフセット番号A!$R$4=\"\",\"\",オフセット番号A!$R$4)","v":"列16"},{"$f":"IF(オフセット番号A!$S$4=\"\",\"\",オフセット番号A!$S$4)","v":"列17"},{"$f":"IF(オフセット番号A!$T$4=\"\",\"\",オフセット番号A!$T$4)","v":"列18"},{"$f":"IF(オフセット番号A!$U$4=\"\",\"\",オフセット番号A!$U$4)","v":"列19"},{"$f":"IF(オフセット番号A!$V$4=\"\",\"\",オフセット番号A!$V$4)","v":"列20"}]
[null,{"$f":"IF(行列入力項目!$C$5=\"\",\"\",行列入力項目!$C$5)","v":"行1"},{"$f":"IF($F$5=1,項目表示入力!$C$7,IF($F$5=2,IF(ISERROR(VLOOKUP(B9,入力AA1!$B$8:$GU$58,オフセット番号A!$C$5+1))=TRUE,\"\",VLOOKUP(B9,入力AA1!$B$8:$GU$58,オフセット番号A!$C$5+1)),\"*\"))","v":"内容1,1"},{"$f":"IF($F$5=1,項目表示入力!$D$7,IF($F$5=2,IF(ISERROR(VLOOKUP(B9,入力AA1!$B$8:$GU$58,オフセット番号A!$D$5+1))=TRUE,\"\",VLOOKUP(B9,入力AA1!$B$8:$GU$58,オフセット番号A!$D$5+1)),\"*\"))","v":"内容1,2"},{"$f":"IF($F$5=1,項目表示入力!$E$7,IF($F$5=2,IF(ISERROR(VLOOKUP(B9,入力AA1!$B$8:$GU$58,オフセット番号A!$E$5+1))=TRUE,\"\",VLOOKUP(B9,入力AA1!$B$8:$GU$58,オフセット番号A!$E$5+1)),\"*\"))","v":"内容1,3"},{"$f":"IF($F$5=1,項目表示入力!$F$7,IF($F$5=2,IF(ISERROR(VLOOKUP(B9,入力AA1!$B$8:$GU$58,オフセット番号A!$F$5+1))=TRUE,\"\",VLOOKUP(B9,入力AA1!$B$8:$GU$58,オフセット番号A!$F$5+1)),\"*\"))","v":"内容1,4"},{"$f":"IF($F$5=1,項目表示入力!$G$7,IF($F$5=2,IF(ISERROR(VLOOKUP(B9,入力AA1!$B$8:$GU$58,オフセット番号A!$G$5+1))=TRUE,\"\",VLOOKUP(B9,入力AA1!$B$8:$GU$58,オフセット番号A!$G$5+1)),\"*\"))","v":"内容1,5"},{"$f":"IF($F$5=1,項目表示入力!$H$7,IF($F$5=2,IF(ISERROR(VLOOKUP(B9,入力AA1!$B$8:$GU$58,オフセット番号A!$H$5+1))=TRUE,\"\",VLOOKUP(B9,入力AA1!$B$8:$GU$58,オフセット番号A!$H$5+1)),\"*\"))","v":"内容1,6"},{"$f":"IF($F$5=1,項目表示入力!$I$7,IF($F$5=2,IF(ISERROR(VLOOKUP(B9,入力AA1!$B$8:$GU$58,オフセット番号A!$I$5+1))=TRUE,\"\",VLOOKUP(B9,入力AA1!$B$8:$GU$58,オフセット番号A!$I$5+1)),\"*\"))","v":"内容1,7"},{"$f":"IF($F$5=1,項目表示入力!$J$7,IF($F$5=2,IF(ISERROR(VLOOKUP(B9,入力AA1!$B$8:$GU$58,オフセット番号A!$J$5+1))=TRUE,\"\",VLOOKUP(B9,入力AA1!$B$8:$GU$58,オフセット番号A!$J$5+1)),\"*\"))","v":"内容1,8"},{"$f":"IF($F$5=1,項目表示入力!$K$7,IF($F$5=2,IF(ISERROR(VLOOKUP(B9,入力AA1!$B$8:$GU$58,オフセット番号A!$K$5+1))=TRUE,\"\",VLOOKUP(B9,入力AA1!$B$8:$GU$58,オフセット番号A!$K$5+1)),\"*\"))","v":"内容1,9"},{"$f":"IF($F$5=1,項目表示入力!$L$7,IF($F$5=2,IF(ISERROR(VLOOKUP(B9,入力AA1!$B$8:$GU$58,オフセット番号A!$L$5+1))=TRUE,\"\",VLOOKUP(B9,入力AA1!$B$8:$GU$58,オフセット番号A!$L$5+1)),\"*\"))","v":"内容1,10"},{"$f":"IF($F$5=1,項目表示入力!$M$7,IF($F$5=2,IF(ISERROR(VLOOKUP(B9,入力AA1!$B$8:$GU$58,オフセット番号A!$M$5+1))=TRUE,\"\",VLOOKUP(B9,入力AA1!$B$8:$GU$58,オフセット番号A!$M$5+1)),\"*\"))","v":"内容1,11"},{"$f":"IF($F$5=1,項目表示入力!$N$7,IF($F$5=2,IF(ISERROR(VLOOKUP(B9,入力AA1!$B$8:$GU$58,オフセット番号A!$N$5+1))=TRUE,\"\",VLOOKUP(B9,入力AA1!$B$8:$GU$58,オフセット番号A!$N$5+1)),\"*\"))","v":"内容1,12"},{"$f":"IF($F$5=1,項目表示入力!$O$7,IF($F$5=2,IF(ISERROR(VLOOKUP(B9,入力AA1!$B$8:$GU$58,オフセット番号A!$O$5+1))=TRUE,\"\",VLOOKUP(B9,入力AA1!$B$8:$GU$58,オフセット番号A!$O$5+1)),\"*\"))","v":"内容1,13"},{"$f":"IF($F$5=1,項目表示入力!$P$7,IF($F$5=2,IF(ISERROR(VLOOKUP(B9,入力AA1!$B$8:$GU$58,オフセット番号A!$P$5+1))=TRUE,\"\",VLOOKUP(B9,入力AA1!$B$8:$GU$58,オフセット番号A!$P$5+1)),\"*\"))","v":"内容1,14"},{"$f":"IF($F$5=1,項目表示入力!$Q$7,IF($F$5=2,IF(ISERROR(VLOOKUP(B9,入力AA1!$B$8:$GU$58,オフセット番号A!$Q$5+1))=TRUE,\"\",VLOOKUP(B9,入力AA1!$B$8:$GU$58,オフセット番号A!$Q$5+1)),\"*\"))","v":"内容1,15"},{"$f":"IF($F$5=1,項目表示入力!$R$7,IF($F$5=2,IF(ISERROR(VLOOKUP(B9,入力AA1!$B$8:$GU$58,オフセット番号A!$R$5+1))=TRUE,\"\",VLOOKUP(B9,入力AA1!$B$8:$GU$58,オフセット番号A!$R$5+1)),\"*\"))","v":"内容1,16"},{"$f":"IF($F$5=1,項目表示入力!$S$7,IF($F$5=2,IF(ISERROR(VLOOKUP(B9,入力AA1!$B$8:$GU$58,オフセット番号A!$S$5+1))=TRUE,\"\",VLOOKUP(B9,入力AA1!$B$8:$GU$58,オフセット番号A!$S$5+1)),\"*\"))","v":"内容1,17"},{"$f":"IF($F$5=1,項目表示入力!$T$7,IF($F$5=2,IF(ISERROR(VLOOKUP(B9,入力AA1!$B$8:$GU$58,オフセット番号A!$T$5+1))=TRUE,\"\",VLOOKUP(B9,入力AA1!$B$8:$GU$58,オフセット番号A!$T$5+1)),\"*\"))","v":"内容1,18"},{"$f":"IF($F$5=1,項目表示入力!$U$7,IF($F$5=2,IF(ISERROR(VLOOKUP(B9,入力AA1!$B$8:$GU$58,オフセット番号A!$U$5+1))=TRUE,\"\",VLOOKUP(B9,入力AA1!$B$8:$GU$58,オフセット番号A!$U$5+1)),\"*\"))","v":"内容1,19"},{"$f":"IF($F$5=1,項目表示入力!$V$7,IF($F$5=2,IF(ISERROR(VLOOKUP(B9,入力AA1!$B$8:$GU$58,オフセット番号A!$V$5+1))=TRUE,\"\",VLOOKUP(B9,入力AA1!$B$8:$GU$58,オフセット番号A!$V$5+1)),\"*\"))","v":"内容1,20"}]
[null,{"$f":"IF(行列入力項目!$C$6=\"\",\"\",行列入力項目!$C$6)","v":"行2"},{"$f":"IF($F$5=1,項目表示入力!$C$8,IF($F$5=2,IF(ISERROR(VLOOKUP(B9,入力AA1!$B$8:$GU$58,オフセット番号A!$C$6+1))=TRUE,\"\",VLOOKUP(B9,入力AA1!$B$8:$GU$58,オフセット番号A!$C$6+1)),\"*\"))","v":"内容2,1"},{"$f":"IF($F$5=1,項目表示入力!$D$8,IF($F$5=2,IF(ISERROR(VLOOKUP(B9,入力AA1!$B$8:$GU$58,オフセット番号A!$D$6+1))=TRUE,\"\",VLOOKUP(B9,入力AA1!$B$8:$GU$58,オフセット番号A!$D$6+1)),\"*\"))","v":"内容2,2"},{"$f":"IF($F$5=1,項目表示入力!$E$8,IF($F$5=2,IF(ISERROR(VLOOKUP(B9,入力AA1!$B$8:$GU$58,オフセット番号A!$E$6+1))=TRUE,\"\",VLOOKUP(B9,入力AA1!$B$8:$GU$58,オフセット番号A!$E$6+1)),\"*\"))","v":"内容2,3"},{"$f":"IF($F$5=1,項目表示入力!$F$8,IF($F$5=2,IF(ISERROR(VLOOKUP(B9,入力AA1!$B$8:$GU$58,オフセット番号A!$F$6+1))=TRUE,\"\",VLOOKUP(B9,入力AA1!$B$8:$GU$58,オフセット番号A!$F$6+1)),\"*\"))","v":"内容2,4"},{"$f":"IF($F$5=1,項目表示入力!$G$8,IF($F$5=2,IF(ISERROR(VLOOKUP(B9,入力AA1!$B$8:$GU$58,オフセット番号A!$G$6+1))=TRUE,\"\",VLOOKUP(B9,入力AA1!$B$8:$GU$58,オフセット番号A!$G$6+1)),\"*\"))","v":"内容2,5"},{"$f":"IF($F$5=1,項目表示入力!$H$8,IF($F$5=2,IF(ISERROR(VLOOKUP(B9,入力AA1!$B$8:$GU$58,オフセット番号A!$H$6+1))=TRUE,\"\",VLOOKUP(B9,入力AA1!$B$8:$GU$58,オフセット番号A!$H$6+1)),\"*\"))","v":"内容2,6"},{"$f":"IF($F$5=1,項目表示入力!$I$8,IF($F$5=2,IF(ISERROR(VLOOKUP(B9,入力AA1!$B$8:$GU$58,オフセット番号A!$I$6+1))=TRUE,\"\",VLOOKUP(B9,入力AA1!$B$8:$GU$58,オフセット番号A!$I$6+1)),\"*\"))","v":"内容2,7"},{"$f":"IF($F$5=1,項目表示入力!$J$8,IF($F$5=2,IF(ISERROR(VLOOKUP(B9,入力AA1!$B$8:$GU$58,オフセット番号A!$J$6+1))=TRUE,\"\",VLOOKUP(B9,入力AA1!$B$8:$GU$58,オフセット番号A!$J$6+1)),\"*\"))","v":"内容2,8"},{"$f":"IF($F$5=1,項目表示入力!$K$8,IF($F$5=2,IF(ISERROR(VLOOKUP(B9,入力AA1!$B$8:$GU$58,オフセット番号A!$K$6+1))=TRUE,\"\",VLOOKUP(B9,入力AA1!$B$8:$GU$58,オフセット番号A!$K$6+1)),\"*\"))","v":"内容2,9"},{"$f":"IF($F$5=1,項目表示入力!$L$8,IF($F$5=2,IF(ISERROR(VLOOKUP(B9,入力AA1!$B$8:$GU$58,オフセット番号A!$L$6+1))=TRUE,\"\",VLOOKUP(B9,入力AA1!$B$8:$GU$58,オフセット番号A!$L$6+1)),\"*\"))","v":"内容2,10"},{"$f":"IF($F$5=1,項目表示入力!$M$8,IF($F$5=2,IF(ISERROR(VLOOKUP(B9,入力AA1!$B$8:$GU$58,オフセット番号A!$M$6+1))=TRUE,\"\",VLOOKUP(B9,入力AA1!$B$8:$GU$58,オフセット番号A!$M$6+1)),\"*\"))","v":"内容2,11"},{"$f":"IF($F$5=1,項目表示入力!$N$8,IF($F$5=2,IF(ISERROR(VLOOKUP(B9,入力AA1!$B$8:$GU$58,オフセット番号A!$N$6+1))=TRUE,\"\",VLOOKUP(B9,入力AA1!$B$8:$GU$58,オフセット番号A!$N$6+1)),\"*\"))","v":"内容2,12"},{"$f":"IF($F$5=1,項目表示入力!$O$8,IF($F$5=2,IF(ISERROR(VLOOKUP(B9,入力AA1!$B$8:$GU$58,オフセット番号A!$O$6+1))=TRUE,\"\",VLOOKUP(B9,入力AA1!$B$8:$GU$58,オフセット番号A!$O$6+1)),\"*\"))","v":"内容2,13"},{"$f":"IF($F$5=1,項目表示入力!$P$8,IF($F$5=2,IF(ISERROR(VLOOKUP(B9,入力AA1!$B$8:$GU$58,オフセット番号A!$P$6+1))=TRUE,\"\",VLOOKUP(B9,入力AA1!$B$8:$GU$58,オフセット番号A!$P$6+1)),\"*\"))","v":"内容2,14"},{"$f":"IF($F$5=1,項目表示入力!$Q$8,IF($F$5=2,IF(ISERROR(VLOOKUP(B9,入力AA1!$B$8:$GU$58,オフセット番号A!$Q$6+1))=TRUE,\"\",VLOOKUP(B9,入力AA1!$B$8:$GU$58,オフセット番号A!$Q$6+1)),\"*\"))","v":"内容2,15"},{"$f":"IF($F$5=1,項目表示入力!$R$8,IF($F$5=2,IF(ISERROR(VLOOKUP(B9,入力AA1!$B$8:$GU$58,オフセット番号A!$R$6+1))=TRUE,\"\",VLOOKUP(B9,入力AA1!$B$8:$GU$58,オフセット番号A!$R$6+1)),\"*\"))","v":"内容2,16"},{"$f":"IF($F$5=1,項目表示入力!$S$8,IF($F$5=2,IF(ISERROR(VLOOKUP(B9,入力AA1!$B$8:$GU$58,オフセット番号A!$S$6+1))=TRUE,\"\",VLOOKUP(B9,入力AA1!$B$8:$GU$58,オフセット番号A!$S$6+1)),\"*\"))","v":"内容2,17"},{"$f":"IF($F$5=1,項目表示入力!$T$8,IF($F$5=2,IF(ISERROR(VLOOKUP(B9,入力AA1!$B$8:$GU$58,オフセット番号A!$T$6+1))=TRUE,\"\",VLOOKUP(B9,入力AA1!$B$8:$GU$58,オフセット番号A!$T$6+1)),\"*\"))","v":"内容2,18"},{"$f":"IF($F$5=1,項目表示入力!$U$8,IF($F$5=2,IF(ISERROR(VLOOKUP(B9,入力AA1!$B$8:$GU$58,オフセット番号A!$U$6+1))=TRUE,\"\",VLOOKUP(B9,入力AA1!$B$8:$GU$58,オフセット番号A!$U$6+1)),\"*\"))","v":"内容2,19"},{"$f":"IF($F$5=1,項目表示入力!$V$8,IF($F$5=2,IF(ISERROR(VLOOKUP(B9,入力AA1!$B$8:$GU$58,オフセット番号A!$V$6+1))=TRUE,\"\",VLOOKUP(B9,入力AA1!$B$8:$GU$58,オフセット番号A!$V$6+1)),\"*\"))","v":"内容2,20"}]
[null,{"$f":"IF(行列入力項目!$C$7=\"\",\"\",行列入力項目!$C$7)","v":"行3"},{"$f":"IF($F$5=1,項目表示入力!$C$9,IF($F$5=2,IF(ISERROR(VLOOKUP(B9,入力AA1!$B$8:$GU$58,オフセット番号A!$C$7+1))=TRUE,\"\",VLOOKUP(B9,入力AA1!$B$8:$GU$58,オフセット番号A!$C$7+1)),\"*\"))","v":"内容3,1"},{"$f":"IF($F$5=1,項目表示入力!$D$9,IF($F$5=2,IF(ISERROR(VLOOKUP(B9,入力AA1!$B$8:$GU$58,オフセット番号A!$D$7+1))=TRUE,\"\",VLOOKUP(B9,入力AA1!$B$8:$GU$58,オフセット番号A!$D$7+1)),\"*\"))","v":"内容3,2"},{"$f":"IF($F$5=1,項目表示入力!$E$9,IF($F$5=2,IF(ISERROR(VLOOKUP(B9,入力AA1!$B$8:$GU$58,オフセット番号A!$E$7+1))=TRUE,\"\",VLOOKUP(B9,入力AA1!$B$8:$GU$58,オフセット番号A!$E$7+1)),\"*\"))","v":"内容3,3"},{"$f":"IF($F$5=1,項目表示入力!$F$9,IF($F$5=2,IF(ISERROR(VLOOKUP(B9,入力AA1!$B$8:$GU$58,オフセット番号A!$F$7+1))=TRUE,\"\",VLOOKUP(B9,入力AA1!$B$8:$GU$58,オフセット番号A!$F$7+1)),\"*\"))","v":"内容3,4"},{"$f":"IF($F$5=1,項目表示入力!$G$9,IF($F$5=2,IF(ISERROR(VLOOKUP(B9,入力AA1!$B$8:$GU$58,オフセット番号A!$G$7+1))=TRUE,\"\",VLOOKUP(B9,入力AA1!$B$8:$GU$58,オフセット番号A!$G$7+1)),\"*\"))","v":"内容3,5"},{"$f":"IF($F$5=1,項目表示入力!$H$9,IF($F$5=2,IF(ISERROR(VLOOKUP(B9,入力AA1!$B$8:$GU$58,オフセット番号A!$H$7+1))=TRUE,\"\",VLOOKUP(B9,入力AA1!$B$8:$GU$58,オフセット番号A!$H$7+1)),\"*\"))","v":"内容3,6"},{"$f":"IF($F$5=1,項目表示入力!$I$9,IF($F$5=2,IF(ISERROR(VLOOKUP(B9,入力AA1!$B$8:$GU$58,オフセット番号A!$I$7+1))=TRUE,\"\",VLOOKUP(B9,入力AA1!$B$8:$GU$58,オフセット番号A!$I$7+1)),\"*\"))","v":"内容3,7"},{"$f":"IF($F$5=1,項目表示入力!$J$9,IF($F$5=2,IF(ISERROR(VLOOKUP(B9,入力AA1!$B$8:$GU$58,オフセット番号A!$J$7+1))=TRUE,\"\",VLOOKUP(B9,入力AA1!$B$8:$GU$58,オフセット番号A!$J$7+1)),\"*\"))","v":"内容3,8"},{"$f":"IF($F$5=1,項目表示入力!$K$9,IF($F$5=2,IF(ISERROR(VLOOKUP(B9,入力AA1!$B$8:$GU$58,オフセット番号A!$K$7+1))=TRUE,\"\",VLOOKUP(B9,入力AA1!$B$8:$GU$58,オフセット番号A!$K$7+1)),\"*\"))","v":"内容3,9"},{"$f":"IF($F$5=1,項目表示入力!$L$9,IF($F$5=2,IF(ISERROR(VLOOKUP(B9,入力AA1!$B$8:$GU$58,オフセット番号A!$L$7+1))=TRUE,\"\",VLOOKUP(B9,入力AA1!$B$8:$GU$58,オフセット番号A!$L$7+1)),\"*\"))","v":"内容3,10"},{"$f":"IF($F$5=1,項目表示入力!$M$9,IF($F$5=2,IF(ISERROR(VLOOKUP(B9,入力AA1!$B$8:$GU$58,オフセット番号A!$M$7+1))=TRUE,\"\",VLOOKUP(B9,入力AA1!$B$8:$GU$58,オフセット番号A!$M$7+1)),\"*\"))","v":"内容3,11"},{"$f":"IF($F$5=1,項目表示入力!$N$9,IF($F$5=2,IF(ISERROR(VLOOKUP(B9,入力AA1!$B$8:$GU$58,オフセット番号A!$N$7+1))=TRUE,\"\",VLOOKUP(B9,入力AA1!$B$8:$GU$58,オフセット番号A!$N$7+1)),\"*\"))","v":"内容3,12"},{"$f":"IF($F$5=1,項目表示入力!$O$9,IF($F$5=2,IF(ISERROR(VLOOKUP(B9,入力AA1!$B$8:$GU$58,オフセット番号A!$O$7+1))=TRUE,\"\",VLOOKUP(B9,入力AA1!$B$8:$GU$58,オフセット番号A!$O$7+1)),\"*\"))","v":"内容3,13"},{"$f":"IF($F$5=1,項目表示入力!$P$9,IF($F$5=2,IF(ISERROR(VLOOKUP(B9,入力AA1!$B$8:$GU$58,オフセット番号A!$P$7+1))=TRUE,\"\",VLOOKUP(B9,入力AA1!$B$8:$GU$58,オフセット番号A!$P$7+1)),\"*\"))","v":"内容3,14"},{"$f":"IF($F$5=1,項目表示入力!$Q$9,IF($F$5=2,IF(ISERROR(VLOOKUP(B9,入力AA1!$B$8:$GU$58,オフセット番号A!$Q$7+1))=TRUE,\"\",VLOOKUP(B9,入力AA1!$B$8:$GU$58,オフセット番号A!$Q$7+1)),\"*\"))","v":"内容3,15"},{"$f":"IF($F$5=1,項目表示入力!$R$9,IF($F$5=2,IF(ISERROR(VLOOKUP(B9,入力AA1!$B$8:$GU$58,オフセット番号A!$R$7+1))=TRUE,\"\",VLOOKUP(B9,入力AA1!$B$8:$GU$58,オフセット番号A!$R$7+1)),\"*\"))","v":"内容3,16"},{"$f":"IF($F$5=1,項目表示入力!$S$9,IF($F$5=2,IF(ISERROR(VLOOKUP(B9,入力AA1!$B$8:$GU$58,オフセット番号A!$S$7+1))=TRUE,\"\",VLOOKUP(B9,入力AA1!$B$8:$GU$58,オフセット番号A!$S$7+1)),\"*\"))","v":"内容3,17"},{"$f":"IF($F$5=1,項目表示入力!$T$9,IF($F$5=2,IF(ISERROR(VLOOKUP(B9,入力AA1!$B$8:$GU$58,オフセット番号A!$T$7+1))=TRUE,\"\",VLOOKUP(B9,入力AA1!$B$8:$GU$58,オフセット番号A!$T$7+1)),\"*\"))","v":"内容3,18"},{"$f":"IF($F$5=1,項目表示入力!$U$9,IF($F$5=2,IF(ISERROR(VLOOKUP(B9,入力AA1!$B$8:$GU$58,オフセット番号A!$U$7+1))=TRUE,\"\",VLOOKUP(B9,入力AA1!$B$8:$GU$58,オフセット番号A!$U$7+1)),\"*\"))","v":"内容3,19"},{"$f":"IF($F$5=1,項目表示入力!$V$9,IF($F$5=2,IF(ISERROR(VLOOKUP(B9,入力AA1!$B$8:$GU$58,オフセット番号A!$V$7+1))=TRUE,\"\",VLOOKUP(B9,入力AA1!$B$8:$GU$58,オフセット番号A!$V$7+1)),\"*\"))","v":"内容3,20"}]
[null,{"$f":"IF(行列入力項目!$C$8=\"\",\"\",行列入力項目!$C$8)","v":"行4"},{"$f":"IF($F$5=1,項目表示入力!$C$10,IF($F$5=2,IF(ISERROR(VLOOKUP(B9,入力AA1!$B$8:$GU$58,オフセット番号A!$C$8+1))=TRUE,\"\",VLOOKUP(B9,入力AA1!$B$8:$GU$58,オフセット番号A!$C$8+1)),\"*\"))","v":"内容4,1"},{"$f":"IF($F$5=1,項目表示入力!$D$10,IF($F$5=2,IF(ISERROR(VLOOKUP(B9,入力AA1!$B$8:$GU$58,オフセット番号A!$D$8+1))=TRUE,\"\",VLOOKUP(B9,入力AA1!$B$8:$GU$58,オフセット番号A!$D$8+1)),\"*\"))","v":"内容4,2"},{"$f":"IF($F$5=1,項目表示入力!$E$10,IF($F$5=2,IF(ISERROR(VLOOKUP(B9,入力AA1!$B$8:$GU$58,オフセット番号A!$E$8+1))=TRUE,\"\",VLOOKUP(B9,入力AA1!$B$8:$GU$58,オフセット番号A!$E$8+1)),\"*\"))","v":"内容4,3"},{"$f":"IF($F$5=1,項目表示入力!$F$10,IF($F$5=2,IF(ISERROR(VLOOKUP(B9,入力AA1!$B$8:$GU$58,オフセット番号A!$F$8+1))=TRUE,\"\",VLOOKUP(B9,入力AA1!$B$8:$GU$58,オフセット番号A!$F$8+1)),\"*\"))","v":"内容4,4"},{"$f":"IF($F$5=1,項目表示入力!$G$10,IF($F$5=2,IF(ISERROR(VLOOKUP(B9,入力AA1!$B$8:$GU$58,オフセット番号A!$G$8+1))=TRUE,\"\",VLOOKUP(B9,入力AA1!$B$8:$GU$58,オフセット番号A!$G$8+1)),\"*\"))","v":"内容4,5"},{"$f":"IF($F$5=1,項目表示入力!$H$10,IF($F$5=2,IF(ISERROR(VLOOKUP(B9,入力AA1!$B$8:$GU$58,オフセット番号A!$H$8+1))=TRUE,\"\",VLOOKUP(B9,入力AA1!$B$8:$GU$58,オフセット番号A!$H$8+1)),\"*\"))","v":"内容4,6"},{"$f":"IF($F$5=1,項目表示入力!$I$10,IF($F$5=2,IF(ISERROR(VLOOKUP(B9,入力AA1!$B$8:$GU$58,オフセット番号A!$I$8+1))=TRUE,\"\",VLOOKUP(B9,入力AA1!$B$8:$GU$58,オフセット番号A!$I$8+1)),\"*\"))","v":"内容4,7"},{"$f":"IF($F$5=1,項目表示入力!$J$10,IF($F$5=2,IF(ISERROR(VLOOKUP(B9,入力AA1!$B$8:$GU$58,オフセット番号A!$J$8+1))=TRUE,\"\",VLOOKUP(B9,入力AA1!$B$8:$GU$58,オフセット番号A!$J$8+1)),\"*\"))","v":"内容4,8"},{"$f":"IF($F$5=1,項目表示入力!$K$10,IF($F$5=2,IF(ISERROR(VLOOKUP(B9,入力AA1!$B$8:$GU$58,オフセット番号A!$K$8+1))=TRUE,\"\",VLOOKUP(B9,入力AA1!$B$8:$GU$58,オフセット番号A!$K$8+1)),\"*\"))","v":"内容4,9"},{"$f":"IF($F$5=1,項目表示入力!$L$10,IF($F$5=2,IF(ISERROR(VLOOKUP(B9,入力AA1!$B$8:$GU$58,オフセット番号A!$L$8+1))=TRUE,\"\",VLOOKUP(B9,入力AA1!$B$8:$GU$58,オフセット番号A!$L$8+1)),\"*\"))","v":"内容4,10"},{"$f":"IF($F$5=1,項目表示入力!$M$10,IF($F$5=2,IF(ISERROR(VLOOKUP(B9,入力AA1!$B$8:$GU$58,オフセット番号A!$M$8+1))=TRUE,\"\",VLOOKUP(B9,入力AA1!$B$8:$GU$58,オフセット番号A!$M$8+1)),\"*\"))","v":"内容4,11"},{"$f":"IF($F$5=1,項目表示入力!$N$10,IF($F$5=2,IF(ISERROR(VLOOKUP(B9,入力AA1!$B$8:$GU$58,オフセット番号A!$N$8+1))=TRUE,\"\",VLOOKUP(B9,入力AA1!$B$8:$GU$58,オフセット番号A!$N$8+1)),\"*\"))","v":"内容4,12"},{"$f":"IF($F$5=1,項目表示入力!$O$10,IF($F$5=2,IF(ISERROR(VLOOKUP(B9,入力AA1!$B$8:$GU$58,オフセット番号A!$O$8+1))=TRUE,\"\",VLOOKUP(B9,入力AA1!$B$8:$GU$58,オフセット番号A!$O$8+1)),\"*\"))","v":"内容4,13"},{"$f":"IF($F$5=1,項目表示入力!$P$10,IF($F$5=2,IF(ISERROR(VLOOKUP(B9,入力AA1!$B$8:$GU$58,オフセット番号A!$P$8+1))=TRUE,\"\",VLOOKUP(B9,入力AA1!$B$8:$GU$58,オフセット番号A!$P$8+1)),\"*\"))","v":"内容4,14"},{"$f":"IF($F$5=1,項目表示入力!$Q$10,IF($F$5=2,IF(ISERROR(VLOOKUP(B9,入力AA1!$B$8:$GU$58,オフセット番号A!$Q$8+1))=TRUE,\"\",VLOOKUP(B9,入力AA1!$B$8:$GU$58,オフセット番号A!$Q$8+1)),\"*\"))","v":"内容4,15"},{"$f":"IF($F$5=1,項目表示入力!$R$10,IF($F$5=2,IF(ISERROR(VLOOKUP(B9,入力AA1!$B$8:$GU$58,オフセット番号A!$R$8+1))=TRUE,\"\",VLOOKUP(B9,入力AA1!$B$8:$GU$58,オフセット番号A!$R$8+1)),\"*\"))","v":"内容4,16"},{"$f":"IF($F$5=1,項目表示入力!$S$10,IF($F$5=2,IF(ISERROR(VLOOKUP(B9,入力AA1!$B$8:$GU$58,オフセット番号A!$S$8+1))=TRUE,\"\",VLOOKUP(B9,入力AA1!$B$8:$GU$58,オフセット番号A!$S$8+1)),\"*\"))","v":"内容4,17"},{"$f":"IF($F$5=1,項目表示入力!$T$10,IF($F$5=2,IF(ISERROR(VLOOKUP(B9,入力AA1!$B$8:$GU$58,オフセット番号A!$T$8+1))=TRUE,\"\",VLOOKUP(B9,入力AA1!$B$8:$GU$58,オフセット番号A!$T$8+1)),\"*\"))","v":"内容4,18"},{"$f":"IF($F$5=1,項目表示入力!$U$10,IF($F$5=2,IF(ISERROR(VLOOKUP(B9,入力AA1!$B$8:$GU$58,オフセット番号A!$U$8+1))=TRUE,\"\",VLOOKUP(B9,入力AA1!$B$8:$GU$58,オフセット番号A!$U$8+1)),\"*\"))","v":"内容4,19"},{"$f":"IF($F$5=1,項目表示入力!$V$10,IF($F$5=2,IF(ISERROR(VLOOKUP(B9,入力AA1!$B$8:$GU$58,オフセット番号A!$V$8+1))=TRUE,\"\",VLOOKUP(B9,入力AA1!$B$8:$GU$58,オフセット番号A!$V$8+1)),\"*\"))","v":"内容4,20"}]
[null,{"$f":"IF(行列入力項目!$C$9=\"\",\"\",行列入力項目!$C$9)","v":"行5"},{"$f":"IF($F$5=1,項目表示入力!$C$11,IF($F$5=2,IF(ISERROR(VLOOKUP(B9,入力AA1!$B$8:$GU$58,オフセット番号A!$C$9+1))=TRUE,\"\",VLOOKUP(B9,入力AA1!$B$8:$GU$58,オフセット番号A!$C$9+1)),\"*\"))","v":"内容5,1"},{"$f":"IF($F$5=1,項目表示入力!$D$11,IF($F$5=2,IF(ISERROR(VLOOKUP(B9,入力AA1!$B$8:$GU$58,オフセット番号A!$D$9+1))=TRUE,\"\",VLOOKUP(B9,入力AA1!$B$8:$GU$58,オフセット番号A!$D$9+1)),\"*\"))","v":"内容5,2"},{"$f":"IF($F$5=1,項目表示入力!$E$11,IF($F$5=2,IF(ISERROR(VLOOKUP(B9,入力AA1!$B$8:$GU$58,オフセット番号A!$E$9+1))=TRUE,\"\",VLOOKUP(B9,入力AA1!$B$8:$GU$58,オフセット番号A!$E$9+1)),\"*\"))","v":"内容5,3"},{"$f":"IF($F$5=1,項目表示入力!$F$11,IF($F$5=2,IF(ISERROR(VLOOKUP(B9,入力AA1!$B$8:$GU$58,オフセット番号A!$F$9+1))=TRUE,\"\",VLOOKUP(B9,入力AA1!$B$8:$GU$58,オフセット番号A!$F$9+1)),\"*\"))","v":"内容5,4"},{"$f":"IF($F$5=1,項目表示入力!$G$11,IF($F$5=2,IF(ISERROR(VLOOKUP(B9,入力AA1!$B$8:$GU$58,オフセット番号A!$G$9+1))=TRUE,\"\",VLOOKUP(B9,入力AA1!$B$8:$GU$58,オフセット番号A!$G$9+1)),\"*\"))","v":"内容5,5"},{"$f":"IF($F$5=1,項目表示入力!$H$11,IF($F$5=2,IF(ISERROR(VLOOKUP(B9,入力AA1!$B$8:$GU$58,オフセット番号A!$H$9+1))=TRUE,\"\",VLOOKUP(B9,入力AA1!$B$8:$GU$58,オフセット番号A!$H$9+1)),\"*\"))","v":"内容5,6"},{"$f":"IF($F$5=1,項目表示入力!$I$11,IF($F$5=2,IF(ISERROR(VLOOKUP(B9,入力AA1!$B$8:$GU$58,オフセット番号A!$I$9+1))=TRUE,\"\",VLOOKUP(B9,入力AA1!$B$8:$GU$58,オフセット番号A!$I$9+1)),\"*\"))","v":"内容5,7"},{"$f":"IF($F$5=1,項目表示入力!$J$11,IF($F$5=2,IF(ISERROR(VLOOKUP(B9,入力AA1!$B$8:$GU$58,オフセット番号A!$J$9+1))=TRUE,\"\",VLOOKUP(B9,入力AA1!$B$8:$GU$58,オフセット番号A!$J$9+1)),\"*\"))","v":"内容5,8"},{"$f":"IF($F$5=1,項目表示入力!$K$11,IF($F$5=2,IF(ISERROR(VLOOKUP(B9,入力AA1!$B$8:$GU$58,オフセット番号A!$K$9+1))=TRUE,\"\",VLOOKUP(B9,入力AA1!$B$8:$GU$58,オフセット番号A!$K$9+1)),\"*\"))","v":"内容5,9"},{"$f":"IF($F$5=1,項目表示入力!$L$11,IF($F$5=2,IF(ISERROR(VLOOKUP(B9,入力AA1!$B$8:$GU$58,オフセット番号A!$L$9+1))=TRUE,\"\",VLOOKUP(B9,入力AA1!$B$8:$GU$58,オフセット番号A!$L$9+1)),\"*\"))","v":"内容5,10"},{"$f":"IF($F$5=1,項目表示入力!$M$11,IF($F$5=2,IF(ISERROR(VLOOKUP(B9,入力AA1!$B$8:$GU$58,オフセット番号A!$M$9+1))=TRUE,\"\",VLOOKUP(B9,入力AA1!$B$8:$GU$58,オフセット番号A!$M$9+1)),\"*\"))","v":"内容5,11"},{"$f":"IF($F$5=1,項目表示入力!$N$11,IF($F$5=2,IF(ISERROR(VLOOKUP(B9,入力AA1!$B$8:$GU$58,オフセット番号A!$N$9+1))=TRUE,\"\",VLOOKUP(B9,入力AA1!$B$8:$GU$58,オフセット番号A!$N$9+1)),\"*\"))","v":"内容5,12"},{"$f":"IF($F$5=1,項目表示入力!$O$11,IF($F$5=2,IF(ISERROR(VLOOKUP(B9,入力AA1!$B$8:$GU$58,オフセット番号A!$O$9+1))=TRUE,\"\",VLOOKUP(B9,入力AA1!$B$8:$GU$58,オフセット番号A!$O$9+1)),\"*\"))","v":"内容5,13"},{"$f":"IF($F$5=1,項目表示入力!$P$11,IF($F$5=2,IF(ISERROR(VLOOKUP(B9,入力AA1!$B$8:$GU$58,オフセット番号A!$P$9+1))=TRUE,\"\",VLOOKUP(B9,入力AA1!$B$8:$GU$58,オフセット番号A!$P$9+1)),\"*\"))","v":"内容5,14"},{"$f":"IF($F$5=1,項目表示入力!$Q$11,IF($F$5=2,IF(ISERROR(VLOOKUP(B9,入力AA1!$B$8:$GU$58,オフセット番号A!$Q$9+1))=TRUE,\"\",VLOOKUP(B9,入力AA1!$B$8:$GU$58,オフセット番号A!$Q$9+1)),\"*\"))","v":"内容5,15"},{"$f":"IF($F$5=1,項目表示入力!$R$11,IF($F$5=2,IF(ISERROR(VLOOKUP(B9,入力AA1!$B$8:$GU$58,オフセット番号A!$R$9+1))=TRUE,\"\",VLOOKUP(B9,入力AA1!$B$8:$GU$58,オフセット番号A!$R$9+1)),\"*\"))","v":"内容5,16"},{"$f":"IF($F$5=1,項目表示入力!$S$11,IF($F$5=2,IF(ISERROR(VLOOKUP(B9,入力AA1!$B$8:$GU$58,オフセット番号A!$S$9+1))=TRUE,\"\",VLOOKUP(B9,入力AA1!$B$8:$GU$58,オフセット番号A!$S$9+1)),\"*\"))","v":"内容5,17"},{"$f":"IF($F$5=1,項目表示入力!$T$11,IF($F$5=2,IF(ISERROR(VLOOKUP(B9,入力AA1!$B$8:$GU$58,オフセット番号A!$T$9+1))=TRUE,\"\",VLOOKUP(B9,入力AA1!$B$8:$GU$58,オフセット番号A!$T$9+1)),\"*\"))","v":"内容5,18"},{"$f":"IF($F$5=1,項目表示入力!$U$11,IF($F$5=2,IF(ISERROR(VLOOKUP(B9,入力AA1!$B$8:$GU$58,オフセット番号A!$U$9+1))=TRUE,\"\",VLOOKUP(B9,入力AA1!$B$8:$GU$58,オフセット番号A!$U$9+1)),\"*\"))","v":"内容5,19"},{"$f":"IF($F$5=1,項目表示入力!$V$11,IF($F$5=2,IF(ISERROR(VLOOKUP(B9,入力AA1!$B$8:$GU$58,オフセット番号A!$V$9+1))=TRUE,\"\",VLOOKUP(B9,入力AA1!$B$8:$GU$58,オフセット番号A!$V$9+1)),\"*\"))","v":"内容5,20"}]
[null,{"$f":"IF(行列入力項目!$C$10=\"\",\"\",行列入力項目!$C$10)","v":"行6"},{"$f":"IF($F$5=1,項目表示入力!$C$12,IF($F$5=2,IF(ISERROR(VLOOKUP(B9,入力AA1!$B$8:$GU$58,オフセット番号A!$C$10+1))=TRUE,\"\",VLOOKUP(B9,入力AA1!$B$8:$GU$58,オフセット番号A!$C$10+1)),\"*\"))","v":"内容6,1"},{"$f":"IF($F$5=1,項目表示入力!$D$12,IF($F$5=2,IF(ISERROR(VLOOKUP(B9,入力AA1!$B$8:$GU$58,オフセット番号A!$D$10+1))=TRUE,\"\",VLOOKUP(B9,入力AA1!$B$8:$GU$58,オフセット番号A!$D$10+1)),\"*\"))","v":"内容6,2"},{"$f":"IF($F$5=1,項目表示入力!$E$12,IF($F$5=2,IF(ISERROR(VLOOKUP(B9,入力AA1!$B$8:$GU$58,オフセット番号A!$E$10+1))=TRUE,\"\",VLOOKUP(B9,入力AA1!$B$8:$GU$58,オフセット番号A!$E$10+1)),\"*\"))","v":"内容6,3"},{"$f":"IF($F$5=1,項目表示入力!$F$12,IF($F$5=2,IF(ISERROR(VLOOKUP(B9,入力AA1!$B$8:$GU$58,オフセット番号A!$F$10+1))=TRUE,\"\",VLOOKUP(B9,入力AA1!$B$8:$GU$58,オフセット番号A!$F$10+1)),\"*\"))","v":"内容6,4"},{"$f":"IF($F$5=1,項目表示入力!$G$12,IF($F$5=2,IF(ISERROR(VLOOKUP(B9,入力AA1!$B$8:$GU$58,オフセット番号A!$G$10+1))=TRUE,\"\",VLOOKUP(B9,入力AA1!$B$8:$GU$58,オフセット番号A!$G$10+1)),\"*\"))","v":"内容6,5"},{"$f":"IF($F$5=1,項目表示入力!$H$12,IF($F$5=2,IF(ISERROR(VLOOKUP(B9,入力AA1!$B$8:$GU$58,オフセット番号A!$H$10+1))=TRUE,\"\",VLOOKUP(B9,入力AA1!$B$8:$GU$58,オフセット番号A!$H$10+1)),\"*\"))","v":"内容6,6"},{"$f":"IF($F$5=1,項目表示入力!$I$12,IF($F$5=2,IF(ISERROR(VLOOKUP(B9,入力AA1!$B$8:$GU$58,オフセット番号A!$I$10+1))=TRUE,\"\",VLOOKUP(B9,入力AA1!$B$8:$GU$58,オフセット番号A!$I$10+1)),\"*\"))","v":"内容6,7"},{"$f":"IF($F$5=1,項目表示入力!$J$12,IF($F$5=2,IF(ISERROR(VLOOKUP(B9,入力AA1!$B$8:$GU$58,オフセット番号A!$J$10+1))=TRUE,\"\",VLOOKUP(B9,入力AA1!$B$8:$GU$58,オフセット番号A!$J$10+1)),\"*\"))","v":"内容6,8"},{"$f":"IF($F$5=1,項目表示入力!$K$12,IF($F$5=2,IF(ISERROR(VLOOKUP(B9,入力AA1!$B$8:$GU$58,オフセット番号A!$K$10+1))=TRUE,\"\",VLOOKUP(B9,入力AA1!$B$8:$GU$58,オフセット番号A!$K$10+1)),\"*\"))","v":"内容6,9"},{"$f":"IF($F$5=1,項目表示入力!$L$12,IF($F$5=2,IF(ISERROR(VLOOKUP(B9,入力AA1!$B$8:$GU$58,オフセット番号A!$L$10+1))=TRUE,\"\",VLOOKUP(B9,入力AA1!$B$8:$GU$58,オフセット番号A!$L$10+1)),\"*\"))","v":"内容6,10"},{"$f":"IF($F$5=1,項目表示入力!$M$12,IF($F$5=2,IF(ISERROR(VLOOKUP(B9,入力AA1!$B$8:$GU$58,オフセット番号A!$M$10+1))=TRUE,\"\",VLOOKUP(B9,入力AA1!$B$8:$GU$58,オフセット番号A!$M$10+1)),\"*\"))","v":"内容6,11"},{"$f":"IF($F$5=1,項目表示入力!$N$12,IF($F$5=2,IF(ISERROR(VLOOKUP(B9,入力AA1!$B$8:$GU$58,オフセット番号A!$N$10+1))=TRUE,\"\",VLOOKUP(B9,入力AA1!$B$8:$GU$58,オフセット番号A!$N$10+1)),\"*\"))","v":"内容6,12"},{"$f":"IF($F$5=1,項目表示入力!$O$12,IF($F$5=2,IF(ISERROR(VLOOKUP(B9,入力AA1!$B$8:$GU$58,オフセット番号A!$O$10+1))=TRUE,\"\",VLOOKUP(B9,入力AA1!$B$8:$GU$58,オフセット番号A!$O$10+1)),\"*\"))","v":"内容6,13"},{"$f":"IF($F$5=1,項目表示入力!$P$12,IF($F$5=2,IF(ISERROR(VLOOKUP(B9,入力AA1!$B$8:$GU$58,オフセット番号A!$P$10+1))=TRUE,\"\",VLOOKUP(B9,入力AA1!$B$8:$GU$58,オフセット番号A!$P$10+1)),\"*\"))","v":"内容6,14"},{"$f":"IF($F$5=1,項目表示入力!$Q$12,IF($F$5=2,IF(ISERROR(VLOOKUP(B9,入力AA1!$B$8:$GU$58,オフセット番号A!$Q$10+1))=TRUE,\"\",VLOOKUP(B9,入力AA1!$B$8:$GU$58,オフセット番号A!$Q$10+1)),\"*\"))","v":"内容6,15"},{"$f":"IF($F$5=1,項目表示入力!$R$12,IF($F$5=2,IF(ISERROR(VLOOKUP(B9,入力AA1!$B$8:$GU$58,オフセット番号A!$R$10+1))=TRUE,\"\",VLOOKUP(B9,入力AA1!$B$8:$GU$58,オフセット番号A!$R$10+1)),\"*\"))","v":"内容6,16"},{"$f":"IF($F$5=1,項目表示入力!$S$12,IF($F$5=2,IF(ISERROR(VLOOKUP(B9,入力AA1!$B$8:$GU$58,オフセット番号A!$S$10+1))=TRUE,\"\",VLOOKUP(B9,入力AA1!$B$8:$GU$58,オフセット番号A!$S$10+1)),\"*\"))","v":"内容6,17"},{"$f":"IF($F$5=1,項目表示入力!$T$12,IF($F$5=2,IF(ISERROR(VLOOKUP(B9,入力AA1!$B$8:$GU$58,オフセット番号A!$T$10+1))=TRUE,\"\",VLOOKUP(B9,入力AA1!$B$8:$GU$58,オフセット番号A!$T$10+1)),\"*\"))","v":"内容6,18"},{"$f":"IF($F$5=1,項目表示入力!$U$12,IF($F$5=2,IF(ISERROR(VLOOKUP(B9,入力AA1!$B$8:$GU$58,オフセット番号A!$U$10+1))=TRUE,\"\",VLOOKUP(B9,入力AA1!$B$8:$GU$58,オフセット番号A!$U$10+1)),\"*\"))","v":"内容6,19"},{"$f":"IF($F$5=1,項目表示入力!$V$12,IF($F$5=2,IF(ISERROR(VLOOKUP(B9,入力AA1!$B$8:$GU$58,オフセット番号A!$V$10+1))=TRUE,\"\",VLOOKUP(B9,入力AA1!$B$8:$GU$58,オフセット番号A!$V$10+1)),\"*\"))","v":"内容6,20"}]
[null,{"$f":"IF(行列入力項目!$C$11=\"\",\"\",行列入力項目!$C$11)","v":"行7"},{"$f":"IF($F$5=1,項目表示入力!$C$13,IF($F$5=2,IF(ISERROR(VLOOKUP(B9,入力AA1!$B$8:$GU$58,オフセット番号A!$C$11+1))=TRUE,\"\",VLOOKUP(B9,入力AA1!$B$8:$GU$58,オフセット番号A!$C$11+1)),\"*\"))","v":"内容7,1"},{"$f":"IF($F$5=1,項目表示入力!$D$13,IF($F$5=2,IF(ISERROR(VLOOKUP(B9,入力AA1!$B$8:$GU$58,オフセット番号A!$D$11+1))=TRUE,\"\",VLOOKUP(B9,入力AA1!$B$8:$GU$58,オフセット番号A!$D$11+1)),\"*\"))","v":"内容7,2"},{"$f":"IF($F$5=1,項目表示入力!$E$13,IF($F$5=2,IF(ISERROR(VLOOKUP(B9,入力AA1!$B$8:$GU$58,オフセット番号A!$E$11+1))=TRUE,\"\",VLOOKUP(B9,入力AA1!$B$8:$GU$58,オフセット番号A!$E$11+1)),\"*\"))","v":"内容7,3"},{"$f":"IF($F$5=1,項目表示入力!$F$13,IF($F$5=2,IF(ISERROR(VLOOKUP(B9,入力AA1!$B$8:$GU$58,オフセット番号A!$F$11+1))=TRUE,\"\",VLOOKUP(B9,入力AA1!$B$8:$GU$58,オフセット番号A!$F$11+1)),\"*\"))","v":"内容7,4"},{"$f":"IF($F$5=1,項目表示入力!$G$13,IF($F$5=2,IF(ISERROR(VLOOKUP(B9,入力AA1!$B$8:$GU$58,オフセット番号A!$G$11+1))=TRUE,\"\",VLOOKUP(B9,入力AA1!$B$8:$GU$58,オフセット番号A!$G$11+1)),\"*\"))","v":"内容7,5"},{"$f":"IF($F$5=1,項目表示入力!$H$13,IF($F$5=2,IF(ISERROR(VLOOKUP(B9,入力AA1!$B$8:$GU$58,オフセット番号A!$H$11+1))=TRUE,\"\",VLOOKUP(B9,入力AA1!$B$8:$GU$58,オフセット番号A!$H$11+1)),\"*\"))","v":"内容7,6"},{"$f":"IF($F$5=1,項目表示入力!$I$13,IF($F$5=2,IF(ISERROR(VLOOKUP(B9,入力AA1!$B$8:$GU$58,オフセット番号A!$I$11+1))=TRUE,\"\",VLOOKUP(B9,入力AA1!$B$8:$GU$58,オフセット番号A!$I$11+1)),\"*\"))","v":"内容7,7"},{"$f":"IF($F$5=1,項目表示入力!$J$13,IF($F$5=2,IF(ISERROR(VLOOKUP(B9,入力AA1!$B$8:$GU$58,オフセット番号A!$J$11+1))=TRUE,\"\",VLOOKUP(B9,入力AA1!$B$8:$GU$58,オフセット番号A!$J$11+1)),\"*\"))","v":"内容7,8"},{"$f":"IF($F$5=1,項目表示入力!$K$13,IF($F$5=2,IF(ISERROR(VLOOKUP(B9,入力AA1!$B$8:$GU$58,オフセット番号A!$K$11+1))=TRUE,\"\",VLOOKUP(B9,入力AA1!$B$8:$GU$58,オフセット番号A!$K$11+1)),\"*\"))","v":"内容7,9"},{"$f":"IF($F$5=1,項目表示入力!$L$13,IF($F$5=2,IF(ISERROR(VLOOKUP(B9,入力AA1!$B$8:$GU$58,オフセット番号A!$L$11+1))=TRUE,\"\",VLOOKUP(B9,入力AA1!$B$8:$GU$58,オフセット番号A!$L$11+1)),\"*\"))","v":"内容7,10"},{"$f":"IF($F$5=1,項目表示入力!$M$13,IF($F$5=2,IF(ISERROR(VLOOKUP(B9,入力AA1!$B$8:$GU$58,オフセット番号A!$M$11+1))=TRUE,\"\",VLOOKUP(B9,入力AA1!$B$8:$GU$58,オフセット番号A!$M$11+1)),\"*\"))","v":"内容7,11"},{"$f":"IF($F$5=1,項目表示入力!$N$13,IF($F$5=2,IF(ISERROR(VLOOKUP(B9,入力AA1!$B$8:$GU$58,オフセット番号A!$N$11+1))=TRUE,\"\",VLOOKUP(B9,入力AA1!$B$8:$GU$58,オフセット番号A!$N$11+1)),\"*\"))","v":"内容7,12"},{"$f":"IF($F$5=1,項目表示入力!$O$13,IF($F$5=2,IF(ISERROR(VLOOKUP(B9,入力AA1!$B$8:$GU$58,オフセット番号A!$O$11+1))=TRUE,\"\",VLOOKUP(B9,入力AA1!$B$8:$GU$58,オフセット番号A!$O$11+1)),\"*\"))","v":"内容7,13"},{"$f":"IF($F$5=1,項目表示入力!$P$13,IF($F$5=2,IF(ISERROR(VLOOKUP(B9,入力AA1!$B$8:$GU$58,オフセット番号A!$P$11+1))=TRUE,\"\",VLOOKUP(B9,入力AA1!$B$8:$GU$58,オフセット番号A!$P$11+1)),\"*\"))","v":"内容7,14"},{"$f":"IF($F$5=1,項目表示入力!$Q$13,IF($F$5=2,IF(ISERROR(VLOOKUP(B9,入力AA1!$B$8:$GU$58,オフセット番号A!$Q$11+1))=TRUE,\"\",VLOOKUP(B9,入力AA1!$B$8:$GU$58,オフセット番号A!$Q$11+1)),\"*\"))","v":"内容7,15"},{"$f":"IF($F$5=1,項目表示入力!$R$13,IF($F$5=2,IF(ISERROR(VLOOKUP(B9,入力AA1!$B$8:$GU$58,オフセット番号A!$R$11+1))=TRUE,\"\",VLOOKUP(B9,入力AA1!$B$8:$GU$58,オフセット番号A!$R$11+1)),\"*\"))","v":"内容7,16"},{"$f":"IF($F$5=1,項目表示入力!$S$13,IF($F$5=2,IF(ISERROR(VLOOKUP(B9,入力AA1!$B$8:$GU$58,オフセット番号A!$S$11+1))=TRUE,\"\",VLOOKUP(B9,入力AA1!$B$8:$GU$58,オフセット番号A!$S$11+1)),\"*\"))","v":"内容7,17"},{"$f":"IF($F$5=1,項目表示入力!$T$13,IF($F$5=2,IF(ISERROR(VLOOKUP(B9,入力AA1!$B$8:$GU$58,オフセット番号A!$T$11+1))=TRUE,\"\",VLOOKUP(B9,入力AA1!$B$8:$GU$58,オフセット番号A!$T$11+1)),\"*\"))","v":"内容7,18"},{"$f":"IF($F$5=1,項目表示入力!$U$13,IF($F$5=2,IF(ISERROR(VLOOKUP(B9,入力AA1!$B$8:$GU$58,オフセット番号A!$U$11+1))=TRUE,\"\",VLOOKUP(B9,入力AA1!$B$8:$GU$58,オフセット番号A!$U$11+1)),\"*\"))","v":"内容7,19"},{"$f":"IF($F$5=1,項目表示入力!$V$13,IF($F$5=2,IF(ISERROR(VLOOKUP(B9,入力AA1!$B$8:$GU$58,オフセット番号A!$V$11+1))=TRUE,\"\",VLOOKUP(B9,入力AA1!$B$8:$GU$58,オフセット番号A!$V$11+1)),\"*\"))","v":"内容7,20"}]
[null,{"$f":"IF(行列入力項目!$C$12=\"\",\"\",行列入力項目!$C$12)","v":"行8"},{"$f":"IF($F$5=1,項目表示入力!$C$14,IF($F$5=2,IF(ISERROR(VLOOKUP(B9,入力AA1!$B$8:$GU$58,オフセット番号A!$C$12+1))=TRUE,\"\",VLOOKUP(B9,入力AA1!$B$8:$GU$58,オフセット番号A!$C$12+1)),\"*\"))","v":"内容8,1"},{"$f":"IF($F$5=1,項目表示入力!$D$14,IF($F$5=2,IF(ISERROR(VLOOKUP(B9,入力AA1!$B$8:$GU$58,オフセット番号A!$D$12+1))=TRUE,\"\",VLOOKUP(B9,入力AA1!$B$8:$GU$58,オフセット番号A!$D$12+1)),\"*\"))","v":"内容8,2"},{"$f":"IF($F$5=1,項目表示入力!$E$14,IF($F$5=2,IF(ISERROR(VLOOKUP(B9,入力AA1!$B$8:$GU$58,オフセット番号A!$E$12+1))=TRUE,\"\",VLOOKUP(B9,入力AA1!$B$8:$GU$58,オフセット番号A!$E$12+1)),\"*\"))","v":"内容8,3"},{"$f":"IF($F$5=1,項目表示入力!$F$14,IF($F$5=2,IF(ISERROR(VLOOKUP(B9,入力AA1!$B$8:$GU$58,オフセット番号A!$F$12+1))=TRUE,\"\",VLOOKUP(B9,入力AA1!$B$8:$GU$58,オフセット番号A!$F$12+1)),\"*\"))","v":"内容8,4"},{"$f":"IF($F$5=1,項目表示入力!$G$14,IF($F$5=2,IF(ISERROR(VLOOKUP(B9,入力AA1!$B$8:$GU$58,オフセット番号A!$G$12+1))=TRUE,\"\",VLOOKUP(B9,入力AA1!$B$8:$GU$58,オフセット番号A!$G$12+1)),\"*\"))","v":"内容8,5"},{"$f":"IF($F$5=1,項目表示入力!$H$14,IF($F$5=2,IF(ISERROR(VLOOKUP(B9,入力AA1!$B$8:$GU$58,オフセット番号A!$H$12+1))=TRUE,\"\",VLOOKUP(B9,入力AA1!$B$8:$GU$58,オフセット番号A!$H$12+1)),\"*\"))","v":"内容8,6"},{"$f":"IF($F$5=1,項目表示入力!$I$14,IF($F$5=2,IF(ISERROR(VLOOKUP(B9,入力AA1!$B$8:$GU$58,オフセット番号A!$I$12+1))=TRUE,\"\",VLOOKUP(B9,入力AA1!$B$8:$GU$58,オフセット番号A!$I$12+1)),\"*\"))","v":"内容8,7"},{"$f":"IF($F$5=1,項目表示入力!$J$14,IF($F$5=2,IF(ISERROR(VLOOKUP(B9,入力AA1!$B$8:$GU$58,オフセット番号A!$J$12+1))=TRUE,\"\",VLOOKUP(B9,入力AA1!$B$8:$GU$58,オフセット番号A!$J$12+1)),\"*\"))","v":"内容8,8"},{"$f":"IF($F$5=1,項目表示入力!$K$14,IF($F$5=2,IF(ISERROR(VLOOKUP(B9,入力AA1!$B$8:$GU$58,オフセット番号A!$K$12+1))=TRUE,\"\",VLOOKUP(B9,入力AA1!$B$8:$GU$58,オフセット番号A!$K$12+1)),\"*\"))","v":"内容8,9"},{"$f":"IF($F$5=1,項目表示入力!$L$14,IF($F$5=2,IF(ISERROR(VLOOKUP(B9,入力AA1!$B$8:$GU$58,オフセット番号A!$L$12+1))=TRUE,\"\",VLOOKUP(B9,入力AA1!$B$8:$GU$58,オフセット番号A!$L$12+1)),\"*\"))","v":"内容8,10"},{"$f":"IF($F$5=1,項目表示入力!$M$14,IF($F$5=2,IF(ISERROR(VLOOKUP(B9,入力AA1!$B$8:$GU$58,オフセット番号A!$M$12+1))=TRUE,\"\",VLOOKUP(B9,入力AA1!$B$8:$GU$58,オフセット番号A!$M$12+1)),\"*\"))","v":"内容8,11"},{"$f":"IF($F$5=1,項目表示入力!$N$14,IF($F$5=2,IF(ISERROR(VLOOKUP(B9,入力AA1!$B$8:$GU$58,オフセット番号A!$N$12+1))=TRUE,\"\",VLOOKUP(B9,入力AA1!$B$8:$GU$58,オフセット番号A!$N$12+1)),\"*\"))","v":"内容8,12"},{"$f":"IF($F$5=1,項目表示入力!$O$14,IF($F$5=2,IF(ISERROR(VLOOKUP(B9,入力AA1!$B$8:$GU$58,オフセット番号A!$O$12+1))=TRUE,\"\",VLOOKUP(B9,入力AA1!$B$8:$GU$58,オフセット番号A!$O$12+1)),\"*\"))","v":"内容8,13"},{"$f":"IF($F$5=1,項目表示入力!$P$14,IF($F$5=2,IF(ISERROR(VLOOKUP(B9,入力AA1!$B$8:$GU$58,オフセット番号A!$P$12+1))=TRUE,\"\",VLOOKUP(B9,入力AA1!$B$8:$GU$58,オフセット番号A!$P$12+1)),\"*\"))","v":"内容8,14"},{"$f":"IF($F$5=1,項目表示入力!$Q$14,IF($F$5=2,IF(ISERROR(VLOOKUP(B9,入力AA1!$B$8:$GU$58,オフセット番号A!$Q$12+1))=TRUE,\"\",VLOOKUP(B9,入力AA1!$B$8:$GU$58,オフセット番号A!$Q$12+1)),\"*\"))","v":"内容8,15"},{"$f":"IF($F$5=1,項目表示入力!$R$14,IF($F$5=2,IF(ISERROR(VLOOKUP(B9,入力AA1!$B$8:$GU$58,オフセット番号A!$R$12+1))=TRUE,\"\",VLOOKUP(B9,入力AA1!$B$8:$GU$58,オフセット番号A!$R$12+1)),\"*\"))","v":"内容8,16"},{"$f":"IF($F$5=1,項目表示入力!$S$14,IF($F$5=2,IF(ISERROR(VLOOKUP(B9,入力AA1!$B$8:$GU$58,オフセット番号A!$S$12+1))=TRUE,\"\",VLOOKUP(B9,入力AA1!$B$8:$GU$58,オフセット番号A!$S$12+1)),\"*\"))","v":"内容8,17"},{"$f":"IF($F$5=1,項目表示入力!$T$14,IF($F$5=2,IF(ISERROR(VLOOKUP(B9,入力AA1!$B$8:$GU$58,オフセット番号A!$T$12+1))=TRUE,\"\",VLOOKUP(B9,入力AA1!$B$8:$GU$58,オフセット番号A!$T$12+1)),\"*\"))","v":"内容8,18"},{"$f":"IF($F$5=1,項目表示入力!$U$14,IF($F$5=2,IF(ISERROR(VLOOKUP(B9,入力AA1!$B$8:$GU$58,オフセット番号A!$U$12+1))=TRUE,\"\",VLOOKUP(B9,入力AA1!$B$8:$GU$58,オフセット番号A!$U$12+1)),\"*\"))","v":"内容8,19"},{"$f":"IF($F$5=1,項目表示入力!$V$14,IF($F$5=2,IF(ISERROR(VLOOKUP(B9,入力AA1!$B$8:$GU$58,オフセット番号A!$V$12+1))=TRUE,\"\",VLOOKUP(B9,入力AA1!$B$8:$GU$58,オフセット番号A!$V$12+1)),\"*\"))","v":"内容8,20"}]
[null,{"$f":"IF(行列入力項目!$C$13=\"\",\"\",行列入力項目!$C$13)","v":"行9"},{"$f":"IF($F$5=1,項目表示入力!$C$15,IF($F$5=2,IF(ISERROR(VLOOKUP(B9,入力AA1!$B$8:$GU$58,オフセット番号A!$C$13+1))=TRUE,\"\",VLOOKUP(B9,入力AA1!$B$8:$GU$58,オフセット番号A!$C$13+1)),\"*\"))","v":"内容9,1"},{"$f":"IF($F$5=1,項目表示入力!$D$15,IF($F$5=2,IF(ISERROR(VLOOKUP(B9,入力AA1!$B$8:$GU$58,オフセット番号A!$D$13+1))=TRUE,\"\",VLOOKUP(B9,入力AA1!$B$8:$GU$58,オフセット番号A!$D$13+1)),\"*\"))","v":"内容9,2"},{"$f":"IF($F$5=1,項目表示入力!$E$15,IF($F$5=2,IF(ISERROR(VLOOKUP(B9,入力AA1!$B$8:$GU$58,オフセット番号A!$E$13+1))=TRUE,\"\",VLOOKUP(B9,入力AA1!$B$8:$GU$58,オフセット番号A!$E$13+1)),\"*\"))","v":"内容9,3"},{"$f":"IF($F$5=1,項目表示入力!$F$15,IF($F$5=2,IF(ISERROR(VLOOKUP(B9,入力AA1!$B$8:$GU$58,オフセット番号A!$F$13+1))=TRUE,\"\",VLOOKUP(B9,入力AA1!$B$8:$GU$58,オフセット番号A!$F$13+1)),\"*\"))","v":"内容9,4"},{"$f":"IF($F$5=1,項目表示入力!$G$15,IF($F$5=2,IF(ISERROR(VLOOKUP(B9,入力AA1!$B$8:$GU$58,オフセット番号A!$G$13+1))=TRUE,\"\",VLOOKUP(B9,入力AA1!$B$8:$GU$58,オフセット番号A!$G$13+1)),\"*\"))","v":"内容9,5"},{"$f":"IF($F$5=1,項目表示入力!$H$15,IF($F$5=2,IF(ISERROR(VLOOKUP(B9,入力AA1!$B$8:$GU$58,オフセット番号A!$H$13+1))=TRUE,\"\",VLOOKUP(B9,入力AA1!$B$8:$GU$58,オフセット番号A!$H$13+1)),\"*\"))","v":"内容9,6"},{"$f":"IF($F$5=1,項目表示入力!$I$15,IF($F$5=2,IF(ISERROR(VLOOKUP(B9,入力AA1!$B$8:$GU$58,オフセット番号A!$I$13+1))=TRUE,\"\",VLOOKUP(B9,入力AA1!$B$8:$GU$58,オフセット番号A!$I$13+1)),\"*\"))","v":"内容9,7"},{"$f":"IF($F$5=1,項目表示入力!$J$15,IF($F$5=2,IF(ISERROR(VLOOKUP(B9,入力AA1!$B$8:$GU$58,オフセット番号A!$J$13+1))=TRUE,\"\",VLOOKUP(B9,入力AA1!$B$8:$GU$58,オフセット番号A!$J$13+1)),\"*\"))","v":"内容9,8"},{"$f":"IF($F$5=1,項目表示入力!$K$15,IF($F$5=2,IF(ISERROR(VLOOKUP(B9,入力AA1!$B$8:$GU$58,オフセット番号A!$K$13+1))=TRUE,\"\",VLOOKUP(B9,入力AA1!$B$8:$GU$58,オフセット番号A!$K$13+1)),\"*\"))","v":"内容9,9"},{"$f":"IF($F$5=1,項目表示入力!$L$15,IF($F$5=2,IF(ISERROR(VLOOKUP(B9,入力AA1!$B$8:$GU$58,オフセット番号A!$L$13+1))=TRUE,\"\",VLOOKUP(B9,入力AA1!$B$8:$GU$58,オフセット番号A!$L$13+1)),\"*\"))","v":"内容9,10"},{"$f":"IF($F$5=1,項目表示入力!$M$15,IF($F$5=2,IF(ISERROR(VLOOKUP(B9,入力AA1!$B$8:$GU$58,オフセット番号A!$M$13+1))=TRUE,\"\",VLOOKUP(B9,入力AA1!$B$8:$GU$58,オフセット番号A!$M$13+1)),\"*\"))","v":"内容9,11"},{"$f":"IF($F$5=1,項目表示入力!$N$15,IF($F$5=2,IF(ISERROR(VLOOKUP(B9,入力AA1!$B$8:$GU$58,オフセット番号A!$N$13+1))=TRUE,\"\",VLOOKUP(B9,入力AA1!$B$8:$GU$58,オフセット番号A!$N$13+1)),\"*\"))","v":"内容9,12"},{"$f":"IF($F$5=1,項目表示入力!$O$15,IF($F$5=2,IF(ISERROR(VLOOKUP(B9,入力AA1!$B$8:$GU$58,オフセット番号A!$O$13+1))=TRUE,\"\",VLOOKUP(B9,入力AA1!$B$8:$GU$58,オフセット番号A!$O$13+1)),\"*\"))","v":"内容9,13"},{"$f":"IF($F$5=1,項目表示入力!$P$15,IF($F$5=2,IF(ISERROR(VLOOKUP(B9,入力AA1!$B$8:$GU$58,オフセット番号A!$P$13+1))=TRUE,\"\",VLOOKUP(B9,入力AA1!$B$8:$GU$58,オフセット番号A!$P$13+1)),\"*\"))","v":"内容9,14"},{"$f":"IF($F$5=1,項目表示入力!$Q$15,IF($F$5=2,IF(ISERROR(VLOOKUP(B9,入力AA1!$B$8:$GU$58,オフセット番号A!$Q$13+1))=TRUE,\"\",VLOOKUP(B9,入力AA1!$B$8:$GU$58,オフセット番号A!$Q$13+1)),\"*\"))","v":"内容9,15"},{"$f":"IF($F$5=1,項目表示入力!$R$15,IF($F$5=2,IF(ISERROR(VLOOKUP(B9,入力AA1!$B$8:$GU$58,オフセット番号A!$R$13+1))=TRUE,\"\",VLOOKUP(B9,入力AA1!$B$8:$GU$58,オフセット番号A!$R$13+1)),\"*\"))","v":"内容9,16"},{"$f":"IF($F$5=1,項目表示入力!$S$15,IF($F$5=2,IF(ISERROR(VLOOKUP(B9,入力AA1!$B$8:$GU$58,オフセット番号A!$S$13+1))=TRUE,\"\",VLOOKUP(B9,入力AA1!$B$8:$GU$58,オフセット番号A!$S$13+1)),\"*\"))","v":"内容9,17"},{"$f":"IF($F$5=1,項目表示入力!$T$15,IF($F$5=2,IF(ISERROR(VLOOKUP(B9,入力AA1!$B$8:$GU$58,オフセット番号A!$T$13+1))=TRUE,\"\",VLOOKUP(B9,入力AA1!$B$8:$GU$58,オフセット番号A!$T$13+1)),\"*\"))","v":"内容9,18"},{"$f":"IF($F$5=1,項目表示入力!$U$15,IF($F$5=2,IF(ISERROR(VLOOKUP(B9,入力AA1!$B$8:$GU$58,オフセット番号A!$U$13+1))=TRUE,\"\",VLOOKUP(B9,入力AA1!$B$8:$GU$58,オフセット番号A!$U$13+1)),\"*\"))","v":"内容9,19"},{"$f":"IF($F$5=1,項目表示入力!$V$15,IF($F$5=2,IF(ISERROR(VLOOKUP($B$9,入力AA1!$B$8:$GU$58,オフセット番号A!$V$13+1))=TRUE,\"\",VLOOKUP(B9,入力AA1!$B$8:$GU$58,オフセット番号A!$V$13+1)),\"*\"))","v":"内容9,20"}]
[null,{"$f":"IF(行列入力項目!$C$14=\"\",\"\",行列入力項目!$C$14)","v":"行10"},{"$f":"IF($F$5=1,項目表示入力!$C$16,IF($F$5=2,IF(ISERROR(VLOOKUP(B9,入力AA1!$B$8:$GU$58,オフセット番号A!$C$14+1))=TRUE,\"\",VLOOKUP(B9,入力AA1!$B$8:$GU$58,オフセット番号A!$C$14+1)),\"*\"))","v":"内容10,1"},{"$f":"IF($F$5=1,項目表示入力!$D$16,IF($F$5=2,IF(ISERROR(VLOOKUP(B9,入力AA1!$B$8:$GU$58,オフセット番号A!$D$14+1))=TRUE,\"\",VLOOKUP(B9,入力AA1!$B$8:$GU$58,オフセット番号A!$D$14+1)),\"*\"))","v":"内容10,2"},{"$f":"IF($F$5=1,項目表示入力!$E$16,IF($F$5=2,IF(ISERROR(VLOOKUP(B9,入力AA1!$B$8:$GU$58,オフセット番号A!$E$14+1))=TRUE,\"\",VLOOKUP(B9,入力AA1!$B$8:$GU$58,オフセット番号A!$E$14+1)),\"*\"))","v":"内容10,3"},{"$f":"IF($F$5=1,項目表示入力!$F$16,IF($F$5=2,IF(ISERROR(VLOOKUP(B9,入力AA1!$B$8:$GU$58,オフセット番号A!$F$14+1))=TRUE,\"\",VLOOKUP(B9,入力AA1!$B$8:$GU$58,オフセット番号A!$F$14+1)),\"*\"))","v":"内容10,4"},{"$f":"IF($F$5=1,項目表示入力!$G$16,IF($F$5=2,IF(ISERROR(VLOOKUP(B9,入力AA1!$B$8:$GU$58,オフセット番号A!$G$14+1))=TRUE,\"\",VLOOKUP(B9,入力AA1!$B$8:$GU$58,オフセット番号A!$G$14+1)),\"*\"))","v":"内容10,5"},{"$f":"IF($F$5=1,項目表示入力!$H$16,IF($F$5=2,IF(ISERROR(VLOOKUP(B9,入力AA1!$B$8:$GU$58,オフセット番号A!$H$14+1))=TRUE,\"\",VLOOKUP(B9,入力AA1!$B$8:$GU$58,オフセット番号A!$H$14+1)),\"*\"))","v":"内容10,6"},{"$f":"IF($F$5=1,項目表示入力!$I$16,IF($F$5=2,IF(ISERROR(VLOOKUP(B9,入力AA1!$B$8:$GU$58,オフセット番号A!$I$14+1))=TRUE,\"\",VLOOKUP(B9,入力AA1!$B$8:$GU$58,オフセット番号A!$I$14+1)),\"*\"))","v":"内容10,7"},{"$f":"IF($F$5=1,項目表示入力!$J$16,IF($F$5=2,IF(ISERROR(VLOOKUP(B9,入力AA1!$B$8:$GU$58,オフセット番号A!$J$14+1))=TRUE,\"\",VLOOKUP(B9,入力AA1!$B$8:$GU$58,オフセット番号A!$J$14+1)),\"*\"))","v":"内容10,8"},{"$f":"IF($F$5=1,項目表示入力!$K$16,IF($F$5=2,IF(ISERROR(VLOOKUP(B9,入力AA1!$B$8:$GU$58,オフセット番号A!$K$14+1))=TRUE,\"\",VLOOKUP(B9,入力AA1!$B$8:$GU$58,オフセット番号A!$K$14+1)),\"*\"))","v":"内容10,9"},{"$f":"IF($F$5=1,項目表示入力!$L$16,IF($F$5=2,IF(ISERROR(VLOOKUP(B9,入力AA1!$B$8:$GU$58,オフセット番号A!$L$14+1))=TRUE,\"\",VLOOKUP(B9,入力AA1!$B$8:$GU$58,オフセット番号A!$L$14+1)),\"*\"))","v":"内容10,10"},{"$f":"IF($F$5=1,項目表示入力!$M$16,IF($F$5=2,IF(ISERROR(VLOOKUP(B9,入力AA1!$B$8:$GU$58,オフセット番号A!$M$14+1))=TRUE,\"\",VLOOKUP(B9,入力AA1!$B$8:$GU$58,オフセット番号A!$M$14+1)),\"*\"))","v":"内容10,11"},{"$f":"IF($F$5=1,項目表示入力!$N$16,IF($F$5=2,IF(ISERROR(VLOOKUP(B9,入力AA1!$B$8:$GU$58,オフセット番号A!$N$14+1))=TRUE,\"\",VLOOKUP(B9,入力AA1!$B$8:$GU$58,オフセット番号A!$N$14+1)),\"*\"))","v":"内容10,12"},{"$f":"IF($F$5=1,項目表示入力!$O$16,IF($F$5=2,IF(ISERROR(VLOOKUP(B9,入力AA1!$B$8:$GU$58,オフセット番号A!$O$14+1))=TRUE,\"\",VLOOKUP(B9,入力AA1!$B$8:$GU$58,オフセット番号A!$O$14+1)),\"*\"))","v":"内容10,13"},{"$f":"IF($F$5=1,項目表示入力!$P$16,IF($F$5=2,IF(ISERROR(VLOOKUP(B9,入力AA1!$B$8:$GU$58,オフセット番号A!$P$14+1))=TRUE,\"\",VLOOKUP(B9,入力AA1!$B$8:$GU$58,オフセット番号A!$P$14+1)),\"*\"))","v":"内容10,14"},{"$f":"IF($F$5=1,項目表示入力!$Q$16,IF($F$5=2,IF(ISERROR(VLOOKUP(B9,入力AA1!$B$8:$GU$58,オフセット番号A!$Q$14+1))=TRUE,\"\",VLOOKUP(B9,入力AA1!$B$8:$GU$58,オフセット番号A!$Q$14+1)),\"*\"))","v":"内容10,15"},{"$f":"IF($F$5=1,項目表示入力!$R$16,IF($F$5=2,IF(ISERROR(VLOOKUP(B9,入力AA1!$B$8:$GU$58,オフセット番号A!$R$14+1))=TRUE,\"\",VLOOKUP(B9,入力AA1!$B$8:$GU$58,オフセット番号A!$R$14+1)),\"*\"))","v":"内容10,16"},{"$f":"IF($F$5=1,項目表示入力!$S$16,IF($F$5=2,IF(ISERROR(VLOOKUP(B9,入力AA1!$B$8:$GU$58,オフセット番号A!$S$14+1))=TRUE,\"\",VLOOKUP(B9,入力AA1!$B$8:$GU$58,オフセット番号A!$S$14+1)),\"*\"))","v":"内容10,17"},{"$f":"IF($F$5=1,項目表示入力!$T$16,IF($F$5=2,IF(ISERROR(VLOOKUP(B9,入力AA1!$B$8:$GU$58,オフセット番号A!$T$14+1))=TRUE,\"\",VLOOKUP(B9,入力AA1!$B$8:$GU$58,オフセット番号A!$T$14+1)),\"*\"))","v":"内容10,18"},{"$f":"IF($F$5=1,項目表示入力!$U$16,IF($F$5=2,IF(ISERROR(VLOOKUP(B9,入力AA1!$B$8:$GU$58,オフセット番号A!$U$14+1))=TRUE,\"\",VLOOKUP(B9,入力AA1!$B$8:$GU$58,オフセット番号A!$U$14+1)),\"*\"))","v":"内容10,19"},{"$f":"IF($F$5=1,項目表示入力!$V$16,IF($F$5=2,IF(ISERROR(VLOOKUP(B9,入力AA1!$B$8:$GU$58,オフセット番号A!$V$14+1))=TRUE,\"\",VLOOKUP(B9,入力AA1!$B$8:$GU$58,オフセット番号A!$V$14+1)),\"*\"))","v":"内容10,20"}]
[null,{"$f":"IF(行列入力項目!$C$15=\"\",\"\",行列入力項目!$C$15)","v":"行11"},{"$f":"IF($F$5=1,項目表示入力!$C$17,IF($F$5=2,IF(ISERROR(VLOOKUP(B9,入力AA2!$B$8:$GU$58,オフセット番号A!$C$15+1))=TRUE,\"\",VLOOKUP(B9,入力AA2!$B$8:$GU$58,オフセット番号A!$C$15+1)),\"*\"))","v":"内容11,1"},{"$f":"IF($F$5=1,項目表示入力!$D$17,IF($F$5=2,IF(ISERROR(VLOOKUP(B9,入力AA2!$B$8:$GU$58,オフセット番号A!$D$15+1))=TRUE,\"\",VLOOKUP(B9,入力AA2!$B$8:$GU$58,オフセット番号A!$D$15+1)),\"*\"))","v":"内容11,2"},{"$f":"IF($F$5=1,項目表示入力!$E$17,IF($F$5=2,IF(ISERROR(VLOOKUP(B9,入力AA2!$B$8:$GU$58,オフセット番号A!$E$15+1))=TRUE,\"\",VLOOKUP(B9,入力AA2!$B$8:$GU$58,オフセット番号A!$E$15+1)),\"*\"))","v":"内容11,3"},{"$f":"IF($F$5=1,項目表示入力!$F$17,IF($F$5=2,IF(ISERROR(VLOOKUP(B9,入力AA2!$B$8:$GU$58,オフセット番号A!$F$15+1))=TRUE,\"\",VLOOKUP(B9,入力AA2!$B$8:$GU$58,オフセット番号A!$F$15+1)),\"*\"))","v":"内容11,4"},{"$f":"IF($F$5=1,項目表示入力!$G$17,IF($F$5=2,IF(ISERROR(VLOOKUP(B9,入力AA2!$B$8:$GU$58,オフセット番号A!$G$15+1))=TRUE,\"\",VLOOKUP(B9,入力AA2!$B$8:$GU$58,オフセット番号A!$G$15+1)),\"*\"))","v":"内容11,5"},{"$f":"IF($F$5=1,項目表示入力!$H$17,IF($F$5=2,IF(ISERROR(VLOOKUP(B9,入力AA2!$B$8:$GU$58,オフセット番号A!$H$15+1))=TRUE,\"\",VLOOKUP(B9,入力AA2!$B$8:$GU$58,オフセット番号A!$H$15+1)),\"*\"))","v":"内容11,6"},{"$f":"IF($F$5=1,項目表示入力!$I$17,IF($F$5=2,IF(ISERROR(VLOOKUP(B9,入力AA2!$B$8:$GU$58,オフセット番号A!$I$15+1))=TRUE,\"\",VLOOKUP(B9,入力AA2!$B$8:$GU$58,オフセット番号A!$I$15+1)),\"*\"))","v":"内容11,7"},{"$f":"IF($F$5=1,項目表示入力!$J$17,IF($F$5=2,IF(ISERROR(VLOOKUP(B9,入力AA2!$B$8:$GU$58,オフセット番号A!$J$15+1))=TRUE,\"\",VLOOKUP(B9,入力AA2!$B$8:$GU$58,オフセット番号A!$J$15+1)),\"*\"))","v":"内容11,8"},{"$f":"IF($F$5=1,項目表示入力!$K$17,IF($F$5=2,IF(ISERROR(VLOOKUP(B9,入力AA2!$B$8:$GU$58,オフセット番号A!$K$15+1))=TRUE,\"\",VLOOKUP(B9,入力AA2!$B$8:$GU$58,オフセット番号A!$K$15+1)),\"*\"))","v":"内容11,9"},{"$f":"IF($F$5=1,項目表示入力!$L$17,IF($F$5=2,IF(ISERROR(VLOOKUP(B9,入力AA2!$B$8:$GU$58,オフセット番号A!$L$15+1))=TRUE,\"\",VLOOKUP(B9,入力AA2!$B$8:$GU$58,オフセット番号A!$L$15+1)),\"*\"))","v":"内容11,10"},{"$f":"IF($F$5=1,項目表示入力!$M$17,IF($F$5=2,IF(ISERROR(VLOOKUP(B9,入力AA2!$B$8:$GU$58,オフセット番号A!$M$15+1))=TRUE,\"\",VLOOKUP(B9,入力AA2!$B$8:$GU$58,オフセット番号A!$M$15+1)),\"*\"))","v":"内容11,11"},{"$f":"IF($F$5=1,項目表示入力!$N$17,IF($F$5=2,IF(ISERROR(VLOOKUP(B9,入力AA2!$B$8:$GU$58,オフセット番号A!$N$15+1))=TRUE,\"\",VLOOKUP(B9,入力AA2!$B$8:$GU$58,オフセット番号A!$N$15+1)),\"*\"))","v":"内容11,12"},{"$f":"IF($F$5=1,項目表示入力!$O$17,IF($F$5=2,IF(ISERROR(VLOOKUP(B9,入力AA2!$B$8:$GU$58,オフセット番号A!$O$15+1))=TRUE,\"\",VLOOKUP(B9,入力AA2!$B$8:$GU$58,オフセット番号A!$O$15+1)),\"*\"))","v":"内容11,13"},{"$f":"IF($F$5=1,項目表示入力!$P$17,IF($F$5=2,IF(ISERROR(VLOOKUP(B9,入力AA2!$B$8:$GU$58,オフセット番号A!$P$15+1))=TRUE,\"\",VLOOKUP(B9,入力AA2!$B$8:$GU$58,オフセット番号A!$P$15+1)),\"*\"))","v":"内容11,14"},{"$f":"IF($F$5=1,項目表示入力!$Q$17,IF($F$5=2,IF(ISERROR(VLOOKUP(B9,入力AA2!$B$8:$GU$58,オフセット番号A!$Q$15+1))=TRUE,\"\",VLOOKUP(B9,入力AA2!$B$8:$GU$58,オフセット番号A!$Q$15+1)),\"*\"))","v":"内容11,15"},{"$f":"IF($F$5=1,項目表示入力!$R$17,IF($F$5=2,IF(ISERROR(VLOOKUP(B9,入力AA2!$B$8:$GU$58,オフセット番号A!$R$15+1))=TRUE,\"\",VLOOKUP(B9,入力AA2!$B$8:$GU$58,オフセット番号A!$R$15+1)),\"*\"))","v":"内容11,16"},{"$f":"IF($F$5=1,項目表示入力!$S$17,IF($F$5=2,IF(ISERROR(VLOOKUP(B9,入力AA2!$B$8:$GU$58,オフセット番号A!$S$15+1))=TRUE,\"\",VLOOKUP(B9,入力AA2!$B$8:$GU$58,オフセット番号A!$S$15+1)),\"*\"))","v":"内容11,17"},{"$f":"IF($F$5=1,項目表示入力!$T$17,IF($F$5=2,IF(ISERROR(VLOOKUP(B9,入力AA2!$B$8:$GU$58,オフセット番号A!$T$15+1))=TRUE,\"\",VLOOKUP(B9,入力AA2!$B$8:$GU$58,オフセット番号A!$T$15+1)),\"*\"))","v":"内容11,18"},{"$f":"IF($F$5=1,項目表示入力!$U$17,IF($F$5=2,IF(ISERROR(VLOOKUP(B9,入力AA2!$B$8:$GU$58,オフセット番号A!$U$15+1))=TRUE,\"\",VLOOKUP(B9,入力AA2!$B$8:$GU$58,オフセット番号A!$U$15+1)),\"*\"))","v":"内容11,19"},{"$f":"IF($F$5=1,項目表示入力!$V$17,IF($F$5=2,IF(ISERROR(VLOOKUP(B9,入力AA2!$B$8:$GU$58,オフセット番号A!$V$15+1))=TRUE,\"\",VLOOKUP(B9,入力AA2!$B$8:$GU$58,オフセット番号A!$V$15+1)),\"*\"))","v":"内容11,20"}]
[null,{"$f":"IF(行列入力項目!$C$16=\"\",\"\",行列入力項目!$C$16)","v":"行12"},{"$f":"IF($F$5=1,項目表示入力!$C$18,IF($F$5=2,IF(ISERROR(VLOOKUP(B9,入力AA2!$B$8:$GU$58,オフセット番号A!$C$16+1))=TRUE,\"\",VLOOKUP(B9,入力AA2!$B$8:$GU$58,オフセット番号A!$C$16+1)),\"*\"))","v":"内容12,1"},{"$f":"IF($F$5=1,項目表示入力!$D$18,IF($F$5=2,IF(ISERROR(VLOOKUP(B9,入力AA2!$B$8:$GU$58,オフセット番号A!$D$16+1))=TRUE,\"\",VLOOKUP(B9,入力AA2!$B$8:$GU$58,オフセット番号A!$D$16+1)),\"*\"))","v":"内容12,2"},{"$f":"IF($F$5=1,項目表示入力!$E$18,IF($F$5=2,IF(ISERROR(VLOOKUP(B9,入力AA2!$B$8:$GU$58,オフセット番号A!$E$16+1))=TRUE,\"\",VLOOKUP(B9,入力AA2!$B$8:$GU$58,オフセット番号A!$E$16+1)),\"*\"))","v":"内容12,3"},{"$f":"IF($F$5=1,項目表示入力!$F$18,IF($F$5=2,IF(ISERROR(VLOOKUP(B9,入力AA2!$B$8:$GU$58,オフセット番号A!$F$16+1))=TRUE,\"\",VLOOKUP(B9,入力AA2!$B$8:$GU$58,オフセット番号A!$F$16+1)),\"*\"))","v":"内容12,4"},{"$f":"IF($F$5=1,項目表示入力!$G$18,IF($F$5=2,IF(ISERROR(VLOOKUP(B9,入力AA2!$B$8:$GU$58,オフセット番号A!$G$16+1))=TRUE,\"\",VLOOKUP(B9,入力AA2!$B$8:$GU$58,オフセット番号A!$G$16+1)),\"*\"))","v":"内容12,5"},{"$f":"IF($F$5=1,項目表示入力!$H$18,IF($F$5=2,IF(ISERROR(VLOOKUP(B9,入力AA2!$B$8:$GU$58,オフセット番号A!$H$16+1))=TRUE,\"\",VLOOKUP(B9,入力AA2!$B$8:$GU$58,オフセット番号A!$H$16+1)),\"*\"))","v":"内容12,6"},{"$f":"IF($F$5=1,項目表示入力!$I$18,IF($F$5=2,IF(ISERROR(VLOOKUP(B9,入力AA2!$B$8:$GU$58,オフセット番号A!$I$16+1))=TRUE,\"\",VLOOKUP(B9,入力AA2!$B$8:$GU$58,オフセット番号A!$I$16+1)),\"*\"))","v":"内容12,7"},{"$f":"IF($F$5=1,項目表示入力!$J$18,IF($F$5=2,IF(ISERROR(VLOOKUP(B9,入力AA2!$B$8:$GU$58,オフセット番号A!$J$16+1))=TRUE,\"\",VLOOKUP(B9,入力AA2!$B$8:$GU$58,オフセット番号A!$J$16+1)),\"*\"))","v":"内容12,8"},{"$f":"IF($F$5=1,項目表示入力!$K$18,IF($F$5=2,IF(ISERROR(VLOOKUP(B9,入力AA2!$B$8:$GU$58,オフセット番号A!$K$16+1))=TRUE,\"\",VLOOKUP(B9,入力AA2!$B$8:$GU$58,オフセット番号A!$K$16+1)),\"*\"))","v":"内容12,9"},{"$f":"IF($F$5=1,項目表示入力!$L$18,IF($F$5=2,IF(ISERROR(VLOOKUP(B9,入力AA2!$B$8:$GU$58,オフセット番号A!$L$16+1))=TRUE,\"\",VLOOKUP(B9,入力AA2!$B$8:$GU$58,オフセット番号A!$L$16+1)),\"*\"))","v":"内容12,10"},{"$f":"IF($F$5=1,項目表示入力!$M$18,IF($F$5=2,IF(ISERROR(VLOOKUP(B9,入力AA2!$B$8:$GU$58,オフセット番号A!$M$16+1))=TRUE,\"\",VLOOKUP(B9,入力AA2!$B$8:$GU$58,オフセット番号A!$M$16+1)),\"*\"))","v":"内容12,11"},{"$f":"IF($F$5=1,項目表示入力!$N$18,IF($F$5=2,IF(ISERROR(VLOOKUP(B9,入力AA2!$B$8:$GU$58,オフセット番号A!$N$16+1))=TRUE,\"\",VLOOKUP(B9,入力AA2!$B$8:$GU$58,オフセット番号A!$N$16+1)),\"*\"))","v":"内容12,12"},{"$f":"IF($F$5=1,項目表示入力!$O$18,IF($F$5=2,IF(ISERROR(VLOOKUP(B9,入力AA2!$B$8:$GU$58,オフセット番号A!$O$16+1))=TRUE,\"\",VLOOKUP(B9,入力AA2!$B$8:$GU$58,オフセット番号A!$O$16+1)),\"*\"))","v":"内容12,13"},{"$f":"IF($F$5=1,項目表示入力!$P$18,IF($F$5=2,IF(ISERROR(VLOOKUP(B9,入力AA2!$B$8:$GU$58,オフセット番号A!$P$16+1))=TRUE,\"\",VLOOKUP(B9,入力AA2!$B$8:$GU$58,オフセット番号A!$P$16+1)),\"*\"))","v":"内容12,14"},{"$f":"IF($F$5=1,項目表示入力!$Q$18,IF($F$5=2,IF(ISERROR(VLOOKUP(B9,入力AA2!$B$8:$GU$58,オフセット番号A!$Q$16+1))=TRUE,\"\",VLOOKUP(B9,入力AA2!$B$8:$GU$58,オフセット番号A!$Q$16+1)),\"*\"))","v":"内容12,15"},{"$f":"IF($F$5=1,項目表示入力!$R$18,IF($F$5=2,IF(ISERROR(VLOOKUP(B9,入力AA2!$B$8:$GU$58,オフセット番号A!$R$16+1))=TRUE,\"\",VLOOKUP(B9,入力AA2!$B$8:$GU$58,オフセット番号A!$R$16+1)),\"*\"))","v":"内容12,16"},{"$f":"IF($F$5=1,項目表示入力!$S$18,IF($F$5=2,IF(ISERROR(VLOOKUP(B9,入力AA2!$B$8:$GU$58,オフセット番号A!$S$16+1))=TRUE,\"\",VLOOKUP(B9,入力AA2!$B$8:$GU$58,オフセット番号A!$S$16+1)),\"*\"))","v":"内容12,17"},{"$f":"IF($F$5=1,項目表示入力!$T$18,IF($F$5=2,IF(ISERROR(VLOOKUP(B9,入力AA2!$B$8:$GU$58,オフセット番号A!$T$16+1))=TRUE,\"\",VLOOKUP(B9,入力AA2!$B$8:$GU$58,オフセット番号A!$T$16+1)),\"*\"))","v":"内容12,18"},{"$f":"IF($F$5=1,項目表示入力!$U$18,IF($F$5=2,IF(ISERROR(VLOOKUP(B9,入力AA2!$B$8:$GU$58,オフセット番号A!$U$16+1))=TRUE,\"\",VLOOKUP(B9,入力AA2!$B$8:$GU$58,オフセット番号A!$U$16+1)),\"*\"))","v":"内容12,19"},{"$f":"IF($F$5=1,項目表示入力!$V$18,IF($F$5=2,IF(ISERROR(VLOOKUP(B9,入力AA2!$B$8:$GU$58,オフセット番号A!$V$16+1))=TRUE,\"\",VLOOKUP(B9,入力AA2!$B$8:$GU$58,オフセット番号A!$V$16+1)),\"*\"))","v":"内容12,20"}]
[null,{"$f":"IF(行列入力項目!$C$17=\"\",\"\",行列入力項目!$C$17)","v":"行13"},{"$f":"IF($F$5=1,項目表示入力!$C$19,IF($F$5=2,IF(ISERROR(VLOOKUP(B9,入力AA2!$B$8:$GU$58,オフセット番号A!$C$17+1))=TRUE,\"\",VLOOKUP(B9,入力AA2!$B$8:$GU$58,オフセット番号A!$C$17+1)),\"*\"))","v":"内容13,1"},{"$f":"IF($F$5=1,項目表示入力!$D$19,IF($F$5=2,IF(ISERROR(VLOOKUP(B9,入力AA2!$B$8:$GU$58,オフセット番号A!$D$17+1))=TRUE,\"\",VLOOKUP(B9,入力AA2!$B$8:$GU$58,オフセット番号A!$D$17+1)),\"*\"))","v":"内容13,2"},{"$f":"IF($F$5=1,項目表示入力!$E$19,IF($F$5=2,IF(ISERROR(VLOOKUP(B9,入力AA2!$B$8:$GU$58,オフセット番号A!$E$17+1))=TRUE,\"\",VLOOKUP(B9,入力AA2!$B$8:$GU$58,オフセット番号A!$E$17+1)),\"*\"))","v":"内容13,3"},{"$f":"IF($F$5=1,項目表示入力!$F$19,IF($F$5=2,IF(ISERROR(VLOOKUP(B9,入力AA2!$B$8:$GU$58,オフセット番号A!$F$17+1))=TRUE,\"\",VLOOKUP(B9,入力AA2!$B$8:$GU$58,オフセット番号A!$F$17+1)),\"*\"))","v":"内容13,4"},{"$f":"IF($F$5=1,項目表示入力!$G$19,IF($F$5=2,IF(ISERROR(VLOOKUP(B9,入力AA2!$B$8:$GU$58,オフセット番号A!$G$17+1))=TRUE,\"\",VLOOKUP(B9,入力AA2!$B$8:$GU$58,オフセット番号A!$G$17+1)),\"*\"))","v":"内容13,5"},{"$f":"IF($F$5=1,項目表示入力!$H$19,IF($F$5=2,IF(ISERROR(VLOOKUP(B9,入力AA2!$B$8:$GU$58,オフセット番号A!$H$17+1))=TRUE,\"\",VLOOKUP(B9,入力AA2!$B$8:$GU$58,オフセット番号A!$H$17+1)),\"*\"))","v":"内容13,6"},{"$f":"IF($F$5=1,項目表示入力!$I$19,IF($F$5=2,IF(ISERROR(VLOOKUP(B9,入力AA2!$B$8:$GU$58,オフセット番号A!$I$17+1))=TRUE,\"\",VLOOKUP(B9,入力AA2!$B$8:$GU$58,オフセット番号A!$I$17+1)),\"*\"))","v":"内容13,7"},{"$f":"IF($F$5=1,項目表示入力!$J$19,IF($F$5=2,IF(ISERROR(VLOOKUP(B9,入力AA2!$B$8:$GU$58,オフセット番号A!$J$17+1))=TRUE,\"\",VLOOKUP(B9,入力AA2!$B$8:$GU$58,オフセット番号A!$J$17+1)),\"*\"))","v":"内容13,8"},{"$f":"IF($F$5=1,項目表示入力!$K$19,IF($F$5=2,IF(ISERROR(VLOOKUP(B9,入力AA2!$B$8:$GU$58,オフセット番号A!$K$17+1))=TRUE,\"\",VLOOKUP(B9,入力AA2!$B$8:$GU$58,オフセット番号A!$K$17+1)),\"*\"))","v":"内容13,9"},{"$f":"IF($F$5=1,項目表示入力!$L$19,IF($F$5=2,IF(ISERROR(VLOOKUP(B9,入力AA2!$B$8:$GU$58,オフセット番号A!$L$17+1))=TRUE,\"\",VLOOKUP(B9,入力AA2!$B$8:$GU$58,オフセット番号A!$L$17+1)),\"*\"))","v":"内容13,10"},{"$f":"IF($F$5=1,項目表示入力!$M$19,IF($F$5=2,IF(ISERROR(VLOOKUP(B9,入力AA2!$B$8:$GU$58,オフセット番号A!$M$17+1))=TRUE,\"\",VLOOKUP(B9,入力AA2!$B$8:$GU$58,オフセット番号A!$M$17+1)),\"*\"))","v":"内容13,11"},{"$f":"IF($F$5=1,項目表示入力!$N$19,IF($F$5=2,IF(ISERROR(VLOOKUP(B9,入力AA2!$B$8:$GU$58,オフセット番号A!$N$17+1))=TRUE,\"\",VLOOKUP(B9,入力AA2!$B$8:$GU$58,オフセット番号A!$N$17+1)),\"*\"))","v":"内容13,12"},{"$f":"IF($F$5=1,項目表示入力!$O$19,IF($F$5=2,IF(ISERROR(VLOOKUP(B9,入力AA2!$B$8:$GU$58,オフセット番号A!$O$17+1))=TRUE,\"\",VLOOKUP(B9,入力AA2!$B$8:$GU$58,オフセット番号A!$O$17+1)),\"*\"))","v":"内容13,13"},{"$f":"IF($F$5=1,項目表示入力!$P$19,IF($F$5=2,IF(ISERROR(VLOOKUP(B9,入力AA2!$B$8:$GU$58,オフセット番号A!$P$17+1))=TRUE,\"\",VLOOKUP(B9,入力AA2!$B$8:$GU$58,オフセット番号A!$P$17+1)),\"*\"))","v":"内容13,14"},{"$f":"IF($F$5=1,項目表示入力!$Q$19,IF($F$5=2,IF(ISERROR(VLOOKUP(B9,入力AA2!$B$8:$GU$58,オフセット番号A!$Q$17+1))=TRUE,\"\",VLOOKUP(B9,入力AA2!$B$8:$GU$58,オフセット番号A!$Q$17+1)),\"*\"))","v":"内容13,15"},{"$f":"IF($F$5=1,項目表示入力!$R$19,IF($F$5=2,IF(ISERROR(VLOOKUP(B9,入力AA2!$B$8:$GU$58,オフセット番号A!$R$17+1))=TRUE,\"\",VLOOKUP(B9,入力AA2!$B$8:$GU$58,オフセット番号A!$R$17+1)),\"*\"))","v":"内容13,16"},{"$f":"IF($F$5=1,項目表示入力!$S$19,IF($F$5=2,IF(ISERROR(VLOOKUP(B9,入力AA2!$B$8:$GU$58,オフセット番号A!$S$17+1))=TRUE,\"\",VLOOKUP(B9,入力AA2!$B$8:$GU$58,オフセット番号A!$S$17+1)),\"*\"))","v":"内容13,17"},{"$f":"IF($F$5=1,項目表示入力!$T$19,IF($F$5=2,IF(ISERROR(VLOOKUP(B9,入力AA2!$B$8:$GU$58,オフセット番号A!$T$17+1))=TRUE,\"\",VLOOKUP(B9,入力AA2!$B$8:$GU$58,オフセット番号A!$T$17+1)),\"*\"))","v":"内容13,18"},{"$f":"IF($F$5=1,項目表示入力!$U$19,IF($F$5=2,IF(ISERROR(VLOOKUP(B9,入力AA2!$B$8:$GU$58,オフセット番号A!$U$17+1))=TRUE,\"\",VLOOKUP(B9,入力AA2!$B$8:$GU$58,オフセット番号A!$U$17+1)),\"*\"))","v":"内容13,19"},{"$f":"IF($F$5=1,項目表示入力!$V$19,IF($F$5=2,IF(ISERROR(VLOOKUP(B9,入力AA2!$B$8:$GU$58,オフセット番号A!$V$17+1))=TRUE,\"\",VLOOKUP(B9,入力AA2!$B$8:$GU$58,オフセット番号A!$V$17+1)),\"*\"))","v":"内容13,20"}]
[null,{"$f":"IF(行列入力項目!$C$18=\"\",\"\",行列入力項目!$C$18)","v":"行14"},{"$f":"IF($F$5=1,項目表示入力!$C$20,IF($F$5=2,IF(ISERROR(VLOOKUP(B9,入力AA2!$B$8:$GU$58,オフセット番号A!$C$18+1))=TRUE,\"\",VLOOKUP(B9,入力AA2!$B$8:$GU$58,オフセット番号A!$C$18+1)),\"*\"))","v":"内容14,1"},{"$f":"IF($F$5=1,項目表示入力!$D$20,IF($F$5=2,IF(ISERROR(VLOOKUP(B9,入力AA2!$B$8:$GU$58,オフセット番号A!$D$18+1))=TRUE,\"\",VLOOKUP(B9,入力AA2!$B$8:$GU$58,オフセット番号A!$D$18+1)),\"*\"))","v":"内容14,2"},{"$f":"IF($F$5=1,項目表示入力!$E$20,IF($F$5=2,IF(ISERROR(VLOOKUP(B9,入力AA2!$B$8:$GU$58,オフセット番号A!$E$18+1))=TRUE,\"\",VLOOKUP(B9,入力AA2!$B$8:$GU$58,オフセット番号A!$E$18+1)),\"*\"))","v":"内容14,3"},{"$f":"IF($F$5=1,項目表示入力!$F$20,IF($F$5=2,IF(ISERROR(VLOOKUP(B9,入力AA2!$B$8:$GU$58,オフセット番号A!$F$18+1))=TRUE,\"\",VLOOKUP(B9,入力AA2!$B$8:$GU$58,オフセット番号A!$F$18+1)),\"*\"))","v":"内容14,4"},{"$f":"IF($F$5=1,項目表示入力!$G$20,IF($F$5=2,IF(ISERROR(VLOOKUP(B9,入力AA2!$B$8:$GU$58,オフセット番号A!$G$18+1))=TRUE,\"\",VLOOKUP(B9,入力AA2!$B$8:$GU$58,オフセット番号A!$G$18+1)),\"*\"))","v":"内容14,5"},{"$f":"IF($F$5=1,項目表示入力!$H$20,IF($F$5=2,IF(ISERROR(VLOOKUP(B9,入力AA2!$B$8:$GU$58,オフセット番号A!$H$18+1))=TRUE,\"\",VLOOKUP(B9,入力AA2!$B$8:$GU$58,オフセット番号A!$H$18+1)),\"*\"))","v":"内容14,6"},{"$f":"IF($F$5=1,項目表示入力!$I$20,IF($F$5=2,IF(ISERROR(VLOOKUP(B9,入力AA2!$B$8:$GU$58,オフセット番号A!$I$18+1))=TRUE,\"\",VLOOKUP(B9,入力AA2!$B$8:$GU$58,オフセット番号A!$I$18+1)),\"*\"))","v":"内容14,7"},{"$f":"IF($F$5=1,項目表示入力!$J$20,IF($F$5=2,IF(ISERROR(VLOOKUP(B9,入力AA2!$B$8:$GU$58,オフセット番号A!$J$18+1))=TRUE,\"\",VLOOKUP(B9,入力AA2!$B$8:$GU$58,オフセット番号A!$J$18+1)),\"*\"))","v":"内容14,8"},{"$f":"IF($F$5=1,項目表示入力!$K$20,IF($F$5=2,IF(ISERROR(VLOOKUP(B9,入力AA2!$B$8:$GU$58,オフセット番号A!$K$18+1))=TRUE,\"\",VLOOKUP(B9,入力AA2!$B$8:$GU$58,オフセット番号A!$K$18+1)),\"*\"))","v":"内容14,9"},{"$f":"IF($F$5=1,項目表示入力!$L$20,IF($F$5=2,IF(ISERROR(VLOOKUP(B9,入力AA2!$B$8:$GU$58,オフセット番号A!$L$18+1))=TRUE,\"\",VLOOKUP(B9,入力AA2!$B$8:$GU$58,オフセット番号A!$L$18+1)),\"*\"))","v":"内容14,10"},{"$f":"IF($F$5=1,項目表示入力!$M$20,IF($F$5=2,IF(ISERROR(VLOOKUP(B9,入力AA2!$B$8:$GU$58,オフセット番号A!$M$18+1))=TRUE,\"\",VLOOKUP(B9,入力AA2!$B$8:$GU$58,オフセット番号A!$M$18+1)),\"*\"))","v":"内容14,11"},{"$f":"IF($F$5=1,項目表示入力!$N$20,IF($F$5=2,IF(ISERROR(VLOOKUP(B9,入力AA2!$B$8:$GU$58,オフセット番号A!$N$18+1))=TRUE,\"\",VLOOKUP(B9,入力AA2!$B$8:$GU$58,オフセット番号A!$N$18+1)),\"*\"))","v":"内容14,12"},{"$f":"IF($F$5=1,項目表示入力!$O$20,IF($F$5=2,IF(ISERROR(VLOOKUP(B9,入力AA2!$B$8:$GU$58,オフセット番号A!$O$18+1))=TRUE,\"\",VLOOKUP(B9,入力AA2!$B$8:$GU$58,オフセット番号A!$O$18+1)),\"*\"))","v":"内容14,13"},{"$f":"IF($F$5=1,項目表示入力!$P$20,IF($F$5=2,IF(ISERROR(VLOOKUP(B9,入力AA2!$B$8:$GU$58,オフセット番号A!$P$18+1))=TRUE,\"\",VLOOKUP(B9,入力AA2!$B$8:$GU$58,オフセット番号A!$P$18+1)),\"*\"))","v":"内容14,14"},{"$f":"IF($F$5=1,項目表示入力!$Q$20,IF($F$5=2,IF(ISERROR(VLOOKUP(B9,入力AA2!$B$8:$GU$58,オフセット番号A!$Q$18+1))=TRUE,\"\",VLOOKUP(B9,入力AA2!$B$8:$GU$58,オフセット番号A!$Q$18+1)),\"*\"))","v":"内容14,15"},{"$f":"IF($F$5=1,項目表示入力!$R$20,IF($F$5=2,IF(ISERROR(VLOOKUP(B9,入力AA2!$B$8:$GU$58,オフセット番号A!$R$18+1))=TRUE,\"\",VLOOKUP(B9,入力AA2!$B$8:$GU$58,オフセット番号A!$R$18+1)),\"*\"))","v":"内容14,16"},{"$f":"IF($F$5=1,項目表示入力!$S$20,IF($F$5=2,IF(ISERROR(VLOOKUP(B9,入力AA2!$B$8:$GU$58,オフセット番号A!$S$18+1))=TRUE,\"\",VLOOKUP(B9,入力AA2!$B$8:$GU$58,オフセット番号A!$S$18+1)),\"*\"))","v":"内容14,17"},{"$f":"IF($F$5=1,項目表示入力!$T$20,IF($F$5=2,IF(ISERROR(VLOOKUP(B9,入力AA2!$B$8:$GU$58,オフセット番号A!$T$18+1))=TRUE,\"\",VLOOKUP(B9,入力AA2!$B$8:$GU$58,オフセット番号A!$T$18+1)),\"*\"))","v":"内容14,18"},{"$f":"IF($F$5=1,項目表示入力!$U$20,IF($F$5=2,IF(ISERROR(VLOOKUP(B9,入力AA2!$B$8:$GU$58,オフセット番号A!$U$18+1))=TRUE,\"\",VLOOKUP(B9,入力AA2!$B$8:$GU$58,オフセット番号A!$U$18+1)),\"*\"))","v":"内容14,19"},{"$f":"IF($F$5=1,項目表示入力!$V$20,IF($F$5=2,IF(ISERROR(VLOOKUP(B9,入力AA2!$B$8:$GU$58,オフセット番号A!$V$18+1))=TRUE,\"\",VLOOKUP(B9,入力AA2!$B$8:$GU$58,オフセット番号A!$V$18+1)),\"*\"))","v":"内容14,20"}]
[null,{"$f":"IF(行列入力項目!$C$19=\"\",\"\",行列入力項目!$C$19)","v":"行15"},{"$f":"IF($F$5=1,項目表示入力!$C$21,IF($F$5=2,IF(ISERROR(VLOOKUP(B9,入力AA2!$B$8:$GU$58,オフセット番号A!$C$19+1))=TRUE,\"\",VLOOKUP(B9,入力AA2!$B$8:$GU$58,オフセット番号A!$C$19+1)),\"*\"))","v":"内容15,1"},{"$f":"IF($F$5=1,項目表示入力!$D$21,IF($F$5=2,IF(ISERROR(VLOOKUP(B9,入力AA2!$B$8:$GU$58,オフセット番号A!$D$19+1))=TRUE,\"\",VLOOKUP(B9,入力AA2!$B$8:$GU$58,オフセット番号A!$D$19+1)),\"*\"))","v":"内容15,2"},{"$f":"IF($F$5=1,項目表示入力!$E$21,IF($F$5=2,IF(ISERROR(VLOOKUP(B9,入力AA2!$B$8:$GU$58,オフセット番号A!$E$19+1))=TRUE,\"\",VLOOKUP(B9,入力AA2!$B$8:$GU$58,オフセット番号A!$E$19+1)),\"*\"))","v":"内容15,3"},{"$f":"IF($F$5=1,項目表示入力!$F$21,IF($F$5=2,IF(ISERROR(VLOOKUP(B9,入力AA2!$B$8:$GU$58,オフセット番号A!$F$19+1))=TRUE,\"\",VLOOKUP(B9,入力AA2!$B$8:$GU$58,オフセット番号A!$F$19+1)),\"*\"))","v":"内容15,4"},{"$f":"IF($F$5=1,項目表示入力!$G$21,IF($F$5=2,IF(ISERROR(VLOOKUP(B9,入力AA2!$B$8:$GU$58,オフセット番号A!$G$19+1))=TRUE,\"\",VLOOKUP(B9,入力AA2!$B$8:$GU$58,オフセット番号A!$G$19+1)),\"*\"))","v":"内容15,5"},{"$f":"IF($F$5=1,項目表示入力!$H$21,IF($F$5=2,IF(ISERROR(VLOOKUP(B9,入力AA2!$B$8:$GU$58,オフセット番号A!$H$19+1))=TRUE,\"\",VLOOKUP(B9,入力AA2!$B$8:$GU$58,オフセット番号A!$H$19+1)),\"*\"))","v":"内容15,6"},{"$f":"IF($F$5=1,項目表示入力!$I$21,IF($F$5=2,IF(ISERROR(VLOOKUP(B9,入力AA2!$B$8:$GU$58,オフセット番号A!$I$19+1))=TRUE,\"\",VLOOKUP(B9,入力AA2!$B$8:$GU$58,オフセット番号A!$I$19+1)),\"*\"))","v":"内容15,7"},{"$f":"IF($F$5=1,項目表示入力!$J$21,IF($F$5=2,IF(ISERROR(VLOOKUP(B9,入力AA2!$B$8:$GU$58,オフセット番号A!$J$19+1))=TRUE,\"\",VLOOKUP(B9,入力AA2!$B$8:$GU$58,オフセット番号A!$J$19+1)),\"*\"))","v":"内容15,8"},{"$f":"IF($F$5=1,項目表示入力!$K$21,IF($F$5=2,IF(ISERROR(VLOOKUP(B9,入力AA2!$B$8:$GU$58,オフセット番号A!$K$19+1))=TRUE,\"\",VLOOKUP(B9,入力AA2!$B$8:$GU$58,オフセット番号A!$K$19+1)),\"*\"))","v":"内容15,9"},{"$f":"IF($F$5=1,項目表示入力!$L$21,IF($F$5=2,IF(ISERROR(VLOOKUP(B9,入力AA2!$B$8:$GU$58,オフセット番号A!$L$19+1))=TRUE,\"\",VLOOKUP(B9,入力AA2!$B$8:$GU$58,オフセット番号A!$L$19+1)),\"*\"))","v":"内容15,10"},{"$f":"IF($F$5=1,項目表示入力!$M$21,IF($F$5=2,IF(ISERROR(VLOOKUP(B9,入力AA2!$B$8:$GU$58,オフセット番号A!$M$19+1))=TRUE,\"\",VLOOKUP(B9,入力AA2!$B$8:$GU$58,オフセット番号A!$M$19+1)),\"*\"))","v":"内容15,11"},{"$f":"IF($F$5=1,項目表示入力!$N$21,IF($F$5=2,IF(ISERROR(VLOOKUP(B9,入力AA2!$B$8:$GU$58,オフセット番号A!$N$19+1))=TRUE,\"\",VLOOKUP(B9,入力AA2!$B$8:$GU$58,オフセット番号A!$N$19+1)),\"*\"))","v":"内容15,12"},{"$f":"IF($F$5=1,項目表示入力!$O$21,IF($F$5=2,IF(ISERROR(VLOOKUP(B9,入力AA2!$B$8:$GU$58,オフセット番号A!$O$19+1))=TRUE,\"\",VLOOKUP(B9,入力AA2!$B$8:$GU$58,オフセット番号A!$O$19+1)),\"*\"))","v":"内容15,13"},{"$f":"IF($F$5=1,項目表示入力!$P$21,IF($F$5=2,IF(ISERROR(VLOOKUP(B9,入力AA2!$B$8:$GU$58,オフセット番号A!$P$19+1))=TRUE,\"\",VLOOKUP(B9,入力AA2!$B$8:$GU$58,オフセット番号A!$P$19+1)),\"*\"))","v":"内容15,14"},{"$f":"IF($F$5=1,項目表示入力!$Q$21,IF($F$5=2,IF(ISERROR(VLOOKUP(B9,入力AA2!$B$8:$GU$58,オフセット番号A!$Q$19+1))=TRUE,\"\",VLOOKUP(B9,入力AA2!$B$8:$GU$58,オフセット番号A!$Q$19+1)),\"*\"))","v":"内容15,15"},{"$f":"IF($F$5=1,項目表示入力!$R$21,IF($F$5=2,IF(ISERROR(VLOOKUP(B9,入力AA2!$B$8:$GU$58,オフセット番号A!$R$19+1))=TRUE,\"\",VLOOKUP(B9,入力AA2!$B$8:$GU$58,オフセット番号A!$R$19+1)),\"*\"))","v":"内容15,16"},{"$f":"IF($F$5=1,項目表示入力!$S$21,IF($F$5=2,IF(ISERROR(VLOOKUP(B9,入力AA2!$B$8:$GU$58,オフセット番号A!$S$19+1))=TRUE,\"\",VLOOKUP(B9,入力AA2!$B$8:$GU$58,オフセット番号A!$S$19+1)),\"*\"))","v":"内容15,17"},{"$f":"IF($F$5=1,項目表示入力!$T$21,IF($F$5=2,IF(ISERROR(VLOOKUP(B9,入力AA2!$B$8:$GU$58,オフセット番号A!$T$19+1))=TRUE,\"\",VLOOKUP(B9,入力AA2!$B$8:$GU$58,オフセット番号A!$T$19+1)),\"*\"))","v":"内容15,18"},{"$f":"IF($F$5=1,項目表示入力!$U$21,IF($F$5=2,IF(ISERROR(VLOOKUP(B9,入力AA2!$B$8:$GU$58,オフセット番号A!$U$19+1))=TRUE,\"\",VLOOKUP(B9,入力AA2!$B$8:$GU$58,オフセット番号A!$U$19+1)),\"*\"))","v":"内容15,19"},{"$f":"IF($F$5=1,項目表示入力!$V$21,IF($F$5=2,IF(ISERROR(VLOOKUP(B9,入力AA2!$B$8:$GU$58,オフセット番号A!$V$19+1))=TRUE,\"\",VLOOKUP(B9,入力AA2!$B$8:$GU$58,オフセット番号A!$V$19+1)),\"*\"))","v":"内容15,20"}]
[null,{"$f":"IF(行列入力項目!$C$20=\"\",\"\",行列入力項目!$C$20)","v":"行16"},{"$f":"IF($F$5=1,項目表示入力!$C$22,IF($F$5=2,IF(ISERROR(VLOOKUP(B9,入力AA2!$B$8:$GU$58,オフセット番号A!$C$20+1))=TRUE,\"\",VLOOKUP(B9,入力AA2!$B$8:$GU$58,オフセット番号A!$C$20+1)),\"*\"))","v":"内容16,1"},{"$f":"IF($F$5=1,項目表示入力!$D$22,IF($F$5=2,IF(ISERROR(VLOOKUP(B9,入力AA2!$B$8:$GU$58,オフセット番号A!$D$20+1))=TRUE,\"\",VLOOKUP(B9,入力AA2!$B$8:$GU$58,オフセット番号A!$D$20+1)),\"*\"))","v":"内容16,2"},{"$f":"IF($F$5=1,項目表示入力!$E$22,IF($F$5=2,IF(ISERROR(VLOOKUP(B9,入力AA2!$B$8:$GU$58,オフセット番号A!$E$20+1))=TRUE,\"\",VLOOKUP(B9,入力AA2!$B$8:$GU$58,オフセット番号A!$E$20+1)),\"*\"))","v":"内容16,3"},{"$f":"IF($F$5=1,項目表示入力!$F$22,IF($F$5=2,IF(ISERROR(VLOOKUP(B9,入力AA2!$B$8:$GU$58,オフセット番号A!$F$20+1))=TRUE,\"\",VLOOKUP(B9,入力AA2!$B$8:$GU$58,オフセット番号A!$F$20+1)),\"*\"))","v":"内容16,4"},{"$f":"IF($F$5=1,項目表示入力!$G$22,IF($F$5=2,IF(ISERROR(VLOOKUP(B9,入力AA2!$B$8:$GU$58,オフセット番号A!$G$20+1))=TRUE,\"\",VLOOKUP(B9,入力AA2!$B$8:$GU$58,オフセット番号A!$G$20+1)),\"*\"))","v":"内容16,5"},{"$f":"IF($F$5=1,項目表示入力!$H$22,IF($F$5=2,IF(ISERROR(VLOOKUP(B9,入力AA2!$B$8:$GU$58,オフセット番号A!$H$20+1))=TRUE,\"\",VLOOKUP(B9,入力AA2!$B$8:$GU$58,オフセット番号A!$H$20+1)),\"*\"))","v":"内容16,6"},{"$f":"IF($F$5=1,項目表示入力!$I$22,IF($F$5=2,IF(ISERROR(VLOOKUP(B9,入力AA2!$B$8:$GU$58,オフセット番号A!$I$20+1))=TRUE,\"\",VLOOKUP(B9,入力AA2!$B$8:$GU$58,オフセット番号A!$I$20+1)),\"*\"))","v":"内容16,7"},{"$f":"IF($F$5=1,項目表示入力!$J$22,IF($F$5=2,IF(ISERROR(VLOOKUP(B9,入力AA2!$B$8:$GU$58,オフセット番号A!$J$20+1))=TRUE,\"\",VLOOKUP(B9,入力AA2!$B$8:$GU$58,オフセット番号A!$J$20+1)),\"*\"))","v":"内容16,8"},{"$f":"IF($F$5=1,項目表示入力!$K$22,IF($F$5=2,IF(ISERROR(VLOOKUP(B9,入力AA2!$B$8:$GU$58,オフセット番号A!$K$20+1))=TRUE,\"\",VLOOKUP(B9,入力AA2!$B$8:$GU$58,オフセット番号A!$K$20+1)),\"*\"))","v":"内容16,9"},{"$f":"IF($F$5=1,項目表示入力!$L$22,IF($F$5=2,IF(ISERROR(VLOOKUP(B9,入力AA2!$B$8:$GU$58,オフセット番号A!$L$20+1))=TRUE,\"\",VLOOKUP(B9,入力AA2!$B$8:$GU$58,オフセット番号A!$L$20+1)),\"*\"))","v":"内容16,10"},{"$f":"IF($F$5=1,項目表示入力!$M$22,IF($F$5=2,IF(ISERROR(VLOOKUP(B9,入力AA2!$B$8:$GU$58,オフセット番号A!$M$20+1))=TRUE,\"\",VLOOKUP(B9,入力AA2!$B$8:$GU$58,オフセット番号A!$M$20+1)),\"*\"))","v":"内容16,11"},{"$f":"IF($F$5=1,項目表示入力!$N$22,IF($F$5=2,IF(ISERROR(VLOOKUP(B9,入力AA2!$B$8:$GU$58,オフセット番号A!$N$20+1))=TRUE,\"\",VLOOKUP(B9,入力AA2!$B$8:$GU$58,オフセット番号A!$N$20+1)),\"*\"))","v":"内容16,12"},{"$f":"IF($F$5=1,項目表示入力!$O$22,IF($F$5=2,IF(ISERROR(VLOOKUP(B9,入力AA2!$B$8:$GU$58,オフセット番号A!$O$20+1))=TRUE,\"\",VLOOKUP(B9,入力AA2!$B$8:$GU$58,オフセット番号A!$O$20+1)),\"*\"))","v":"内容16,13"},{"$f":"IF($F$5=1,項目表示入力!$P$22,IF($F$5=2,IF(ISERROR(VLOOKUP(B9,入力AA2!$B$8:$GU$58,オフセット番号A!$P$20+1))=TRUE,\"\",VLOOKUP(B9,入力AA2!$B$8:$GU$58,オフセット番号A!$P$20+1)),\"*\"))","v":"内容16,14"},{"$f":"IF($F$5=1,項目表示入力!$Q$22,IF($F$5=2,IF(ISERROR(VLOOKUP(B9,入力AA2!$B$8:$GU$58,オフセット番号A!$Q$20+1))=TRUE,\"\",VLOOKUP(B9,入力AA2!$B$8:$GU$58,オフセット番号A!$Q$20+1)),\"*\"))","v":"内容16,15"},{"$f":"IF($F$5=1,項目表示入力!$R$22,IF($F$5=2,IF(ISERROR(VLOOKUP(B9,入力AA2!$B$8:$GU$58,オフセット番号A!$R$20+1))=TRUE,\"\",VLOOKUP(B9,入力AA2!$B$8:$GU$58,オフセット番号A!$R$20+1)),\"*\"))","v":"内容16,16"},{"$f":"IF($F$5=1,項目表示入力!$S$22,IF($F$5=2,IF(ISERROR(VLOOKUP(B9,入力AA2!$B$8:$GU$58,オフセット番号A!$S$20+1))=TRUE,\"\",VLOOKUP(B9,入力AA2!$B$8:$GU$58,オフセット番号A!$S$20+1)),\"*\"))","v":"内容16,17"},{"$f":"IF($F$5=1,項目表示入力!$T$22,IF($F$5=2,IF(ISERROR(VLOOKUP(B9,入力AA2!$B$8:$GU$58,オフセット番号A!$T$20+1))=TRUE,\"\",VLOOKUP(B9,入力AA2!$B$8:$GU$58,オフセット番号A!$T$20+1)),\"*\"))","v":"内容16,18"},{"$f":"IF($F$5=1,項目表示入力!$U$22,IF($F$5=2,IF(ISERROR(VLOOKUP(B9,入力AA2!$B$8:$GU$58,オフセット番号A!$U$20+1))=TRUE,\"\",VLOOKUP(B9,入力AA2!$B$8:$GU$58,オフセット番号A!$U$20+1)),\"*\"))","v":"内容16,19"},{"$f":"IF($F$5=1,項目表示入力!$V$22,IF($F$5=2,IF(ISERROR(VLOOKUP(B9,入力AA2!$B$8:$GU$58,オフセット番号A!$V$20+1))=TRUE,\"\",VLOOKUP(B9,入力AA2!$B$8:$GU$58,オフセット番号A!$V$20+1)),\"*\"))","v":"内容16,20"}]
[null,{"$f":"IF(行列入力項目!$C$21=\"\",\"\",行列入力項目!$C$21)","v":"行17"},{"$f":"IF($F$5=1,項目表示入力!$C$23,IF($F$5=2,IF(ISERROR(VLOOKUP(B9,入力AA2!$B$8:$GU$58,オフセット番号A!$C$21+1))=TRUE,\"\",VLOOKUP(B9,入力AA2!$B$8:$GU$58,オフセット番号A!$C$21+1)),\"*\"))","v":"内容17,1"},{"$f":"IF($F$5=1,項目表示入力!$D$23,IF($F$5=2,IF(ISERROR(VLOOKUP(B9,入力AA2!$B$8:$GU$58,オフセット番号A!$D$21+1))=TRUE,\"\",VLOOKUP(B9,入力AA2!$B$8:$GU$58,オフセット番号A!$D$21+1)),\"*\"))","v":"内容17,2"},{"$f":"IF($F$5=1,項目表示入力!$E$23,IF($F$5=2,IF(ISERROR(VLOOKUP(B9,入力AA2!$B$8:$GU$58,オフセット番号A!$E$21+1))=TRUE,\"\",VLOOKUP(B9,入力AA2!$B$8:$GU$58,オフセット番号A!$E$21+1)),\"*\"))","v":"内容17,3"},{"$f":"IF($F$5=1,項目表示入力!$F$23,IF($F$5=2,IF(ISERROR(VLOOKUP(B9,入力AA2!$B$8:$GU$58,オフセット番号A!$F$21+1))=TRUE,\"\",VLOOKUP(B9,入力AA2!$B$8:$GU$58,オフセット番号A!$F$21+1)),\"*\"))","v":"内容17,4"},{"$f":"IF($F$5=1,項目表示入力!$G$23,IF($F$5=2,IF(ISERROR(VLOOKUP(B9,入力AA2!$B$8:$GU$58,オフセット番号A!$G$21+1))=TRUE,\"\",VLOOKUP(B9,入力AA2!$B$8:$GU$58,オフセット番号A!$G$21+1)),\"*\"))","v":"内容17,5"},{"$f":"IF($F$5=1,項目表示入力!$H$23,IF($F$5=2,IF(ISERROR(VLOOKUP(B9,入力AA2!$B$8:$GU$58,オフセット番号A!$H$21+1))=TRUE,\"\",VLOOKUP(B9,入力AA2!$B$8:$GU$58,オフセット番号A!$H$21+1)),\"*\"))","v":"内容17,6"},{"$f":"IF($F$5=1,項目表示入力!$I$23,IF($F$5=2,IF(ISERROR(VLOOKUP(B9,入力AA2!$B$8:$GU$58,オフセット番号A!$I$21+1))=TRUE,\"\",VLOOKUP(B9,入力AA2!$B$8:$GU$58,オフセット番号A!$I$21+1)),\"*\"))","v":"内容17,7"},{"$f":"IF($F$5=1,項目表示入力!$J$23,IF($F$5=2,IF(ISERROR(VLOOKUP(B9,入力AA2!$B$8:$GU$58,オフセット番号A!$J$21+1))=TRUE,\"\",VLOOKUP(B9,入力AA2!$B$8:$GU$58,オフセット番号A!$J$21+1)),\"*\"))","v":"内容17,8"},{"$f":"IF($F$5=1,項目表示入力!$K$23,IF($F$5=2,IF(ISERROR(VLOOKUP(B9,入力AA2!$B$8:$GU$58,オフセット番号A!$K$21+1))=TRUE,\"\",VLOOKUP(B9,入力AA2!$B$8:$GU$58,オフセット番号A!$K$21+1)),\"*\"))","v":"内容17,9"},{"$f":"IF($F$5=1,項目表示入力!$L$23,IF($F$5=2,IF(ISERROR(VLOOKUP(B9,入力AA2!$B$8:$GU$58,オフセット番号A!$L$21+1))=TRUE,\"\",VLOOKUP(B9,入力AA2!$B$8:$GU$58,オフセット番号A!$L$21+1)),\"*\"))","v":"内容17,10"},{"$f":"IF($F$5=1,項目表示入力!$M$23,IF($F$5=2,IF(ISERROR(VLOOKUP(B9,入力AA2!$B$8:$GU$58,オフセット番号A!$M$21+1))=TRUE,\"\",VLOOKUP(B9,入力AA2!$B$8:$GU$58,オフセット番号A!$M$21+1)),\"*\"))","v":"内容17,11"},{"$f":"IF($F$5=1,項目表示入力!$N$23,IF($F$5=2,IF(ISERROR(VLOOKUP(B9,入力AA2!$B$8:$GU$58,オフセット番号A!$N$21+1))=TRUE,\"\",VLOOKUP(B9,入力AA2!$B$8:$GU$58,オフセット番号A!$N$21+1)),\"*\"))","v":"内容17,12"},{"$f":"IF($F$5=1,項目表示入力!$O$23,IF($F$5=2,IF(ISERROR(VLOOKUP(B9,入力AA2!$B$8:$GU$58,オフセット番号A!$O$21+1))=TRUE,\"\",VLOOKUP(B9,入力AA2!$B$8:$GU$58,オフセット番号A!$O$21+1)),\"*\"))","v":"内容17,13"},{"$f":"IF($F$5=1,項目表示入力!$P$23,IF($F$5=2,IF(ISERROR(VLOOKUP(B9,入力AA2!$B$8:$GU$58,オフセット番号A!$P$21+1))=TRUE,\"\",VLOOKUP(B9,入力AA2!$B$8:$GU$58,オフセット番号A!$P$21+1)),\"*\"))","v":"内容17,14"},{"$f":"IF($F$5=1,項目表示入力!$Q$23,IF($F$5=2,IF(ISERROR(VLOOKUP(B9,入力AA2!$B$8:$GU$58,オフセット番号A!$Q$21+1))=TRUE,\"\",VLOOKUP(B9,入力AA2!$B$8:$GU$58,オフセット番号A!$Q$21+1)),\"*\"))","v":"内容17,15"},{"$f":"IF($F$5=1,項目表示入力!$R$23,IF($F$5=2,IF(ISERROR(VLOOKUP(B9,入力AA2!$B$8:$GU$58,オフセット番号A!$R$21+1))=TRUE,\"\",VLOOKUP(B9,入力AA2!$B$8:$GU$58,オフセット番号A!$R$21+1)),\"*\"))","v":"内容17,16"},{"$f":"IF($F$5=1,項目表示入力!$S$23,IF($F$5=2,IF(ISERROR(VLOOKUP(B9,入力AA2!$B$8:$GU$58,オフセット番号A!$S$21+1))=TRUE,\"\",VLOOKUP(B9,入力AA2!$B$8:$GU$58,オフセット番号A!$S$21+1)),\"*\"))","v":"内容17,17"},{"$f":"IF($F$5=1,項目表示入力!$T$23,IF($F$5=2,IF(ISERROR(VLOOKUP(B9,入力AA2!$B$8:$GU$58,オフセット番号A!$T$21+1))=TRUE,\"\",VLOOKUP(B9,入力AA2!$B$8:$GU$58,オフセット番号A!$T$21+1)),\"*\"))","v":"内容17,18"},{"$f":"IF($F$5=1,項目表示入力!$U$23,IF($F$5=2,IF(ISERROR(VLOOKUP(B9,入力AA2!$B$8:$GU$58,オフセット番号A!$U$21+1))=TRUE,\"\",VLOOKUP(B9,入力AA2!$B$8:$GU$58,オフセット番号A!$U$21+1)),\"*\"))","v":"内容17,19"},{"$f":"IF($F$5=1,項目表示入力!$V$23,IF($F$5=2,IF(ISERROR(VLOOKUP(B9,入力AA2!$B$8:$GU$58,オフセット番号A!$V$21+1))=TRUE,\"\",VLOOKUP(B9,入力AA2!$B$8:$GU$58,オフセット番号A!$V$21+1)),\"*\"))","v":"内容17,20"}]
[null,{"$f":"IF(行列入力項目!$C$22=\"\",\"\",行列入力項目!$C$22)","v":"行18"},{"$f":"IF($F$5=1,項目表示入力!$C$24,IF($F$5=2,IF(ISERROR(VLOOKUP(B9,入力AA2!$B$8:$GU$58,オフセット番号A!$C$22+1))=TRUE,\"\",VLOOKUP(B9,入力AA2!$B$8:$GU$58,オフセット番号A!$C$22+1)),\"*\"))","v":"内容18,1"},{"$f":"IF($F$5=1,項目表示入力!$D$24,IF($F$5=2,IF(ISERROR(VLOOKUP(B9,入力AA2!$B$8:$GU$58,オフセット番号A!$D$22+1))=TRUE,\"\",VLOOKUP(B9,入力AA2!$B$8:$GU$58,オフセット番号A!$D$22+1)),\"*\"))","v":"内容18,2"},{"$f":"IF($F$5=1,項目表示入力!$E$24,IF($F$5=2,IF(ISERROR(VLOOKUP(B9,入力AA2!$B$8:$GU$58,オフセット番号A!$E$22+1))=TRUE,\"\",VLOOKUP(B9,入力AA2!$B$8:$GU$58,オフセット番号A!$E$22+1)),\"*\"))","v":"内容18,3"},{"$f":"IF($F$5=1,項目表示入力!$F$24,IF($F$5=2,IF(ISERROR(VLOOKUP(B9,入力AA2!$B$8:$GU$58,オフセット番号A!$F$22+1))=TRUE,\"\",VLOOKUP(B9,入力AA2!$B$8:$GU$58,オフセット番号A!$F$22+1)),\"*\"))","v":"内容18,4"},{"$f":"IF($F$5=1,項目表示入力!$G$24,IF($F$5=2,IF(ISERROR(VLOOKUP(B9,入力AA2!$B$8:$GU$58,オフセット番号A!$G$22+1))=TRUE,\"\",VLOOKUP(B9,入力AA2!$B$8:$GU$58,オフセット番号A!$G$22+1)),\"*\"))","v":"内容18,5"},{"$f":"IF($F$5=1,項目表示入力!$H$24,IF($F$5=2,IF(ISERROR(VLOOKUP(B9,入力AA2!$B$8:$GU$58,オフセット番号A!$H$22+1))=TRUE,\"\",VLOOKUP(B9,入力AA2!$B$8:$GU$58,オフセット番号A!$H$22+1)),\"*\"))","v":"内容18,6"},{"$f":"IF($F$5=1,項目表示入力!$I$24,IF($F$5=2,IF(ISERROR(VLOOKUP(B9,入力AA2!$B$8:$GU$58,オフセット番号A!$I$22+1))=TRUE,\"\",VLOOKUP(B9,入力AA2!$B$8:$GU$58,オフセット番号A!$I$22+1)),\"*\"))","v":"内容18,7"},{"$f":"IF($F$5=1,項目表示入力!$J$24,IF($F$5=2,IF(ISERROR(VLOOKUP(B9,入力AA2!$B$8:$GU$58,オフセット番号A!$J$22+1))=TRUE,\"\",VLOOKUP(B9,入力AA2!$B$8:$GU$58,オフセット番号A!$J$22+1)),\"*\"))","v":"内容18,8"},{"$f":"IF($F$5=1,項目表示入力!$K$24,IF($F$5=2,IF(ISERROR(VLOOKUP(B9,入力AA2!$B$8:$GU$58,オフセット番号A!$K$22+1))=TRUE,\"\",VLOOKUP(B9,入力AA2!$B$8:$GU$58,オフセット番号A!$K$22+1)),\"*\"))","v":"内容18,9"},{"$f":"IF($F$5=1,項目表示入力!$L$24,IF($F$5=2,IF(ISERROR(VLOOKUP(B9,入力AA2!$B$8:$GU$58,オフセット番号A!$L$22+1))=TRUE,\"\",VLOOKUP(B9,入力AA2!$B$8:$GU$58,オフセット番号A!$L$22+1)),\"*\"))","v":"内容18,10"},{"$f":"IF($F$5=1,項目表示入力!$M$24,IF($F$5=2,IF(ISERROR(VLOOKUP(B9,入力AA2!$B$8:$GU$58,オフセット番号A!$M$22+1))=TRUE,\"\",VLOOKUP(B9,入力AA2!$B$8:$GU$58,オフセット番号A!$M$22+1)),\"*\"))","v":"内容18,11"},{"$f":"IF($F$5=1,項目表示入力!$N$24,IF($F$5=2,IF(ISERROR(VLOOKUP(B9,入力AA2!$B$8:$GU$58,オフセット番号A!$N$22+1))=TRUE,\"\",VLOOKUP(B9,入力AA2!$B$8:$GU$58,オフセット番号A!$N$22+1)),\"*\"))","v":"内容18,12"},{"$f":"IF($F$5=1,項目表示入力!$O$24,IF($F$5=2,IF(ISERROR(VLOOKUP(B9,入力AA2!$B$8:$GU$58,オフセット番号A!$O$22+1))=TRUE,\"\",VLOOKUP(B9,入力AA2!$B$8:$GU$58,オフセット番号A!$O$22+1)),\"*\"))","v":"内容18,13"},{"$f":"IF($F$5=1,項目表示入力!$P$24,IF($F$5=2,IF(ISERROR(VLOOKUP(B9,入力AA2!$B$8:$GU$58,オフセット番号A!$P$22+1))=TRUE,\"\",VLOOKUP(B9,入力AA2!$B$8:$GU$58,オフセット番号A!$P$22+1)),\"*\"))","v":"内容18,14"},{"$f":"IF($F$5=1,項目表示入力!$Q$24,IF($F$5=2,IF(ISERROR(VLOOKUP(B9,入力AA2!$B$8:$GU$58,オフセット番号A!$Q$22+1))=TRUE,\"\",VLOOKUP(B9,入力AA2!$B$8:$GU$58,オフセット番号A!$Q$22+1)),\"*\"))","v":"内容18,15"},{"$f":"IF($F$5=1,項目表示入力!$R$24,IF($F$5=2,IF(ISERROR(VLOOKUP(B9,入力AA2!$B$8:$GU$58,オフセット番号A!$R$22+1))=TRUE,\"\",VLOOKUP(B9,入力AA2!$B$8:$GU$58,オフセット番号A!$R$22+1)),\"*\"))","v":"内容18,16"},{"$f":"IF($F$5=1,項目表示入力!$S$24,IF($F$5=2,IF(ISERROR(VLOOKUP(B9,入力AA2!$B$8:$GU$58,オフセット番号A!$S$22+1))=TRUE,\"\",VLOOKUP(B9,入力AA2!$B$8:$GU$58,オフセット番号A!$S$22+1)),\"*\"))","v":"内容18,17"},{"$f":"IF($F$5=1,項目表示入力!$T$24,IF($F$5=2,IF(ISERROR(VLOOKUP(B9,入力AA2!$B$8:$GU$58,オフセット番号A!$T$22+1))=TRUE,\"\",VLOOKUP(B9,入力AA2!$B$8:$GU$58,オフセット番号A!$T$22+1)),\"*\"))","v":"内容18,18"},{"$f":"IF($F$5=1,項目表示入力!$U$24,IF($F$5=2,IF(ISERROR(VLOOKUP(B9,入力AA2!$B$8:$GU$58,オフセット番号A!$U$22+1))=TRUE,\"\",VLOOKUP(B9,入力AA2!$B$8:$GU$58,オフセット番号A!$U$22+1)),\"*\"))","v":"内容18,19"},{"$f":"IF($F$5=1,項目表示入力!$V$24,IF($F$5=2,IF(ISERROR(VLOOKUP(B9,入力AA2!$B$8:$GU$58,オフセット番号A!$V$22+1))=TRUE,\"\",VLOOKUP(B9,入力AA2!$B$8:$GU$58,オフセット番号A!$V$22+1)),\"*\"))","v":"内容18,20"}]
[null,{"$f":"IF(行列入力項目!$C$23=\"\",\"\",行列入力項目!$C$23)","v":"行19"},{"$f":"IF($F$5=1,項目表示入力!$C$25,IF($F$5=2,IF(ISERROR(VLOOKUP(B9,入力AA2!$B$8:$GU$58,オフセット番号A!$C$23+1))=TRUE,\"\",VLOOKUP(B9,入力AA2!$B$8:$GU$58,オフセット番号A!$C$23+1)),\"*\"))","v":"内容19,1"},{"$f":"IF($F$5=1,項目表示入力!$D$25,IF($F$5=2,IF(ISERROR(VLOOKUP(B9,入力AA2!$B$8:$GU$58,オフセット番号A!$D$23+1))=TRUE,\"\",VLOOKUP(B9,入力AA2!$B$8:$GU$58,オフセット番号A!$D$23+1)),\"*\"))","v":"内容19,2"},{"$f":"IF($F$5=1,項目表示入力!$E$25,IF($F$5=2,IF(ISERROR(VLOOKUP(B9,入力AA2!$B$8:$GU$58,オフセット番号A!$E$23+1))=TRUE,\"\",VLOOKUP(B9,入力AA2!$B$8:$GU$58,オフセット番号A!$E$23+1)),\"*\"))","v":"内容19,3"},{"$f":"IF($F$5=1,項目表示入力!$F$25,IF($F$5=2,IF(ISERROR(VLOOKUP(B9,入力AA2!$B$8:$GU$58,オフセット番号A!$F$23+1))=TRUE,\"\",VLOOKUP(B9,入力AA2!$B$8:$GU$58,オフセット番号A!$F$23+1)),\"*\"))","v":"内容19,4"},{"$f":"IF($F$5=1,項目表示入力!$G$25,IF($F$5=2,IF(ISERROR(VLOOKUP(B9,入力AA2!$B$8:$GU$58,オフセット番号A!$G$23+1))=TRUE,\"\",VLOOKUP(B9,入力AA2!$B$8:$GU$58,オフセット番号A!$G$23+1)),\"*\"))","v":"内容19,5"},{"$f":"IF($F$5=1,項目表示入力!$H$25,IF($F$5=2,IF(ISERROR(VLOOKUP(B9,入力AA2!$B$8:$GU$58,オフセット番号A!$H$23+1))=TRUE,\"\",VLOOKUP(B9,入力AA2!$B$8:$GU$58,オフセット番号A!$H$23+1)),\"*\"))","v":"内容19,6"},{"$f":"IF($F$5=1,項目表示入力!$I$25,IF($F$5=2,IF(ISERROR(VLOOKUP(B9,入力AA2!$B$8:$GU$58,オフセット番号A!$I$23+1))=TRUE,\"\",VLOOKUP(B9,入力AA2!$B$8:$GU$58,オフセット番号A!$I$23+1)),\"*\"))","v":"内容19,7"},{"$f":"IF($F$5=1,項目表示入力!$J$25,IF($F$5=2,IF(ISERROR(VLOOKUP(B9,入力AA2!$B$8:$GU$58,オフセット番号A!$J$23+1))=TRUE,\"\",VLOOKUP(B9,入力AA2!$B$8:$GU$58,オフセット番号A!$J$23+1)),\"*\"))","v":"内容19,8"},{"$f":"IF($F$5=1,項目表示入力!$K$25,IF($F$5=2,IF(ISERROR(VLOOKUP(B9,入力AA2!$B$8:$GU$58,オフセット番号A!$K$23+1))=TRUE,\"\",VLOOKUP(B9,入力AA2!$B$8:$GU$58,オフセット番号A!$K$23+1)),\"*\"))","v":"内容19,9"},{"$f":"IF($F$5=1,項目表示入力!$L$25,IF($F$5=2,IF(ISERROR(VLOOKUP(B9,入力AA2!$B$8:$GU$58,オフセット番号A!$L$23+1))=TRUE,\"\",VLOOKUP(B9,入力AA2!$B$8:$GU$58,オフセット番号A!$L$23+1)),\"*\"))","v":"内容19,10"},{"$f":"IF($F$5=1,項目表示入力!$M$25,IF($F$5=2,IF(ISERROR(VLOOKUP(B9,入力AA2!$B$8:$GU$58,オフセット番号A!$M$23+1))=TRUE,\"\",VLOOKUP(B9,入力AA2!$B$8:$GU$58,オフセット番号A!$M$23+1)),\"*\"))","v":"内容19,11"},{"$f":"IF($F$5=1,項目表示入力!$N$25,IF($F$5=2,IF(ISERROR(VLOOKUP(B9,入力AA2!$B$8:$GU$58,オフセット番号A!$N$23+1))=TRUE,\"\",VLOOKUP(B9,入力AA2!$B$8:$GU$58,オフセット番号A!$N$23+1)),\"*\"))","v":"内容19,12"},{"$f":"IF($F$5=1,項目表示入力!$O$25,IF($F$5=2,IF(ISERROR(VLOOKUP(B9,入力AA2!$B$8:$GU$58,オフセット番号A!$O$23+1))=TRUE,\"\",VLOOKUP(B9,入力AA2!$B$8:$GU$58,オフセット番号A!$O$23+1)),\"*\"))","v":"内容19,13"},{"$f":"IF($F$5=1,項目表示入力!$P$25,IF($F$5=2,IF(ISERROR(VLOOKUP(B9,入力AA2!$B$8:$GU$58,オフセット番号A!$P$23+1))=TRUE,\"\",VLOOKUP(B9,入力AA2!$B$8:$GU$58,オフセット番号A!$P$23+1)),\"*\"))","v":"内容19,14"},{"$f":"IF($F$5=1,項目表示入力!$Q$25,IF($F$5=2,IF(ISERROR(VLOOKUP(B9,入力AA2!$B$8:$GU$58,オフセット番号A!$Q$23+1))=TRUE,\"\",VLOOKUP(B9,入力AA2!$B$8:$GU$58,オフセット番号A!$Q$23+1)),\"*\"))","v":"内容19,15"},{"$f":"IF($F$5=1,項目表示入力!$R$25,IF($F$5=2,IF(ISERROR(VLOOKUP(B9,入力AA2!$B$8:$GU$58,オフセット番号A!$R$23+1))=TRUE,\"\",VLOOKUP(B9,入力AA2!$B$8:$GU$58,オフセット番号A!$R$23+1)),\"*\"))","v":"内容19,16"},{"$f":"IF($F$5=1,項目表示入力!$S$25,IF($F$5=2,IF(ISERROR(VLOOKUP(B9,入力AA2!$B$8:$GU$58,オフセット番号A!$S$23+1))=TRUE,\"\",VLOOKUP(B9,入力AA2!$B$8:$GU$58,オフセット番号A!$S$23+1)),\"*\"))","v":"内容19,17"},{"$f":"IF($F$5=1,項目表示入力!$T$25,IF($F$5=2,IF(ISERROR(VLOOKUP(B9,入力AA2!$B$8:$GU$58,オフセット番号A!$T$23+1))=TRUE,\"\",VLOOKUP(B9,入力AA2!$B$8:$GU$58,オフセット番号A!$T$23+1)),\"*\"))","v":"内容19,18"},{"$f":"IF($F$5=1,項目表示入力!$U$25,IF($F$5=2,IF(ISERROR(VLOOKUP(B9,入力AA2!$B$8:$GU$58,オフセット番号A!$U$23+1))=TRUE,\"\",VLOOKUP(B9,入力AA2!$B$8:$GU$58,オフセット番号A!$U$23+1)),\"*\"))","v":"内容19,19"},{"$f":"IF($F$5=1,項目表示入力!$V$25,IF($F$5=2,IF(ISERROR(VLOOKUP(B9,入力AA2!$B$8:$GU$58,オフセット番号A!$V$23+1))=TRUE,\"\",VLOOKUP(B9,入力AA2!$B$8:$GU$58,オフセット番号A!$V$23+1)),\"*\"))","v":"内容19,20"}]
[null,{"$f":"IF(行列入力項目!$C$24=\"\",\"\",行列入力項目!$C$24)","v":"行20"},{"$f":"IF($F$5=1,項目表示入力!$C$26,IF($F$5=2,IF(ISERROR(VLOOKUP(B9,入力AA2!$B$8:$GU$58,オフセット番号A!$C$24+1))=TRUE,\"\",VLOOKUP(B9,入力AA2!$B$8:$GU$58,オフセット番号A!$C$24+1)),\"*\"))","v":"内容20,1"},{"$f":"IF($F$5=1,項目表示入力!$D$26,IF($F$5=2,IF(ISERROR(VLOOKUP(B9,入力AA2!$B$8:$GU$58,オフセット番号A!$D$24+1))=TRUE,\"\",VLOOKUP(B9,入力AA2!$B$8:$GU$58,オフセット番号A!$D$24+1)),\"*\"))","v":"内容20,2"},{"$f":"IF($F$5=1,項目表示入力!$E$26,IF($F$5=2,IF(ISERROR(VLOOKUP(B9,入力AA2!$B$8:$GU$58,オフセット番号A!$E$24+1))=TRUE,\"\",VLOOKUP(B9,入力AA2!$B$8:$GU$58,オフセット番号A!$E$24+1)),\"*\"))","v":"内容20,3"},{"$f":"IF($F$5=1,項目表示入力!$F$26,IF($F$5=2,IF(ISERROR(VLOOKUP(B9,入力AA2!$B$8:$GU$58,オフセット番号A!$F$24+1))=TRUE,\"\",VLOOKUP(B9,入力AA2!$B$8:$GU$58,オフセット番号A!$F$24+1)),\"*\"))","v":"内容20,4"},{"$f":"IF($F$5=1,項目表示入力!$G$26,IF($F$5=2,IF(ISERROR(VLOOKUP(B9,入力AA2!$B$8:$GU$58,オフセット番号A!$G$24+1))=TRUE,\"\",VLOOKUP(B9,入力AA2!$B$8:$GU$58,オフセット番号A!$G$24+1)),\"*\"))","v":"内容20,5"},{"$f":"IF($F$5=1,項目表示入力!$H$26,IF($F$5=2,IF(ISERROR(VLOOKUP(B9,入力AA2!$B$8:$GU$58,オフセット番号A!$H$24+1))=TRUE,\"\",VLOOKUP(B9,入力AA2!$B$8:$GU$58,オフセット番号A!$H$24+1)),\"*\"))","v":"内容20,6"},{"$f":"IF($F$5=1,項目表示入力!$I$26,IF($F$5=2,IF(ISERROR(VLOOKUP(B9,入力AA2!$B$8:$GU$58,オフセット番号A!$I$24+1))=TRUE,\"\",VLOOKUP(B9,入力AA2!$B$8:$GU$58,オフセット番号A!$I$24+1)),\"*\"))","v":"内容20,7"},{"$f":"IF($F$5=1,項目表示入力!$J$26,IF($F$5=2,IF(ISERROR(VLOOKUP(B9,入力AA2!$B$8:$GU$58,オフセット番号A!$J$24+1))=TRUE,\"\",VLOOKUP(B9,入力AA2!$B$8:$GU$58,オフセット番号A!$J$24+1)),\"*\"))","v":"内容20,8"},{"$f":"IF($F$5=1,項目表示入力!$K$26,IF($F$5=2,IF(ISERROR(VLOOKUP(B9,入力AA2!$B$8:$GU$58,オフセット番号A!$K$24+1))=TRUE,\"\",VLOOKUP(B9,入力AA2!$B$8:$GU$58,オフセット番号A!$K$24+1)),\"*\"))","v":"内容20,9"},{"$f":"IF($F$5=1,項目表示入力!$L$26,IF($F$5=2,IF(ISERROR(VLOOKUP(B9,入力AA2!$B$8:$GU$58,オフセット番号A!$L$24+1))=TRUE,\"\",VLOOKUP(B9,入力AA2!$B$8:$GU$58,オフセット番号A!$L$24+1)),\"*\"))","v":"内容20,10"},{"$f":"IF($F$5=1,項目表示入力!$M$26,IF($F$5=2,IF(ISERROR(VLOOKUP(B9,入力AA2!$B$8:$GU$58,オフセット番号A!$M$24+1))=TRUE,\"\",VLOOKUP(B9,入力AA2!$B$8:$GU$58,オフセット番号A!$M$24+1)),\"*\"))","v":"内容20,11"},{"$f":"IF($F$5=1,項目表示入力!$N$26,IF($F$5=2,IF(ISERROR(VLOOKUP(B9,入力AA2!$B$8:$GU$58,オフセット番号A!$N$24+1))=TRUE,\"\",VLOOKUP(B9,入力AA2!$B$8:$GU$58,オフセット番号A!$N$24+1)),\"*\"))","v":"内容20,12"},{"$f":"IF($F$5=1,項目表示入力!$O$26,IF($F$5=2,IF(ISERROR(VLOOKUP(B9,入力AA2!$B$8:$GU$58,オフセット番号A!$O$24+1))=TRUE,\"\",VLOOKUP(B9,入力AA2!$B$8:$GU$58,オフセット番号A!$O$24+1)),\"*\"))","v":"内容20,13"},{"$f":"IF($F$5=1,項目表示入力!$P$26,IF($F$5=2,IF(ISERROR(VLOOKUP(B9,入力AA2!$B$8:$GU$58,オフセット番号A!$P$24+1))=TRUE,\"\",VLOOKUP(B9,入力AA2!$B$8:$GU$58,オフセット番号A!$P$24+1)),\"*\"))","v":"内容20,14"},{"$f":"IF($F$5=1,項目表示入力!$Q$26,IF($F$5=2,IF(ISERROR(VLOOKUP(B9,入力AA2!$B$8:$GU$58,オフセット番号A!$Q$24+1))=TRUE,\"\",VLOOKUP(B9,入力AA2!$B$8:$GU$58,オフセット番号A!$Q$24+1)),\"*\"))","v":"内容20,15"},{"$f":"IF($F$5=1,項目表示入力!$R$26,IF($F$5=2,IF(ISERROR(VLOOKUP(B9,入力AA2!$B$8:$GU$58,オフセット番号A!$R$24+1))=TRUE,\"\",VLOOKUP(B9,入力AA2!$B$8:$GU$58,オフセット番号A!$R$24+1)),\"*\"))","v":"内容20,16"},{"$f":"IF($F$5=1,項目表示入力!$S$26,IF($F$5=2,IF(ISERROR(VLOOKUP(B9,入力AA2!$B$8:$GU$58,オフセット番号A!$S$24+1))=TRUE,\"\",VLOOKUP(B9,入力AA2!$B$8:$GU$58,オフセット番号A!$S$24+1)),\"*\"))","v":"内容20,17"},{"$f":"IF($F$5=1,項目表示入力!$T$26,IF($F$5=2,IF(ISERROR(VLOOKUP(B9,入力AA2!$B$8:$GU$58,オフセット番号A!$T$24+1))=TRUE,\"\",VLOOKUP(B9,入力AA2!$B$8:$GU$58,オフセット番号A!$T$24+1)),\"*\"))","v":"内容20,18"},{"$f":"IF($F$5=1,項目表示入力!$U$26,IF($F$5=2,IF(ISERROR(VLOOKUP(B9,入力AA2!$B$8:$GU$58,オフセット番号A!$U$24+1))=TRUE,\"\",VLOOKUP(B9,入力AA2!$B$8:$GU$58,オフセット番号A!$U$24+1)),\"*\"))","v":"内容20,19"},{"$f":"IF($F$5=1,項目表示入力!$V$26,IF($F$5=2,IF(ISERROR(VLOOKUP(B9,入力AA2!$B$8:$GU$58,オフセット番号A!$V$24+1))=TRUE,\"\",VLOOKUP(B9,入力AA2!$B$8:$GU$58,オフセット番号A!$V$24+1)),\"*\"))","v":"内容20,20"}]
[null,{"$f":"IF(行列入力項目!$C$25=\"\",\"\",行列入力項目!$C$25)","v":"行21"},{"$f":"IF($F$5=1,項目表示入力!$C$27,IF($F$5=2,IF(ISERROR(VLOOKUP(B9,入力AA3!$B$8:$GU$58,オフセット番号A!$C$25+1))=TRUE,\"\",VLOOKUP(B9,入力AA3!$B$8:$GU$58,オフセット番号A!$C$25+1)),\"*\"))","v":"内容21,1"},{"$f":"IF($F$5=1,項目表示入力!$D$27,IF($F$5=2,IF(ISERROR(VLOOKUP(B9,入力AA3!$B$8:$GU$58,オフセット番号A!$D$25+1))=TRUE,\"\",VLOOKUP(B9,入力AA3!$B$8:$GU$58,オフセット番号A!$D$25+1)),\"*\"))","v":"内容21,2"},{"$f":"IF($F$5=1,項目表示入力!$E$27,IF($F$5=2,IF(ISERROR(VLOOKUP(B9,入力AA3!$B$8:$GU$58,オフセット番号A!$E$25+1))=TRUE,\"\",VLOOKUP(B9,入力AA3!$B$8:$GU$58,オフセット番号A!$E$25+1)),\"*\"))","v":"内容21,3"},{"$f":"IF($F$5=1,項目表示入力!$F$27,IF($F$5=2,IF(ISERROR(VLOOKUP(B9,入力AA3!$B$8:$GU$58,オフセット番号A!$F$25+1))=TRUE,\"\",VLOOKUP(B9,入力AA3!$B$8:$GU$58,オフセット番号A!$F$25+1)),\"*\"))","v":"内容21,4"},{"$f":"IF($F$5=1,項目表示入力!$G$27,IF($F$5=2,IF(ISERROR(VLOOKUP(B9,入力AA3!$B$8:$GU$58,オフセット番号A!$G$25+1))=TRUE,\"\",VLOOKUP(B9,入力AA3!$B$8:$GU$58,オフセット番号A!$G$25+1)),\"*\"))","v":"内容21,5"},{"$f":"IF($F$5=1,項目表示入力!$H$27,IF($F$5=2,IF(ISERROR(VLOOKUP(B9,入力AA3!$B$8:$GU$58,オフセット番号A!$H$25+1))=TRUE,\"\",VLOOKUP(B9,入力AA3!$B$8:$GU$58,オフセット番号A!$H$25+1)),\"*\"))","v":"内容21,6"},{"$f":"IF($F$5=1,項目表示入力!$I$27,IF($F$5=2,IF(ISERROR(VLOOKUP(B9,入力AA3!$B$8:$GU$58,オフセット番号A!$I$25+1))=TRUE,\"\",VLOOKUP(B9,入力AA3!$B$8:$GU$58,オフセット番号A!$I$25+1)),\"*\"))","v":"内容21,7"},{"$f":"IF($F$5=1,項目表示入力!$J$27,IF($F$5=2,IF(ISERROR(VLOOKUP(B9,入力AA3!$B$8:$GU$58,オフセット番号A!$J$25+1))=TRUE,\"\",VLOOKUP(B9,入力AA3!$B$8:$GU$58,オフセット番号A!$J$25+1)),\"*\"))","v":"内容21,8"},{"$f":"IF($F$5=1,項目表示入力!$K$27,IF($F$5=2,IF(ISERROR(VLOOKUP(B9,入力AA3!$B$8:$GU$58,オフセット番号A!$K$25+1))=TRUE,\"\",VLOOKUP(B9,入力AA3!$B$8:$GU$58,オフセット番号A!$K$25+1)),\"*\"))","v":"内容21,9"},{"$f":"IF($F$5=1,項目表示入力!$L$27,IF($F$5=2,IF(ISERROR(VLOOKUP(B9,入力AA3!$B$8:$GU$58,オフセット番号A!$L$25+1))=TRUE,\"\",VLOOKUP(B9,入力AA3!$B$8:$GU$58,オフセット番号A!$L$25+1)),\"*\"))","v":"内容21,10"},{"$f":"IF($F$5=1,項目表示入力!$M$27,IF($F$5=2,IF(ISERROR(VLOOKUP(B9,入力AA3!$B$8:$GU$58,オフセット番号A!$M$25+1))=TRUE,\"\",VLOOKUP(B9,入力AA3!$B$8:$GU$58,オフセット番号A!$M$25+1)),\"*\"))","v":"内容21,11"},{"$f":"IF($F$5=1,項目表示入力!$N$27,IF($F$5=2,IF(ISERROR(VLOOKUP(B9,入力AA3!$B$8:$GU$58,オフセット番号A!$N$25+1))=TRUE,\"\",VLOOKUP(B9,入力AA3!$B$8:$GU$58,オフセット番号A!$N$25+1)),\"*\"))","v":"内容21,12"},{"$f":"IF($F$5=1,項目表示入力!$O$27,IF($F$5=2,IF(ISERROR(VLOOKUP(B9,入力AA3!$B$8:$GU$58,オフセット番号A!$O$25+1))=TRUE,\"\",VLOOKUP(B9,入力AA3!$B$8:$GU$58,オフセット番号A!$O$25+1)),\"*\"))","v":"内容21,13"},{"$f":"IF($F$5=1,項目表示入力!$P$27,IF($F$5=2,IF(ISERROR(VLOOKUP(B9,入力AA3!$B$8:$GU$58,オフセット番号A!$P$25+1))=TRUE,\"\",VLOOKUP(B9,入力AA3!$B$8:$GU$58,オフセット番号A!$P$25+1)),\"*\"))","v":"内容21,14"},{"$f":"IF($F$5=1,項目表示入力!$Q$27,IF($F$5=2,IF(ISERROR(VLOOKUP(B9,入力AA3!$B$8:$GU$58,オフセット番号A!$Q$25+1))=TRUE,\"\",VLOOKUP(B9,入力AA3!$B$8:$GU$58,オフセット番号A!$Q$25+1)),\"*\"))","v":"内容21,15"},{"$f":"IF($F$5=1,項目表示入力!$R$27,IF($F$5=2,IF(ISERROR(VLOOKUP(B9,入力AA3!$B$8:$GU$58,オフセット番号A!$R$25+1))=TRUE,\"\",VLOOKUP(B9,入力AA3!$B$8:$GU$58,オフセット番号A!$R$25+1)),\"*\"))","v":"内容21,16"},{"$f":"IF($F$5=1,項目表示入力!$S$27,IF($F$5=2,IF(ISERROR(VLOOKUP(B9,入力AA3!$B$8:$GU$58,オフセット番号A!$S$25+1))=TRUE,\"\",VLOOKUP(B9,入力AA3!$B$8:$GU$58,オフセット番号A!$S$25+1)),\"*\"))","v":"内容21,17"},{"$f":"IF($F$5=1,項目表示入力!$T$27,IF($F$5=2,IF(ISERROR(VLOOKUP(B9,入力AA3!$B$8:$GU$58,オフセット番号A!$T$25+1))=TRUE,\"\",VLOOKUP(B9,入力AA3!$B$8:$GU$58,オフセット番号A!$T$25+1)),\"*\"))","v":"内容21,18"},{"$f":"IF($F$5=1,項目表示入力!$U$27,IF($F$5=2,IF(ISERROR(VLOOKUP(B9,入力AA3!$B$8:$GU$58,オフセット番号A!$U$25+1))=TRUE,\"\",VLOOKUP(B9,入力AA3!$B$8:$GU$58,オフセット番号A!$U$25+1)),\"*\"))","v":"内容21,19"},{"$f":"IF($F$5=1,項目表示入力!$V$27,IF($F$5=2,IF(ISERROR(VLOOKUP(B9,入力AA3!$B$8:$GU$58,オフセット番号A!$V$25+1))=TRUE,\"\",VLOOKUP(B9,入力AA3!$B$8:$GU$58,オフセット番号A!$V$25+1)),\"*\"))","v":"内容21,20"}]
[null,{"$f":"IF(行列入力項目!$C$26=\"\",\"\",行列入力項目!$C$26)","v":"行22"},{"$f":"IF($F$5=1,項目表示入力!$C$28,IF($F$5=2,IF(ISERROR(VLOOKUP(B9,入力AA3!$B$8:$GU$58,オフセット番号A!$C$26+1))=TRUE,\"\",VLOOKUP(B9,入力AA3!$B$8:$GU$58,オフセット番号A!$C$26+1)),\"*\"))","v":"内容22,1"},{"$f":"IF($F$5=1,項目表示入力!$D$28,IF($F$5=2,IF(ISERROR(VLOOKUP(B9,入力AA3!$B$8:$GU$58,オフセット番号A!$D$26+1))=TRUE,\"\",VLOOKUP(B9,入力AA3!$B$8:$GU$58,オフセット番号A!$D$26+1)),\"*\"))","v":"内容22,2"},{"$f":"IF($F$5=1,項目表示入力!$E$28,IF($F$5=2,IF(ISERROR(VLOOKUP(B9,入力AA3!$B$8:$GU$58,オフセット番号A!$E$26+1))=TRUE,\"\",VLOOKUP(B9,入力AA3!$B$8:$GU$58,オフセット番号A!$E$26+1)),\"*\"))","v":"内容22,3"},{"$f":"IF($F$5=1,項目表示入力!$F$28,IF($F$5=2,IF(ISERROR(VLOOKUP(B9,入力AA3!$B$8:$GU$58,オフセット番号A!$F$26+1))=TRUE,\"\",VLOOKUP(B9,入力AA3!$B$8:$GU$58,オフセット番号A!$F$26+1)),\"*\"))","v":"内容22,4"},{"$f":"IF($F$5=1,項目表示入力!$G$28,IF($F$5=2,IF(ISERROR(VLOOKUP(B9,入力AA3!$B$8:$GU$58,オフセット番号A!$G$26+1))=TRUE,\"\",VLOOKUP(B9,入力AA3!$B$8:$GU$58,オフセット番号A!$G$26+1)),\"*\"))","v":"内容22,5"},{"$f":"IF($F$5=1,項目表示入力!$H$28,IF($F$5=2,IF(ISERROR(VLOOKUP(B9,入力AA3!$B$8:$GU$58,オフセット番号A!$H$26+1))=TRUE,\"\",VLOOKUP(B9,入力AA3!$B$8:$GU$58,オフセット番号A!$H$26+1)),\"*\"))","v":"内容22,6"},{"$f":"IF($F$5=1,項目表示入力!$I$28,IF($F$5=2,IF(ISERROR(VLOOKUP(B9,入力AA3!$B$8:$GU$58,オフセット番号A!$I$26+1))=TRUE,\"\",VLOOKUP(B9,入力AA3!$B$8:$GU$58,オフセット番号A!$I$26+1)),\"*\"))","v":"内容22,7"},{"$f":"IF($F$5=1,項目表示入力!$J$28,IF($F$5=2,IF(ISERROR(VLOOKUP(B9,入力AA3!$B$8:$GU$58,オフセット番号A!$J$26+1))=TRUE,\"\",VLOOKUP(B9,入力AA3!$B$8:$GU$58,オフセット番号A!$J$26+1)),\"*\"))","v":"内容22,8"},{"$f":"IF($F$5=1,項目表示入力!$K$28,IF($F$5=2,IF(ISERROR(VLOOKUP(B9,入力AA3!$B$8:$GU$58,オフセット番号A!$K$26+1))=TRUE,\"\",VLOOKUP(B9,入力AA3!$B$8:$GU$58,オフセット番号A!$K$26+1)),\"*\"))","v":"内容22,9"},{"$f":"IF($F$5=1,項目表示入力!$L$28,IF($F$5=2,IF(ISERROR(VLOOKUP(B9,入力AA3!$B$8:$GU$58,オフセット番号A!$L$26+1))=TRUE,\"\",VLOOKUP(B9,入力AA3!$B$8:$GU$58,オフセット番号A!$L$26+1)),\"*\"))","v":"内容22,10"},{"$f":"IF($F$5=1,項目表示入力!$M$28,IF($F$5=2,IF(ISERROR(VLOOKUP(B9,入力AA3!$B$8:$GU$58,オフセット番号A!$M$26+1))=TRUE,\"\",VLOOKUP(B9,入力AA3!$B$8:$GU$58,オフセット番号A!$M$26+1)),\"*\"))","v":"内容22,11"},{"$f":"IF($F$5=1,項目表示入力!$N$28,IF($F$5=2,IF(ISERROR(VLOOKUP(B9,入力AA3!$B$8:$GU$58,オフセット番号A!$N$26+1))=TRUE,\"\",VLOOKUP(B9,入力AA3!$B$8:$GU$58,オフセット番号A!$N$26+1)),\"*\"))","v":"内容22,12"},{"$f":"IF($F$5=1,項目表示入力!$O$28,IF($F$5=2,IF(ISERROR(VLOOKUP(B9,入力AA3!$B$8:$GU$58,オフセット番号A!$O$26+1))=TRUE,\"\",VLOOKUP(B9,入力AA3!$B$8:$GU$58,オフセット番号A!$O$26+1)),\"*\"))","v":"内容22,13"},{"$f":"IF($F$5=1,項目表示入力!$P$28,IF($F$5=2,IF(ISERROR(VLOOKUP(B9,入力AA3!$B$8:$GU$58,オフセット番号A!$P$26+1))=TRUE,\"\",VLOOKUP(B9,入力AA3!$B$8:$GU$58,オフセット番号A!$P$26+1)),\"*\"))","v":"内容22,14"},{"$f":"IF($F$5=1,項目表示入力!$Q$28,IF($F$5=2,IF(ISERROR(VLOOKUP(B9,入力AA3!$B$8:$GU$58,オフセット番号A!$Q$26+1))=TRUE,\"\",VLOOKUP(B9,入力AA3!$B$8:$GU$58,オフセット番号A!$Q$26+1)),\"*\"))","v":"内容22,15"},{"$f":"IF($F$5=1,項目表示入力!$R$28,IF($F$5=2,IF(ISERROR(VLOOKUP(B9,入力AA3!$B$8:$GU$58,オフセット番号A!$R$26+1))=TRUE,\"\",VLOOKUP(B9,入力AA3!$B$8:$GU$58,オフセット番号A!$R$26+1)),\"*\"))","v":"内容22,16"},{"$f":"IF($F$5=1,項目表示入力!$S$28,IF($F$5=2,IF(ISERROR(VLOOKUP(B9,入力AA3!$B$8:$GU$58,オフセット番号A!$S$26+1))=TRUE,\"\",VLOOKUP(B9,入力AA3!$B$8:$GU$58,オフセット番号A!$S$26+1)),\"*\"))","v":"内容22,17"},{"$f":"IF($F$5=1,項目表示入力!$T$28,IF($F$5=2,IF(ISERROR(VLOOKUP(B9,入力AA3!$B$8:$GU$58,オフセット番号A!$T$26+1))=TRUE,\"\",VLOOKUP(B9,入力AA3!$B$8:$GU$58,オフセット番号A!$T$26+1)),\"*\"))","v":"内容22,18"},{"$f":"IF($F$5=1,項目表示入力!$U$28,IF($F$5=2,IF(ISERROR(VLOOKUP(B9,入力AA3!$B$8:$GU$58,オフセット番号A!$U$26+1))=TRUE,\"\",VLOOKUP(B9,入力AA3!$B$8:$GU$58,オフセット番号A!$U$26+1)),\"*\"))","v":"内容22,19"},{"$f":"IF($F$5=1,項目表示入力!$V$28,IF($F$5=2,IF(ISERROR(VLOOKUP(B9,入力AA3!$B$8:$GU$58,オフセット番号A!$V$26+1))=TRUE,\"\",VLOOKUP(B9,入力AA3!$B$8:$GU$58,オフセット番号A!$V$26+1)),\"*\"))","v":"内容22,20"}]
[null,{"$f":"IF(行列入力項目!$C$27=\"\",\"\",行列入力項目!$C$27)","v":"行23"},{"$f":"IF($F$5=1,項目表示入力!$C$29,IF($F$5=2,IF(ISERROR(VLOOKUP(B9,入力AA3!$B$8:$GU$58,オフセット番号A!$C$27+1))=TRUE,\"\",VLOOKUP(B9,入力AA3!$B$8:$GU$58,オフセット番号A!$C$27+1)),\"*\"))","v":"内容23,1"},{"$f":"IF($F$5=1,項目表示入力!$D$29,IF($F$5=2,IF(ISERROR(VLOOKUP(B9,入力AA3!$B$8:$GU$58,オフセット番号A!$D$27+1))=TRUE,\"\",VLOOKUP(B9,入力AA3!$B$8:$GU$58,オフセット番号A!$D$27+1)),\"*\"))","v":"内容23,2"},{"$f":"IF($F$5=1,項目表示入力!$E$29,IF($F$5=2,IF(ISERROR(VLOOKUP(B9,入力AA3!$B$8:$GU$58,オフセット番号A!$E$27+1))=TRUE,\"\",VLOOKUP(B9,入力AA3!$B$8:$GU$58,オフセット番号A!$E$27+1)),\"*\"))","v":"内容23,3"},{"$f":"IF($F$5=1,項目表示入力!$F$29,IF($F$5=2,IF(ISERROR(VLOOKUP(B9,入力AA3!$B$8:$GU$58,オフセット番号A!$F$27+1))=TRUE,\"\",VLOOKUP(B9,入力AA3!$B$8:$GU$58,オフセット番号A!$F$27+1)),\"*\"))","v":"内容23,4"},{"$f":"IF($F$5=1,項目表示入力!$G$29,IF($F$5=2,IF(ISERROR(VLOOKUP(B9,入力AA3!$B$8:$GU$58,オフセット番号A!$G$27+1))=TRUE,\"\",VLOOKUP(B9,入力AA3!$B$8:$GU$58,オフセット番号A!$G$27+1)),\"*\"))","v":"内容23,5"},{"$f":"IF($F$5=1,項目表示入力!$H$29,IF($F$5=2,IF(ISERROR(VLOOKUP(B9,入力AA3!$B$8:$GU$58,オフセット番号A!$H$27+1))=TRUE,\"\",VLOOKUP(B9,入力AA3!$B$8:$GU$58,オフセット番号A!$H$27+1)),\"*\"))","v":"内容23,6"},{"$f":"IF($F$5=1,項目表示入力!$I$29,IF($F$5=2,IF(ISERROR(VLOOKUP(B9,入力AA3!$B$8:$GU$58,オフセット番号A!$I$27+1))=TRUE,\"\",VLOOKUP(B9,入力AA3!$B$8:$GU$58,オフセット番号A!$I$27+1)),\"*\"))","v":"内容23,7"},{"$f":"IF($F$5=1,項目表示入力!$J$29,IF($F$5=2,IF(ISERROR(VLOOKUP(B9,入力AA3!$B$8:$GU$58,オフセット番号A!$J$27+1))=TRUE,\"\",VLOOKUP(B9,入力AA3!$B$8:$GU$58,オフセット番号A!$J$27+1)),\"*\"))","v":"内容23,8"},{"$f":"IF($F$5=1,項目表示入力!$K$29,IF($F$5=2,IF(ISERROR(VLOOKUP(B9,入力AA3!$B$8:$GU$58,オフセット番号A!$K$27+1))=TRUE,\"\",VLOOKUP(B9,入力AA3!$B$8:$GU$58,オフセット番号A!$K$27+1)),\"*\"))","v":"内容23,9"},{"$f":"IF($F$5=1,項目表示入力!$L$29,IF($F$5=2,IF(ISERROR(VLOOKUP(B9,入力AA3!$B$8:$GU$58,オフセット番号A!$L$27+1))=TRUE,\"\",VLOOKUP(B9,入力AA3!$B$8:$GU$58,オフセット番号A!$L$27+1)),\"*\"))","v":"内容23,10"},{"$f":"IF($F$5=1,項目表示入力!$M$29,IF($F$5=2,IF(ISERROR(VLOOKUP(B9,入力AA3!$B$8:$GU$58,オフセット番号A!$M$27+1))=TRUE,\"\",VLOOKUP(B9,入力AA3!$B$8:$GU$58,オフセット番号A!$M$27+1)),\"*\"))","v":"内容23,11"},{"$f":"IF($F$5=1,項目表示入力!$N$29,IF($F$5=2,IF(ISERROR(VLOOKUP(B9,入力AA3!$B$8:$GU$58,オフセット番号A!$N$27+1))=TRUE,\"\",VLOOKUP(B9,入力AA3!$B$8:$GU$58,オフセット番号A!$N$27+1)),\"*\"))","v":"内容23,12"},{"$f":"IF($F$5=1,項目表示入力!$O$29,IF($F$5=2,IF(ISERROR(VLOOKUP(B9,入力AA3!$B$8:$GU$58,オフセット番号A!$O$27+1))=TRUE,\"\",VLOOKUP(B9,入力AA3!$B$8:$GU$58,オフセット番号A!$O$27+1)),\"*\"))","v":"内容23,13"},{"$f":"IF($F$5=1,項目表示入力!$P$29,IF($F$5=2,IF(ISERROR(VLOOKUP(B9,入力AA3!$B$8:$GU$58,オフセット番号A!$P$27+1))=TRUE,\"\",VLOOKUP(B9,入力AA3!$B$8:$GU$58,オフセット番号A!$P$27+1)),\"*\"))","v":"内容23,14"},{"$f":"IF($F$5=1,項目表示入力!$Q$29,IF($F$5=2,IF(ISERROR(VLOOKUP(B9,入力AA3!$B$8:$GU$58,オフセット番号A!$Q$27+1))=TRUE,\"\",VLOOKUP(B9,入力AA3!$B$8:$GU$58,オフセット番号A!$Q$27+1)),\"*\"))","v":"内容23,15"},{"$f":"IF($F$5=1,項目表示入力!$R$29,IF($F$5=2,IF(ISERROR(VLOOKUP(B9,入力AA3!$B$8:$GU$58,オフセット番号A!$R$27+1))=TRUE,\"\",VLOOKUP(B9,入力AA3!$B$8:$GU$58,オフセット番号A!$R$27+1)),\"*\"))","v":"内容23,16"},{"$f":"IF($F$5=1,項目表示入力!$S$29,IF($F$5=2,IF(ISERROR(VLOOKUP(B9,入力AA3!$B$8:$GU$58,オフセット番号A!$S$27+1))=TRUE,\"\",VLOOKUP(B9,入力AA3!$B$8:$GU$58,オフセット番号A!$S$27+1)),\"*\"))","v":"内容23,17"},{"$f":"IF($F$5=1,項目表示入力!$T$29,IF($F$5=2,IF(ISERROR(VLOOKUP(B9,入力AA3!$B$8:$GU$58,オフセット番号A!$T$27+1))=TRUE,\"\",VLOOKUP(B9,入力AA3!$B$8:$GU$58,オフセット番号A!$T$27+1)),\"*\"))","v":"内容23,18"},{"$f":"IF($F$5=1,項目表示入力!$U$29,IF($F$5=2,IF(ISERROR(VLOOKUP(B9,入力AA3!$B$8:$GU$58,オフセット番号A!$U$27+1))=TRUE,\"\",VLOOKUP(B9,入力AA3!$B$8:$GU$58,オフセット番号A!$U$27+1)),\"*\"))","v":"内容23,19"},{"$f":"IF($F$5=1,項目表示入力!$V$29,IF($F$5=2,IF(ISERROR(VLOOKUP(B9,入力AA3!$B$8:$GU$58,オフセット番号A!$V$27+1))=TRUE,\"\",VLOOKUP(B9,入力AA3!$B$8:$GU$58,オフセット番号A!$V$27+1)),\"*\"))","v":"内容23,20"}]
[null,{"$f":"IF(行列入力項目!$C$28=\"\",\"\",行列入力項目!$C$28)","v":"行24"},{"$f":"IF($F$5=1,項目表示入力!$C$30,IF($F$5=2,IF(ISERROR(VLOOKUP(B9,入力AA3!$B$8:$GU$58,オフセット番号A!$C$28+1))=TRUE,\"\",VLOOKUP(B9,入力AA3!$B$8:$GU$58,オフセット番号A!$C$28+1)),\"*\"))","v":"内容24,1"},{"$f":"IF($F$5=1,項目表示入力!$D$30,IF($F$5=2,IF(ISERROR(VLOOKUP(B9,入力AA3!$B$8:$GU$58,オフセット番号A!$D$28+1))=TRUE,\"\",VLOOKUP(B9,入力AA3!$B$8:$GU$58,オフセット番号A!$D$28+1)),\"*\"))","v":"内容24,2"},{"$f":"IF($F$5=1,項目表示入力!$E$30,IF($F$5=2,IF(ISERROR(VLOOKUP(B9,入力AA3!$B$8:$GU$58,オフセット番号A!$E$28+1))=TRUE,\"\",VLOOKUP(B9,入力AA3!$B$8:$GU$58,オフセット番号A!$E$28+1)),\"*\"))","v":"内容24,3"},{"$f":"IF($F$5=1,項目表示入力!$F$30,IF($F$5=2,IF(ISERROR(VLOOKUP(B9,入力AA3!$B$8:$GU$58,オフセット番号A!$F$28+1))=TRUE,\"\",VLOOKUP(B9,入力AA3!$B$8:$GU$58,オフセット番号A!$F$28+1)),\"*\"))","v":"内容24,4"},{"$f":"IF($F$5=1,項目表示入力!$G$30,IF($F$5=2,IF(ISERROR(VLOOKUP(B9,入力AA3!$B$8:$GU$58,オフセット番号A!$G$28+1))=TRUE,\"\",VLOOKUP(B9,入力AA3!$B$8:$GU$58,オフセット番号A!$G$28+1)),\"*\"))","v":"内容24,5"},{"$f":"IF($F$5=1,項目表示入力!$H$30,IF($F$5=2,IF(ISERROR(VLOOKUP(B9,入力AA3!$B$8:$GU$58,オフセット番号A!$H$28+1))=TRUE,\"\",VLOOKUP(B9,入力AA3!$B$8:$GU$58,オフセット番号A!$H$28+1)),\"*\"))","v":"内容24,6"},{"$f":"IF($F$5=1,項目表示入力!$I$30,IF($F$5=2,IF(ISERROR(VLOOKUP(B9,入力AA3!$B$8:$GU$58,オフセット番号A!$I$28+1))=TRUE,\"\",VLOOKUP(B9,入力AA3!$B$8:$GU$58,オフセット番号A!$I$28+1)),\"*\"))","v":"内容24,7"},{"$f":"IF($F$5=1,項目表示入力!$J$30,IF($F$5=2,IF(ISERROR(VLOOKUP(B9,入力AA3!$B$8:$GU$58,オフセット番号A!$J$28+1))=TRUE,\"\",VLOOKUP(B9,入力AA3!$B$8:$GU$58,オフセット番号A!$J$28+1)),\"*\"))","v":"内容24,8"},{"$f":"IF($F$5=1,項目表示入力!$K$30,IF($F$5=2,IF(ISERROR(VLOOKUP($B$9,入力AA3!$B$8:$GU$58,オフセット番号A!$K$28+1))=TRUE,\"\",VLOOKUP(B9,入力AA3!$B$8:$GU$58,オフセット番号A!$K$28+1)),\"*\"))","v":"内容24,9"},{"$f":"IF($F$5=1,項目表示入力!$L$30,IF($F$5=2,IF(ISERROR(VLOOKUP(B9,入力AA3!$B$8:$GU$58,オフセット番号A!$L$28+1))=TRUE,\"\",VLOOKUP(B9,入力AA3!$B$8:$GU$58,オフセット番号A!$L$28+1)),\"*\"))","v":"内容24,10"},{"$f":"IF($F$5=1,項目表示入力!$M$30,IF($F$5=2,IF(ISERROR(VLOOKUP(B9,入力AA3!$B$8:$GU$58,オフセット番号A!$M$28+1))=TRUE,\"\",VLOOKUP(B9,入力AA3!$B$8:$GU$58,オフセット番号A!$M$28+1)),\"*\"))","v":"内容24,11"},{"$f":"IF($F$5=1,項目表示入力!$N$30,IF($F$5=2,IF(ISERROR(VLOOKUP($B$9,入力AA3!$B$8:$GU$58,オフセット番号A!$N$28+1))=TRUE,\"\",VLOOKUP(B9,入力AA3!$B$8:$GU$58,オフセット番号A!$N$28+1)),\"*\"))","v":"内容24,12"},{"$f":"IF($F$5=1,項目表示入力!$O$30,IF($F$5=2,IF(ISERROR(VLOOKUP(B9,入力AA3!$B$8:$GU$58,オフセット番号A!$O$28+1))=TRUE,\"\",VLOOKUP(B9,入力AA3!$B$8:$GU$58,オフセット番号A!$O$28+1)),\"*\"))","v":"内容24,13"},{"$f":"IF($F$5=1,項目表示入力!$P$30,IF($F$5=2,IF(ISERROR(VLOOKUP(B9,入力AA3!$B$8:$GU$58,オフセット番号A!$P$28+1))=TRUE,\"\",VLOOKUP(B9,入力AA3!$B$8:$GU$58,オフセット番号A!$P$28+1)),\"*\"))","v":"内容24,14"},{"$f":"IF($F$5=1,項目表示入力!$Q$30,IF($F$5=2,IF(ISERROR(VLOOKUP(B9,入力AA3!$B$8:$GU$58,オフセット番号A!$Q$28+1))=TRUE,\"\",VLOOKUP(B9,入力AA3!$B$8:$GU$58,オフセット番号A!$Q$28+1)),\"*\"))","v":"内容24,15"},{"$f":"IF($F$5=1,項目表示入力!$R$30,IF($F$5=2,IF(ISERROR(VLOOKUP(B9,入力AA3!$B$8:$GU$58,オフセット番号A!$R$28+1))=TRUE,\"\",VLOOKUP(B9,入力AA3!$B$8:$GU$58,オフセット番号A!$R$28+1)),\"*\"))","v":"内容24,16"},{"$f":"IF($F$5=1,項目表示入力!$S$30,IF($F$5=2,IF(ISERROR(VLOOKUP(B9,入力AA3!$B$8:$GU$58,オフセット番号A!$S$28+1))=TRUE,\"\",VLOOKUP(B9,入力AA3!$B$8:$GU$58,オフセット番号A!$S$28+1)),\"*\"))","v":"内容24,17"},{"$f":"IF($F$5=1,項目表示入力!$T$30,IF($F$5=2,IF(ISERROR(VLOOKUP(B9,入力AA3!$B$8:$GU$58,オフセット番号A!$T$28+1))=TRUE,\"\",VLOOKUP(B9,入力AA3!$B$8:$GU$58,オフセット番号A!$T$28+1)),\"*\"))","v":"内容24,18"},{"$f":"IF($F$5=1,項目表示入力!$U$30,IF($F$5=2,IF(ISERROR(VLOOKUP(B9,入力AA3!$B$8:$GU$58,オフセット番号A!$U$28+1))=TRUE,\"\",VLOOKUP(B9,入力AA3!$B$8:$GU$58,オフセット番号A!$U$28+1)),\"*\"))","v":"内容24,19"},{"$f":"IF($F$5=1,項目表示入力!$V$30,IF($F$5=2,IF(ISERROR(VLOOKUP(B9,入力AA3!$B$8:$GU$58,オフセット番号A!$V$28+1))=TRUE,\"\",VLOOKUP(B9,入力AA3!$B$8:$GU$58,オフセット番号A!$V$28+1)),\"*\"))","v":"内容24,20"}]
[null,{"$f":"IF(行列入力項目!$C$29=\"\",\"\",行列入力項目!$C$29)","v":"行25"},{"$f":"IF($F$5=1,項目表示入力!$C$31,IF($F$5=2,IF(ISERROR(VLOOKUP(B9,入力AA3!$B$8:$GU$58,オフセット番号A!$C$29+1))=TRUE,\"\",VLOOKUP(B9,入力AA3!$B$8:$GU$58,オフセット番号A!$C$29+1)),\"*\"))","v":"内容25,1"},{"$f":"IF($F$5=1,項目表示入力!$D$31,IF($F$5=2,IF(ISERROR(VLOOKUP(B9,入力AA3!$B$8:$GU$58,オフセット番号A!$D$29+1))=TRUE,\"\",VLOOKUP(B9,入力AA3!$B$8:$GU$58,オフセット番号A!$D$29+1)),\"*\"))","v":"内容25,2"},{"$f":"IF($F$5=1,項目表示入力!$E$31,IF($F$5=2,IF(ISERROR(VLOOKUP(B9,入力AA3!$B$8:$GU$58,オフセット番号A!$E$29+1))=TRUE,\"\",VLOOKUP(B9,入力AA3!$B$8:$GU$58,オフセット番号A!$E$29+1)),\"*\"))","v":"内容25,3"},{"$f":"IF($F$5=1,項目表示入力!$F$31,IF($F$5=2,IF(ISERROR(VLOOKUP(B9,入力AA3!$B$8:$GU$58,オフセット番号A!$F$29+1))=TRUE,\"\",VLOOKUP(B9,入力AA3!$B$8:$GU$58,オフセット番号A!$F$29+1)),\"*\"))","v":"内容25,4"},{"$f":"IF($F$5=1,項目表示入力!$G$31,IF($F$5=2,IF(ISERROR(VLOOKUP(B9,入力AA3!$B$8:$GU$58,オフセット番号A!$G$29+1))=TRUE,\"\",VLOOKUP(B9,入力AA3!$B$8:$GU$58,オフセット番号A!$G$29+1)),\"*\"))","v":"内容25,5"},{"$f":"IF($F$5=1,項目表示入力!$H$31,IF($F$5=2,IF(ISERROR(VLOOKUP(B9,入力AA3!$B$8:$GU$58,オフセット番号A!$H$29+1))=TRUE,\"\",VLOOKUP(B9,入力AA3!$B$8:$GU$58,オフセット番号A!$H$29+1)),\"*\"))","v":"内容25,6"},{"$f":"IF($F$5=1,項目表示入力!$I$31,IF($F$5=2,IF(ISERROR(VLOOKUP(B9,入力AA3!$B$8:$GU$58,オフセット番号A!$I$29+1))=TRUE,\"\",VLOOKUP(B9,入力AA3!$B$8:$GU$58,オフセット番号A!$I$29+1)),\"*\"))","v":"内容25,7"},{"$f":"IF($F$5=1,項目表示入力!$J$31,IF($F$5=2,IF(ISERROR(VLOOKUP(B9,入力AA3!$B$8:$GU$58,オフセット番号A!$J$29+1))=TRUE,\"\",VLOOKUP(B9,入力AA3!$B$8:$GU$58,オフセット番号A!$J$29+1)),\"*\"))","v":"内容25,8"},{"$f":"IF($F$5=1,項目表示入力!$K$31,IF($F$5=2,IF(ISERROR(VLOOKUP(B9,入力AA3!$B$8:$GU$58,オフセット番号A!$K$29+1))=TRUE,\"\",VLOOKUP(B9,入力AA3!$B$8:$GU$58,オフセット番号A!$K$29+1)),\"*\"))","v":"内容25,9"},{"$f":"IF($F$5=1,項目表示入力!$L$31,IF($F$5=2,IF(ISERROR(VLOOKUP(B9,入力AA3!$B$8:$GU$58,オフセット番号A!$L$29+1))=TRUE,\"\",VLOOKUP(B9,入力AA3!$B$8:$GU$58,オフセット番号A!$L$29+1)),\"*\"))","v":"内容25,10"},{"$f":"IF($F$5=1,項目表示入力!$M$31,IF($F$5=2,IF(ISERROR(VLOOKUP(B9,入力AA3!$B$8:$GU$58,オフセット番号A!$M$29+1))=TRUE,\"\",VLOOKUP(B9,入力AA3!$B$8:$GU$58,オフセット番号A!$M$29+1)),\"*\"))","v":"内容25,11"},{"$f":"IF($F$5=1,項目表示入力!$N$31,IF($F$5=2,IF(ISERROR(VLOOKUP(B9,入力AA3!$B$8:$GU$58,オフセット番号A!$N$29+1))=TRUE,\"\",VLOOKUP(B9,入力AA3!$B$8:$GU$58,オフセット番号A!$N$29+1)),\"*\"))","v":"内容25,12"},{"$f":"IF($F$5=1,項目表示入力!$O$31,IF($F$5=2,IF(ISERROR(VLOOKUP(B9,入力AA3!$B$8:$GU$58,オフセット番号A!$O$29+1))=TRUE,\"\",VLOOKUP(B9,入力AA3!$B$8:$GU$58,オフセット番号A!$O$29+1)),\"*\"))","v":"内容25,13"},{"$f":"IF($F$5=1,項目表示入力!$P$31,IF($F$5=2,IF(ISERROR(VLOOKUP(B9,入力AA3!$B$8:$GU$58,オフセット番号A!$P$29+1))=TRUE,\"\",VLOOKUP(B9,入力AA3!$B$8:$GU$58,オフセット番号A!$P$29+1)),\"*\"))","v":"内容25,14"},{"$f":"IF($F$5=1,項目表示入力!$Q$31,IF($F$5=2,IF(ISERROR(VLOOKUP(B9,入力AA3!$B$8:$GU$58,オフセット番号A!$Q$29+1))=TRUE,\"\",VLOOKUP(B9,入力AA3!$B$8:$GU$58,オフセット番号A!$Q$29+1)),\"*\"))","v":"内容25,15"},{"$f":"IF($F$5=1,項目表示入力!$R$31,IF($F$5=2,IF(ISERROR(VLOOKUP(B9,入力AA3!$B$8:$GU$58,オフセット番号A!$R$29+1))=TRUE,\"\",VLOOKUP(B9,入力AA3!$B$8:$GU$58,オフセット番号A!$R$29+1)),\"*\"))","v":"内容25,16"},{"$f":"IF($F$5=1,項目表示入力!$S$31,IF($F$5=2,IF(ISERROR(VLOOKUP(B9,入力AA3!$B$8:$GU$58,オフセット番号A!$S$29+1))=TRUE,\"\",VLOOKUP(B9,入力AA3!$B$8:$GU$58,オフセット番号A!$S$29+1)),\"*\"))","v":"内容25,17"},{"$f":"IF($F$5=1,項目表示入力!$T$31,IF($F$5=2,IF(ISERROR(VLOOKUP(B9,入力AA3!$B$8:$GU$58,オフセット番号A!$T$29+1))=TRUE,\"\",VLOOKUP(B9,入力AA3!$B$8:$GU$58,オフセット番号A!$T$29+1)),\"*\"))","v":"内容25,18"},{"$f":"IF($F$5=1,項目表示入力!$U$31,IF($F$5=2,IF(ISERROR(VLOOKUP(B9,入力AA3!$B$8:$GU$58,オフセット番号A!$U$29+1))=TRUE,\"\",VLOOKUP(B9,入力AA3!$B$8:$GU$58,オフセット番号A!$U$29+1)),\"*\"))","v":"内容25,19"},{"$f":"IF($F$5=1,項目表示入力!$V$31,IF($F$5=2,IF(ISERROR(VLOOKUP(B9,入力AA3!$B$8:$GU$58,オフセット番号A!$V$29+1))=TRUE,\"\",VLOOKUP(B9,入力AA3!$B$8:$GU$58,オフセット番号A!$V$29+1)),\"*\"))","v":"内容25,20"}]
[null,{"$f":"IF(行列入力項目!$C$30=\"\",\"\",行列入力項目!$C$30)","v":"行26"},{"$f":"IF($F$5=1,項目表示入力!$C$32,IF($F$5=2,IF(ISERROR(VLOOKUP(B9,入力AA3!$B$8:$GU$58,オフセット番号A!$C$30+1))=TRUE,\"\",VLOOKUP(B9,入力AA3!$B$8:$GU$58,オフセット番号A!$C$30+1)),\"*\"))","v":"内容26,1"},{"$f":"IF($F$5=1,項目表示入力!$D$32,IF($F$5=2,IF(ISERROR(VLOOKUP(B9,入力AA3!$B$8:$GU$58,オフセット番号A!$D$30+1))=TRUE,\"\",VLOOKUP(B9,入力AA3!$B$8:$GU$58,オフセット番号A!$D$30+1)),\"*\"))","v":"内容26,2"},{"$f":"IF($F$5=1,項目表示入力!$E$32,IF($F$5=2,IF(ISERROR(VLOOKUP(B9,入力AA3!$B$8:$GU$58,オフセット番号A!$E$30+1))=TRUE,\"\",VLOOKUP(B9,入力AA3!$B$8:$GU$58,オフセット番号A!$E$30+1)),\"*\"))","v":"内容26,3"},{"$f":"IF($F$5=1,項目表示入力!$F$32,IF($F$5=2,IF(ISERROR(VLOOKUP(B9,入力AA3!$B$8:$GU$58,オフセット番号A!$F$30+1))=TRUE,\"\",VLOOKUP(B9,入力AA3!$B$8:$GU$58,オフセット番号A!$F$30+1)),\"*\"))","v":"内容26,4"},{"$f":"IF($F$5=1,項目表示入力!$G$32,IF($F$5=2,IF(ISERROR(VLOOKUP(B9,入力AA3!$B$8:$GU$58,オフセット番号A!$G$30+1))=TRUE,\"\",VLOOKUP(B9,入力AA3!$B$8:$GU$58,オフセット番号A!$G$30+1)),\"*\"))","v":"内容26,5"},{"$f":"IF($F$5=1,項目表示入力!$H$32,IF($F$5=2,IF(ISERROR(VLOOKUP(B9,入力AA3!$B$8:$GU$58,オフセット番号A!$H$30+1))=TRUE,\"\",VLOOKUP(B9,入力AA3!$B$8:$GU$58,オフセット番号A!$H$30+1)),\"*\"))","v":"内容26,6"},{"$f":"IF($F$5=1,項目表示入力!$I$32,IF($F$5=2,IF(ISERROR(VLOOKUP(B9,入力AA3!$B$8:$GU$58,オフセット番号A!$I$30+1))=TRUE,\"\",VLOOKUP(B9,入力AA3!$B$8:$GU$58,オフセット番号A!$I$30+1)),\"*\"))","v":"内容26,7"},{"$f":"IF($F$5=1,項目表示入力!$J$32,IF($F$5=2,IF(ISERROR(VLOOKUP(B9,入力AA3!$B$8:$GU$58,オフセット番号A!$J$30+1))=TRUE,\"\",VLOOKUP(B9,入力AA3!$B$8:$GU$58,オフセット番号A!$J$30+1)),\"*\"))","v":"内容26,8"},{"$f":"IF($F$5=1,項目表示入力!$K$32,IF($F$5=2,IF(ISERROR(VLOOKUP(B9,入力AA3!$B$8:$GU$58,オフセット番号A!$K$30+1))=TRUE,\"\",VLOOKUP(B9,入力AA3!$B$8:$GU$58,オフセット番号A!$K$30+1)),\"*\"))","v":"内容26,9"},{"$f":"IF($F$5=1,項目表示入力!$L$32,IF($F$5=2,IF(ISERROR(VLOOKUP(B9,入力AA3!$B$8:$GU$58,オフセット番号A!$L$30+1))=TRUE,\"\",VLOOKUP(B9,入力AA3!$B$8:$GU$58,オフセット番号A!$L$30+1)),\"*\"))","v":"内容26,10"},{"$f":"IF($F$5=1,項目表示入力!$M$32,IF($F$5=2,IF(ISERROR(VLOOKUP(B9,入力AA3!$B$8:$GU$58,オフセット番号A!$M$30+1))=TRUE,\"\",VLOOKUP(B9,入力AA3!$B$8:$GU$58,オフセット番号A!$M$30+1)),\"*\"))","v":"内容26,11"},{"$f":"IF($F$5=1,項目表示入力!$N$32,IF($F$5=2,IF(ISERROR(VLOOKUP(B9,入力AA3!$B$8:$GU$58,オフセット番号A!$N$30+1))=TRUE,\"\",VLOOKUP(B9,入力AA3!$B$8:$GU$58,オフセット番号A!$N$30+1)),\"*\"))","v":"内容26,12"},{"$f":"IF($F$5=1,項目表示入力!$O$32,IF($F$5=2,IF(ISERROR(VLOOKUP(B9,入力AA3!$B$8:$GU$58,オフセット番号A!$O$30+1))=TRUE,\"\",VLOOKUP(B9,入力AA3!$B$8:$GU$58,オフセット番号A!$O$30+1)),\"*\"))","v":"内容26,13"},{"$f":"IF($F$5=1,項目表示入力!$P$32,IF($F$5=2,IF(ISERROR(VLOOKUP(B9,入力AA3!$B$8:$GU$58,オフセット番号A!$P$30+1))=TRUE,\"\",VLOOKUP(B9,入力AA3!$B$8:$GU$58,オフセット番号A!$P$30+1)),\"*\"))","v":"内容26,14"},{"$f":"IF($F$5=1,項目表示入力!$Q$32,IF($F$5=2,IF(ISERROR(VLOOKUP(B9,入力AA3!$B$8:$GU$58,オフセット番号A!$Q$30+1))=TRUE,\"\",VLOOKUP(B9,入力AA3!$B$8:$GU$58,オフセット番号A!$Q$30+1)),\"*\"))","v":"内容26,15"},{"$f":"IF($F$5=1,項目表示入力!$R$32,IF($F$5=2,IF(ISERROR(VLOOKUP(B9,入力AA3!$B$8:$GU$58,オフセット番号A!$R$30+1))=TRUE,\"\",VLOOKUP(B9,入力AA3!$B$8:$GU$58,オフセット番号A!$R$30+1)),\"*\"))","v":"内容26,16"},{"$f":"IF($F$5=1,項目表示入力!$S$32,IF($F$5=2,IF(ISERROR(VLOOKUP(B9,入力AA3!$B$8:$GU$58,オフセット番号A!$S$30+1))=TRUE,\"\",VLOOKUP(B9,入力AA3!$B$8:$GU$58,オフセット番号A!$S$30+1)),\"*\"))","v":"内容26,17"},{"$f":"IF($F$5=1,項目表示入力!$T$32,IF($F$5=2,IF(ISERROR(VLOOKUP(B9,入力AA3!$B$8:$GU$58,オフセット番号A!$T$30+1))=TRUE,\"\",VLOOKUP(B9,入力AA3!$B$8:$GU$58,オフセット番号A!$T$30+1)),\"*\"))","v":"内容26,18"},{"$f":"IF($F$5=1,項目表示入力!$U$32,IF($F$5=2,IF(ISERROR(VLOOKUP(B9,入力AA3!$B$8:$GU$58,オフセット番号A!$U$30+1))=TRUE,\"\",VLOOKUP(B9,入力AA3!$B$8:$GU$58,オフセット番号A!$U$30+1)),\"*\"))","v":"内容26,19"},{"$f":"IF($F$5=1,項目表示入力!$V$32,IF($F$5=2,IF(ISERROR(VLOOKUP(B9,入力AA3!$B$8:$GU$58,オフセット番号A!$V$30+1))=TRUE,\"\",VLOOKUP(B9,入力AA3!$B$8:$GU$58,オフセット番号A!$V$30+1)),\"*\"))","v":"内容26,20"}]
[null,{"$f":"IF(行列入力項目!$C$31=\"\",\"\",行列入力項目!$C$31)","v":"行27"},{"$f":"IF($F$5=1,項目表示入力!$C$33,IF($F$5=2,IF(ISERROR(VLOOKUP(B9,入力AA3!$B$8:$GU$58,オフセット番号A!$C$31+1))=TRUE,\"\",VLOOKUP(B9,入力AA3!$B$8:$GU$58,オフセット番号A!$C$31+1)),\"*\"))","v":"内容27,1"},{"$f":"IF($F$5=1,項目表示入力!$D$33,IF($F$5=2,IF(ISERROR(VLOOKUP(B9,入力AA3!$B$8:$GU$58,オフセット番号A!$D$31+1))=TRUE,\"\",VLOOKUP(B9,入力AA3!$B$8:$GU$58,オフセット番号A!$D$31+1)),\"*\"))","v":"内容27,2"},{"$f":"IF($F$5=1,項目表示入力!$E$33,IF($F$5=2,IF(ISERROR(VLOOKUP(B9,入力AA3!$B$8:$GU$58,オフセット番号A!$E$31+1))=TRUE,\"\",VLOOKUP(B9,入力AA3!$B$8:$GU$58,オフセット番号A!$E$31+1)),\"*\"))","v":"内容27,3"},{"$f":"IF($F$5=1,項目表示入力!$F$33,IF($F$5=2,IF(ISERROR(VLOOKUP(B9,入力AA3!$B$8:$GU$58,オフセット番号A!$F$31+1))=TRUE,\"\",VLOOKUP(B9,入力AA3!$B$8:$GU$58,オフセット番号A!$F$31+1)),\"*\"))","v":"内容27,4"},{"$f":"IF($F$5=1,項目表示入力!$G$33,IF($F$5=2,IF(ISERROR(VLOOKUP(B9,入力AA3!$B$8:$GU$58,オフセット番号A!$G$31+1))=TRUE,\"\",VLOOKUP(B9,入力AA3!$B$8:$GU$58,オフセット番号A!$G$31+1)),\"*\"))","v":"内容27,5"},{"$f":"IF($F$5=1,項目表示入力!$H$33,IF($F$5=2,IF(ISERROR(VLOOKUP(B9,入力AA3!$B$8:$GU$58,オフセット番号A!$H$31+1))=TRUE,\"\",VLOOKUP(B9,入力AA3!$B$8:$GU$58,オフセット番号A!$H$31+1)),\"*\"))","v":"内容27,6"},{"$f":"IF($F$5=1,項目表示入力!$I$33,IF($F$5=2,IF(ISERROR(VLOOKUP(B9,入力AA3!$B$8:$GU$58,オフセット番号A!$I$31+1))=TRUE,\"\",VLOOKUP(B9,入力AA3!$B$8:$GU$58,オフセット番号A!$I$31+1)),\"*\"))","v":"内容27,7"},{"$f":"IF($F$5=1,項目表示入力!$J$33,IF($F$5=2,IF(ISERROR(VLOOKUP(B9,入力AA3!$B$8:$GU$58,オフセット番号A!$J$31+1))=TRUE,\"\",VLOOKUP(B9,入力AA3!$B$8:$GU$58,オフセット番号A!$J$31+1)),\"*\"))","v":"内容27,8"},{"$f":"IF($F$5=1,項目表示入力!$K$33,IF($F$5=2,IF(ISERROR(VLOOKUP(B9,入力AA3!$B$8:$GU$58,オフセット番号A!$K$31+1))=TRUE,\"\",VLOOKUP(B9,入力AA3!$B$8:$GU$58,オフセット番号A!$K$31+1)),\"*\"))","v":"内容27,9"},{"$f":"IF($F$5=1,項目表示入力!$L$33,IF($F$5=2,IF(ISERROR(VLOOKUP(B9,入力AA3!$B$8:$GU$58,オフセット番号A!$L$31+1))=TRUE,\"\",VLOOKUP(B9,入力AA3!$B$8:$GU$58,オフセット番号A!$L$31+1)),\"*\"))","v":"内容27,10"},{"$f":"IF($F$5=1,項目表示入力!$M$33,IF($F$5=2,IF(ISERROR(VLOOKUP(B9,入力AA3!$B$8:$GU$58,オフセット番号A!$M$31+1))=TRUE,\"\",VLOOKUP(B9,入力AA3!$B$8:$GU$58,オフセット番号A!$M$31+1)),\"*\"))","v":"内容27,11"},{"$f":"IF($F$5=1,項目表示入力!$N$33,IF($F$5=2,IF(ISERROR(VLOOKUP(B9,入力AA3!$B$8:$GU$58,オフセット番号A!$N$31+1))=TRUE,\"\",VLOOKUP(B9,入力AA3!$B$8:$GU$58,オフセット番号A!$N$31+1)),\"*\"))","v":"内容27,12"},{"$f":"IF($F$5=1,項目表示入力!$O$33,IF($F$5=2,IF(ISERROR(VLOOKUP(B9,入力AA3!$B$8:$GU$58,オフセット番号A!$O$31+1))=TRUE,\"\",VLOOKUP(B9,入力AA3!$B$8:$GU$58,オフセット番号A!$O$31+1)),\"*\"))","v":"内容27,13"},{"$f":"IF($F$5=1,項目表示入力!$P$33,IF($F$5=2,IF(ISERROR(VLOOKUP(B9,入力AA3!$B$8:$GU$58,オフセット番号A!$P$31+1))=TRUE,\"\",VLOOKUP(B9,入力AA3!$B$8:$GU$58,オフセット番号A!$P$31+1)),\"*\"))","v":"内容27,14"},{"$f":"IF($F$5=1,項目表示入力!$Q$33,IF($F$5=2,IF(ISERROR(VLOOKUP(B9,入力AA3!$B$8:$GU$58,オフセット番号A!$Q$31+1))=TRUE,\"\",VLOOKUP(B9,入力AA3!$B$8:$GU$58,オフセット番号A!$Q$31+1)),\"*\"))","v":"内容27,15"},{"$f":"IF($F$5=1,項目表示入力!$R$33,IF($F$5=2,IF(ISERROR(VLOOKUP(B9,入力AA3!$B$8:$GU$58,オフセット番号A!$R$31+1))=TRUE,\"\",VLOOKUP(B9,入力AA3!$B$8:$GU$58,オフセット番号A!$R$31+1)),\"*\"))","v":"内容27,16"},{"$f":"IF($F$5=1,項目表示入力!$S$33,IF($F$5=2,IF(ISERROR(VLOOKUP(B9,入力AA3!$B$8:$GU$58,オフセット番号A!$S$31+1))=TRUE,\"\",VLOOKUP(B9,入力AA3!$B$8:$GU$58,オフセット番号A!$S$31+1)),\"*\"))","v":"内容27,17"},{"$f":"IF($F$5=1,項目表示入力!$T$33,IF($F$5=2,IF(ISERROR(VLOOKUP(B9,入力AA3!$B$8:$GU$58,オフセット番号A!$T$31+1))=TRUE,\"\",VLOOKUP(B9,入力AA3!$B$8:$GU$58,オフセット番号A!$T$31+1)),\"*\"))","v":"内容27,18"},{"$f":"IF($F$5=1,項目表示入力!$U$33,IF($F$5=2,IF(ISERROR(VLOOKUP(B9,入力AA3!$B$8:$GU$58,オフセット番号A!$U$31+1))=TRUE,\"\",VLOOKUP(B9,入力AA3!$B$8:$GU$58,オフセット番号A!$U$31+1)),\"*\"))","v":"内容27,19"},{"$f":"IF($F$5=1,項目表示入力!$V$33,IF($F$5=2,IF(ISERROR(VLOOKUP(B9,入力AA3!$B$8:$GU$58,オフセット番号A!$V$31+1))=TRUE,\"\",VLOOKUP(B9,入力AA3!$B$8:$GU$58,オフセット番号A!$V$31+1)),\"*\"))","v":"内容27,20"}]
[null,{"$f":"IF(行列入力項目!$C$32=\"\",\"\",行列入力項目!$C$32)","v":"行28"},{"$f":"IF($F$5=1,項目表示入力!$C$34,IF($F$5=2,IF(ISERROR(VLOOKUP(B9,入力AA3!$B$8:$GU$58,オフセット番号A!$C$32+1))=TRUE,\"\",VLOOKUP(B9,入力AA3!$B$8:$GU$58,オフセット番号A!$C$32+1)),\"*\"))","v":"内容28,1"},{"$f":"IF($F$5=1,項目表示入力!$D$34,IF($F$5=2,IF(ISERROR(VLOOKUP(B9,入力AA3!$B$8:$GU$58,オフセット番号A!$D$32+1))=TRUE,\"\",VLOOKUP(B9,入力AA3!$B$8:$GU$58,オフセット番号A!$D$32+1)),\"*\"))","v":"内容28,2"},{"$f":"IF($F$5=1,項目表示入力!$E$34,IF($F$5=2,IF(ISERROR(VLOOKUP(B9,入力AA3!$B$8:$GU$58,オフセット番号A!$E$32+1))=TRUE,\"\",VLOOKUP(B9,入力AA3!$B$8:$GU$58,オフセット番号A!$E$32+1)),\"*\"))","v":"内容28,3"},{"$f":"IF($F$5=1,項目表示入力!$F$34,IF($F$5=2,IF(ISERROR(VLOOKUP(B9,入力AA3!$B$8:$GU$58,オフセット番号A!$F$32+1))=TRUE,\"\",VLOOKUP(B9,入力AA3!$B$8:$GU$58,オフセット番号A!$F$32+1)),\"*\"))","v":"内容28,4"},{"$f":"IF($F$5=1,項目表示入力!$G$34,IF($F$5=2,IF(ISERROR(VLOOKUP(B9,入力AA3!$B$8:$GU$58,オフセット番号A!$G$32+1))=TRUE,\"\",VLOOKUP(B9,入力AA3!$B$8:$GU$58,オフセット番号A!$G$32+1)),\"*\"))","v":"内容28,5"},{"$f":"IF($F$5=1,項目表示入力!$H$34,IF($F$5=2,IF(ISERROR(VLOOKUP(B9,入力AA3!$B$8:$GU$58,オフセット番号A!$H$32+1))=TRUE,\"\",VLOOKUP(B9,入力AA3!$B$8:$GU$58,オフセット番号A!$H$32+1)),\"*\"))","v":"内容28,6"},{"$f":"IF($F$5=1,項目表示入力!$I$34,IF($F$5=2,IF(ISERROR(VLOOKUP(B9,入力AA3!$B$8:$GU$58,オフセット番号A!$I$32+1))=TRUE,\"\",VLOOKUP(B9,入力AA3!$B$8:$GU$58,オフセット番号A!$I$32+1)),\"*\"))","v":"内容28,7"},{"$f":"IF($F$5=1,項目表示入力!$J$34,IF($F$5=2,IF(ISERROR(VLOOKUP(B9,入力AA3!$B$8:$GU$58,オフセット番号A!$J$32+1))=TRUE,\"\",VLOOKUP(B9,入力AA3!$B$8:$GU$58,オフセット番号A!$J$32+1)),\"*\"))","v":"内容28,8"},{"$f":"IF($F$5=1,項目表示入力!$K$34,IF($F$5=2,IF(ISERROR(VLOOKUP(B9,入力AA3!$B$8:$GU$58,オフセット番号A!$K$32+1))=TRUE,\"\",VLOOKUP(B9,入力AA3!$B$8:$GU$58,オフセット番号A!$K$32+1)),\"*\"))","v":"内容28,9"},{"$f":"IF($F$5=1,項目表示入力!$L$34,IF($F$5=2,IF(ISERROR(VLOOKUP(B9,入力AA3!$B$8:$GU$58,オフセット番号A!$L$32+1))=TRUE,\"\",VLOOKUP(B9,入力AA3!$B$8:$GU$58,オフセット番号A!$L$32+1)),\"*\"))","v":"内容28,10"},{"$f":"IF($F$5=1,項目表示入力!$M$34,IF($F$5=2,IF(ISERROR(VLOOKUP(B9,入力AA3!$B$8:$GU$58,オフセット番号A!$M$32+1))=TRUE,\"\",VLOOKUP(B9,入力AA3!$B$8:$GU$58,オフセット番号A!$M$32+1)),\"*\"))","v":"内容28,11"},{"$f":"IF($F$5=1,項目表示入力!$N$34,IF($F$5=2,IF(ISERROR(VLOOKUP(B9,入力AA3!$B$8:$GU$58,オフセット番号A!$N$32+1))=TRUE,\"\",VLOOKUP(B9,入力AA3!$B$8:$GU$58,オフセット番号A!$N$32+1)),\"*\"))","v":"内容28,12"},{"$f":"IF($F$5=1,項目表示入力!$O$34,IF($F$5=2,IF(ISERROR(VLOOKUP(B9,入力AA3!$B$8:$GU$58,オフセット番号A!$O$32+1))=TRUE,\"\",VLOOKUP(B9,入力AA3!$B$8:$GU$58,オフセット番号A!$O$32+1)),\"*\"))","v":"内容28,13"},{"$f":"IF($F$5=1,項目表示入力!$P$34,IF($F$5=2,IF(ISERROR(VLOOKUP(B9,入力AA3!$B$8:$GU$58,オフセット番号A!$P$32+1))=TRUE,\"\",VLOOKUP(B9,入力AA3!$B$8:$GU$58,オフセット番号A!$P$32+1)),\"*\"))","v":"内容28,14"},{"$f":"IF($F$5=1,項目表示入力!$Q$34,IF($F$5=2,IF(ISERROR(VLOOKUP(B9,入力AA3!$B$8:$GU$58,オフセット番号A!$Q$32+1))=TRUE,\"\",VLOOKUP(B9,入力AA3!$B$8:$GU$58,オフセット番号A!$Q$32+1)),\"*\"))","v":"内容28,15"},{"$f":"IF($F$5=1,項目表示入力!$R$34,IF($F$5=2,IF(ISERROR(VLOOKUP(B9,入力AA3!$B$8:$GU$58,オフセット番号A!$R$32+1))=TRUE,\"\",VLOOKUP(B9,入力AA3!$B$8:$GU$58,オフセット番号A!$R$32+1)),\"*\"))","v":"内容28,16"},{"$f":"IF($F$5=1,項目表示入力!$S$34,IF($F$5=2,IF(ISERROR(VLOOKUP(B9,入力AA3!$B$8:$GU$58,オフセット番号A!$S$32+1))=TRUE,\"\",VLOOKUP(B9,入力AA3!$B$8:$GU$58,オフセット番号A!$S$32+1)),\"*\"))","v":"内容28,17"},{"$f":"IF($F$5=1,項目表示入力!$T$34,IF($F$5=2,IF(ISERROR(VLOOKUP(B9,入力AA3!$B$8:$GU$58,オフセット番号A!$T$32+1))=TRUE,\"\",VLOOKUP(B9,入力AA3!$B$8:$GU$58,オフセット番号A!$T$32+1)),\"*\"))","v":"内容28,18"},{"$f":"IF($F$5=1,項目表示入力!$U$34,IF($F$5=2,IF(ISERROR(VLOOKUP(B9,入力AA3!$B$8:$GU$58,オフセット番号A!$U$32+1))=TRUE,\"\",VLOOKUP(B9,入力AA3!$B$8:$GU$58,オフセット番号A!$U$32+1)),\"*\"))","v":"内容28,19"},{"$f":"IF($F$5=1,項目表示入力!$V$34,IF($F$5=2,IF(ISERROR(VLOOKUP(B9,入力AA3!$B$8:$GU$58,オフセット番号A!$V$32+1))=TRUE,\"\",VLOOKUP(B9,入力AA3!$B$8:$GU$58,オフセット番号A!$V$32+1)),\"*\"))","v":"内容28,20"}]
[null,{"$f":"IF(行列入力項目!$C$33=\"\",\"\",行列入力項目!$C$33)","v":"行29"},{"$f":"IF($F$5=1,項目表示入力!$C$35,IF($F$5=2,IF(ISERROR(VLOOKUP(B9,入力AA3!$B$8:$GU$58,オフセット番号A!$C$33+1))=TRUE,\"\",VLOOKUP(B9,入力AA3!$B$8:$GU$58,オフセット番号A!$C$33+1)),\"*\"))","v":"内容29,1"},{"$f":"IF($F$5=1,項目表示入力!$D$35,IF($F$5=2,IF(ISERROR(VLOOKUP(B9,入力AA3!$B$8:$GU$58,オフセット番号A!$D$33+1))=TRUE,\"\",VLOOKUP(B9,入力AA3!$B$8:$GU$58,オフセット番号A!$D$33+1)),\"*\"))","v":"内容29,2"},{"$f":"IF($F$5=1,項目表示入力!$E$35,IF($F$5=2,IF(ISERROR(VLOOKUP(B9,入力AA3!$B$8:$GU$58,オフセット番号A!$E$33+1))=TRUE,\"\",VLOOKUP(B9,入力AA3!$B$8:$GU$58,オフセット番号A!$E$33+1)),\"*\"))","v":"内容29,3"},{"$f":"IF($F$5=1,項目表示入力!$F$35,IF($F$5=2,IF(ISERROR(VLOOKUP(B9,入力AA3!$B$8:$GU$58,オフセット番号A!$F$33+1))=TRUE,\"\",VLOOKUP(B9,入力AA3!$B$8:$GU$58,オフセット番号A!$F$33+1)),\"*\"))","v":"内容29,4"},{"$f":"IF($F$5=1,項目表示入力!$G$35,IF($F$5=2,IF(ISERROR(VLOOKUP(B9,入力AA3!$B$8:$GU$58,オフセット番号A!$G$33+1))=TRUE,\"\",VLOOKUP(B9,入力AA3!$B$8:$GU$58,オフセット番号A!$G$33+1)),\"*\"))","v":"内容29,5"},{"$f":"IF($F$5=1,項目表示入力!$H$35,IF($F$5=2,IF(ISERROR(VLOOKUP(B9,入力AA3!$B$8:$GU$58,オフセット番号A!$H$33+1))=TRUE,\"\",VLOOKUP(B9,入力AA3!$B$8:$GU$58,オフセット番号A!$H$33+1)),\"*\"))","v":"内容29,6"},{"$f":"IF($F$5=1,項目表示入力!$I$35,IF($F$5=2,IF(ISERROR(VLOOKUP(B9,入力AA3!$B$8:$GU$58,オフセット番号A!$I$33+1))=TRUE,\"\",VLOOKUP(B9,入力AA3!$B$8:$GU$58,オフセット番号A!$I$33+1)),\"*\"))","v":"内容29,7"},{"$f":"IF($F$5=1,項目表示入力!$J$35,IF($F$5=2,IF(ISERROR(VLOOKUP(B9,入力AA3!$B$8:$GU$58,オフセット番号A!$J$33+1))=TRUE,\"\",VLOOKUP(B9,入力AA3!$B$8:$GU$58,オフセット番号A!$J$33+1)),\"*\"))","v":"内容29,8"},{"$f":"IF($F$5=1,項目表示入力!$K$35,IF($F$5=2,IF(ISERROR(VLOOKUP(B9,入力AA3!$B$8:$GU$58,オフセット番号A!$K$33+1))=TRUE,\"\",VLOOKUP(B9,入力AA3!$B$8:$GU$58,オフセット番号A!$K$33+1)),\"*\"))","v":"内容29,9"},{"$f":"IF($F$5=1,項目表示入力!$L$35,IF($F$5=2,IF(ISERROR(VLOOKUP(B9,入力AA3!$B$8:$GU$58,オフセット番号A!$L$33+1))=TRUE,\"\",VLOOKUP(B9,入力AA3!$B$8:$GU$58,オフセット番号A!$L$33+1)),\"*\"))","v":"内容29,10"},{"$f":"IF($F$5=1,項目表示入力!$M$35,IF($F$5=2,IF(ISERROR(VLOOKUP(B9,入力AA3!$B$8:$GU$58,オフセット番号A!$M$33+1))=TRUE,\"\",VLOOKUP(B9,入力AA3!$B$8:$GU$58,オフセット番号A!$M$33+1)),\"*\"))","v":"内容29,11"},{"$f":"IF($F$5=1,項目表示入力!$N$35,IF($F$5=2,IF(ISERROR(VLOOKUP(B9,入力AA3!$B$8:$GU$58,オフセット番号A!$N$33+1))=TRUE,\"\",VLOOKUP(B9,入力AA3!$B$8:$GU$58,オフセット番号A!$N$33+1)),\"*\"))","v":"内容29,12"},{"$f":"IF($F$5=1,項目表示入力!$O$35,IF($F$5=2,IF(ISERROR(VLOOKUP(B9,入力AA3!$B$8:$GU$58,オフセット番号A!$O$33+1))=TRUE,\"\",VLOOKUP(B9,入力AA3!$B$8:$GU$58,オフセット番号A!$O$33+1)),\"*\"))","v":"内容29,13"},{"$f":"IF($F$5=1,項目表示入力!$P$35,IF($F$5=2,IF(ISERROR(VLOOKUP(B9,入力AA3!$B$8:$GU$58,オフセット番号A!$P$33+1))=TRUE,\"\",VLOOKUP(B9,入力AA3!$B$8:$GU$58,オフセット番号A!$P$33+1)),\"*\"))","v":"内容29,14"},{"$f":"IF($F$5=1,項目表示入力!$Q$35,IF($F$5=2,IF(ISERROR(VLOOKUP(B9,入力AA3!$B$8:$GU$58,オフセット番号A!$Q$33+1))=TRUE,\"\",VLOOKUP(B9,入力AA3!$B$8:$GU$58,オフセット番号A!$Q$33+1)),\"*\"))","v":"内容29,15"},{"$f":"IF($F$5=1,項目表示入力!$R$35,IF($F$5=2,IF(ISERROR(VLOOKUP(B9,入力AA3!$B$8:$GU$58,オフセット番号A!$R$33+1))=TRUE,\"\",VLOOKUP(B9,入力AA3!$B$8:$GU$58,オフセット番号A!$R$33+1)),\"*\"))","v":"内容29,16"},{"$f":"IF($F$5=1,項目表示入力!$S$35,IF($F$5=2,IF(ISERROR(VLOOKUP(B9,入力AA3!$B$8:$GU$58,オフセット番号A!$S$33+1))=TRUE,\"\",VLOOKUP(B9,入力AA3!$B$8:$GU$58,オフセット番号A!$S$33+1)),\"*\"))","v":"内容29,17"},{"$f":"IF($F$5=1,項目表示入力!$T$35,IF($F$5=2,IF(ISERROR(VLOOKUP(B9,入力AA3!$B$8:$GU$58,オフセット番号A!$T$33+1))=TRUE,\"\",VLOOKUP(B9,入力AA3!$B$8:$GU$58,オフセット番号A!$T$33+1)),\"*\"))","v":"内容29,18"},{"$f":"IF($F$5=1,項目表示入力!$U$35,IF($F$5=2,IF(ISERROR(VLOOKUP(B9,入力AA3!$B$8:$GU$58,オフセット番号A!$U$33+1))=TRUE,\"\",VLOOKUP(B9,入力AA3!$B$8:$GU$58,オフセット番号A!$U$33+1)),\"*\"))","v":"内容29,19"},{"$f":"IF($F$5=1,項目表示入力!$V$35,IF($F$5=2,IF(ISERROR(VLOOKUP(B9,入力AA3!$B$8:$GU$58,オフセット番号A!$V$33+1))=TRUE,\"\",VLOOKUP(B9,入力AA3!$B$8:$GU$58,オフセット番号A!$V$33+1)),\"*\"))","v":"内容29,20"}]
[null,{"$f":"IF(行列入力項目!$C$34=\"\",\"\",行列入力項目!$C$34)","v":"行30"},{"$f":"IF($F$5=1,項目表示入力!$C$36,IF($F$5=2,IF(ISERROR(VLOOKUP(B9,入力AA3!$B$8:$GU$58,オフセット番号A!$C$34+1))=TRUE,\"\",VLOOKUP(B9,入力AA3!$B$8:$GU$58,オフセット番号A!$C$34+1)),\"*\"))","v":"内容30,1"},{"$f":"IF($F$5=1,項目表示入力!$D$36,IF($F$5=2,IF(ISERROR(VLOOKUP(B9,入力AA3!$B$8:$GU$58,オフセット番号A!$D$34+1))=TRUE,\"\",VLOOKUP(B9,入力AA3!$B$8:$GU$58,オフセット番号A!$D$34+1)),\"*\"))","v":"内容30,2"},{"$f":"IF($F$5=1,項目表示入力!$E$36,IF($F$5=2,IF(ISERROR(VLOOKUP(B9,入力AA3!$B$8:$GU$58,オフセット番号A!$E$34+1))=TRUE,\"\",VLOOKUP(B9,入力AA3!$B$8:$GU$58,オフセット番号A!$E$34+1)),\"*\"))","v":"内容30,3"},{"$f":"IF($F$5=1,項目表示入力!$F$36,IF($F$5=2,IF(ISERROR(VLOOKUP(B9,入力AA3!$B$8:$GU$58,オフセット番号A!$F$34+1))=TRUE,\"\",VLOOKUP(B9,入力AA3!$B$8:$GU$58,オフセット番号A!$F$34+1)),\"*\"))","v":"内容30,4"},{"$f":"IF($F$5=1,項目表示入力!$G$36,IF($F$5=2,IF(ISERROR(VLOOKUP(B9,入力AA3!$B$8:$GU$58,オフセット番号A!$G$34+1))=TRUE,\"\",VLOOKUP(B9,入力AA3!$B$8:$GU$58,オフセット番号A!$G$34+1)),\"*\"))","v":"内容30,5"},{"$f":"IF($F$5=1,項目表示入力!$H$36,IF($F$5=2,IF(ISERROR(VLOOKUP(B9,入力AA3!$B$8:$GU$58,オフセット番号A!$H$34+1))=TRUE,\"\",VLOOKUP(B9,入力AA3!$B$8:$GU$58,オフセット番号A!$H$34+1)),\"*\"))","v":"内容30,6"},{"$f":"IF($F$5=1,項目表示入力!$I$36,IF($F$5=2,IF(ISERROR(VLOOKUP(B9,入力AA3!$B$8:$GU$58,オフセット番号A!$I$34+1))=TRUE,\"\",VLOOKUP(B9,入力AA3!$B$8:$GU$58,オフセット番号A!$I$34+1)),\"*\"))","v":"内容30,7"},{"$f":"IF($F$5=1,項目表示入力!$J$36,IF($F$5=2,IF(ISERROR(VLOOKUP(B9,入力AA3!$B$8:$GU$58,オフセット番号A!$J$34+1))=TRUE,\"\",VLOOKUP(B9,入力AA3!$B$8:$GU$58,オフセット番号A!$J$34+1)),\"*\"))","v":"内容30,8"},{"$f":"IF($F$5=1,項目表示入力!$K$36,IF($F$5=2,IF(ISERROR(VLOOKUP(B9,入力AA3!$B$8:$GU$58,オフセット番号A!$K$34+1))=TRUE,\"\",VLOOKUP(B9,入力AA3!$B$8:$GU$58,オフセット番号A!$K$34+1)),\"*\"))","v":"内容30,9"},{"$f":"IF($F$5=1,項目表示入力!$L$36,IF($F$5=2,IF(ISERROR(VLOOKUP(B9,入力AA3!$B$8:$GU$58,オフセット番号A!$L$34+1))=TRUE,\"\",VLOOKUP(B9,入力AA3!$B$8:$GU$58,オフセット番号A!$L$34+1)),\"*\"))","v":"内容30,10"},{"$f":"IF($F$5=1,項目表示入力!$M$36,IF($F$5=2,IF(ISERROR(VLOOKUP(B9,入力AA3!$B$8:$GU$58,オフセット番号A!$M$34+1))=TRUE,\"\",VLOOKUP(B9,入力AA3!$B$8:$GU$58,オフセット番号A!$M$34+1)),\"*\"))","v":"内容30,11"},{"$f":"IF($F$5=1,項目表示入力!$N$36,IF($F$5=2,IF(ISERROR(VLOOKUP(B9,入力AA3!$B$8:$GU$58,オフセット番号A!$N$34+1))=TRUE,\"\",VLOOKUP(B9,入力AA3!$B$8:$GU$58,オフセット番号A!$N$34+1)),\"*\"))","v":"内容30,12"},{"$f":"IF($F$5=1,項目表示入力!$O$36,IF($F$5=2,IF(ISERROR(VLOOKUP(B9,入力AA3!$B$8:$GU$58,オフセット番号A!$O$34+1))=TRUE,\"\",VLOOKUP(B9,入力AA3!$B$8:$GU$58,オフセット番号A!$O$34+1)),\"*\"))","v":"内容30,13"},{"$f":"IF($F$5=1,項目表示入力!$P$36,IF($F$5=2,IF(ISERROR(VLOOKUP(B9,入力AA3!$B$8:$GU$58,オフセット番号A!$P$34+1))=TRUE,\"\",VLOOKUP(B9,入力AA3!$B$8:$GU$58,オフセット番号A!$P$34+1)),\"*\"))","v":"内容30,14"},{"$f":"IF($F$5=1,項目表示入力!$Q$36,IF($F$5=2,IF(ISERROR(VLOOKUP(B9,入力AA3!$B$8:$GU$58,オフセット番号A!$Q$34+1))=TRUE,\"\",VLOOKUP(B9,入力AA3!$B$8:$GU$58,オフセット番号A!$Q$34+1)),\"*\"))","v":"内容30,15"},{"$f":"IF($F$5=1,項目表示入力!$R$36,IF($F$5=2,IF(ISERROR(VLOOKUP(B9,入力AA3!$B$8:$GU$58,オフセット番号A!$R$34+1))=TRUE,\"\",VLOOKUP(B9,入力AA3!$B$8:$GU$58,オフセット番号A!$R$34+1)),\"*\"))","v":"内容30,16"},{"$f":"IF($F$5=1,項目表示入力!$S$36,IF($F$5=2,IF(ISERROR(VLOOKUP(B9,入力AA3!$B$8:$GU$58,オフセット番号A!$S$34+1))=TRUE,\"\",VLOOKUP(B9,入力AA3!$B$8:$GU$58,オフセット番号A!$S$34+1)),\"*\"))","v":"内容30,17"},{"$f":"IF($F$5=1,項目表示入力!$T$36,IF($F$5=2,IF(ISERROR(VLOOKUP(B9,入力AA3!$B$8:$GU$58,オフセット番号A!$T$34+1))=TRUE,\"\",VLOOKUP(B9,入力AA3!$B$8:$GU$58,オフセット番号A!$T$34+1)),\"*\"))","v":"内容30,18"},{"$f":"IF($F$5=1,項目表示入力!$U$36,IF($F$5=2,IF(ISERROR(VLOOKUP(B9,入力AA3!$B$8:$GU$58,オフセット番号A!$U$34+1))=TRUE,\"\",VLOOKUP(B9,入力AA3!$B$8:$GU$58,オフセット番号A!$U$34+1)),\"*\"))","v":"内容30,19"},{"$f":"IF($F$5=1,項目表示入力!$V$36,IF($F$5=2,IF(ISERROR(VLOOKUP(B9,入力AA3!$B$8:$GU$58,オフセット番号A!$V$34+1))=TRUE,\"\",VLOOKUP(B9,入力AA3!$B$8:$GU$58,オフセット番号A!$V$34+1)),\"*\"))","v":"内容30,20"}]
[null,{"$f":"IF(行列入力項目!$C$35=\"\",\"\",行列入力項目!$C$35)","v":"行31"},{"$f":"IF($F$5=1,項目表示入力!$C$37,IF($F$5=2,IF(ISERROR(VLOOKUP(B9,入力AA4!$B$8:$GU$58,オフセット番号A!$C$35+1))=TRUE,\"\",VLOOKUP(B9,入力AA4!$B$8:$GU$58,オフセット番号A!$C$35+1)),\"*\"))","v":"内容31,1"},{"$f":"IF($F$5=1,項目表示入力!$D$37,IF($F$5=2,IF(ISERROR(VLOOKUP(B9,入力AA4!$B$8:$GU$58,オフセット番号A!$D$35+1))=TRUE,\"\",VLOOKUP(B9,入力AA4!$B$8:$GU$58,オフセット番号A!$D$35+1)),\"*\"))","v":"内容31,2"},{"$f":"IF($F$5=1,項目表示入力!$E$37,IF($F$5=2,IF(ISERROR(VLOOKUP(B9,入力AA4!$B$8:$GU$58,オフセット番号A!$E$35+1))=TRUE,\"\",VLOOKUP(B9,入力AA4!$B$8:$GU$58,オフセット番号A!$E$35+1)),\"*\"))","v":"内容31,3"},{"$f":"IF($F$5=1,項目表示入力!$F$37,IF($F$5=2,IF(ISERROR(VLOOKUP(B9,入力AA4!$B$8:$GU$58,オフセット番号A!$F$35+1))=TRUE,\"\",VLOOKUP(B9,入力AA4!$B$8:$GU$58,オフセット番号A!$F$35+1)),\"*\"))","v":"内容31,4"},{"$f":"IF($F$5=1,項目表示入力!$G$37,IF($F$5=2,IF(ISERROR(VLOOKUP(B9,入力AA4!$B$8:$GU$58,オフセット番号A!$G$35+1))=TRUE,\"\",VLOOKUP(B9,入力AA4!$B$8:$GU$58,オフセット番号A!$G$35+1)),\"*\"))","v":"内容31,5"},{"$f":"IF($F$5=1,項目表示入力!$H$37,IF($F$5=2,IF(ISERROR(VLOOKUP(B9,入力AA4!$B$8:$GU$58,オフセット番号A!$H$35+1))=TRUE,\"\",VLOOKUP(B9,入力AA4!$B$8:$GU$58,オフセット番号A!$H$35+1)),\"*\"))","v":"内容31,6"},{"$f":"IF($F$5=1,項目表示入力!$I$37,IF($F$5=2,IF(ISERROR(VLOOKUP(B9,入力AA4!$B$8:$GU$58,オフセット番号A!$I$35+1))=TRUE,\"\",VLOOKUP(B9,入力AA4!$B$8:$GU$58,オフセット番号A!$I$35+1)),\"*\"))","v":"内容31,7"},{"$f":"IF($F$5=1,項目表示入力!$J$37,IF($F$5=2,IF(ISERROR(VLOOKUP(B9,入力AA4!$B$8:$GU$58,オフセット番号A!$J$35+1))=TRUE,\"\",VLOOKUP(B9,入力AA4!$B$8:$GU$58,オフセット番号A!$J$35+1)),\"*\"))","v":"内容31,8"},{"$f":"IF($F$5=1,項目表示入力!$K$37,IF($F$5=2,IF(ISERROR(VLOOKUP(B9,入力AA4!$B$8:$GU$58,オフセット番号A!$K$35+1))=TRUE,\"\",VLOOKUP(B9,入力AA4!$B$8:$GU$58,オフセット番号A!$K$35+1)),\"*\"))","v":"内容31,9"},{"$f":"IF($F$5=1,項目表示入力!$L$37,IF($F$5=2,IF(ISERROR(VLOOKUP(B9,入力AA4!$B$8:$GU$58,オフセット番号A!$L$35+1))=TRUE,\"\",VLOOKUP(B9,入力AA4!$B$8:$GU$58,オフセット番号A!$L$35+1)),\"*\"))","v":"内容31,10"},{"$f":"IF($F$5=1,項目表示入力!$M$37,IF($F$5=2,IF(ISERROR(VLOOKUP(B9,入力AA4!$B$8:$GU$58,オフセット番号A!$M$35+1))=TRUE,\"\",VLOOKUP(B9,入力AA4!$B$8:$GU$58,オフセット番号A!$M$35+1)),\"*\"))","v":"内容31,11"},{"$f":"IF($F$5=1,項目表示入力!$N$37,IF($F$5=2,IF(ISERROR(VLOOKUP(B9,入力AA4!$B$8:$GU$58,オフセット番号A!$N$35+1))=TRUE,\"\",VLOOKUP(B9,入力AA4!$B$8:$GU$58,オフセット番号A!$N$35+1)),\"*\"))","v":"内容31,12"},{"$f":"IF($F$5=1,項目表示入力!$O$37,IF($F$5=2,IF(ISERROR(VLOOKUP(B9,入力AA4!$B$8:$GU$58,オフセット番号A!$O$35+1))=TRUE,\"\",VLOOKUP(B9,入力AA4!$B$8:$GU$58,オフセット番号A!$O$35+1)),\"*\"))","v":"内容31,13"},{"$f":"IF($F$5=1,項目表示入力!$P$37,IF($F$5=2,IF(ISERROR(VLOOKUP(B9,入力AA4!$B$8:$GU$58,オフセット番号A!$P$35+1))=TRUE,\"\",VLOOKUP(B9,入力AA4!$B$8:$GU$58,オフセット番号A!$P$35+1)),\"*\"))","v":"内容31,14"},{"$f":"IF($F$5=1,項目表示入力!$Q$37,IF($F$5=2,IF(ISERROR(VLOOKUP(B9,入力AA4!$B$8:$GU$58,オフセット番号A!$Q$35+1))=TRUE,\"\",VLOOKUP(B9,入力AA4!$B$8:$GU$58,オフセット番号A!$Q$35+1)),\"*\"))","v":"内容31,15"},{"$f":"IF($F$5=1,項目表示入力!$R$37,IF($F$5=2,IF(ISERROR(VLOOKUP(B9,入力AA4!$B$8:$GU$58,オフセット番号A!$R$35+1))=TRUE,\"\",VLOOKUP(B9,入力AA4!$B$8:$GU$58,オフセット番号A!$R$35+1)),\"*\"))","v":"内容31,16"},{"$f":"IF($F$5=1,項目表示入力!$S$37,IF($F$5=2,IF(ISERROR(VLOOKUP(B9,入力AA4!$B$8:$GU$58,オフセット番号A!$S$35+1))=TRUE,\"\",VLOOKUP(B9,入力AA4!$B$8:$GU$58,オフセット番号A!$S$35+1)),\"*\"))","v":"内容31,17"},{"$f":"IF($F$5=1,項目表示入力!$T$37,IF($F$5=2,IF(ISERROR(VLOOKUP(B9,入力AA4!$B$8:$GU$58,オフセット番号A!$T$35+1))=TRUE,\"\",VLOOKUP(B9,入力AA4!$B$8:$GU$58,オフセット番号A!$T$35+1)),\"*\"))","v":"内容31,18"},{"$f":"IF($F$5=1,項目表示入力!$U$37,IF($F$5=2,IF(ISERROR(VLOOKUP(B9,入力AA4!$B$8:$GU$58,オフセット番号A!$U$35+1))=TRUE,\"\",VLOOKUP(B9,入力AA4!$B$8:$GU$58,オフセット番号A!$U$35+1)),\"*\"))","v":"内容31,19"},{"$f":"IF($F$5=1,項目表示入力!$V$37,IF($F$5=2,IF(ISERROR(VLOOKUP(B9,入力AA4!$B$8:$GU$58,オフセット番号A!$V$35+1))=TRUE,\"\",VLOOKUP(B9,入力AA4!$B$8:$GU$58,オフセット番号A!$V$35+1)),\"*\"))","v":"内容31,20"}]
[null,{"$f":"IF(行列入力項目!$C$36=\"\",\"\",行列入力項目!$C$36)","v":"行32"},{"$f":"IF($F$5=1,項目表示入力!$C$38,IF($F$5=2,IF(ISERROR(VLOOKUP(B9,入力AA4!$B$8:$GU$58,オフセット番号A!$C$36+1))=TRUE,\"\",VLOOKUP(B9,入力AA4!$B$8:$GU$58,オフセット番号A!$C$36+1)),\"*\"))","v":"内容32,1"},{"$f":"IF($F$5=1,項目表示入力!$D$38,IF($F$5=2,IF(ISERROR(VLOOKUP(B9,入力AA4!$B$8:$GU$58,オフセット番号A!$D$36+1))=TRUE,\"\",VLOOKUP(B9,入力AA4!$B$8:$GU$58,オフセット番号A!$D$36+1)),\"*\"))","v":"内容32,2"},{"$f":"IF($F$5=1,項目表示入力!$E$38,IF($F$5=2,IF(ISERROR(VLOOKUP(B9,入力AA4!$B$8:$GU$58,オフセット番号A!$E$36+1))=TRUE,\"\",VLOOKUP(B9,入力AA4!$B$8:$GU$58,オフセット番号A!$E$36+1)),\"*\"))","v":"内容32,3"},{"$f":"IF($F$5=1,項目表示入力!$F$38,IF($F$5=2,IF(ISERROR(VLOOKUP(B9,入力AA4!$B$8:$GU$58,オフセット番号A!$F$36+1))=TRUE,\"\",VLOOKUP(B9,入力AA4!$B$8:$GU$58,オフセット番号A!$F$36+1)),\"*\"))","v":"内容32,4"},{"$f":"IF($F$5=1,項目表示入力!$G$38,IF($F$5=2,IF(ISERROR(VLOOKUP(B9,入力AA4!$B$8:$GU$58,オフセット番号A!$G$36+1))=TRUE,\"\",VLOOKUP(B9,入力AA4!$B$8:$GU$58,オフセット番号A!$G$36+1)),\"*\"))","v":"内容32,5"},{"$f":"IF($F$5=1,項目表示入力!$H$38,IF($F$5=2,IF(ISERROR(VLOOKUP(B9,入力AA4!$B$8:$GU$58,オフセット番号A!$H$36+1))=TRUE,\"\",VLOOKUP(B9,入力AA4!$B$8:$GU$58,オフセット番号A!$H$36+1)),\"*\"))","v":"内容32,6"},{"$f":"IF($F$5=1,項目表示入力!$I$38,IF($F$5=2,IF(ISERROR(VLOOKUP(B9,入力AA4!$B$8:$GU$58,オフセット番号A!$I$36+1))=TRUE,\"\",VLOOKUP(B9,入力AA4!$B$8:$GU$58,オフセット番号A!$I$36+1)),\"*\"))","v":"内容32,7"},{"$f":"IF($F$5=1,項目表示入力!$J$38,IF($F$5=2,IF(ISERROR(VLOOKUP(B9,入力AA4!$B$8:$GU$58,オフセット番号A!$J$36+1))=TRUE,\"\",VLOOKUP(B9,入力AA4!$B$8:$GU$58,オフセット番号A!$J$36+1)),\"*\"))","v":"内容32,8"},{"$f":"IF($F$5=1,項目表示入力!$K$38,IF($F$5=2,IF(ISERROR(VLOOKUP(B9,入力AA4!$B$8:$GU$58,オフセット番号A!$K$36+1))=TRUE,\"\",VLOOKUP(B9,入力AA4!$B$8:$GU$58,オフセット番号A!$K$36+1)),\"*\"))","v":"内容32,9"},{"$f":"IF($F$5=1,項目表示入力!$L$38,IF($F$5=2,IF(ISERROR(VLOOKUP(B9,入力AA4!$B$8:$GU$58,オフセット番号A!$L$36+1))=TRUE,\"\",VLOOKUP(B9,入力AA4!$B$8:$GU$58,オフセット番号A!$L$36+1)),\"*\"))","v":"内容32,10"},{"$f":"IF($F$5=1,項目表示入力!$M$38,IF($F$5=2,IF(ISERROR(VLOOKUP(B9,入力AA4!$B$8:$GU$58,オフセット番号A!$M$36+1))=TRUE,\"\",VLOOKUP(B9,入力AA4!$B$8:$GU$58,オフセット番号A!$M$36+1)),\"*\"))","v":"内容32,11"},{"$f":"IF($F$5=1,項目表示入力!$N$38,IF($F$5=2,IF(ISERROR(VLOOKUP(B9,入力AA4!$B$8:$GU$58,オフセット番号A!$N$36+1))=TRUE,\"\",VLOOKUP(B9,入力AA4!$B$8:$GU$58,オフセット番号A!$N$36+1)),\"*\"))","v":"内容32,12"},{"$f":"IF($F$5=1,項目表示入力!$O$38,IF($F$5=2,IF(ISERROR(VLOOKUP(B9,入力AA4!$B$8:$GU$58,オフセット番号A!$O$36+1))=TRUE,\"\",VLOOKUP(B9,入力AA4!$B$8:$GU$58,オフセット番号A!$O$36+1)),\"*\"))","v":"内容32,13"},{"$f":"IF($F$5=1,項目表示入力!$P$38,IF($F$5=2,IF(ISERROR(VLOOKUP(B9,入力AA4!$B$8:$GU$58,オフセット番号A!$P$36+1))=TRUE,\"\",VLOOKUP(B9,入力AA4!$B$8:$GU$58,オフセット番号A!$P$36+1)),\"*\"))","v":"内容32,14"},{"$f":"IF($F$5=1,項目表示入力!$Q$38,IF($F$5=2,IF(ISERROR(VLOOKUP(B9,入力AA4!$B$8:$GU$58,オフセット番号A!$Q$36+1))=TRUE,\"\",VLOOKUP(B9,入力AA4!$B$8:$GU$58,オフセット番号A!$Q$36+1)),\"*\"))","v":"内容32,15"},{"$f":"IF($F$5=1,項目表示入力!$R$38,IF($F$5=2,IF(ISERROR(VLOOKUP(B9,入力AA4!$B$8:$GU$58,オフセット番号A!$R$36+1))=TRUE,\"\",VLOOKUP(B9,入力AA4!$B$8:$GU$58,オフセット番号A!$R$36+1)),\"*\"))","v":"内容32,16"},{"$f":"IF($F$5=1,項目表示入力!$S$38,IF($F$5=2,IF(ISERROR(VLOOKUP(B9,入力AA4!$B$8:$GU$58,オフセット番号A!$S$36+1))=TRUE,\"\",VLOOKUP(B9,入力AA4!$B$8:$GU$58,オフセット番号A!$S$36+1)),\"*\"))","v":"内容32,17"},{"$f":"IF($F$5=1,項目表示入力!$T$38,IF($F$5=2,IF(ISERROR(VLOOKUP(B9,入力AA4!$B$8:$GU$58,オフセット番号A!$T$36+1))=TRUE,\"\",VLOOKUP(B9,入力AA4!$B$8:$GU$58,オフセット番号A!$T$36+1)),\"*\"))","v":"内容32,18"},{"$f":"IF($F$5=1,項目表示入力!$U$38,IF($F$5=2,IF(ISERROR(VLOOKUP(B9,入力AA4!$B$8:$GU$58,オフセット番号A!$U$36+1))=TRUE,\"\",VLOOKUP(B9,入力AA4!$B$8:$GU$58,オフセット番号A!$U$36+1)),\"*\"))","v":"内容32,19"},{"$f":"IF($F$5=1,項目表示入力!$V$38,IF($F$5=2,IF(ISERROR(VLOOKUP(B9,入力AA4!$B$8:$GU$58,オフセット番号A!$V$36+1))=TRUE,\"\",VLOOKUP(B9,入力AA4!$B$8:$GU$58,オフセット番号A!$V$36+1)),\"*\"))","v":"内容32,20"}]
[null,{"$f":"IF(行列入力項目!$C$37=\"\",\"\",行列入力項目!$C$37)","v":"行33"},{"$f":"IF($F$5=1,項目表示入力!$C$39,IF($F$5=2,IF(ISERROR(VLOOKUP(B9,入力AA4!$B$8:$GU$58,オフセット番号A!$C$37+1))=TRUE,\"\",VLOOKUP(B9,入力AA4!$B$8:$GU$58,オフセット番号A!$C$37+1)),\"*\"))","v":"内容33,1"},{"$f":"IF($F$5=1,項目表示入力!$D$39,IF($F$5=2,IF(ISERROR(VLOOKUP(B9,入力AA4!$B$8:$GU$58,オフセット番号A!$D$37+1))=TRUE,\"\",VLOOKUP(B9,入力AA4!$B$8:$GU$58,オフセット番号A!$D$37+1)),\"*\"))","v":"内容33,2"},{"$f":"IF($F$5=1,項目表示入力!$E$39,IF($F$5=2,IF(ISERROR(VLOOKUP(B9,入力AA4!$B$8:$GU$58,オフセット番号A!$E$37+1))=TRUE,\"\",VLOOKUP(B9,入力AA4!$B$8:$GU$58,オフセット番号A!$E$37+1)),\"*\"))","v":"内容33,3"},{"$f":"IF($F$5=1,項目表示入力!$F$39,IF($F$5=2,IF(ISERROR(VLOOKUP(B9,入力AA4!$B$8:$GU$58,オフセット番号A!$F$37+1))=TRUE,\"\",VLOOKUP(B9,入力AA4!$B$8:$GU$58,オフセット番号A!$F$37+1)),\"*\"))","v":"内容33,4"},{"$f":"IF($F$5=1,項目表示入力!$G$39,IF($F$5=2,IF(ISERROR(VLOOKUP(B9,入力AA4!$B$8:$GU$58,オフセット番号A!$G$37+1))=TRUE,\"\",VLOOKUP(B9,入力AA4!$B$8:$GU$58,オフセット番号A!$G$37+1)),\"*\"))","v":"内容33,5"},{"$f":"IF($F$5=1,項目表示入力!$H$39,IF($F$5=2,IF(ISERROR(VLOOKUP(B9,入力AA4!$B$8:$GU$58,オフセット番号A!$H$37+1))=TRUE,\"\",VLOOKUP(B9,入力AA4!$B$8:$GU$58,オフセット番号A!$H$37+1)),\"*\"))","v":"内容33,6"},{"$f":"IF($F$5=1,項目表示入力!$I$39,IF($F$5=2,IF(ISERROR(VLOOKUP(B9,入力AA4!$B$8:$GU$58,オフセット番号A!$I$37+1))=TRUE,\"\",VLOOKUP(B9,入力AA4!$B$8:$GU$58,オフセット番号A!$I$37+1)),\"*\"))","v":"内容33,7"},{"$f":"IF($F$5=1,項目表示入力!$J$39,IF($F$5=2,IF(ISERROR(VLOOKUP(B9,入力AA4!$B$8:$GU$58,オフセット番号A!$J$37+1))=TRUE,\"\",VLOOKUP(B9,入力AA4!$B$8:$GU$58,オフセット番号A!$J$37+1)),\"*\"))","v":"内容33,8"},{"$f":"IF($F$5=1,項目表示入力!$K$39,IF($F$5=2,IF(ISERROR(VLOOKUP(B9,入力AA4!$B$8:$GU$58,オフセット番号A!$K$37+1))=TRUE,\"\",VLOOKUP(B9,入力AA4!$B$8:$GU$58,オフセット番号A!$K$37+1)),\"*\"))","v":"内容33,9"},{"$f":"IF($F$5=1,項目表示入力!$L$39,IF($F$5=2,IF(ISERROR(VLOOKUP(B9,入力AA4!$B$8:$GU$58,オフセット番号A!$L$37+1))=TRUE,\"\",VLOOKUP(B9,入力AA4!$B$8:$GU$58,オフセット番号A!$L$37+1)),\"*\"))","v":"内容33,10"},{"$f":"IF($F$5=1,項目表示入力!$M$39,IF($F$5=2,IF(ISERROR(VLOOKUP(B9,入力AA4!$B$8:$GU$58,オフセット番号A!$M$37+1))=TRUE,\"\",VLOOKUP(B9,入力AA4!$B$8:$GU$58,オフセット番号A!$M$37+1)),\"*\"))","v":"内容33,11"},{"$f":"IF($F$5=1,項目表示入力!$N$39,IF($F$5=2,IF(ISERROR(VLOOKUP(B9,入力AA4!$B$8:$GU$58,オフセット番号A!$N$37+1))=TRUE,\"\",VLOOKUP(B9,入力AA4!$B$8:$GU$58,オフセット番号A!$N$37+1)),\"*\"))","v":"内容33,12"},{"$f":"IF($F$5=1,項目表示入力!$O$39,IF($F$5=2,IF(ISERROR(VLOOKUP(B9,入力AA4!$B$8:$GU$58,オフセット番号A!$O$37+1))=TRUE,\"\",VLOOKUP(B9,入力AA4!$B$8:$GU$58,オフセット番号A!$O$37+1)),\"*\"))","v":"内容33,13"},{"$f":"IF($F$5=1,項目表示入力!$P$39,IF($F$5=2,IF(ISERROR(VLOOKUP(B9,入力AA4!$B$8:$GU$58,オフセット番号A!$P$37+1))=TRUE,\"\",VLOOKUP(B9,入力AA4!$B$8:$GU$58,オフセット番号A!$P$37+1)),\"*\"))","v":"内容33,14"},{"$f":"IF($F$5=1,項目表示入力!$Q$39,IF($F$5=2,IF(ISERROR(VLOOKUP(B9,入力AA4!$B$8:$GU$58,オフセット番号A!$Q$37+1))=TRUE,\"\",VLOOKUP(B9,入力AA4!$B$8:$GU$58,オフセット番号A!$Q$37+1)),\"*\"))","v":"内容33,15"},{"$f":"IF($F$5=1,項目表示入力!$R$39,IF($F$5=2,IF(ISERROR(VLOOKUP(B9,入力AA4!$B$8:$GU$58,オフセット番号A!$R$37+1))=TRUE,\"\",VLOOKUP(B9,入力AA4!$B$8:$GU$58,オフセット番号A!$R$37+1)),\"*\"))","v":"内容33,16"},{"$f":"IF($F$5=1,項目表示入力!$S$39,IF($F$5=2,IF(ISERROR(VLOOKUP(B9,入力AA4!$B$8:$GU$58,オフセット番号A!$S$37+1))=TRUE,\"\",VLOOKUP(B9,入力AA4!$B$8:$GU$58,オフセット番号A!$S$37+1)),\"*\"))","v":"内容33,17"},{"$f":"IF($F$5=1,項目表示入力!$T$39,IF($F$5=2,IF(ISERROR(VLOOKUP(B9,入力AA4!$B$8:$GU$58,オフセット番号A!$T$37+1))=TRUE,\"\",VLOOKUP(B9,入力AA4!$B$8:$GU$58,オフセット番号A!$T$37+1)),\"*\"))","v":"内容33,18"},{"$f":"IF($F$5=1,項目表示入力!$U$39,IF($F$5=2,IF(ISERROR(VLOOKUP(B9,入力AA4!$B$8:$GU$58,オフセット番号A!$U$37+1))=TRUE,\"\",VLOOKUP(B9,入力AA4!$B$8:$GU$58,オフセット番号A!$U$37+1)),\"*\"))","v":"内容33,19"},{"$f":"IF($F$5=1,項目表示入力!$V$39,IF($F$5=2,IF(ISERROR(VLOOKUP(B9,入力AA4!$B$8:$GU$58,オフセット番号A!$V$37+1))=TRUE,\"\",VLOOKUP(B9,入力AA4!$B$8:$GU$58,オフセット番号A!$V$37+1)),\"*\"))","v":"内容33,20"}]
[null,{"$f":"IF(行列入力項目!$C$38=\"\",\"\",行列入力項目!$C$38)","v":"行34"},{"$f":"IF($F$5=1,項目表示入力!$C$40,IF($F$5=2,IF(ISERROR(VLOOKUP(B9,入力AA4!$B$8:$GU$58,オフセット番号A!$C$38+1))=TRUE,\"\",VLOOKUP(B9,入力AA4!$B$8:$GU$58,オフセット番号A!$C$38+1)),\"*\"))","v":"内容34,1"},{"$f":"IF($F$5=1,項目表示入力!$D$40,IF($F$5=2,IF(ISERROR(VLOOKUP(B9,入力AA4!$B$8:$GU$58,オフセット番号A!$D$38+1))=TRUE,\"\",VLOOKUP(B9,入力AA4!$B$8:$GU$58,オフセット番号A!$D$38+1)),\"*\"))","v":"内容34,2"},{"$f":"IF($F$5=1,項目表示入力!$E$40,IF($F$5=2,IF(ISERROR(VLOOKUP(B9,入力AA4!$B$8:$GU$58,オフセット番号A!$E$38+1))=TRUE,\"\",VLOOKUP(B9,入力AA4!$B$8:$GU$58,オフセット番号A!$E$38+1)),\"*\"))","v":"内容34,3"},{"$f":"IF($F$5=1,項目表示入力!$F$40,IF($F$5=2,IF(ISERROR(VLOOKUP(B9,入力AA4!$B$8:$GU$58,オフセット番号A!$F$38+1))=TRUE,\"\",VLOOKUP(B9,入力AA4!$B$8:$GU$58,オフセット番号A!$F$38+1)),\"*\"))","v":"内容34,4"},{"$f":"IF($F$5=1,項目表示入力!$G$40,IF($F$5=2,IF(ISERROR(VLOOKUP(B9,入力AA4!$B$8:$GU$58,オフセット番号A!$G$38+1))=TRUE,\"\",VLOOKUP(B9,入力AA4!$B$8:$GU$58,オフセット番号A!$G$38+1)),\"*\"))","v":"内容34,5"},{"$f":"IF($F$5=1,項目表示入力!$H$40,IF($F$5=2,IF(ISERROR(VLOOKUP(B9,入力AA4!$B$8:$GU$58,オフセット番号A!$H$38+1))=TRUE,\"\",VLOOKUP(B9,入力AA4!$B$8:$GU$58,オフセット番号A!$H$38+1)),\"*\"))","v":"内容34,6"},{"$f":"IF($F$5=1,項目表示入力!$I$40,IF($F$5=2,IF(ISERROR(VLOOKUP(B9,入力AA4!$B$8:$GU$58,オフセット番号A!$I$38+1))=TRUE,\"\",VLOOKUP(B9,入力AA4!$B$8:$GU$58,オフセット番号A!$I$38+1)),\"*\"))","v":"内容34,7"},{"$f":"IF($F$5=1,項目表示入力!$J$40,IF($F$5=2,IF(ISERROR(VLOOKUP(B9,入力AA4!$B$8:$GU$58,オフセット番号A!$J$38+1))=TRUE,\"\",VLOOKUP(B9,入力AA4!$B$8:$GU$58,オフセット番号A!$J$38+1)),\"*\"))","v":"内容34,8"},{"$f":"IF($F$5=1,項目表示入力!$K$40,IF($F$5=2,IF(ISERROR(VLOOKUP(B9,入力AA4!$B$8:$GU$58,オフセット番号A!$K$38+1))=TRUE,\"\",VLOOKUP(B9,入力AA4!$B$8:$GU$58,オフセット番号A!$K$38+1)),\"*\"))","v":"内容34,9"},{"$f":"IF($F$5=1,項目表示入力!$L$40,IF($F$5=2,IF(ISERROR(VLOOKUP(B9,入力AA4!$B$8:$GU$58,オフセット番号A!$L$38+1))=TRUE,\"\",VLOOKUP(B9,入力AA4!$B$8:$GU$58,オフセット番号A!$L$38+1)),\"*\"))","v":"内容34,10"},{"$f":"IF($F$5=1,項目表示入力!$M$40,IF($F$5=2,IF(ISERROR(VLOOKUP(B9,入力AA4!$B$8:$GU$58,オフセット番号A!$M$38+1))=TRUE,\"\",VLOOKUP(B9,入力AA4!$B$8:$GU$58,オフセット番号A!$M$38+1)),\"*\"))","v":"内容34,11"},{"$f":"IF($F$5=1,項目表示入力!$N$40,IF($F$5=2,IF(ISERROR(VLOOKUP(B9,入力AA4!$B$8:$GU$58,オフセット番号A!$N$38+1))=TRUE,\"\",VLOOKUP(B9,入力AA4!$B$8:$GU$58,オフセット番号A!$N$38+1)),\"*\"))","v":"内容34,12"},{"$f":"IF($F$5=1,項目表示入力!$O$40,IF($F$5=2,IF(ISERROR(VLOOKUP(B9,入力AA4!$B$8:$GU$58,オフセット番号A!$O$38+1))=TRUE,\"\",VLOOKUP(B9,入力AA4!$B$8:$GU$58,オフセット番号A!$O$38+1)),\"*\"))","v":"内容34,13"},{"$f":"IF($F$5=1,項目表示入力!$P$40,IF($F$5=2,IF(ISERROR(VLOOKUP(B9,入力AA4!$B$8:$GU$58,オフセット番号A!$P$38+1))=TRUE,\"\",VLOOKUP(B9,入力AA4!$B$8:$GU$58,オフセット番号A!$P$38+1)),\"*\"))","v":"内容34,14"},{"$f":"IF($F$5=1,項目表示入力!$Q$40,IF($F$5=2,IF(ISERROR(VLOOKUP(B9,入力AA4!$B$8:$GU$58,オフセット番号A!$Q$38+1))=TRUE,\"\",VLOOKUP(B9,入力AA4!$B$8:$GU$58,オフセット番号A!$Q$38+1)),\"*\"))","v":"内容34,15"},{"$f":"IF($F$5=1,項目表示入力!$R$40,IF($F$5=2,IF(ISERROR(VLOOKUP(B9,入力AA4!$B$8:$GU$58,オフセット番号A!$R$38+1))=TRUE,\"\",VLOOKUP(B9,入力AA4!$B$8:$GU$58,オフセット番号A!$R$38+1)),\"*\"))","v":"内容34,16"},{"$f":"IF($F$5=1,項目表示入力!$S$40,IF($F$5=2,IF(ISERROR(VLOOKUP(B9,入力AA4!$B$8:$GU$58,オフセット番号A!$S$38+1))=TRUE,\"\",VLOOKUP(B9,入力AA4!$B$8:$GU$58,オフセット番号A!$S$38+1)),\"*\"))","v":"内容34,17"},{"$f":"IF($F$5=1,項目表示入力!$T$40,IF($F$5=2,IF(ISERROR(VLOOKUP(B9,入力AA4!$B$8:$GU$58,オフセット番号A!$T$38+1))=TRUE,\"\",VLOOKUP(B9,入力AA4!$B$8:$GU$58,オフセット番号A!$T$38+1)),\"*\"))","v":"内容34,18"},{"$f":"IF($F$5=1,項目表示入力!$U$40,IF($F$5=2,IF(ISERROR(VLOOKUP(B9,入力AA4!$B$8:$GU$58,オフセット番号A!$U$38+1))=TRUE,\"\",VLOOKUP(B9,入力AA4!$B$8:$GU$58,オフセット番号A!$U$38+1)),\"*\"))","v":"内容34,19"},{"$f":"IF($F$5=1,項目表示入力!$V$40,IF($F$5=2,IF(ISERROR(VLOOKUP(B9,入力AA4!$B$8:$GU$58,オフセット番号A!$V$38+1))=TRUE,\"\",VLOOKUP(B9,入力AA4!$B$8:$GU$58,オフセット番号A!$V$38+1)),\"*\"))","v":"内容34,20"}]
[null,{"$f":"IF(行列入力項目!$C$39=\"\",\"\",行列入力項目!$C$39)","v":"行35"},{"$f":"IF($F$5=1,項目表示入力!$C$41,IF($F$5=2,IF(ISERROR(VLOOKUP(B9,入力AA4!$B$8:$GU$58,オフセット番号A!$C$39+1))=TRUE,\"\",VLOOKUP(B9,入力AA4!$B$8:$GU$58,オフセット番号A!$C$39+1)),\"*\"))","v":"内容35,1"},{"$f":"IF($F$5=1,項目表示入力!$D$41,IF($F$5=2,IF(ISERROR(VLOOKUP(B9,入力AA4!$B$8:$GU$58,オフセット番号A!$D$39+1))=TRUE,\"\",VLOOKUP(B9,入力AA4!$B$8:$GU$58,オフセット番号A!$D$39+1)),\"*\"))","v":"内容35,2"},{"$f":"IF($F$5=1,項目表示入力!$E$41,IF($F$5=2,IF(ISERROR(VLOOKUP(B9,入力AA4!$B$8:$GU$58,オフセット番号A!$E$39+1))=TRUE,\"\",VLOOKUP(B9,入力AA4!$B$8:$GU$58,オフセット番号A!$E$39+1)),\"*\"))","v":"内容35,3"},{"$f":"IF($F$5=1,項目表示入力!$F$41,IF($F$5=2,IF(ISERROR(VLOOKUP(B9,入力AA4!$B$8:$GU$58,オフセット番号A!$F$39+1))=TRUE,\"\",VLOOKUP(B9,入力AA4!$B$8:$GU$58,オフセット番号A!$F$39+1)),\"*\"))","v":"内容35,4"},{"$f":"IF($F$5=1,項目表示入力!$G$41,IF($F$5=2,IF(ISERROR(VLOOKUP(B9,入力AA4!$B$8:$GU$58,オフセット番号A!$G$39+1))=TRUE,\"\",VLOOKUP(B9,入力AA4!$B$8:$GU$58,オフセット番号A!$G$39+1)),\"*\"))","v":"内容35,5"},{"$f":"IF($F$5=1,項目表示入力!$H$41,IF($F$5=2,IF(ISERROR(VLOOKUP(B9,入力AA4!$B$8:$GU$58,オフセット番号A!$H$39+1))=TRUE,\"\",VLOOKUP(B9,入力AA4!$B$8:$GU$58,オフセット番号A!$H$39+1)),\"*\"))","v":"内容35,6"},{"$f":"IF($F$5=1,項目表示入力!$I$41,IF($F$5=2,IF(ISERROR(VLOOKUP(B9,入力AA4!$B$8:$GU$58,オフセット番号A!$I$39+1))=TRUE,\"\",VLOOKUP(B9,入力AA4!$B$8:$GU$58,オフセット番号A!$I$39+1)),\"*\"))","v":"内容35,7"},{"$f":"IF($F$5=1,項目表示入力!$J$41,IF($F$5=2,IF(ISERROR(VLOOKUP(B9,入力AA4!$B$8:$GU$58,オフセット番号A!$J$39+1))=TRUE,\"\",VLOOKUP(B9,入力AA4!$B$8:$GU$58,オフセット番号A!$J$39+1)),\"*\"))","v":"内容35,8"},{"$f":"IF($F$5=1,項目表示入力!$K$41,IF($F$5=2,IF(ISERROR(VLOOKUP(B9,入力AA4!$B$8:$GU$58,オフセット番号A!$K$39+1))=TRUE,\"\",VLOOKUP(B9,入力AA4!$B$8:$GU$58,オフセット番号A!$K$39+1)),\"*\"))","v":"内容35,9"},{"$f":"IF($F$5=1,項目表示入力!$L$41,IF($F$5=2,IF(ISERROR(VLOOKUP(B9,入力AA4!$B$8:$GU$58,オフセット番号A!$L$39+1))=TRUE,\"\",VLOOKUP(B9,入力AA4!$B$8:$GU$58,オフセット番号A!$L$39+1)),\"*\"))","v":"内容35,10"},{"$f":"IF($F$5=1,項目表示入力!$M$41,IF($F$5=2,IF(ISERROR(VLOOKUP(B9,入力AA4!$B$8:$GU$58,オフセット番号A!$M$39+1))=TRUE,\"\",VLOOKUP(B9,入力AA4!$B$8:$GU$58,オフセット番号A!$M$39+1)),\"*\"))","v":"内容35,11"},{"$f":"IF($F$5=1,項目表示入力!$N$41,IF($F$5=2,IF(ISERROR(VLOOKUP(B9,入力AA4!$B$8:$GU$58,オフセット番号A!$N$39+1))=TRUE,\"\",VLOOKUP(B9,入力AA4!$B$8:$GU$58,オフセット番号A!$N$39+1)),\"*\"))","v":"内容35,12"},{"$f":"IF($F$5=1,項目表示入力!$O$41,IF($F$5=2,IF(ISERROR(VLOOKUP(B9,入力AA4!$B$8:$GU$58,オフセット番号A!$O$39+1))=TRUE,\"\",VLOOKUP(B9,入力AA4!$B$8:$GU$58,オフセット番号A!$O$39+1)),\"*\"))","v":"内容35,13"},{"$f":"IF($F$5=1,項目表示入力!$P$41,IF($F$5=2,IF(ISERROR(VLOOKUP(B9,入力AA4!$B$8:$GU$58,オフセット番号A!$P$39+1))=TRUE,\"\",VLOOKUP(B9,入力AA4!$B$8:$GU$58,オフセット番号A!$P$39+1)),\"*\"))","v":"内容35,14"},{"$f":"IF($F$5=1,項目表示入力!$Q$41,IF($F$5=2,IF(ISERROR(VLOOKUP(B9,入力AA4!$B$8:$GU$58,オフセット番号A!$Q$39+1))=TRUE,\"\",VLOOKUP(B9,入力AA4!$B$8:$GU$58,オフセット番号A!$Q$39+1)),\"*\"))","v":"内容35,15"},{"$f":"IF($F$5=1,項目表示入力!$R$41,IF($F$5=2,IF(ISERROR(VLOOKUP(B9,入力AA4!$B$8:$GU$58,オフセット番号A!$R$39+1))=TRUE,\"\",VLOOKUP(B9,入力AA4!$B$8:$GU$58,オフセット番号A!$R$39+1)),\"*\"))","v":"内容35,16"},{"$f":"IF($F$5=1,項目表示入力!$S$41,IF($F$5=2,IF(ISERROR(VLOOKUP(B9,入力AA4!$B$8:$GU$58,オフセット番号A!$S$39+1))=TRUE,\"\",VLOOKUP(B9,入力AA4!$B$8:$GU$58,オフセット番号A!$S$39+1)),\"*\"))","v":"内容35,17"},{"$f":"IF($F$5=1,項目表示入力!$T$41,IF($F$5=2,IF(ISERROR(VLOOKUP(B9,入力AA4!$B$8:$GU$58,オフセット番号A!$T$39+1))=TRUE,\"\",VLOOKUP(B9,入力AA4!$B$8:$GU$58,オフセット番号A!$T$39+1)),\"*\"))","v":"内容35,18"},{"$f":"IF($F$5=1,項目表示入力!$U$41,IF($F$5=2,IF(ISERROR(VLOOKUP(B9,入力AA4!$B$8:$GU$58,オフセット番号A!$U$39+1))=TRUE,\"\",VLOOKUP(B9,入力AA4!$B$8:$GU$58,オフセット番号A!$U$39+1)),\"*\"))","v":"内容35,19"},{"$f":"IF($F$5=1,項目表示入力!$V$41,IF($F$5=2,IF(ISERROR(VLOOKUP(B9,入力AA4!$B$8:$GU$58,オフセット番号A!$V$39+1))=TRUE,\"\",VLOOKUP(B9,入力AA4!$B$8:$GU$58,オフセット番号A!$V$39+1)),\"*\"))","v":"内容35,20"}]
[null,{"$f":"IF(行列入力項目!$C$40=\"\",\"\",行列入力項目!$C$40)","v":"行36"},{"$f":"IF($F$5=1,項目表示入力!$C$42,IF($F$5=2,IF(ISERROR(VLOOKUP(B9,入力AA4!$B$8:$GU$58,オフセット番号A!$C$40+1))=TRUE,\"\",VLOOKUP(B9,入力AA4!$B$8:$GU$58,オフセット番号A!$C$40+1)),\"*\"))","v":"内容36,1"},{"$f":"IF($F$5=1,項目表示入力!$D$42,IF($F$5=2,IF(ISERROR(VLOOKUP(B9,入力AA4!$B$8:$GU$58,オフセット番号A!$D$40+1))=TRUE,\"\",VLOOKUP(B9,入力AA4!$B$8:$GU$58,オフセット番号A!$D$40+1)),\"*\"))","v":"内容36,2"},{"$f":"IF($F$5=1,項目表示入力!$E$42,IF($F$5=2,IF(ISERROR(VLOOKUP(B9,入力AA4!$B$8:$GU$58,オフセット番号A!$E$40+1))=TRUE,\"\",VLOOKUP(B9,入力AA4!$B$8:$GU$58,オフセット番号A!$E$40+1)),\"*\"))","v":"内容36,3"},{"$f":"IF($F$5=1,項目表示入力!$F$42,IF($F$5=2,IF(ISERROR(VLOOKUP(B9,入力AA4!$B$8:$GU$58,オフセット番号A!$F$40+1))=TRUE,\"\",VLOOKUP(B9,入力AA4!$B$8:$GU$58,オフセット番号A!$F$40+1)),\"*\"))","v":"内容36,4"},{"$f":"IF($F$5=1,項目表示入力!$G$42,IF($F$5=2,IF(ISERROR(VLOOKUP(B9,入力AA4!$B$8:$GU$58,オフセット番号A!$G$40+1))=TRUE,\"\",VLOOKUP(B9,入力AA4!$B$8:$GU$58,オフセット番号A!$G$40+1)),\"*\"))","v":"内容36,5"},{"$f":"IF($F$5=1,項目表示入力!$H$42,IF($F$5=2,IF(ISERROR(VLOOKUP(B9,入力AA4!$B$8:$GU$58,オフセット番号A!$H$40+1))=TRUE,\"\",VLOOKUP(B9,入力AA4!$B$8:$GU$58,オフセット番号A!$H$40+1)),\"*\"))","v":"内容36,6"},{"$f":"IF($F$5=1,項目表示入力!$I$42,IF($F$5=2,IF(ISERROR(VLOOKUP(B9,入力AA4!$B$8:$GU$58,オフセット番号A!$I$40+1))=TRUE,\"\",VLOOKUP(B9,入力AA4!$B$8:$GU$58,オフセット番号A!$I$40+1)),\"*\"))","v":"内容36,7"},{"$f":"IF($F$5=1,項目表示入力!$J$42,IF($F$5=2,IF(ISERROR(VLOOKUP(B9,入力AA4!$B$8:$GU$58,オフセット番号A!$J$40+1))=TRUE,\"\",VLOOKUP(B9,入力AA4!$B$8:$GU$58,オフセット番号A!$J$40+1)),\"*\"))","v":"内容36,8"},{"$f":"IF($F$5=1,項目表示入力!$K$42,IF($F$5=2,IF(ISERROR(VLOOKUP(B9,入力AA4!$B$8:$GU$58,オフセット番号A!$K$40+1))=TRUE,\"\",VLOOKUP(B9,入力AA4!$B$8:$GU$58,オフセット番号A!$K$40+1)),\"*\"))","v":"内容36,9"},{"$f":"IF($F$5=1,項目表示入力!$L$42,IF($F$5=2,IF(ISERROR(VLOOKUP(B9,入力AA4!$B$8:$GU$58,オフセット番号A!$L$40+1))=TRUE,\"\",VLOOKUP(B9,入力AA4!$B$8:$GU$58,オフセット番号A!$L$40+1)),\"*\"))","v":"内容36,10"},{"$f":"IF($F$5=1,項目表示入力!$M$42,IF($F$5=2,IF(ISERROR(VLOOKUP(B9,入力AA4!$B$8:$GU$58,オフセット番号A!$M$40+1))=TRUE,\"\",VLOOKUP(B9,入力AA4!$B$8:$GU$58,オフセット番号A!$M$40+1)),\"*\"))","v":"内容36,11"},{"$f":"IF($F$5=1,項目表示入力!$N$42,IF($F$5=2,IF(ISERROR(VLOOKUP(B9,入力AA4!$B$8:$GU$58,オフセット番号A!$N$40+1))=TRUE,\"\",VLOOKUP(B9,入力AA4!$B$8:$GU$58,オフセット番号A!$N$40+1)),\"*\"))","v":"内容36,12"},{"$f":"IF($F$5=1,項目表示入力!$O$42,IF($F$5=2,IF(ISERROR(VLOOKUP(B9,入力AA4!$B$8:$GU$58,オフセット番号A!$O$40+1))=TRUE,\"\",VLOOKUP(B9,入力AA4!$B$8:$GU$58,オフセット番号A!$O$40+1)),\"*\"))","v":"内容36,13"},{"$f":"IF($F$5=1,項目表示入力!$P$42,IF($F$5=2,IF(ISERROR(VLOOKUP(B9,入力AA4!$B$8:$GU$58,オフセット番号A!$P$40+1))=TRUE,\"\",VLOOKUP(B9,入力AA4!$B$8:$GU$58,オフセット番号A!$P$40+1)),\"*\"))","v":"内容36,14"},{"$f":"IF($F$5=1,項目表示入力!$Q$42,IF($F$5=2,IF(ISERROR(VLOOKUP(B9,入力AA4!$B$8:$GU$58,オフセット番号A!$Q$40+1))=TRUE,\"\",VLOOKUP(B9,入力AA4!$B$8:$GU$58,オフセット番号A!$Q$40+1)),\"*\"))","v":"内容36,15"},{"$f":"IF($F$5=1,項目表示入力!$R$42,IF($F$5=2,IF(ISERROR(VLOOKUP(B9,入力AA4!$B$8:$GU$58,オフセット番号A!$R$40+1))=TRUE,\"\",VLOOKUP(B9,入力AA4!$B$8:$GU$58,オフセット番号A!$R$40+1)),\"*\"))","v":"内容36,16"},{"$f":"IF($F$5=1,項目表示入力!$S$42,IF($F$5=2,IF(ISERROR(VLOOKUP(B9,入力AA4!$B$8:$GU$58,オフセット番号A!$S$40+1))=TRUE,\"\",VLOOKUP(B9,入力AA4!$B$8:$GU$58,オフセット番号A!$S$40+1)),\"*\"))","v":"内容36,17"},{"$f":"IF($F$5=1,項目表示入力!$T$42,IF($F$5=2,IF(ISERROR(VLOOKUP(B9,入力AA4!$B$8:$GU$58,オフセット番号A!$T$40+1))=TRUE,\"\",VLOOKUP(B9,入力AA4!$B$8:$GU$58,オフセット番号A!$T$40+1)),\"*\"))","v":"内容36,18"},{"$f":"IF($F$5=1,項目表示入力!$U$42,IF($F$5=2,IF(ISERROR(VLOOKUP(B9,入力AA4!$B$8:$GU$58,オフセット番号A!$U$40+1))=TRUE,\"\",VLOOKUP(B9,入力AA4!$B$8:$GU$58,オフセット番号A!$U$40+1)),\"*\"))","v":"内容36,19"},{"$f":"IF($F$5=1,項目表示入力!$V$42,IF($F$5=2,IF(ISERROR(VLOOKUP(B9,入力AA4!$B$8:$GU$58,オフセット番号A!$V$40+1))=TRUE,\"\",VLOOKUP(B9,入力AA4!$B$8:$GU$58,オフセット番号A!$V$40+1)),\"*\"))","v":"内容36,20"}]
[null,{"$f":"IF(行列入力項目!$C$41=\"\",\"\",行列入力項目!$C$41)","v":"行37"},{"$f":"IF($F$5=1,項目表示入力!$C$43,IF($F$5=2,IF(ISERROR(VLOOKUP(B9,入力AA4!$B$8:$GU$58,オフセット番号A!$C$41+1))=TRUE,\"\",VLOOKUP(B9,入力AA4!$B$8:$GU$58,オフセット番号A!$C$41+1)),\"*\"))","v":"内容37,1"},{"$f":"IF($F$5=1,項目表示入力!$D$43,IF($F$5=2,IF(ISERROR(VLOOKUP(B9,入力AA4!$B$8:$GU$58,オフセット番号A!$D$41+1))=TRUE,\"\",VLOOKUP(B9,入力AA4!$B$8:$GU$58,オフセット番号A!$D$41+1)),\"*\"))","v":"内容37,2"},{"$f":"IF($F$5=1,項目表示入力!$E$43,IF($F$5=2,IF(ISERROR(VLOOKUP(B9,入力AA4!$B$8:$GU$58,オフセット番号A!$E$41+1))=TRUE,\"\",VLOOKUP(B9,入力AA4!$B$8:$GU$58,オフセット番号A!$E$41+1)),\"*\"))","v":"内容37,3"},{"$f":"IF($F$5=1,項目表示入力!$F$43,IF($F$5=2,IF(ISERROR(VLOOKUP(B9,入力AA4!$B$8:$GU$58,オフセット番号A!$F$41+1))=TRUE,\"\",VLOOKUP(B9,入力AA4!$B$8:$GU$58,オフセット番号A!$F$41+1)),\"*\"))","v":"内容37,4"},{"$f":"IF($F$5=1,項目表示入力!$G$43,IF($F$5=2,IF(ISERROR(VLOOKUP(B9,入力AA4!$B$8:$GU$58,オフセット番号A!$G$41+1))=TRUE,\"\",VLOOKUP(B9,入力AA4!$B$8:$GU$58,オフセット番号A!$G$41+1)),\"*\"))","v":"内容37,5"},{"$f":"IF($F$5=1,項目表示入力!$H$43,IF($F$5=2,IF(ISERROR(VLOOKUP(B9,入力AA4!$B$8:$GU$58,オフセット番号A!$H$41+1))=TRUE,\"\",VLOOKUP(B9,入力AA4!$B$8:$GU$58,オフセット番号A!$H$41+1)),\"*\"))","v":"内容37,6"},{"$f":"IF($F$5=1,項目表示入力!$I$43,IF($F$5=2,IF(ISERROR(VLOOKUP(B9,入力AA4!$B$8:$GU$58,オフセット番号A!$I$41+1))=TRUE,\"\",VLOOKUP(B9,入力AA4!$B$8:$GU$58,オフセット番号A!$I$41+1)),\"*\"))","v":"内容37,7"},{"$f":"IF($F$5=1,項目表示入力!$J$43,IF($F$5=2,IF(ISERROR(VLOOKUP(B9,入力AA4!$B$8:$GU$58,オフセット番号A!$J$41+1))=TRUE,\"\",VLOOKUP(B9,入力AA4!$B$8:$GU$58,オフセット番号A!$J$41+1)),\"*\"))","v":"内容37,8"},{"$f":"IF($F$5=1,項目表示入力!$K$43,IF($F$5=2,IF(ISERROR(VLOOKUP(B9,入力AA4!$B$8:$GU$58,オフセット番号A!$K$41+1))=TRUE,\"\",VLOOKUP(B9,入力AA4!$B$8:$GU$58,オフセット番号A!$K$41+1)),\"*\"))","v":"内容37,9"},{"$f":"IF($F$5=1,項目表示入力!$L$43,IF($F$5=2,IF(ISERROR(VLOOKUP(B9,入力AA4!$B$8:$GU$58,オフセット番号A!$L$41+1))=TRUE,\"\",VLOOKUP(B9,入力AA4!$B$8:$GU$58,オフセット番号A!$L$41+1)),\"*\"))","v":"内容37,10"},{"$f":"IF($F$5=1,項目表示入力!$M$43,IF($F$5=2,IF(ISERROR(VLOOKUP(B9,入力AA4!$B$8:$GU$58,オフセット番号A!$M$41+1))=TRUE,\"\",VLOOKUP(B9,入力AA4!$B$8:$GU$58,オフセット番号A!$M$41+1)),\"*\"))","v":"内容37,11"},{"$f":"IF($F$5=1,項目表示入力!$N$43,IF($F$5=2,IF(ISERROR(VLOOKUP(B9,入力AA4!$B$8:$GU$58,オフセット番号A!$N$41+1))=TRUE,\"\",VLOOKUP(B9,入力AA4!$B$8:$GU$58,オフセット番号A!$N$41+1)),\"*\"))","v":"内容37,12"},{"$f":"IF($F$5=1,項目表示入力!$O$43,IF($F$5=2,IF(ISERROR(VLOOKUP(B9,入力AA4!$B$8:$GU$58,オフセット番号A!$O$41+1))=TRUE,\"\",VLOOKUP(B9,入力AA4!$B$8:$GU$58,オフセット番号A!$O$41+1)),\"*\"))","v":"内容37,13"},{"$f":"IF($F$5=1,項目表示入力!$P$43,IF($F$5=2,IF(ISERROR(VLOOKUP(B9,入力AA4!$B$8:$GU$58,オフセット番号A!$P$41+1))=TRUE,\"\",VLOOKUP(B9,入力AA4!$B$8:$GU$58,オフセット番号A!$P$41+1)),\"*\"))","v":"内容37,14"},{"$f":"IF($F$5=1,項目表示入力!$Q$43,IF($F$5=2,IF(ISERROR(VLOOKUP(B9,入力AA4!$B$8:$GU$58,オフセット番号A!$Q$41+1))=TRUE,\"\",VLOOKUP(B9,入力AA4!$B$8:$GU$58,オフセット番号A!$Q$41+1)),\"*\"))","v":"内容37,15"},{"$f":"IF($F$5=1,項目表示入力!$R$43,IF($F$5=2,IF(ISERROR(VLOOKUP(B9,入力AA4!$B$8:$GU$58,オフセット番号A!$R$41+1))=TRUE,\"\",VLOOKUP(B9,入力AA4!$B$8:$GU$58,オフセット番号A!$R$41+1)),\"*\"))","v":"内容37,16"},{"$f":"IF($F$5=1,項目表示入力!$S$43,IF($F$5=2,IF(ISERROR(VLOOKUP(B9,入力AA4!$B$8:$GU$58,オフセット番号A!$S$41+1))=TRUE,\"\",VLOOKUP(B9,入力AA4!$B$8:$GU$58,オフセット番号A!$S$41+1)),\"*\"))","v":"内容37,17"},{"$f":"IF($F$5=1,項目表示入力!$T$43,IF($F$5=2,IF(ISERROR(VLOOKUP(B9,入力AA4!$B$8:$GU$58,オフセット番号A!$T$41+1))=TRUE,\"\",VLOOKUP(B9,入力AA4!$B$8:$GU$58,オフセット番号A!$T$41+1)),\"*\"))","v":"内容37,18"},{"$f":"IF($F$5=1,項目表示入力!$U$43,IF($F$5=2,IF(ISERROR(VLOOKUP(B9,入力AA4!$B$8:$GU$58,オフセット番号A!$U$41+1))=TRUE,\"\",VLOOKUP(B9,入力AA4!$B$8:$GU$58,オフセット番号A!$U$41+1)),\"*\"))","v":"内容37,19"},{"$f":"IF($F$5=1,項目表示入力!$V$43,IF($F$5=2,IF(ISERROR(VLOOKUP(B9,入力AA4!$B$8:$GU$58,オフセット番号A!$V$41+1))=TRUE,\"\",VLOOKUP(B9,入力AA4!$B$8:$GU$58,オフセット番号A!$V$41+1)),\"*\"))","v":"内容37,20"}]
[null,{"$f":"IF(行列入力項目!$C$42=\"\",\"\",行列入力項目!$C$42)","v":"行38"},{"$f":"IF($F$5=1,項目表示入力!$C$44,IF($F$5=2,IF(ISERROR(VLOOKUP(B9,入力AA4!$B$8:$GU$58,オフセット番号A!$C$42+1))=TRUE,\"\",VLOOKUP(B9,入力AA4!$B$8:$GU$58,オフセット番号A!$C$42+1)),\"*\"))","v":"内容38,1"},{"$f":"IF($F$5=1,項目表示入力!$D$44,IF($F$5=2,IF(ISERROR(VLOOKUP(B9,入力AA4!$B$8:$GU$58,オフセット番号A!$D$42+1))=TRUE,\"\",VLOOKUP(B9,入力AA4!$B$8:$GU$58,オフセット番号A!$D$42+1)),\"*\"))","v":"内容38,2"},{"$f":"IF($F$5=1,項目表示入力!$E$44,IF($F$5=2,IF(ISERROR(VLOOKUP(B9,入力AA4!$B$8:$GU$58,オフセット番号A!$E$42+1))=TRUE,\"\",VLOOKUP(B9,入力AA4!$B$8:$GU$58,オフセット番号A!$E$42+1)),\"*\"))","v":"内容38,3"},{"$f":"IF($F$5=1,項目表示入力!$F$44,IF($F$5=2,IF(ISERROR(VLOOKUP(B9,入力AA4!$B$8:$GU$58,オフセット番号A!$F$42+1))=TRUE,\"\",VLOOKUP(B9,入力AA4!$B$8:$GU$58,オフセット番号A!$F$42+1)),\"*\"))","v":"内容38,4"},{"$f":"IF($F$5=1,項目表示入力!$G$44,IF($F$5=2,IF(ISERROR(VLOOKUP(B9,入力AA4!$B$8:$GU$58,オフセット番号A!$G$42+1))=TRUE,\"\",VLOOKUP(B9,入力AA4!$B$8:$GU$58,オフセット番号A!$G$42+1)),\"*\"))","v":"内容38,5"},{"$f":"IF($F$5=1,項目表示入力!$H$44,IF($F$5=2,IF(ISERROR(VLOOKUP(B9,入力AA4!$B$8:$GU$58,オフセット番号A!$H$42+1))=TRUE,\"\",VLOOKUP(B9,入力AA4!$B$8:$GU$58,オフセット番号A!$H$42+1)),\"*\"))","v":"内容38,6"},{"$f":"IF($F$5=1,項目表示入力!$I$44,IF($F$5=2,IF(ISERROR(VLOOKUP(B9,入力AA4!$B$8:$GU$58,オフセット番号A!$I$42+1))=TRUE,\"\",VLOOKUP(B9,入力AA4!$B$8:$GU$58,オフセット番号A!$I$42+1)),\"*\"))","v":"内容38,7"},{"$f":"IF($F$5=1,項目表示入力!$J$44,IF($F$5=2,IF(ISERROR(VLOOKUP(B9,入力AA4!$B$8:$GU$58,オフセット番号A!$J$42+1))=TRUE,\"\",VLOOKUP(B9,入力AA4!$B$8:$GU$58,オフセット番号A!$J$42+1)),\"*\"))","v":"内容38,8"},{"$f":"IF($F$5=1,項目表示入力!$K$44,IF($F$5=2,IF(ISERROR(VLOOKUP(B9,入力AA4!$B$8:$GU$58,オフセット番号A!$K$42+1))=TRUE,\"\",VLOOKUP(B9,入力AA4!$B$8:$GU$58,オフセット番号A!$K$42+1)),\"*\"))","v":"内容38,9"},{"$f":"IF($F$5=1,項目表示入力!$L$44,IF($F$5=2,IF(ISERROR(VLOOKUP(B9,入力AA4!$B$8:$GU$58,オフセット番号A!$L$42+1))=TRUE,\"\",VLOOKUP(B9,入力AA4!$B$8:$GU$58,オフセット番号A!$L$42+1)),\"*\"))","v":"内容38,10"},{"$f":"IF($F$5=1,項目表示入力!$M$44,IF($F$5=2,IF(ISERROR(VLOOKUP(B9,入力AA4!$B$8:$GU$58,オフセット番号A!$M$42+1))=TRUE,\"\",VLOOKUP(B9,入力AA4!$B$8:$GU$58,オフセット番号A!$M$42+1)),\"*\"))","v":"内容38,11"},{"$f":"IF($F$5=1,項目表示入力!$N$44,IF($F$5=2,IF(ISERROR(VLOOKUP(B9,入力AA4!$B$8:$GU$58,オフセット番号A!$N$42+1))=TRUE,\"\",VLOOKUP(B9,入力AA4!$B$8:$GU$58,オフセット番号A!$N$42+1)),\"*\"))","v":"内容38,12"},{"$f":"IF($F$5=1,項目表示入力!$O$44,IF($F$5=2,IF(ISERROR(VLOOKUP(B9,入力AA4!$B$8:$GU$58,オフセット番号A!$O$42+1))=TRUE,\"\",VLOOKUP(B9,入力AA4!$B$8:$GU$58,オフセット番号A!$O$42+1)),\"*\"))","v":"内容38,13"},{"$f":"IF($F$5=1,項目表示入力!$P$44,IF($F$5=2,IF(ISERROR(VLOOKUP(B9,入力AA4!$B$8:$GU$58,オフセット番号A!$P$42+1))=TRUE,\"\",VLOOKUP(B9,入力AA4!$B$8:$GU$58,オフセット番号A!$P$42+1)),\"*\"))","v":"内容38,14"},{"$f":"IF($F$5=1,項目表示入力!$Q$44,IF($F$5=2,IF(ISERROR(VLOOKUP(B9,入力AA4!$B$8:$GU$58,オフセット番号A!$Q$42+1))=TRUE,\"\",VLOOKUP(B9,入力AA4!$B$8:$GU$58,オフセット番号A!$Q$42+1)),\"*\"))","v":"内容38,15"},{"$f":"IF($F$5=1,項目表示入力!$R$44,IF($F$5=2,IF(ISERROR(VLOOKUP(B9,入力AA4!$B$8:$GU$58,オフセット番号A!$R$42+1))=TRUE,\"\",VLOOKUP(B9,入力AA4!$B$8:$GU$58,オフセット番号A!$R$42+1)),\"*\"))","v":"内容38,16"},{"$f":"IF($F$5=1,項目表示入力!$S$44,IF($F$5=2,IF(ISERROR(VLOOKUP(B9,入力AA4!$B$8:$GU$58,オフセット番号A!$S$42+1))=TRUE,\"\",VLOOKUP(B9,入力AA4!$B$8:$GU$58,オフセット番号A!$S$42+1)),\"*\"))","v":"内容38,17"},{"$f":"IF($F$5=1,項目表示入力!$T$44,IF($F$5=2,IF(ISERROR(VLOOKUP(B9,入力AA4!$B$8:$GU$58,オフセット番号A!$T$42+1))=TRUE,\"\",VLOOKUP(B9,入力AA4!$B$8:$GU$58,オフセット番号A!$T$42+1)),\"*\"))","v":"内容38,18"},{"$f":"IF($F$5=1,項目表示入力!$U$44,IF($F$5=2,IF(ISERROR(VLOOKUP(B9,入力AA4!$B$8:$GU$58,オフセット番号A!$U$42+1))=TRUE,\"\",VLOOKUP(B9,入力AA4!$B$8:$GU$58,オフセット番号A!$U$42+1)),\"*\"))","v":"内容38,19"},{"$f":"IF($F$5=1,項目表示入力!$V$44,IF($F$5=2,IF(ISERROR(VLOOKUP(B9,入力AA4!$B$8:$GU$58,オフセット番号A!$V$42+1))=TRUE,\"\",VLOOKUP(B9,入力AA4!$B$8:$GU$58,オフセット番号A!$V$42+1)),\"*\"))","v":"内容38,20"}]
[null,{"$f":"IF(行列入力項目!$C$43=\"\",\"\",行列入力項目!$C$43)","v":"行39"},{"$f":"IF($F$5=1,項目表示入力!$C$45,IF($F$5=2,IF(ISERROR(VLOOKUP(B9,入力AA4!$B$8:$GU$58,オフセット番号A!$C$43+1))=TRUE,\"\",VLOOKUP(B9,入力AA4!$B$8:$GU$58,オフセット番号A!$C$43+1)),\"*\"))","v":"内容39,1"},{"$f":"IF($F$5=1,項目表示入力!$D$45,IF($F$5=2,IF(ISERROR(VLOOKUP(B9,入力AA4!$B$8:$GU$58,オフセット番号A!$D$43+1))=TRUE,\"\",VLOOKUP(B9,入力AA4!$B$8:$GU$58,オフセット番号A!$D$43+1)),\"*\"))","v":"内容39,2"},{"$f":"IF($F$5=1,項目表示入力!$E$45,IF($F$5=2,IF(ISERROR(VLOOKUP(B9,入力AA4!$B$8:$GU$58,オフセット番号A!$E$43+1))=TRUE,\"\",VLOOKUP(B9,入力AA4!$B$8:$GU$58,オフセット番号A!$E$43+1)),\"*\"))","v":"内容39,3"},{"$f":"IF($F$5=1,項目表示入力!$F$45,IF($F$5=2,IF(ISERROR(VLOOKUP(B9,入力AA4!$B$8:$GU$58,オフセット番号A!$F$43+1))=TRUE,\"\",VLOOKUP(B9,入力AA4!$B$8:$GU$58,オフセット番号A!$F$43+1)),\"*\"))","v":"内容39,4"},{"$f":"IF($F$5=1,項目表示入力!$G$45,IF($F$5=2,IF(ISERROR(VLOOKUP(B9,入力AA4!$B$8:$GU$58,オフセット番号A!$G$43+1))=TRUE,\"\",VLOOKUP(B9,入力AA4!$B$8:$GU$58,オフセット番号A!$G$43+1)),\"*\"))","v":"内容39,5"},{"$f":"IF($F$5=1,項目表示入力!$H$45,IF($F$5=2,IF(ISERROR(VLOOKUP(B9,入力AA4!$B$8:$GU$58,オフセット番号A!$H$43+1))=TRUE,\"\",VLOOKUP(B9,入力AA4!$B$8:$GU$58,オフセット番号A!$H$43+1)),\"*\"))","v":"内容39,6"},{"$f":"IF($F$5=1,項目表示入力!$I$45,IF($F$5=2,IF(ISERROR(VLOOKUP(B9,入力AA4!$B$8:$GU$58,オフセット番号A!$I$43+1))=TRUE,\"\",VLOOKUP(B9,入力AA4!$B$8:$GU$58,オフセット番号A!$I$43+1)),\"*\"))","v":"内容39,7"},{"$f":"IF($F$5=1,項目表示入力!$J$45,IF($F$5=2,IF(ISERROR(VLOOKUP(B9,入力AA4!$B$8:$GU$58,オフセット番号A!$J$43+1))=TRUE,\"\",VLOOKUP(B9,入力AA4!$B$8:$GU$58,オフセット番号A!$J$43+1)),\"*\"))","v":"内容39,8"},{"$f":"IF($F$5=1,項目表示入力!$K$45,IF($F$5=2,IF(ISERROR(VLOOKUP(B9,入力AA4!$B$8:$GU$58,オフセット番号A!$K$43+1))=TRUE,\"\",VLOOKUP(B9,入力AA4!$B$8:$GU$58,オフセット番号A!$K$43+1)),\"*\"))","v":"内容39,9"},{"$f":"IF($F$5=1,項目表示入力!$L$45,IF($F$5=2,IF(ISERROR(VLOOKUP(B9,入力AA4!$B$8:$GU$58,オフセット番号A!$L$43+1))=TRUE,\"\",VLOOKUP(B9,入力AA4!$B$8:$GU$58,オフセット番号A!$L$43+1)),\"*\"))","v":"内容39,10"},{"$f":"IF($F$5=1,項目表示入力!$M$45,IF($F$5=2,IF(ISERROR(VLOOKUP(B9,入力AA4!$B$8:$GU$58,オフセット番号A!$M$43+1))=TRUE,\"\",VLOOKUP(B9,入力AA4!$B$8:$GU$58,オフセット番号A!$M$43+1)),\"*\"))","v":"内容39,11"},{"$f":"IF($F$5=1,項目表示入力!$N$45,IF($F$5=2,IF(ISERROR(VLOOKUP(B9,入力AA4!$B$8:$GU$58,オフセット番号A!$N$43+1))=TRUE,\"\",VLOOKUP(B9,入力AA4!$B$8:$GU$58,オフセット番号A!$N$43+1)),\"*\"))","v":"内容39,12"},{"$f":"IF($F$5=1,項目表示入力!$O$45,IF($F$5=2,IF(ISERROR(VLOOKUP(B9,入力AA4!$B$8:$GU$58,オフセット番号A!$O$43+1))=TRUE,\"\",VLOOKUP(B9,入力AA4!$B$8:$GU$58,オフセット番号A!$O$43+1)),\"*\"))","v":"内容39,13"},{"$f":"IF($F$5=1,項目表示入力!$P$45,IF($F$5=2,IF(ISERROR(VLOOKUP(B9,入力AA4!$B$8:$GU$58,オフセット番号A!$P$43+1))=TRUE,\"\",VLOOKUP(B9,入力AA4!$B$8:$GU$58,オフセット番号A!$P$43+1)),\"*\"))","v":"内容39,14"},{"$f":"IF($F$5=1,項目表示入力!$Q$45,IF($F$5=2,IF(ISERROR(VLOOKUP(B9,入力AA4!$B$8:$GU$58,オフセット番号A!$Q$43+1))=TRUE,\"\",VLOOKUP(B9,入力AA4!$B$8:$GU$58,オフセット番号A!$Q$43+1)),\"*\"))","v":"内容39,15"},{"$f":"IF($F$5=1,項目表示入力!$R$45,IF($F$5=2,IF(ISERROR(VLOOKUP(B9,入力AA4!$B$8:$GU$58,オフセット番号A!$R$43+1))=TRUE,\"\",VLOOKUP(B9,入力AA4!$B$8:$GU$58,オフセット番号A!$R$43+1)),\"*\"))","v":"内容39,16"},{"$f":"IF($F$5=1,項目表示入力!$S$45,IF($F$5=2,IF(ISERROR(VLOOKUP(B9,入力AA4!$B$8:$GU$58,オフセット番号A!$S$43+1))=TRUE,\"\",VLOOKUP(B9,入力AA4!$B$8:$GU$58,オフセット番号A!$S$43+1)),\"*\"))","v":"内容39,17"},{"$f":"IF($F$5=1,項目表示入力!$T$45,IF($F$5=2,IF(ISERROR(VLOOKUP(B9,入力AA4!$B$8:$GU$58,オフセット番号A!$T$43+1))=TRUE,\"\",VLOOKUP(B9,入力AA4!$B$8:$GU$58,オフセット番号A!$T$43+1)),\"*\"))","v":"内容39,18"},{"$f":"IF($F$5=1,項目表示入力!$U$45,IF($F$5=2,IF(ISERROR(VLOOKUP(B9,入力AA4!$B$8:$GU$58,オフセット番号A!$U$43+1))=TRUE,\"\",VLOOKUP(B9,入力AA4!$B$8:$GU$58,オフセット番号A!$U$43+1)),\"*\"))","v":"内容39,19"},{"$f":"IF($F$5=1,項目表示入力!$V$45,IF($F$5=2,IF(ISERROR(VLOOKUP(B9,入力AA4!$B$8:$GU$58,オフセット番号A!$V$43+1))=TRUE,\"\",VLOOKUP(B9,入力AA4!$B$8:$GU$58,オフセット番号A!$V$43+1)),\"*\"))","v":"内容39,20"}]
[null,{"$f":"IF(行列入力項目!$C$44=\"\",\"\",行列入力項目!$C$44)","v":"行40"},{"$f":"IF($F$5=1,項目表示入力!$C$46,IF($F$5=2,IF(ISERROR(VLOOKUP(B9,入力AA4!$B$8:$GU$58,オフセット番号A!$C$44+1))=TRUE,\"\",VLOOKUP(B9,入力AA4!$B$8:$GU$58,オフセット番号A!$C$44+1)),\"*\"))","v":"内容40,1"},{"$f":"IF($F$5=1,項目表示入力!$D$46,IF($F$5=2,IF(ISERROR(VLOOKUP(B9,入力AA4!$B$8:$GU$58,オフセット番号A!$D$44+1))=TRUE,\"\",VLOOKUP(B9,入力AA4!$B$8:$GU$58,オフセット番号A!$D$44+1)),\"*\"))","v":"内容40,2"},{"$f":"IF($F$5=1,項目表示入力!$E$46,IF($F$5=2,IF(ISERROR(VLOOKUP(B9,入力AA4!$B$8:$GU$58,オフセット番号A!$E$44+1))=TRUE,\"\",VLOOKUP(B9,入力AA4!$B$8:$GU$58,オフセット番号A!$E$44+1)),\"*\"))","v":"内容40,3"},{"$f":"IF($F$5=1,項目表示入力!$F$46,IF($F$5=2,IF(ISERROR(VLOOKUP(B9,入力AA4!$B$8:$GU$58,オフセット番号A!$F$44+1))=TRUE,\"\",VLOOKUP(B9,入力AA4!$B$8:$GU$58,オフセット番号A!$F$44+1)),\"*\"))","v":"内容40,4"},{"$f":"IF($F$5=1,項目表示入力!$G$46,IF($F$5=2,IF(ISERROR(VLOOKUP(B9,入力AA4!$B$8:$GU$58,オフセット番号A!$G$44+1))=TRUE,\"\",VLOOKUP(B9,入力AA4!$B$8:$GU$58,オフセット番号A!$G$44+1)),\"*\"))","v":"内容40,5"},{"$f":"IF($F$5=1,項目表示入力!$H$46,IF($F$5=2,IF(ISERROR(VLOOKUP(B9,入力AA4!$B$8:$GU$58,オフセット番号A!$H$44+1))=TRUE,\"\",VLOOKUP(B9,入力AA4!$B$8:$GU$58,オフセット番号A!$H$44+1)),\"*\"))","v":"内容40,6"},{"$f":"IF($F$5=1,項目表示入力!$I$46,IF($F$5=2,IF(ISERROR(VLOOKUP(B9,入力AA4!$B$8:$GU$58,オフセット番号A!$I$44+1))=TRUE,\"\",VLOOKUP(B9,入力AA4!$B$8:$GU$58,オフセット番号A!$I$44+1)),\"*\"))","v":"内容40,7"},{"$f":"IF($F$5=1,項目表示入力!$J$46,IF($F$5=2,IF(ISERROR(VLOOKUP(B9,入力AA4!$B$8:$GU$58,オフセット番号A!$J$44+1))=TRUE,\"\",VLOOKUP(B9,入力AA4!$B$8:$GU$58,オフセット番号A!$J$44+1)),\"*\"))","v":"内容40,8"},{"$f":"IF($F$5=1,項目表示入力!$K$46,IF($F$5=2,IF(ISERROR(VLOOKUP(B9,入力AA4!$B$8:$GU$58,オフセット番号A!$K$44+1))=TRUE,\"\",VLOOKUP(B9,入力AA4!$B$8:$GU$58,オフセット番号A!$K$44+1)),\"*\"))","v":"内容40,9"},{"$f":"IF($F$5=1,項目表示入力!$L$46,IF($F$5=2,IF(ISERROR(VLOOKUP(B9,入力AA4!$B$8:$GU$58,オフセット番号A!$L$44+1))=TRUE,\"\",VLOOKUP(B9,入力AA4!$B$8:$GU$58,オフセット番号A!$L$44+1)),\"*\"))","v":"内容40,10"},{"$f":"IF($F$5=1,項目表示入力!$M$46,IF($F$5=2,IF(ISERROR(VLOOKUP(B9,入力AA4!$B$8:$GU$58,オフセット番号A!$M$44+1))=TRUE,\"\",VLOOKUP(B9,入力AA4!$B$8:$GU$58,オフセット番号A!$M$44+1)),\"*\"))","v":"内容40,11"},{"$f":"IF($F$5=1,項目表示入力!$N$46,IF($F$5=2,IF(ISERROR(VLOOKUP(B9,入力AA4!$B$8:$GU$58,オフセット番号A!$N$44+1))=TRUE,\"\",VLOOKUP(B9,入力AA4!$B$8:$GU$58,オフセット番号A!$N$44+1)),\"*\"))","v":"内容40,12"},{"$f":"IF($F$5=1,項目表示入力!$O$46,IF($F$5=2,IF(ISERROR(VLOOKUP(B9,入力AA4!$B$8:$GU$58,オフセット番号A!$O$44+1))=TRUE,\"\",VLOOKUP(B9,入力AA4!$B$8:$GU$58,オフセット番号A!$O$44+1)),\"*\"))","v":"内容40,13"},{"$f":"IF($F$5=1,項目表示入力!$P$46,IF($F$5=2,IF(ISERROR(VLOOKUP(B9,入力AA4!$B$8:$GU$58,オフセット番号A!$P$44+1))=TRUE,\"\",VLOOKUP(B9,入力AA4!$B$8:$GU$58,オフセット番号A!$P$44+1)),\"*\"))","v":"内容40,14"},{"$f":"IF($F$5=1,項目表示入力!$Q$46,IF($F$5=2,IF(ISERROR(VLOOKUP(B9,入力AA4!$B$8:$GU$58,オフセット番号A!$Q$44+1))=TRUE,\"\",VLOOKUP(B9,入力AA4!$B$8:$GU$58,オフセット番号A!$Q$44+1)),\"*\"))","v":"内容40,15"},{"$f":"IF($F$5=1,項目表示入力!$R$46,IF($F$5=2,IF(ISERROR(VLOOKUP(B9,入力AA4!$B$8:$GU$58,オフセット番号A!$R$44+1))=TRUE,\"\",VLOOKUP(B9,入力AA4!$B$8:$GU$58,オフセット番号A!$R$44+1)),\"*\"))","v":"内容40,16"},{"$f":"IF($F$5=1,項目表示入力!$S$46,IF($F$5=2,IF(ISERROR(VLOOKUP(B9,入力AA4!$B$8:$GU$58,オフセット番号A!$S$44+1))=TRUE,\"\",VLOOKUP(B9,入力AA4!$B$8:$GU$58,オフセット番号A!$S$44+1)),\"*\"))","v":"内容40,17"},{"$f":"IF($F$5=1,項目表示入力!$T$46,IF($F$5=2,IF(ISERROR(VLOOKUP(B9,入力AA4!$B$8:$GU$58,オフセット番号A!$T$44+1))=TRUE,\"\",VLOOKUP(B9,入力AA4!$B$8:$GU$58,オフセット番号A!$T$44+1)),\"*\"))","v":"内容40,18"},{"$f":"IF($F$5=1,項目表示入力!$U$46,IF($F$5=2,IF(ISERROR(VLOOKUP(B9,入力AA4!$B$8:$GU$58,オフセット番号A!$U$44+1))=TRUE,\"\",VLOOKUP(B9,入力AA4!$B$8:$GU$58,オフセット番号A!$U$44+1)),\"*\"))","v":"内容40,19"},{"$f":"IF($F$5=1,項目表示入力!$V$46,IF($F$5=2,IF(ISERROR(VLOOKUP(B9,入力AA4!$B$8:$GU$58,オフセット番号A!$V$44+1))=TRUE,\"\",VLOOKUP(B9,入力AA4!$B$8:$GU$58,オフセット番号A!$V$44+1)),\"*\"))","v":"内容40,20"}]
[null,{"$f":"IF(行列入力項目!$C$45=\"\",\"\",行列入力項目!$C$45)","v":"行41"},{"$f":"IF($F$5=1,項目表示入力!$C$47,IF($F$5=2,IF(ISERROR(VLOOKUP(B9,入力AA5!$B$8:$GU$58,オフセット番号A!$C$45+1))=TRUE,\"\",VLOOKUP(B9,入力AA5!$B$8:$GU$58,オフセット番号A!$C$45+1)),\"*\"))","v":"内容41,1"},{"$f":"IF($F$5=1,項目表示入力!$D$47,IF($F$5=2,IF(ISERROR(VLOOKUP(B9,入力AA5!$B$8:$GU$58,オフセット番号A!$D$45+1))=TRUE,\"\",VLOOKUP(B9,入力AA5!$B$8:$GU$58,オフセット番号A!$D$45+1)),\"*\"))","v":"内容41,2"},{"$f":"IF($F$5=1,項目表示入力!$E$47,IF($F$5=2,IF(ISERROR(VLOOKUP(B9,入力AA5!$B$8:$GU$58,オフセット番号A!$E$45+1))=TRUE,\"\",VLOOKUP(B9,入力AA5!$B$8:$GU$58,オフセット番号A!$E$45+1)),\"*\"))","v":"内容41,3"},{"$f":"IF($F$5=1,項目表示入力!$F$47,IF($F$5=2,IF(ISERROR(VLOOKUP(B9,入力AA5!$B$8:$GU$58,オフセット番号A!$F$45+1))=TRUE,\"\",VLOOKUP(B9,入力AA5!$B$8:$GU$58,オフセット番号A!$F$45+1)),\"*\"))","v":"内容41,4"},{"$f":"IF($F$5=1,項目表示入力!$G$47,IF($F$5=2,IF(ISERROR(VLOOKUP(B9,入力AA5!$B$8:$GU$58,オフセット番号A!$G$45+1))=TRUE,\"\",VLOOKUP(B9,入力AA5!$B$8:$GU$58,オフセット番号A!$G$45+1)),\"*\"))","v":"内容41,5"},{"$f":"IF($F$5=1,項目表示入力!$H$47,IF($F$5=2,IF(ISERROR(VLOOKUP(B9,入力AA5!$B$8:$GU$58,オフセット番号A!$H$45+1))=TRUE,\"\",VLOOKUP(B9,入力AA5!$B$8:$GU$58,オフセット番号A!$H$45+1)),\"*\"))","v":"内容41,6"},{"$f":"IF($F$5=1,項目表示入力!$I$47,IF($F$5=2,IF(ISERROR(VLOOKUP(B9,入力AA5!$B$8:$GU$58,オフセット番号A!$I$45+1))=TRUE,\"\",VLOOKUP(B9,入力AA5!$B$8:$GU$58,オフセット番号A!$I$45+1)),\"*\"))","v":"内容41,7"},{"$f":"IF($F$5=1,項目表示入力!$J$47,IF($F$5=2,IF(ISERROR(VLOOKUP(B9,入力AA5!$B$8:$GU$58,オフセット番号A!$J$45+1))=TRUE,\"\",VLOOKUP(B9,入力AA5!$B$8:$GU$58,オフセット番号A!$J$45+1)),\"*\"))","v":"内容41,8"},{"$f":"IF($F$5=1,項目表示入力!$K$47,IF($F$5=2,IF(ISERROR(VLOOKUP(B9,入力AA5!$B$8:$GU$58,オフセット番号A!$K$45+1))=TRUE,\"\",VLOOKUP(B9,入力AA5!$B$8:$GU$58,オフセット番号A!$K$45+1)),\"*\"))","v":"内容41,9"},{"$f":"IF($F$5=1,項目表示入力!$L$47,IF($F$5=2,IF(ISERROR(VLOOKUP(B9,入力AA5!$B$8:$GU$58,オフセット番号A!$L$45+1))=TRUE,\"\",VLOOKUP(B9,入力AA5!$B$8:$GU$58,オフセット番号A!$L$45+1)),\"*\"))","v":"内容41,10"},{"$f":"IF($F$5=1,項目表示入力!$M$47,IF($F$5=2,IF(ISERROR(VLOOKUP(B9,入力AA5!$B$8:$GU$58,オフセット番号A!$M$45+1))=TRUE,\"\",VLOOKUP(B9,入力AA5!$B$8:$GU$58,オフセット番号A!$M$45+1)),\"*\"))","v":"内容41,11"},{"$f":"IF($F$5=1,項目表示入力!$N$47,IF($F$5=2,IF(ISERROR(VLOOKUP(B9,入力AA5!$B$8:$GU$58,オフセット番号A!$N$45+1))=TRUE,\"\",VLOOKUP(B9,入力AA5!$B$8:$GU$58,オフセット番号A!$N$45+1)),\"*\"))","v":"内容41,12"},{"$f":"IF($F$5=1,項目表示入力!$O$47,IF($F$5=2,IF(ISERROR(VLOOKUP(B9,入力AA5!$B$8:$GU$58,オフセット番号A!$O$45+1))=TRUE,\"\",VLOOKUP(B9,入力AA5!$B$8:$GU$58,オフセット番号A!$O$45+1)),\"*\"))","v":"内容41,13"},{"$f":"IF($F$5=1,項目表示入力!$P$47,IF($F$5=2,IF(ISERROR(VLOOKUP(B9,入力AA5!$B$8:$GU$58,オフセット番号A!$P$45+1))=TRUE,\"\",VLOOKUP(B9,入力AA5!$B$8:$GU$58,オフセット番号A!$P$45+1)),\"*\"))","v":"内容41,14"},{"$f":"IF($F$5=1,項目表示入力!$Q$47,IF($F$5=2,IF(ISERROR(VLOOKUP(B9,入力AA5!$B$8:$GU$58,オフセット番号A!$Q$45+1))=TRUE,\"\",VLOOKUP(B9,入力AA5!$B$8:$GU$58,オフセット番号A!$Q$45+1)),\"*\"))","v":"内容41,15"},{"$f":"IF($F$5=1,項目表示入力!$R$47,IF($F$5=2,IF(ISERROR(VLOOKUP(B9,入力AA5!$B$8:$GU$58,オフセット番号A!$R$45+1))=TRUE,\"\",VLOOKUP(B9,入力AA5!$B$8:$GU$58,オフセット番号A!$R$45+1)),\"*\"))","v":"内容41,16"},{"$f":"IF($F$5=1,項目表示入力!$S$47,IF($F$5=2,IF(ISERROR(VLOOKUP(B9,入力AA5!$B$8:$GU$58,オフセット番号A!$S$45+1))=TRUE,\"\",VLOOKUP(B9,入力AA5!$B$8:$GU$58,オフセット番号A!$S$45+1)),\"*\"))","v":"内容41,17"},{"$f":"IF($F$5=1,項目表示入力!$T$47,IF($F$5=2,IF(ISERROR(VLOOKUP(B9,入力AA5!$B$8:$GU$58,オフセット番号A!$T$45+1))=TRUE,\"\",VLOOKUP(B9,入力AA5!$B$8:$GU$58,オフセット番号A!$T$45+1)),\"*\"))","v":"内容41,18"},{"$f":"IF($F$5=1,項目表示入力!$U$47,IF($F$5=2,IF(ISERROR(VLOOKUP(B9,入力AA5!$B$8:$GU$58,オフセット番号A!$U$45+1))=TRUE,\"\",VLOOKUP(B9,入力AA5!$B$8:$GU$58,オフセット番号A!$U$45+1)),\"*\"))","v":"内容41,19"},{"$f":"IF($F$5=1,項目表示入力!$V$47,IF($F$5=2,IF(ISERROR(VLOOKUP(B9,入力AA5!$B$8:$GU$58,オフセット番号A!$V$45+1))=TRUE,\"\",VLOOKUP(B9,入力AA5!$B$8:$GU$58,オフセット番号A!$V$45+1)),\"*\"))","v":"内容41,20"}]
[null,{"$f":"IF(行列入力項目!$C$46=\"\",\"\",行列入力項目!$C$46)","v":"行42"},{"$f":"IF($F$5=1,項目表示入力!$C$48,IF($F$5=2,IF(ISERROR(VLOOKUP(B9,入力AA5!$B$8:$GU$58,オフセット番号A!$C$46+1))=TRUE,\"\",VLOOKUP(B9,入力AA5!$B$8:$GU$58,オフセット番号A!$C$46+1)),\"*\"))","v":"内容42,1"},{"$f":"IF($F$5=1,項目表示入力!$D$48,IF($F$5=2,IF(ISERROR(VLOOKUP(B9,入力AA5!$B$8:$GU$58,オフセット番号A!$D$46+1))=TRUE,\"\",VLOOKUP(B9,入力AA5!$B$8:$GU$58,オフセット番号A!$D$46+1)),\"*\"))","v":"内容42,2"},{"$f":"IF($F$5=1,項目表示入力!$E$48,IF($F$5=2,IF(ISERROR(VLOOKUP(B9,入力AA5!$B$8:$GU$58,オフセット番号A!$E$46+1))=TRUE,\"\",VLOOKUP(B9,入力AA5!$B$8:$GU$58,オフセット番号A!$E$46+1)),\"*\"))","v":"内容42,3"},{"$f":"IF($F$5=1,項目表示入力!$F$48,IF($F$5=2,IF(ISERROR(VLOOKUP(B9,入力AA5!$B$8:$GU$58,オフセット番号A!$F$46+1))=TRUE,\"\",VLOOKUP(B9,入力AA5!$B$8:$GU$58,オフセット番号A!$F$46+1)),\"*\"))","v":"内容42,4"},{"$f":"IF($F$5=1,項目表示入力!$G$48,IF($F$5=2,IF(ISERROR(VLOOKUP(B9,入力AA5!$B$8:$GU$58,オフセット番号A!$G$46+1))=TRUE,\"\",VLOOKUP(B9,入力AA5!$B$8:$GU$58,オフセット番号A!$G$46+1)),\"*\"))","v":"内容42,5"},{"$f":"IF($F$5=1,項目表示入力!$H$48,IF($F$5=2,IF(ISERROR(VLOOKUP(B9,入力AA5!$B$8:$GU$58,オフセット番号A!$H$46+1))=TRUE,\"\",VLOOKUP(B9,入力AA5!$B$8:$GU$58,オフセット番号A!$H$46+1)),\"*\"))","v":"内容42,6"},{"$f":"IF($F$5=1,項目表示入力!$I$48,IF($F$5=2,IF(ISERROR(VLOOKUP(B9,入力AA5!$B$8:$GU$58,オフセット番号A!$I$46+1))=TRUE,\"\",VLOOKUP(B9,入力AA5!$B$8:$GU$58,オフセット番号A!$I$46+1)),\"*\"))","v":"内容42,7"},{"$f":"IF($F$5=1,項目表示入力!$J$48,IF($F$5=2,IF(ISERROR(VLOOKUP(B9,入力AA5!$B$8:$GU$58,オフセット番号A!$J$46+1))=TRUE,\"\",VLOOKUP(B9,入力AA5!$B$8:$GU$58,オフセット番号A!$J$46+1)),\"*\"))","v":"内容42,8"},{"$f":"IF($F$5=1,項目表示入力!$K$48,IF($F$5=2,IF(ISERROR(VLOOKUP(B9,入力AA5!$B$8:$GU$58,オフセット番号A!$K$46+1))=TRUE,\"\",VLOOKUP(B9,入力AA5!$B$8:$GU$58,オフセット番号A!$K$46+1)),\"*\"))","v":"内容42,9"},{"$f":"IF($F$5=1,項目表示入力!$L$48,IF($F$5=2,IF(ISERROR(VLOOKUP(B9,入力AA5!$B$8:$GU$58,オフセット番号A!$L$46+1))=TRUE,\"\",VLOOKUP(B9,入力AA5!$B$8:$GU$58,オフセット番号A!$L$46+1)),\"*\"))","v":"内容42,10"},{"$f":"IF($F$5=1,項目表示入力!$M$48,IF($F$5=2,IF(ISERROR(VLOOKUP(B9,入力AA5!$B$8:$GU$58,オフセット番号A!$M$46+1))=TRUE,\"\",VLOOKUP(B9,入力AA5!$B$8:$GU$58,オフセット番号A!$M$46+1)),\"*\"))","v":"内容42,11"},{"$f":"IF($F$5=1,項目表示入力!$N$48,IF($F$5=2,IF(ISERROR(VLOOKUP(B9,入力AA5!$B$8:$GU$58,オフセット番号A!$N$46+1))=TRUE,\"\",VLOOKUP(B9,入力AA5!$B$8:$GU$58,オフセット番号A!$N$46+1)),\"*\"))","v":"内容42,12"},{"$f":"IF($F$5=1,項目表示入力!$O$48,IF($F$5=2,IF(ISERROR(VLOOKUP(B9,入力AA5!$B$8:$GU$58,オフセット番号A!$O$46+1))=TRUE,\"\",VLOOKUP(B9,入力AA5!$B$8:$GU$58,オフセット番号A!$O$46+1)),\"*\"))","v":"内容42,13"},{"$f":"IF($F$5=1,項目表示入力!$P$48,IF($F$5=2,IF(ISERROR(VLOOKUP(B9,入力AA5!$B$8:$GU$58,オフセット番号A!$P$46+1))=TRUE,\"\",VLOOKUP(B9,入力AA5!$B$8:$GU$58,オフセット番号A!$P$46+1)),\"*\"))","v":"内容42,14"},{"$f":"IF($F$5=1,項目表示入力!$Q$48,IF($F$5=2,IF(ISERROR(VLOOKUP(B9,入力AA5!$B$8:$GU$58,オフセット番号A!$Q$46+1))=TRUE,\"\",VLOOKUP(B9,入力AA5!$B$8:$GU$58,オフセット番号A!$Q$46+1)),\"*\"))","v":"内容42,15"},{"$f":"IF($F$5=1,項目表示入力!$R$48,IF($F$5=2,IF(ISERROR(VLOOKUP(B9,入力AA5!$B$8:$GU$58,オフセット番号A!$R$46+1))=TRUE,\"\",VLOOKUP(B9,入力AA5!$B$8:$GU$58,オフセット番号A!$R$46+1)),\"*\"))","v":"内容42,16"},{"$f":"IF($F$5=1,項目表示入力!$S$48,IF($F$5=2,IF(ISERROR(VLOOKUP(B9,入力AA5!$B$8:$GU$58,オフセット番号A!$S$46+1))=TRUE,\"\",VLOOKUP(B9,入力AA5!$B$8:$GU$58,オフセット番号A!$S$46+1)),\"*\"))","v":"内容42,17"},{"$f":"IF($F$5=1,項目表示入力!$T$48,IF($F$5=2,IF(ISERROR(VLOOKUP(B9,入力AA5!$B$8:$GU$58,オフセット番号A!$T$46+1))=TRUE,\"\",VLOOKUP(B9,入力AA5!$B$8:$GU$58,オフセット番号A!$T$46+1)),\"*\"))","v":"内容42,18"},{"$f":"IF($F$5=1,項目表示入力!$U$48,IF($F$5=2,IF(ISERROR(VLOOKUP(B9,入力AA5!$B$8:$GU$58,オフセット番号A!$U$46+1))=TRUE,\"\",VLOOKUP(B9,入力AA5!$B$8:$GU$58,オフセット番号A!$U$46+1)),\"*\"))","v":"内容42,19"},{"$f":"IF($F$5=1,項目表示入力!$V$48,IF($F$5=2,IF(ISERROR(VLOOKUP(B9,入力AA5!$B$8:$GU$58,オフセット番号A!$V$46+1))=TRUE,\"\",VLOOKUP(B9,入力AA5!$B$8:$GU$58,オフセット番号A!$V$46+1)),\"*\"))","v":"内容42,20"}]
[null,{"$f":"IF(行列入力項目!$C$47=\"\",\"\",行列入力項目!$C$47)","v":"行43"},{"$f":"IF($F$5=1,項目表示入力!$C$49,IF($F$5=2,IF(ISERROR(VLOOKUP(B9,入力AA5!$B$8:$GU$58,オフセット番号A!$C$47+1))=TRUE,\"\",VLOOKUP(B9,入力AA5!$B$8:$GU$58,オフセット番号A!$C$47+1)),\"*\"))","v":"内容43,1"},{"$f":"IF($F$5=1,項目表示入力!$D$49,IF($F$5=2,IF(ISERROR(VLOOKUP(B9,入力AA5!$B$8:$GU$58,オフセット番号A!$D$47+1))=TRUE,\"\",VLOOKUP(B9,入力AA5!$B$8:$GU$58,オフセット番号A!$D$47+1)),\"*\"))","v":"内容43,2"},{"$f":"IF($F$5=1,項目表示入力!$E$49,IF($F$5=2,IF(ISERROR(VLOOKUP(B9,入力AA5!$B$8:$GU$58,オフセット番号A!$E$47+1))=TRUE,\"\",VLOOKUP(B9,入力AA5!$B$8:$GU$58,オフセット番号A!$E$47+1)),\"*\"))","v":"内容43,3"},{"$f":"IF($F$5=1,項目表示入力!$F$49,IF($F$5=2,IF(ISERROR(VLOOKUP(B9,入力AA5!$B$8:$GU$58,オフセット番号A!$F$47+1))=TRUE,\"\",VLOOKUP(B9,入力AA5!$B$8:$GU$58,オフセット番号A!$F$47+1)),\"*\"))","v":"内容43,4"},{"$f":"IF($F$5=1,項目表示入力!$G$49,IF($F$5=2,IF(ISERROR(VLOOKUP(B9,入力AA5!$B$8:$GU$58,オフセット番号A!$G$47+1))=TRUE,\"\",VLOOKUP(B9,入力AA5!$B$8:$GU$58,オフセット番号A!$G$47+1)),\"*\"))","v":"内容43,5"},{"$f":"IF($F$5=1,項目表示入力!$H$49,IF($F$5=2,IF(ISERROR(VLOOKUP(B9,入力AA5!$B$8:$GU$58,オフセット番号A!$H$47+1))=TRUE,\"\",VLOOKUP(B9,入力AA5!$B$8:$GU$58,オフセット番号A!$H$47+1)),\"*\"))","v":"内容43,6"},{"$f":"IF($F$5=1,項目表示入力!$I$49,IF($F$5=2,IF(ISERROR(VLOOKUP(B9,入力AA5!$B$8:$GU$58,オフセット番号A!$I$47+1))=TRUE,\"\",VLOOKUP(B9,入力AA5!$B$8:$GU$58,オフセット番号A!$I$47+1)),\"*\"))","v":"内容43,7"},{"$f":"IF($F$5=1,項目表示入力!$J$49,IF($F$5=2,IF(ISERROR(VLOOKUP(B9,入力AA5!$B$8:$GU$58,オフセット番号A!$J$47+1))=TRUE,\"\",VLOOKUP(B9,入力AA5!$B$8:$GU$58,オフセット番号A!$J$47+1)),\"*\"))","v":"内容43,8"},{"$f":"IF($F$5=1,項目表示入力!$K$49,IF($F$5=2,IF(ISERROR(VLOOKUP(B9,入力AA5!$B$8:$GU$58,オフセット番号A!$K$47+1))=TRUE,\"\",VLOOKUP(B9,入力AA5!$B$8:$GU$58,オフセット番号A!$K$47+1)),\"*\"))","v":"内容43,9"},{"$f":"IF($F$5=1,項目表示入力!$L$49,IF($F$5=2,IF(ISERROR(VLOOKUP(B9,入力AA5!$B$8:$GU$58,オフセット番号A!$L$47+1))=TRUE,\"\",VLOOKUP(B9,入力AA5!$B$8:$GU$58,オフセット番号A!$L$47+1)),\"*\"))","v":"内容43,10"},{"$f":"IF($F$5=1,項目表示入力!$M$49,IF($F$5=2,IF(ISERROR(VLOOKUP(B9,入力AA5!$B$8:$GU$58,オフセット番号A!$M$47+1))=TRUE,\"\",VLOOKUP(B9,入力AA5!$B$8:$GU$58,オフセット番号A!$M$47+1)),\"*\"))","v":"内容43,11"},{"$f":"IF($F$5=1,項目表示入力!$N$49,IF($F$5=2,IF(ISERROR(VLOOKUP(B9,入力AA5!$B$8:$GU$58,オフセット番号A!$N$47+1))=TRUE,\"\",VLOOKUP(B9,入力AA5!$B$8:$GU$58,オフセット番号A!$N$47+1)),\"*\"))","v":"内容43,12"},{"$f":"IF($F$5=1,項目表示入力!$O$49,IF($F$5=2,IF(ISERROR(VLOOKUP(B9,入力AA5!$B$8:$GU$58,オフセット番号A!$O$47+1))=TRUE,\"\",VLOOKUP(B9,入力AA5!$B$8:$GU$58,オフセット番号A!$O$47+1)),\"*\"))","v":"内容43,13"},{"$f":"IF($F$5=1,項目表示入力!$P$49,IF($F$5=2,IF(ISERROR(VLOOKUP(B9,入力AA5!$B$8:$GU$58,オフセット番号A!$P$47+1))=TRUE,\"\",VLOOKUP(B9,入力AA5!$B$8:$GU$58,オフセット番号A!$P$47+1)),\"*\"))","v":"内容43,14"},{"$f":"IF($F$5=1,項目表示入力!$Q$49,IF($F$5=2,IF(ISERROR(VLOOKUP(B9,入力AA5!$B$8:$GU$58,オフセット番号A!$Q$47+1))=TRUE,\"\",VLOOKUP(B9,入力AA5!$B$8:$GU$58,オフセット番号A!$Q$47+1)),\"*\"))","v":"内容43,15"},{"$f":"IF($F$5=1,項目表示入力!$R$49,IF($F$5=2,IF(ISERROR(VLOOKUP(B9,入力AA5!$B$8:$GU$58,オフセット番号A!$R$47+1))=TRUE,\"\",VLOOKUP(B9,入力AA5!$B$8:$GU$58,オフセット番号A!$R$47+1)),\"*\"))","v":"内容43,16"},{"$f":"IF($F$5=1,項目表示入力!$S$49,IF($F$5=2,IF(ISERROR(VLOOKUP(B9,入力AA5!$B$8:$GU$58,オフセット番号A!$S$47+1))=TRUE,\"\",VLOOKUP(B9,入力AA5!$B$8:$GU$58,オフセット番号A!$S$47+1)),\"*\"))","v":"内容43,17"},{"$f":"IF($F$5=1,項目表示入力!$T$49,IF($F$5=2,IF(ISERROR(VLOOKUP(B9,入力AA5!$B$8:$GU$58,オフセット番号A!$T$47+1))=TRUE,\"\",VLOOKUP(B9,入力AA5!$B$8:$GU$58,オフセット番号A!$T$47+1)),\"*\"))","v":"内容43,18"},{"$f":"IF($F$5=1,項目表示入力!$U$49,IF($F$5=2,IF(ISERROR(VLOOKUP(B9,入力AA5!$B$8:$GU$58,オフセット番号A!$U$47+1))=TRUE,\"\",VLOOKUP(B9,入力AA5!$B$8:$GU$58,オフセット番号A!$U$47+1)),\"*\"))","v":"内容43,19"},{"$f":"IF($F$5=1,項目表示入力!$V$49,IF($F$5=2,IF(ISERROR(VLOOKUP(B9,入力AA5!$B$8:$GU$58,オフセット番号A!$V$47+1))=TRUE,\"\",VLOOKUP(B9,入力AA5!$B$8:$GU$58,オフセット番号A!$V$47+1)),\"*\"))","v":"内容43,20"}]
[null,{"$f":"IF(行列入力項目!$C$48=\"\",\"\",行列入力項目!$C$48)","v":"行44"},{"$f":"IF($F$5=1,項目表示入力!$C$50,IF($F$5=2,IF(ISERROR(VLOOKUP(B9,入力AA5!$B$8:$GU$58,オフセット番号A!$C$48+1))=TRUE,\"\",VLOOKUP(B9,入力AA5!$B$8:$GU$58,オフセット番号A!$C$48+1)),\"*\"))","v":"内容44,1"},{"$f":"IF($F$5=1,項目表示入力!$D$50,IF($F$5=2,IF(ISERROR(VLOOKUP(B9,入力AA5!$B$8:$GU$58,オフセット番号A!$D$48+1))=TRUE,\"\",VLOOKUP(B9,入力AA5!$B$8:$GU$58,オフセット番号A!$D$48+1)),\"*\"))","v":"内容44,2"},{"$f":"IF($F$5=1,項目表示入力!$E$50,IF($F$5=2,IF(ISERROR(VLOOKUP(B9,入力AA5!$B$8:$GU$58,オフセット番号A!$E$48+1))=TRUE,\"\",VLOOKUP(B9,入力AA5!$B$8:$GU$58,オフセット番号A!$E$48+1)),\"*\"))","v":"内容44,3"},{"$f":"IF($F$5=1,項目表示入力!$F$50,IF($F$5=2,IF(ISERROR(VLOOKUP(B9,入力AA5!$B$8:$GU$58,オフセット番号A!$F$48+1))=TRUE,\"\",VLOOKUP(B9,入力AA5!$B$8:$GU$58,オフセット番号A!$F$48+1)),\"*\"))","v":"内容44,4"},{"$f":"IF($F$5=1,項目表示入力!$G$50,IF($F$5=2,IF(ISERROR(VLOOKUP(B9,入力AA5!$B$8:$GU$58,オフセット番号A!$G$48+1))=TRUE,\"\",VLOOKUP(B9,入力AA5!$B$8:$GU$58,オフセット番号A!$G$48+1)),\"*\"))","v":"内容44,5"},{"$f":"IF($F$5=1,項目表示入力!$H$50,IF($F$5=2,IF(ISERROR(VLOOKUP(B9,入力AA5!$B$8:$GU$58,オフセット番号A!$H$48+1))=TRUE,\"\",VLOOKUP(B9,入力AA5!$B$8:$GU$58,オフセット番号A!$H$48+1)),\"*\"))","v":"内容44,6"},{"$f":"IF($F$5=1,項目表示入力!$I$50,IF($F$5=2,IF(ISERROR(VLOOKUP(B9,入力AA5!$B$8:$GU$58,オフセット番号A!$I$48+1))=TRUE,\"\",VLOOKUP(B9,入力AA5!$B$8:$GU$58,オフセット番号A!$I$48+1)),\"*\"))","v":"内容44,7"},{"$f":"IF($F$5=1,項目表示入力!$J$50,IF($F$5=2,IF(ISERROR(VLOOKUP(B9,入力AA5!$B$8:$GU$58,オフセット番号A!$J$48+1))=TRUE,\"\",VLOOKUP(B9,入力AA5!$B$8:$GU$58,オフセット番号A!$J$48+1)),\"*\"))","v":"内容44,8"},{"$f":"IF($F$5=1,項目表示入力!$K$50,IF($F$5=2,IF(ISERROR(VLOOKUP(B9,入力AA5!$B$8:$GU$58,オフセット番号A!$K$48+1))=TRUE,\"\",VLOOKUP(B9,入力AA5!$B$8:$GU$58,オフセット番号A!$K$48+1)),\"*\"))","v":"内容44,9"},{"$f":"IF($F$5=1,項目表示入力!$L$50,IF($F$5=2,IF(ISERROR(VLOOKUP(B9,入力AA5!$B$8:$GU$58,オフセット番号A!$L$48+1))=TRUE,\"\",VLOOKUP(B9,入力AA5!$B$8:$GU$58,オフセット番号A!$L$48+1)),\"*\"))","v":"内容44,10"},{"$f":"IF($F$5=1,項目表示入力!$M$50,IF($F$5=2,IF(ISERROR(VLOOKUP(B9,入力AA5!$B$8:$GU$58,オフセット番号A!$M$48+1))=TRUE,\"\",VLOOKUP(B9,入力AA5!$B$8:$GU$58,オフセット番号A!$M$48+1)),\"*\"))","v":"内容44,11"},{"$f":"IF($F$5=1,項目表示入力!$N$50,IF($F$5=2,IF(ISERROR(VLOOKUP(B9,入力AA5!$B$8:$GU$58,オフセット番号A!$N$48+1))=TRUE,\"\",VLOOKUP(B9,入力AA5!$B$8:$GU$58,オフセット番号A!$N$48+1)),\"*\"))","v":"内容44,12"},{"$f":"IF($F$5=1,項目表示入力!$O$50,IF($F$5=2,IF(ISERROR(VLOOKUP(B9,入力AA5!$B$8:$GU$58,オフセット番号A!$O$48+1))=TRUE,\"\",VLOOKUP(B9,入力AA5!$B$8:$GU$58,オフセット番号A!$O$48+1)),\"*\"))","v":"内容44,13"},{"$f":"IF($F$5=1,項目表示入力!$P$50,IF($F$5=2,IF(ISERROR(VLOOKUP(B9,入力AA5!$B$8:$GU$58,オフセット番号A!$P$48+1))=TRUE,\"\",VLOOKUP(B9,入力AA5!$B$8:$GU$58,オフセット番号A!$P$48+1)),\"*\"))","v":"内容44,14"},{"$f":"IF($F$5=1,項目表示入力!$Q$50,IF($F$5=2,IF(ISERROR(VLOOKUP(B9,入力AA5!$B$8:$GU$58,オフセット番号A!$Q$48+1))=TRUE,\"\",VLOOKUP(B9,入力AA5!$B$8:$GU$58,オフセット番号A!$Q$48+1)),\"*\"))","v":"内容44,15"},{"$f":"IF($F$5=1,項目表示入力!$R$50,IF($F$5=2,IF(ISERROR(VLOOKUP(B9,入力AA5!$B$8:$GU$58,オフセット番号A!$R$48+1))=TRUE,\"\",VLOOKUP(B9,入力AA5!$B$8:$GU$58,オフセット番号A!$R$48+1)),\"*\"))","v":"内容44,16"},{"$f":"IF($F$5=1,項目表示入力!$S$50,IF($F$5=2,IF(ISERROR(VLOOKUP(B9,入力AA5!$B$8:$GU$58,オフセット番号A!$S$48+1))=TRUE,\"\",VLOOKUP(B9,入力AA5!$B$8:$GU$58,オフセット番号A!$S$48+1)),\"*\"))","v":"内容44,17"},{"$f":"IF($F$5=1,項目表示入力!$T$50,IF($F$5=2,IF(ISERROR(VLOOKUP(B9,入力AA5!$B$8:$GU$58,オフセット番号A!$T$48+1))=TRUE,\"\",VLOOKUP(B9,入力AA5!$B$8:$GU$58,オフセット番号A!$T$48+1)),\"*\"))","v":"内容44,18"},{"$f":"IF($F$5=1,項目表示入力!$U$50,IF($F$5=2,IF(ISERROR(VLOOKUP(B9,入力AA5!$B$8:$GU$58,オフセット番号A!$U$48+1))=TRUE,\"\",VLOOKUP(B9,入力AA5!$B$8:$GU$58,オフセット番号A!$U$48+1)),\"*\"))","v":"内容44,19"},{"$f":"IF($F$5=1,項目表示入力!$V$50,IF($F$5=2,IF(ISERROR(VLOOKUP(B9,入力AA5!$B$8:$GU$58,オフセット番号A!$V$48+1))=TRUE,\"\",VLOOKUP(B9,入力AA5!$B$8:$GU$58,オフセット番号A!$V$48+1)),\"*\"))","v":"内容44,20"}]
[null,{"$f":"IF(行列入力項目!$C$49=\"\",\"\",行列入力項目!$C$49)","v":"行45"},{"$f":"IF($F$5=1,項目表示入力!$C$51,IF($F$5=2,IF(ISERROR(VLOOKUP(B9,入力AA5!$B$8:$GU$58,オフセット番号A!$C$49+1))=TRUE,\"\",VLOOKUP(B9,入力AA5!$B$8:$GU$58,オフセット番号A!$C$49+1)),\"*\"))","v":"内容45,1"},{"$f":"IF($F$5=1,項目表示入力!$D$51,IF($F$5=2,IF(ISERROR(VLOOKUP(B9,入力AA5!$B$8:$GU$58,オフセット番号A!$D$49+1))=TRUE,\"\",VLOOKUP(B9,入力AA5!$B$8:$GU$58,オフセット番号A!$D$49+1)),\"*\"))","v":"内容45,2"},{"$f":"IF($F$5=1,項目表示入力!$E$51,IF($F$5=2,IF(ISERROR(VLOOKUP(B9,入力AA5!$B$8:$GU$58,オフセット番号A!$E$49+1))=TRUE,\"\",VLOOKUP(B9,入力AA5!$B$8:$GU$58,オフセット番号A!$E$49+1)),\"*\"))","v":"内容45,3"},{"$f":"IF($F$5=1,項目表示入力!$F$51,IF($F$5=2,IF(ISERROR(VLOOKUP(B9,入力AA5!$B$8:$GU$58,オフセット番号A!$F$49+1))=TRUE,\"\",VLOOKUP(B9,入力AA5!$B$8:$GU$58,オフセット番号A!$F$49+1)),\"*\"))","v":"内容45,4"},{"$f":"IF($F$5=1,項目表示入力!$G$51,IF($F$5=2,IF(ISERROR(VLOOKUP(B9,入力AA5!$B$8:$GU$58,オフセット番号A!$G$49+1))=TRUE,\"\",VLOOKUP(B9,入力AA5!$B$8:$GU$58,オフセット番号A!$G$49+1)),\"*\"))","v":"内容45,5"},{"$f":"IF($F$5=1,項目表示入力!$H$51,IF($F$5=2,IF(ISERROR(VLOOKUP(B9,入力AA5!$B$8:$GU$58,オフセット番号A!$H$49+1))=TRUE,\"\",VLOOKUP(B9,入力AA5!$B$8:$GU$58,オフセット番号A!$H$49+1)),\"*\"))","v":"内容45,6"},{"$f":"IF($F$5=1,項目表示入力!$I$51,IF($F$5=2,IF(ISERROR(VLOOKUP(B9,入力AA5!$B$8:$GU$58,オフセット番号A!$I$49+1))=TRUE,\"\",VLOOKUP(B9,入力AA5!$B$8:$GU$58,オフセット番号A!$I$49+1)),\"*\"))","v":"内容45,7"},{"$f":"IF($F$5=1,項目表示入力!$J$51,IF($F$5=2,IF(ISERROR(VLOOKUP(B9,入力AA5!$B$8:$GU$58,オフセット番号A!$J$49+1))=TRUE,\"\",VLOOKUP(B9,入力AA5!$B$8:$GU$58,オフセット番号A!$J$49+1)),\"*\"))","v":"内容45,8"},{"$f":"IF($F$5=1,項目表示入力!$K$51,IF($F$5=2,IF(ISERROR(VLOOKUP(B9,入力AA5!$B$8:$GU$58,オフセット番号A!$K$49+1))=TRUE,\"\",VLOOKUP(B9,入力AA5!$B$8:$GU$58,オフセット番号A!$K$49+1)),\"*\"))","v":"内容45,9"},{"$f":"IF($F$5=1,項目表示入力!$L$51,IF($F$5=2,IF(ISERROR(VLOOKUP(B9,入力AA5!$B$8:$GU$58,オフセット番号A!$L$49+1))=TRUE,\"\",VLOOKUP(B9,入力AA5!$B$8:$GU$58,オフセット番号A!$L$49+1)),\"*\"))","v":"内容45,10"},{"$f":"IF($F$5=1,項目表示入力!$M$51,IF($F$5=2,IF(ISERROR(VLOOKUP(B9,入力AA5!$B$8:$GU$58,オフセット番号A!$M$49+1))=TRUE,\"\",VLOOKUP(B9,入力AA5!$B$8:$GU$58,オフセット番号A!$M$49+1)),\"*\"))","v":"内容45,11"},{"$f":"IF($F$5=1,項目表示入力!$N$51,IF($F$5=2,IF(ISERROR(VLOOKUP(B9,入力AA5!$B$8:$GU$58,オフセット番号A!$N$49+1))=TRUE,\"\",VLOOKUP(B9,入力AA5!$B$8:$GU$58,オフセット番号A!$N$49+1)),\"*\"))","v":"内容45,12"},{"$f":"IF($F$5=1,項目表示入力!$O$51,IF($F$5=2,IF(ISERROR(VLOOKUP(B9,入力AA5!$B$8:$GU$58,オフセット番号A!$O$49+1))=TRUE,\"\",VLOOKUP(B9,入力AA5!$B$8:$GU$58,オフセット番号A!$O$49+1)),\"*\"))","v":"内容45,13"},{"$f":"IF($F$5=1,項目表示入力!$P$51,IF($F$5=2,IF(ISERROR(VLOOKUP(B9,入力AA5!$B$8:$GU$58,オフセット番号A!$P$49+1))=TRUE,\"\",VLOOKUP(B9,入力AA5!$B$8:$GU$58,オフセット番号A!$P$49+1)),\"*\"))","v":"内容45,14"},{"$f":"IF($F$5=1,項目表示入力!$Q$51,IF($F$5=2,IF(ISERROR(VLOOKUP(B9,入力AA5!$B$8:$GU$58,オフセット番号A!$Q$49+1))=TRUE,\"\",VLOOKUP(B9,入力AA5!$B$8:$GU$58,オフセット番号A!$Q$49+1)),\"*\"))","v":"内容45,15"},{"$f":"IF($F$5=1,項目表示入力!$R$51,IF($F$5=2,IF(ISERROR(VLOOKUP(B9,入力AA5!$B$8:$GU$58,オフセット番号A!$R$49+1))=TRUE,\"\",VLOOKUP(B9,入力AA5!$B$8:$GU$58,オフセット番号A!$R$49+1)),\"*\"))","v":"内容45,16"},{"$f":"IF($F$5=1,項目表示入力!$S$51,IF($F$5=2,IF(ISERROR(VLOOKUP(B9,入力AA5!$B$8:$GU$58,オフセット番号A!$S$49+1))=TRUE,\"\",VLOOKUP(B9,入力AA5!$B$8:$GU$58,オフセット番号A!$S$49+1)),\"*\"))","v":"内容45,17"},{"$f":"IF($F$5=1,項目表示入力!$T$51,IF($F$5=2,IF(ISERROR(VLOOKUP(B9,入力AA5!$B$8:$GU$58,オフセット番号A!$T$49+1))=TRUE,\"\",VLOOKUP(B9,入力AA5!$B$8:$GU$58,オフセット番号A!$T$49+1)),\"*\"))","v":"内容45,18"},{"$f":"IF($F$5=1,項目表示入力!$U$51,IF($F$5=2,IF(ISERROR(VLOOKUP(B9,入力AA5!$B$8:$GU$58,オフセット番号A!$U$49+1))=TRUE,\"\",VLOOKUP(B9,入力AA5!$B$8:$GU$58,オフセット番号A!$U$49+1)),\"*\"))","v":"内容45,19"},{"$f":"IF($F$5=1,項目表示入力!$V$51,IF($F$5=2,IF(ISERROR(VLOOKUP(B9,入力AA5!$B$8:$GU$58,オフセット番号A!$V$49+1))=TRUE,\"\",VLOOKUP(B9,入力AA5!$B$8:$GU$58,オフセット番号A!$V$49+1)),\"*\"))","v":"内容45,20"}]
[null,{"$f":"IF(行列入力項目!$C$50=\"\",\"\",行列入力項目!$C$50)","v":"行46"},{"$f":"IF($F$5=1,項目表示入力!$C$52,IF($F$5=2,IF(ISERROR(VLOOKUP(B9,入力AA5!$B$8:$GU$58,オフセット番号A!$C$50+1))=TRUE,\"\",VLOOKUP(B9,入力AA5!$B$8:$GU$58,オフセット番号A!$C$50+1)),\"*\"))","v":"内容46,1"},{"$f":"IF($F$5=1,項目表示入力!$D$52,IF($F$5=2,IF(ISERROR(VLOOKUP(B9,入力AA5!$B$8:$GU$58,オフセット番号A!$D$50+1))=TRUE,\"\",VLOOKUP(B9,入力AA5!$B$8:$GU$58,オフセット番号A!$D$50+1)),\"*\"))","v":"内容46,2"},{"$f":"IF($F$5=1,項目表示入力!$E$52,IF($F$5=2,IF(ISERROR(VLOOKUP(B9,入力AA5!$B$8:$GU$58,オフセット番号A!$E$50+1))=TRUE,\"\",VLOOKUP(B9,入力AA5!$B$8:$GU$58,オフセット番号A!$E$50+1)),\"*\"))","v":"内容46,3"},{"$f":"IF($F$5=1,項目表示入力!$F$52,IF($F$5=2,IF(ISERROR(VLOOKUP(B9,入力AA5!$B$8:$GU$58,オフセット番号A!$F$50+1))=TRUE,\"\",VLOOKUP(B9,入力AA5!$B$8:$GU$58,オフセット番号A!$F$50+1)),\"*\"))","v":"内容46,4"},{"$f":"IF($F$5=1,項目表示入力!$G$52,IF($F$5=2,IF(ISERROR(VLOOKUP(B9,入力AA5!$B$8:$GU$58,オフセット番号A!$G$50+1))=TRUE,\"\",VLOOKUP(B9,入力AA5!$B$8:$GU$58,オフセット番号A!$G$50+1)),\"*\"))","v":"内容46,5"},{"$f":"IF($F$5=1,項目表示入力!$H$52,IF($F$5=2,IF(ISERROR(VLOOKUP(B9,入力AA5!$B$8:$GU$58,オフセット番号A!$H$50+1))=TRUE,\"\",VLOOKUP(B9,入力AA5!$B$8:$GU$58,オフセット番号A!$H$50+1)),\"*\"))","v":"内容46,6"},{"$f":"IF($F$5=1,項目表示入力!$I$52,IF($F$5=2,IF(ISERROR(VLOOKUP(B9,入力AA5!$B$8:$GU$58,オフセット番号A!$I$50+1))=TRUE,\"\",VLOOKUP(B9,入力AA5!$B$8:$GU$58,オフセット番号A!$I$50+1)),\"*\"))","v":"内容46,7"},{"$f":"IF($F$5=1,項目表示入力!$J$52,IF($F$5=2,IF(ISERROR(VLOOKUP(B9,入力AA5!$B$8:$GU$58,オフセット番号A!$J$50+1))=TRUE,\"\",VLOOKUP(B9,入力AA5!$B$8:$GU$58,オフセット番号A!$J$50+1)),\"*\"))","v":"内容46,8"},{"$f":"IF($F$5=1,項目表示入力!$K$52,IF($F$5=2,IF(ISERROR(VLOOKUP(B9,入力AA5!$B$8:$GU$58,オフセット番号A!$K$50+1))=TRUE,\"\",VLOOKUP(B9,入力AA5!$B$8:$GU$58,オフセット番号A!$K$50+1)),\"*\"))","v":"内容46,9"},{"$f":"IF($F$5=1,項目表示入力!$L$52,IF($F$5=2,IF(ISERROR(VLOOKUP(B9,入力AA5!$B$8:$GU$58,オフセット番号A!$L$50+1))=TRUE,\"\",VLOOKUP(B9,入力AA5!$B$8:$GU$58,オフセット番号A!$L$50+1)),\"*\"))","v":"内容46,10"},{"$f":"IF($F$5=1,項目表示入力!$M$52,IF($F$5=2,IF(ISERROR(VLOOKUP(B9,入力AA5!$B$8:$GU$58,オフセット番号A!$M$50+1))=TRUE,\"\",VLOOKUP(B9,入力AA5!$B$8:$GU$58,オフセット番号A!$M$50+1)),\"*\"))","v":"内容46,11"},{"$f":"IF($F$5=1,項目表示入力!$N$52,IF($F$5=2,IF(ISERROR(VLOOKUP(B9,入力AA5!$B$8:$GU$58,オフセット番号A!$N$50+1))=TRUE,\"\",VLOOKUP(B9,入力AA5!$B$8:$GU$58,オフセット番号A!$N$50+1)),\"*\"))","v":"内容46,12"},{"$f":"IF($F$5=1,項目表示入力!$O$52,IF($F$5=2,IF(ISERROR(VLOOKUP(B9,入力AA5!$B$8:$GU$58,オフセット番号A!$O$50+1))=TRUE,\"\",VLOOKUP(B9,入力AA5!$B$8:$GU$58,オフセット番号A!$O$50+1)),\"*\"))","v":"内容46,13"},{"$f":"IF($F$5=1,項目表示入力!$P$52,IF($F$5=2,IF(ISERROR(VLOOKUP(B9,入力AA5!$B$8:$GU$58,オフセット番号A!$P$50+1))=TRUE,\"\",VLOOKUP(B9,入力AA5!$B$8:$GU$58,オフセット番号A!$P$50+1)),\"*\"))","v":"内容46,14"},{"$f":"IF($F$5=1,項目表示入力!$Q$52,IF($F$5=2,IF(ISERROR(VLOOKUP(B9,入力AA5!$B$8:$GU$58,オフセット番号A!$Q$50+1))=TRUE,\"\",VLOOKUP(B9,入力AA5!$B$8:$GU$58,オフセット番号A!$Q$50+1)),\"*\"))","v":"内容46,15"},{"$f":"IF($F$5=1,項目表示入力!$R$52,IF($F$5=2,IF(ISERROR(VLOOKUP(B9,入力AA5!$B$8:$GU$58,オフセット番号A!$R$50+1))=TRUE,\"\",VLOOKUP(B9,入力AA5!$B$8:$GU$58,オフセット番号A!$R$50+1)),\"*\"))","v":"内容46,16"},{"$f":"IF($F$5=1,項目表示入力!$S$52,IF($F$5=2,IF(ISERROR(VLOOKUP(B9,入力AA5!$B$8:$GU$58,オフセット番号A!$S$50+1))=TRUE,\"\",VLOOKUP(B9,入力AA5!$B$8:$GU$58,オフセット番号A!$S$50+1)),\"*\"))","v":"内容46,17"},{"$f":"IF($F$5=1,項目表示入力!$T$52,IF($F$5=2,IF(ISERROR(VLOOKUP(B9,入力AA5!$B$8:$GU$58,オフセット番号A!$T$50+1))=TRUE,\"\",VLOOKUP(B9,入力AA5!$B$8:$GU$58,オフセット番号A!$T$50+1)),\"*\"))","v":"内容46,18"},{"$f":"IF($F$5=1,項目表示入力!$U$52,IF($F$5=2,IF(ISERROR(VLOOKUP(B9,入力AA5!$B$8:$GU$58,オフセット番号A!$U$50+1))=TRUE,\"\",VLOOKUP(B9,入力AA5!$B$8:$GU$58,オフセット番号A!$U$50+1)),\"*\"))","v":"内容46,19"},{"$f":"IF($F$5=1,項目表示入力!$V$52,IF($F$5=2,IF(ISERROR(VLOOKUP(B9,入力AA5!$B$8:$GU$58,オフセット番号A!$V$50+1))=TRUE,\"\",VLOOKUP(B9,入力AA5!$B$8:$GU$58,オフセット番号A!$V$50+1)),\"*\"))","v":"内容46,20"}]
[null,{"$f":"IF(行列入力項目!$C$51=\"\",\"\",行列入力項目!$C$51)","v":"行47"},{"$f":"IF($F$5=1,項目表示入力!$C$53,IF($F$5=2,IF(ISERROR(VLOOKUP(B9,入力AA5!$B$8:$GU$58,オフセット番号A!$C$51+1))=TRUE,\"\",VLOOKUP(B9,入力AA5!$B$8:$GU$58,オフセット番号A!$C$51+1)),\"*\"))","v":"内容47,1"},{"$f":"IF($F$5=1,項目表示入力!$D$53,IF($F$5=2,IF(ISERROR(VLOOKUP(B9,入力AA5!$B$8:$GU$58,オフセット番号A!$D$51+1))=TRUE,\"\",VLOOKUP(B9,入力AA5!$B$8:$GU$58,オフセット番号A!$D$51+1)),\"*\"))","v":"内容47,2"},{"$f":"IF($F$5=1,項目表示入力!$E$53,IF($F$5=2,IF(ISERROR(VLOOKUP(B9,入力AA5!$B$8:$GU$58,オフセット番号A!$E$51+1))=TRUE,\"\",VLOOKUP(B9,入力AA5!$B$8:$GU$58,オフセット番号A!$E$51+1)),\"*\"))","v":"内容47,3"},{"$f":"IF($F$5=1,項目表示入力!$F$53,IF($F$5=2,IF(ISERROR(VLOOKUP(B9,入力AA5!$B$8:$GU$58,オフセット番号A!$F$51+1))=TRUE,\"\",VLOOKUP(B9,入力AA5!$B$8:$GU$58,オフセット番号A!$F$51+1)),\"*\"))","v":"内容47,4"},{"$f":"IF($F$5=1,項目表示入力!$G$53,IF($F$5=2,IF(ISERROR(VLOOKUP(B9,入力AA5!$B$8:$GU$58,オフセット番号A!$G$51+1))=TRUE,\"\",VLOOKUP(B9,入力AA5!$B$8:$GU$58,オフセット番号A!$G$51+1)),\"*\"))","v":"内容47,5"},{"$f":"IF($F$5=1,項目表示入力!$H$53,IF($F$5=2,IF(ISERROR(VLOOKUP(B9,入力AA5!$B$8:$GU$58,オフセット番号A!$H$51+1))=TRUE,\"\",VLOOKUP(B9,入力AA5!$B$8:$GU$58,オフセット番号A!$H$51+1)),\"*\"))","v":"内容47,6"},{"$f":"IF($F$5=1,項目表示入力!$I$53,IF($F$5=2,IF(ISERROR(VLOOKUP(B9,入力AA5!$B$8:$GU$58,オフセット番号A!$I$51+1))=TRUE,\"\",VLOOKUP(B9,入力AA5!$B$8:$GU$58,オフセット番号A!$I$51+1)),\"*\"))","v":"内容47,7"},{"$f":"IF($F$5=1,項目表示入力!$J$53,IF($F$5=2,IF(ISERROR(VLOOKUP(B9,入力AA5!$B$8:$GU$58,オフセット番号A!$J$51+1))=TRUE,\"\",VLOOKUP(B9,入力AA5!$B$8:$GU$58,オフセット番号A!$J$51+1)),\"*\"))","v":"内容47,8"},{"$f":"IF($F$5=1,項目表示入力!$K$53,IF($F$5=2,IF(ISERROR(VLOOKUP(B9,入力AA5!$B$8:$GU$58,オフセット番号A!$K$51+1))=TRUE,\"\",VLOOKUP(B9,入力AA5!$B$8:$GU$58,オフセット番号A!$K$51+1)),\"*\"))","v":"内容47,9"},{"$f":"IF($F$5=1,項目表示入力!$L$53,IF($F$5=2,IF(ISERROR(VLOOKUP(B9,入力AA5!$B$8:$GU$58,オフセット番号A!$L$51+1))=TRUE,\"\",VLOOKUP(B9,入力AA5!$B$8:$GU$58,オフセット番号A!$L$51+1)),\"*\"))","v":"内容47,10"},{"$f":"IF($F$5=1,項目表示入力!$M$53,IF($F$5=2,IF(ISERROR(VLOOKUP(B9,入力AA5!$B$8:$GU$58,オフセット番号A!$M$51+1))=TRUE,\"\",VLOOKUP(B9,入力AA5!$B$8:$GU$58,オフセット番号A!$M$51+1)),\"*\"))","v":"内容47,11"},{"$f":"IF($F$5=1,項目表示入力!$N$53,IF($F$5=2,IF(ISERROR(VLOOKUP(B9,入力AA5!$B$8:$GU$58,オフセット番号A!$N$51+1))=TRUE,\"\",VLOOKUP(B9,入力AA5!$B$8:$GU$58,オフセット番号A!$N$51+1)),\"*\"))","v":"内容47,12"},{"$f":"IF($F$5=1,項目表示入力!$O$53,IF($F$5=2,IF(ISERROR(VLOOKUP(B9,入力AA5!$B$8:$GU$58,オフセット番号A!$O$51+1))=TRUE,\"\",VLOOKUP(B9,入力AA5!$B$8:$GU$58,オフセット番号A!$O$51+1)),\"*\"))","v":"内容47,13"},{"$f":"IF($F$5=1,項目表示入力!$P$53,IF($F$5=2,IF(ISERROR(VLOOKUP(B9,入力AA5!$B$8:$GU$58,オフセット番号A!$P$51+1))=TRUE,\"\",VLOOKUP(B9,入力AA5!$B$8:$GU$58,オフセット番号A!$P$51+1)),\"*\"))","v":"内容47,14"},{"$f":"IF($F$5=1,項目表示入力!$Q$53,IF($F$5=2,IF(ISERROR(VLOOKUP(B9,入力AA5!$B$8:$GU$58,オフセット番号A!$Q$51+1))=TRUE,\"\",VLOOKUP(B9,入力AA5!$B$8:$GU$58,オフセット番号A!$Q$51+1)),\"*\"))","v":"内容47,15"},{"$f":"IF($F$5=1,項目表示入力!$R$53,IF($F$5=2,IF(ISERROR(VLOOKUP(B9,入力AA5!$B$8:$GU$58,オフセット番号A!$R$51+1))=TRUE,\"\",VLOOKUP(B9,入力AA5!$B$8:$GU$58,オフセット番号A!$R$51+1)),\"*\"))","v":"内容47,16"},{"$f":"IF($F$5=1,項目表示入力!$S$53,IF($F$5=2,IF(ISERROR(VLOOKUP(B9,入力AA5!$B$8:$GU$58,オフセット番号A!$S$51+1))=TRUE,\"\",VLOOKUP(B9,入力AA5!$B$8:$GU$58,オフセット番号A!$S$51+1)),\"*\"))","v":"内容47,17"},{"$f":"IF($F$5=1,項目表示入力!$T$53,IF($F$5=2,IF(ISERROR(VLOOKUP(B9,入力AA5!$B$8:$GU$58,オフセット番号A!$T$51+1))=TRUE,\"\",VLOOKUP(B9,入力AA5!$B$8:$GU$58,オフセット番号A!$T$51+1)),\"*\"))","v":"内容47,18"},{"$f":"IF($F$5=1,項目表示入力!$U$53,IF($F$5=2,IF(ISERROR(VLOOKUP(B9,入力AA5!$B$8:$GU$58,オフセット番号A!$U$51+1))=TRUE,\"\",VLOOKUP(B9,入力AA5!$B$8:$GU$58,オフセット番号A!$U$51+1)),\"*\"))","v":"内容47,19"},{"$f":"IF($F$5=1,項目表示入力!$V$53,IF($F$5=2,IF(ISERROR(VLOOKUP(B9,入力AA5!$B$8:$GU$58,オフセット番号A!$V$51+1))=TRUE,\"\",VLOOKUP(B9,入力AA5!$B$8:$GU$58,オフセット番号A!$V$51+1)),\"*\"))","v":"内容47,20"}]
[null,{"$f":"IF(行列入力項目!$C$52=\"\",\"\",行列入力項目!$C$52)","v":"行48"},{"$f":"IF($F$5=1,項目表示入力!$C$54,IF($F$5=2,IF(ISERROR(VLOOKUP(B9,入力AA5!$B$8:$GU$58,オフセット番号A!$C$52+1))=TRUE,\"\",VLOOKUP(B9,入力AA5!$B$8:$GU$58,オフセット番号A!$C$52+1)),\"*\"))","v":"内容48,1"},{"$f":"IF($F$5=1,項目表示入力!$D$54,IF($F$5=2,IF(ISERROR(VLOOKUP(B9,入力AA5!$B$8:$GU$58,オフセット番号A!$D$52+1))=TRUE,\"\",VLOOKUP(B9,入力AA5!$B$8:$GU$58,オフセット番号A!$D$52+1)),\"*\"))","v":"内容48,2"},{"$f":"IF($F$5=1,項目表示入力!$E$54,IF($F$5=2,IF(ISERROR(VLOOKUP(B9,入力AA5!$B$8:$GU$58,オフセット番号A!$E$52+1))=TRUE,\"\",VLOOKUP(B9,入力AA5!$B$8:$GU$58,オフセット番号A!$E$52+1)),\"*\"))","v":"内容48,3"},{"$f":"IF($F$5=1,項目表示入力!$F$54,IF($F$5=2,IF(ISERROR(VLOOKUP(B9,入力AA5!$B$8:$GU$58,オフセット番号A!$F$52+1))=TRUE,\"\",VLOOKUP(B9,入力AA5!$B$8:$GU$58,オフセット番号A!$F$52+1)),\"*\"))","v":"内容48,4"},{"$f":"IF($F$5=1,項目表示入力!$G$54,IF($F$5=2,IF(ISERROR(VLOOKUP(B9,入力AA5!$B$8:$GU$58,オフセット番号A!$G$52+1))=TRUE,\"\",VLOOKUP(B9,入力AA5!$B$8:$GU$58,オフセット番号A!$G$52+1)),\"*\"))","v":"内容48,5"},{"$f":"IF($F$5=1,項目表示入力!$H$54,IF($F$5=2,IF(ISERROR(VLOOKUP(B9,入力AA5!$B$8:$GU$58,オフセット番号A!$H$52+1))=TRUE,\"\",VLOOKUP(B9,入力AA5!$B$8:$GU$58,オフセット番号A!$H$52+1)),\"*\"))","v":"内容48,6"},{"$f":"IF($F$5=1,項目表示入力!$I$54,IF($F$5=2,IF(ISERROR(VLOOKUP(B9,入力AA5!$B$8:$GU$58,オフセット番号A!$I$52+1))=TRUE,\"\",VLOOKUP(B9,入力AA5!$B$8:$GU$58,オフセット番号A!$I$52+1)),\"*\"))","v":"内容48,7"},{"$f":"IF($F$5=1,項目表示入力!$J$54,IF($F$5=2,IF(ISERROR(VLOOKUP(B9,入力AA5!$B$8:$GU$58,オフセット番号A!$J$52+1))=TRUE,\"\",VLOOKUP(B9,入力AA5!$B$8:$GU$58,オフセット番号A!$J$52+1)),\"*\"))","v":"内容48,8"},{"$f":"IF($F$5=1,項目表示入力!$K$54,IF($F$5=2,IF(ISERROR(VLOOKUP(B9,入力AA5!$B$8:$GU$58,オフセット番号A!$K$52+1))=TRUE,\"\",VLOOKUP(B9,入力AA5!$B$8:$GU$58,オフセット番号A!$K$52+1)),\"*\"))","v":"内容48,9"},{"$f":"IF($F$5=1,項目表示入力!$L$54,IF($F$5=2,IF(ISERROR(VLOOKUP(B9,入力AA5!$B$8:$GU$58,オフセット番号A!$L$52+1))=TRUE,\"\",VLOOKUP(B9,入力AA5!$B$8:$GU$58,オフセット番号A!$L$52+1)),\"*\"))","v":"内容48,10"},{"$f":"IF($F$5=1,項目表示入力!$M$54,IF($F$5=2,IF(ISERROR(VLOOKUP(B9,入力AA5!$B$8:$GU$58,オフセット番号A!$M$52+1))=TRUE,\"\",VLOOKUP(B9,入力AA5!$B$8:$GU$58,オフセット番号A!$M$52+1)),\"*\"))","v":"内容48,11"},{"$f":"IF($F$5=1,項目表示入力!$N$54,IF($F$5=2,IF(ISERROR(VLOOKUP(B9,入力AA5!$B$8:$GU$58,オフセット番号A!$N$52+1))=TRUE,\"\",VLOOKUP(B9,入力AA5!$B$8:$GU$58,オフセット番号A!$N$52+1)),\"*\"))","v":"内容48,12"},{"$f":"IF($F$5=1,項目表示入力!$O$54,IF($F$5=2,IF(ISERROR(VLOOKUP(B9,入力AA5!$B$8:$GU$58,オフセット番号A!$O$52+1))=TRUE,\"\",VLOOKUP(B9,入力AA5!$B$8:$GU$58,オフセット番号A!$O$52+1)),\"*\"))","v":"内容48,13"},{"$f":"IF($F$5=1,項目表示入力!$P$54,IF($F$5=2,IF(ISERROR(VLOOKUP(B9,入力AA5!$B$8:$GU$58,オフセット番号A!$P$52+1))=TRUE,\"\",VLOOKUP(B9,入力AA5!$B$8:$GU$58,オフセット番号A!$P$52+1)),\"*\"))","v":"内容48,14"},{"$f":"IF($F$5=1,項目表示入力!$Q$54,IF($F$5=2,IF(ISERROR(VLOOKUP(B9,入力AA5!$B$8:$GU$58,オフセット番号A!$Q$52+1))=TRUE,\"\",VLOOKUP(B9,入力AA5!$B$8:$GU$58,オフセット番号A!$Q$52+1)),\"*\"))","v":"内容48,15"},{"$f":"IF($F$5=1,項目表示入力!$R$54,IF($F$5=2,IF(ISERROR(VLOOKUP(B9,入力AA5!$B$8:$GU$58,オフセット番号A!$R$52+1))=TRUE,\"\",VLOOKUP(B9,入力AA5!$B$8:$GU$58,オフセット番号A!$R$52+1)),\"*\"))","v":"内容48,16"},{"$f":"IF($F$5=1,項目表示入力!$S$54,IF($F$5=2,IF(ISERROR(VLOOKUP(B9,入力AA5!$B$8:$GU$58,オフセット番号A!$S$52+1))=TRUE,\"\",VLOOKUP(B9,入力AA5!$B$8:$GU$58,オフセット番号A!$S$52+1)),\"*\"))","v":"内容48,17"},{"$f":"IF($F$5=1,項目表示入力!$T$54,IF($F$5=2,IF(ISERROR(VLOOKUP(B9,入力AA5!$B$8:$GU$58,オフセット番号A!$T$52+1))=TRUE,\"\",VLOOKUP(B9,入力AA5!$B$8:$GU$58,オフセット番号A!$T$52+1)),\"*\"))","v":"内容48,18"},{"$f":"IF($F$5=1,項目表示入力!$U$54,IF($F$5=2,IF(ISERROR(VLOOKUP(B9,入力AA5!$B$8:$GU$58,オフセット番号A!$U$52+1))=TRUE,\"\",VLOOKUP(B9,入力AA5!$B$8:$GU$58,オフセット番号A!$U$52+1)),\"*\"))","v":"内容48,19"},{"$f":"IF($F$5=1,項目表示入力!$V$54,IF($F$5=2,IF(ISERROR(VLOOKUP(B9,入力AA5!$B$8:$GU$58,オフセット番号A!$V$52+1))=TRUE,\"\",VLOOKUP(B9,入力AA5!$B$8:$GU$58,オフセット番号A!$V$52+1)),\"*\"))","v":"内容48,20"}]
[null,{"$f":"IF(行列入力項目!$C$53=\"\",\"\",行列入力項目!$C$53)","v":"行49"},{"$f":"IF($F$5=1,項目表示入力!$C$55,IF($F$5=2,IF(ISERROR(VLOOKUP(B9,入力AA5!$B$8:$GU$58,オフセット番号A!$C$53+1))=TRUE,\"\",VLOOKUP(B9,入力AA5!$B$8:$GU$58,オフセット番号A!$C$53+1)),\"*\"))","v":"内容49,1"},{"$f":"IF($F$5=1,項目表示入力!$D$55,IF($F$5=2,IF(ISERROR(VLOOKUP(B9,入力AA5!$B$8:$GU$58,オフセット番号A!$D$53+1))=TRUE,\"\",VLOOKUP(B9,入力AA5!$B$8:$GU$58,オフセット番号A!$D$53+1)),\"*\"))","v":"内容49,2"},{"$f":"IF($F$5=1,項目表示入力!$E$55,IF($F$5=2,IF(ISERROR(VLOOKUP(B9,入力AA5!$B$8:$GU$58,オフセット番号A!$E$53+1))=TRUE,\"\",VLOOKUP(B9,入力AA5!$B$8:$GU$58,オフセット番号A!$E$53+1)),\"*\"))","v":"内容49,3"},{"$f":"IF($F$5=1,項目表示入力!$F$55,IF($F$5=2,IF(ISERROR(VLOOKUP(B9,入力AA5!$B$8:$GU$58,オフセット番号A!$F$53+1))=TRUE,\"\",VLOOKUP(B9,入力AA5!$B$8:$GU$58,オフセット番号A!$F$53+1)),\"*\"))","v":"内容49,4"},{"$f":"IF($F$5=1,項目表示入力!$G$55,IF($F$5=2,IF(ISERROR(VLOOKUP(B9,入力AA5!$B$8:$GU$58,オフセット番号A!$G$53+1))=TRUE,\"\",VLOOKUP(B9,入力AA5!$B$8:$GU$58,オフセット番号A!$G$53+1)),\"*\"))","v":"内容49,5"},{"$f":"IF($F$5=1,項目表示入力!$H$55,IF($F$5=2,IF(ISERROR(VLOOKUP(B9,入力AA5!$B$8:$GU$58,オフセット番号A!$H$53+1))=TRUE,\"\",VLOOKUP(B9,入力AA5!$B$8:$GU$58,オフセット番号A!$H$53+1)),\"*\"))","v":"内容49,6"},{"$f":"IF($F$5=1,項目表示入力!$I$55,IF($F$5=2,IF(ISERROR(VLOOKUP(B9,入力AA5!$B$8:$GU$58,オフセット番号A!$I$53+1))=TRUE,\"\",VLOOKUP(B9,入力AA5!$B$8:$GU$58,オフセット番号A!$I$53+1)),\"*\"))","v":"内容49,7"},{"$f":"IF($F$5=1,項目表示入力!$J$55,IF($F$5=2,IF(ISERROR(VLOOKUP(B9,入力AA5!$B$8:$GU$58,オフセット番号A!$J$53+1))=TRUE,\"\",VLOOKUP(B9,入力AA5!$B$8:$GU$58,オフセット番号A!$J$53+1)),\"*\"))","v":"内容49,8"},{"$f":"IF($F$5=1,項目表示入力!$K$55,IF($F$5=2,IF(ISERROR(VLOOKUP(B9,入力AA5!$B$8:$GU$58,オフセット番号A!$K$53+1))=TRUE,\"\",VLOOKUP(B9,入力AA5!$B$8:$GU$58,オフセット番号A!$K$53+1)),\"*\"))","v":"内容49,9"},{"$f":"IF($F$5=1,項目表示入力!$L$55,IF($F$5=2,IF(ISERROR(VLOOKUP(B9,入力AA5!$B$8:$GU$58,オフセット番号A!$L$53+1))=TRUE,\"\",VLOOKUP(B9,入力AA5!$B$8:$GU$58,オフセット番号A!$L$53+1)),\"*\"))","v":"内容49,10"},{"$f":"IF($F$5=1,項目表示入力!$M$55,IF($F$5=2,IF(ISERROR(VLOOKUP(B9,入力AA5!$B$8:$GU$58,オフセット番号A!$M$53+1))=TRUE,\"\",VLOOKUP(B9,入力AA5!$B$8:$GU$58,オフセット番号A!$M$53+1)),\"*\"))","v":"内容49,11"},{"$f":"IF($F$5=1,項目表示入力!$N$55,IF($F$5=2,IF(ISERROR(VLOOKUP(B9,入力AA5!$B$8:$GU$58,オフセット番号A!$N$53+1))=TRUE,\"\",VLOOKUP(B9,入力AA5!$B$8:$GU$58,オフセット番号A!$N$53+1)),\"*\"))","v":"内容49,12"},{"$f":"IF($F$5=1,項目表示入力!$O$55,IF($F$5=2,IF(ISERROR(VLOOKUP(B9,入力AA5!$B$8:$GU$58,オフセット番号A!$O$53+1))=TRUE,\"\",VLOOKUP(B9,入力AA5!$B$8:$GU$58,オフセット番号A!$O$53+1)),\"*\"))","v":"内容49,13"},{"$f":"IF($F$5=1,項目表示入力!$P$55,IF($F$5=2,IF(ISERROR(VLOOKUP(B9,入力AA5!$B$8:$GU$58,オフセット番号A!$P$53+1))=TRUE,\"\",VLOOKUP(B9,入力AA5!$B$8:$GU$58,オフセット番号A!$P$53+1)),\"*\"))","v":"内容49,14"},{"$f":"IF($F$5=1,項目表示入力!$Q$55,IF($F$5=2,IF(ISERROR(VLOOKUP(B9,入力AA5!$B$8:$GU$58,オフセット番号A!$Q$53+1))=TRUE,\"\",VLOOKUP(B9,入力AA5!$B$8:$GU$58,オフセット番号A!$Q$53+1)),\"*\"))","v":"内容49,15"},{"$f":"IF($F$5=1,項目表示入力!$R$55,IF($F$5=2,IF(ISERROR(VLOOKUP(B9,入力AA5!$B$8:$GU$58,オフセット番号A!$R$53+1))=TRUE,\"\",VLOOKUP(B9,入力AA5!$B$8:$GU$58,オフセット番号A!$R$53+1)),\"*\"))","v":"内容49,16"},{"$f":"IF($F$5=1,項目表示入力!$S$55,IF($F$5=2,IF(ISERROR(VLOOKUP(B9,入力AA5!$B$8:$GU$58,オフセット番号A!$S$53+1))=TRUE,\"\",VLOOKUP(B9,入力AA5!$B$8:$GU$58,オフセット番号A!$S$53+1)),\"*\"))","v":"内容49,17"},{"$f":"IF($F$5=1,項目表示入力!$T$55,IF($F$5=2,IF(ISERROR(VLOOKUP(B9,入力AA5!$B$8:$GU$58,オフセット番号A!$T$53+1))=TRUE,\"\",VLOOKUP(B9,入力AA5!$B$8:$GU$58,オフセット番号A!$T$53+1)),\"*\"))","v":"内容49,18"},{"$f":"IF($F$5=1,項目表示入力!$U$55,IF($F$5=2,IF(ISERROR(VLOOKUP(B9,入力AA5!$B$8:$GU$58,オフセット番号A!$U$53+1))=TRUE,\"\",VLOOKUP(B9,入力AA5!$B$8:$GU$58,オフセット番号A!$U$53+1)),\"*\"))","v":"内容49,19"},{"$f":"IF($F$5=1,項目表示入力!$V$55,IF($F$5=2,IF(ISERROR(VLOOKUP(B9,入力AA5!$B$8:$GU$58,オフセット番号A!$V$53+1))=TRUE,\"\",VLOOKUP(B9,入力AA5!$B$8:$GU$58,オフセット番号A!$V$53+1)),\"*\"))","v":"内容49,20"}]
[null,{"$f":"IF(行列入力項目!$C$54=\"\",\"\",行列入力項目!$C$54)","v":"行50"},{"$f":"IF($F$5=1,項目表示入力!$C$56,IF($F$5=2,IF(ISERROR(VLOOKUP(B9,入力AA5!$B$8:$GU$58,オフセット番号A!$C$54+1))=TRUE,\"\",VLOOKUP(B9,入力AA5!$B$8:$GU$58,オフセット番号A!$C$54+1)),\"*\"))","v":"内容50,1"},{"$f":"IF($F$5=1,項目表示入力!$D$56,IF($F$5=2,IF(ISERROR(VLOOKUP(B9,入力AA5!$B$8:$GU$58,オフセット番号A!$D$54+1))=TRUE,\"\",VLOOKUP(B9,入力AA5!$B$8:$GU$58,オフセット番号A!$D$54+1)),\"*\"))","v":"内容50,2"},{"$f":"IF($F$5=1,項目表示入力!$E$56,IF($F$5=2,IF(ISERROR(VLOOKUP(B9,入力AA5!$B$8:$GU$58,オフセット番号A!$E$54+1))=TRUE,\"\",VLOOKUP(B9,入力AA5!$B$8:$GU$58,オフセット番号A!$E$54+1)),\"*\"))","v":"内容50,3"},{"$f":"IF($F$5=1,項目表示入力!$F$56,IF($F$5=2,IF(ISERROR(VLOOKUP(B9,入力AA5!$B$8:$GU$58,オフセット番号A!$F$54+1))=TRUE,\"\",VLOOKUP(B9,入力AA5!$B$8:$GU$58,オフセット番号A!$F$54+1)),\"*\"))","v":"内容50,4"},{"$f":"IF($F$5=1,項目表示入力!$G$56,IF($F$5=2,IF(ISERROR(VLOOKUP(B9,入力AA5!$B$8:$GU$58,オフセット番号A!$G$54+1))=TRUE,\"\",VLOOKUP(B9,入力AA5!$B$8:$GU$58,オフセット番号A!$G$54+1)),\"*\"))","v":"内容50,5"},{"$f":"IF($F$5=1,項目表示入力!$H$56,IF($F$5=2,IF(ISERROR(VLOOKUP(B9,入力AA5!$B$8:$GU$58,オフセット番号A!$H$54+1))=TRUE,\"\",VLOOKUP(B9,入力AA5!$B$8:$GU$58,オフセット番号A!$H$54+1)),\"*\"))","v":"内容50,6"},{"$f":"IF($F$5=1,項目表示入力!$I$56,IF($F$5=2,IF(ISERROR(VLOOKUP(B9,入力AA5!$B$8:$GU$58,オフセット番号A!$I$54+1))=TRUE,\"\",VLOOKUP(B9,入力AA5!$B$8:$GU$58,オフセット番号A!$I$54+1)),\"*\"))","v":"内容50,7"},{"$f":"IF($F$5=1,項目表示入力!$J$56,IF($F$5=2,IF(ISERROR(VLOOKUP(B9,入力AA5!$B$8:$GU$58,オフセット番号A!$J$54+1))=TRUE,\"\",VLOOKUP(B9,入力AA5!$B$8:$GU$58,オフセット番号A!$J$54+1)),\"*\"))","v":"内容50,8"},{"$f":"IF($F$5=1,項目表示入力!$K$56,IF($F$5=2,IF(ISERROR(VLOOKUP(B9,入力AA5!$B$8:$GU$58,オフセット番号A!$K$54+1))=TRUE,\"\",VLOOKUP(B9,入力AA5!$B$8:$GU$58,オフセット番号A!$K$54+1)),\"*\"))","v":"内容50,9"},{"$f":"IF($F$5=1,項目表示入力!$L$56,IF($F$5=2,IF(ISERROR(VLOOKUP(B9,入力AA5!$B$8:$GU$58,オフセット番号A!$L$54+1))=TRUE,\"\",VLOOKUP(B9,入力AA5!$B$8:$GU$58,オフセット番号A!$L$54+1)),\"*\"))","v":"内容50,10"},{"$f":"IF($F$5=1,項目表示入力!$M$56,IF($F$5=2,IF(ISERROR(VLOOKUP(B9,入力AA5!$B$8:$GU$58,オフセット番号A!$M$54+1))=TRUE,\"\",VLOOKUP(B9,入力AA5!$B$8:$GU$58,オフセット番号A!$M$54+1)),\"*\"))","v":"内容50,11"},{"$f":"IF($F$5=1,項目表示入力!$N$56,IF($F$5=2,IF(ISERROR(VLOOKUP(B9,入力AA5!$B$8:$GU$58,オフセット番号A!$N$54+1))=TRUE,\"\",VLOOKUP(B9,入力AA5!$B$8:$GU$58,オフセット番号A!$N$54+1)),\"*\"))","v":"内容50,12"},{"$f":"IF($F$5=1,項目表示入力!$O$56,IF($F$5=2,IF(ISERROR(VLOOKUP(B9,入力AA5!$B$8:$GU$58,オフセット番号A!$O$54+1))=TRUE,\"\",VLOOKUP(B9,入力AA5!$B$8:$GU$58,オフセット番号A!$O$54+1)),\"*\"))","v":"内容50,13"},{"$f":"IF($F$5=1,項目表示入力!$P$56,IF($F$5=2,IF(ISERROR(VLOOKUP(B9,入力AA5!$B$8:$GU$58,オフセット番号A!$P$54+1))=TRUE,\"\",VLOOKUP(B9,入力AA5!$B$8:$GU$58,オフセット番号A!$P$54+1)),\"*\"))","v":"内容50,14"},{"$f":"IF($F$5=1,項目表示入力!$Q$56,IF($F$5=2,IF(ISERROR(VLOOKUP(B9,入力AA5!$B$8:$GU$58,オフセット番号A!$Q$54+1))=TRUE,\"\",VLOOKUP(B9,入力AA5!$B$8:$GU$58,オフセット番号A!$Q$54+1)),\"*\"))","v":"内容50,15"},{"$f":"IF($F$5=1,項目表示入力!$R$56,IF($F$5=2,IF(ISERROR(VLOOKUP(B9,入力AA5!$B$8:$GU$58,オフセット番号A!$R$54+1))=TRUE,\"\",VLOOKUP(B9,入力AA5!$B$8:$GU$58,オフセット番号A!$R$54+1)),\"*\"))","v":"内容50,16"},{"$f":"IF($F$5=1,項目表示入力!$S$56,IF($F$5=2,IF(ISERROR(VLOOKUP(B9,入力AA5!$B$8:$GU$58,オフセット番号A!$S$54+1))=TRUE,\"\",VLOOKUP(B9,入力AA5!$B$8:$GU$58,オフセット番号A!$S$54+1)),\"*\"))","v":"内容50,17"},{"$f":"IF($F$5=1,項目表示入力!$T$56,IF($F$5=2,IF(ISERROR(VLOOKUP(B9,入力AA5!$B$8:$GU$58,オフセット番号A!$T$54+1))=TRUE,\"\",VLOOKUP(B9,入力AA5!$B$8:$GU$58,オフセット番号A!$T$54+1)),\"*\"))","v":"内容50,18"},{"$f":"IF($F$5=1,項目表示入力!$U$56,IF($F$5=2,IF(ISERROR(VLOOKUP(B9,入力AA5!$B$8:$GU$58,オフセット番号A!$U$54+1))=TRUE,\"\",VLOOKUP(B9,入力AA5!$B$8:$GU$58,オフセット番号A!$U$54+1)),\"*\"))","v":"内容50,19"},{"$f":"IF($F$5=1,項目表示入力!$V$56,IF($F$5=2,IF(ISERROR(VLOOKUP(B9,入力AA5!$B$8:$GU$58,オフセット番号A!$V$54+1))=TRUE,\"\",VLOOKUP(B9,入力AA5!$B$8:$GU$58,オフセット番号A!$V$54+1)),\"*\"))","v":"内容50,20"}]

{"sheet":"一覧表付ファイル作成入力設定1","index":14,"n_rows":165,"n_cols":5,"rows_kept":165,"cut":false,"hidden":false,"merged":[[2,1,2,2]]}
[]
[]
[null,{"$f":"シート名設定!C9","v":"一覧表付ファイル作成入力設定1"}]
[null,"１．入力元の設定"]
[null,"項　　　　　　目","設定内容"]
[null,"シート名"]
[null,"データ先頭セル行番号"]
[null,"データ先頭セル列番号"]
[null,"異同比較列番号"]
[null,"データー数"]
[null,"For Next の増分"]
[]
[null,"２．入力先の設定"]
[null,"項　　　　　　目","設定内容"]
[null,"シート名"]
[null,"入力先頭セル行番号"]
[null,"入力先頭セル列番号"]
[null,"入力最終セル行番号"]
[null,"入力最終セル列番号"]
[null,"入力データー数"]
[null,"通しページ入力セル行番号"]
[null,"通しページ入力セル列番号"]
[null,"区分内ページ入力セル行番号"]
[null,"区分内ページ入力セル列番号"]
[null,"３．印刷処理かファイルのメール送信の設定"]
[null,"項　　　　　　目","設定内容"]
[null,"印刷処理か\nファイルの\nメール送信\nの選択",null,1]
[null,"ファイルのメール送信の場合の印刷フォームソートデーターシートのメールアドレスが入力されている列番号"]
[null,"ファイルのメール送信の場合の印刷フォームソートデーターシートの件名が入力されている列番号"]
[null,"ファイルのメール送信の場合の印刷フォームソートデーターシートの本文が入力されている列番号"]
[null,"ファイルのメール送信の場合の添付ファイルの保存先ドライブ及びフォルダー"]
[]
[]
[]
[]
[]
[null,null,{"$f":"IF(シート名設定!C35=0,\"\",シート名設定!C35)","v":"印刷フォーム1"},1,"印刷する"]
[null,null,{"$f":"IF(シート名設定!C36=0,\"\",シート名設定!C36)","v":"印刷フォーム2"},2,"メールで送信する"]
[null,null,{"$f":"IF(シート名設定!C37=0,\"\",シート名設定!C37)","v":"印刷フォーム3"},3,"添付ファイルなし件名本文のみのメール"]
[null,null,{"$f":"IF(シート名設定!C38=0,\"\",シート名設定!C38)","v":"印刷フォーム4"}]
[null,null,{"$f":"IF(シート名設定!C39=0,\"\",シート名設定!C39)","v":"印刷フォーム5"}]
[null,null,{"$f":"IF(シート名設定!C40=0,\"\",シート名設定!C40)","v":"印刷フォーム6"}]
[null,null,{"$f":"IF(シート名設定!C41=0,\"\",シート名設定!C41)","v":"印刷フォーム7"}]
[null,null,{"$f":"IF(シート名設定!C42=0,\"\",シート名設定!C42)","v":"印刷フォーム8"}]
[null,null,{"$f":"IF(シート名設定!C43=0,\"\",シート名設定!C43)","v":"印刷フォーム9"}]
[null,null,{"$f":"IF(シート名設定!C44=0,\"\",シート名設定!C44)","v":"印刷フォーム10"}]
[null,null,{"$f":"IF(シート名設定!C45=0,\"\",シート名設定!C45)","v":"印刷フォーム11"}]
[null,null,{"$f":"IF(シート名設定!C46=0,\"\",シート名設定!C46)","v":"印刷フォーム12"}]
[null,null,{"$f":"IF(シート名設定!C47=0,\"\",シート名設定!C47)","v":"印刷フォーム13"}]
[null,null,{"$f":"IF(シート名設定!C48=0,\"\",シート名設定!C48)","v":"印刷フォーム14"}]
[null,null,{"$f":"IF(シート名設定!C49=0,\"\",シート名設定!C49)","v":"印刷フォーム15"}]
[null,null,{"$f":"IF(シート名設定!C50=0,\"\",シート名設定!C50)","v":"印刷フォーム16"}]
[null,null,{"$f":"IF(シート名設定!C51=0,\"\",シート名設定!C51)","v":"印刷フォーム17"}]
[null,null,{"$f":"IF(シート名設定!C52=0,\"\",シート名設定!C52)","v":"印刷フォーム18"}]
[null,null,{"$f":"IF(シート名設定!C53=0,\"\",シート名設定!C53)","v":"印刷フォーム19"}]
[null,null,{"$f":"IF(シート名設定!C54=0,\"\",シート名設定!C54)","v":"印刷フォーム20"}]
[null,null,{"$f":"IF(シート名設定!E5=0,\"\",シート名設定!E5)","v":"印刷フォーム21"}]
[null,null,{"$f":"IF(シート名設定!E6=0,\"\",シート名設定!E6)","v":"印刷フォーム22"}]
[null,null,{"$f":"IF(シート名設定!E7=0,\"\",シート名設定!E7)","v":"印刷フォーム23"}]
[null,null,{"$f":"IF(シート名設定!E8=0,\"\",シート名設定!E8)","v":"印刷フォーム24"}]
[null,null,{"$f":"IF(シート名設定!E9=0,\"\",シート名設定!E9)","v":"印刷フォーム25"}]
[null,null,{"$f":"IF(シート名設定!E10=0,\"\",シート名設定!E10)","v":"印刷フォーム26"}]
[null,null,{"$f":"IF(シート名設定!E11=0,\"\",シート名設定!E11)","v":"印刷フォーム27"}]
[null,null,{"$f":"IF(シート名設定!E12=0,\"\",シート名設定!E12)","v":"印刷フォーム28"}]
[null,null,{"$f":"IF(シート名設定!E13=0,\"\",シート名設定!E13)","v":"印刷フォーム29"}]
[null,null,{"$f":"IF(シート名設定!E14=0,\"\",シート名設定!E14)","v":"印刷フォーム30"}]
[null,null,{"$f":"IF(シート名設定!E15=0,\"\",シート名設定!E15)","v":"印刷フォーム1ソートデーター"}]
[null,null,{"$f":"IF(シート名設定!E16=0,\"\",シート名設定!E16)","v":"印刷フォーム2ソートデーター"}]
[null,null,{"$f":"IF(シート名設定!E17=0,\"\",シート名設定!E17)","v":"印刷フォーム3ソートデーター"}]
[null,null,{"$f":"IF(シート名設定!E18=0,\"\",シート名設定!E18)","v":"印刷フォーム4ソートデーター"}]
[null,null,{"$f":"IF(シート名設定!E19=0,\"\",シート名設定!E19)","v":"印刷フォーム5ソートデーター"}]
[null,null,{"$f":"IF(シート名設定!E20=0,\"\",シート名設定!E20)","v":"印刷フォーム6ソートデーター"}]
[null,null,{"$f":"IF(シート名設定!E21=0,\"\",シート名設定!E21)","v":"印刷フォーム7ソートデーター"}]
[null,null,{"$f":"IF(シート名設定!E22=0,\"\",シート名設定!E22)","v":"印刷フォーム8ソートデーター"}]
[null,null,{"$f":"IF(シート名設定!E23=0,\"\",シート名設定!E23)","v":"印刷フォーム9ソートデーター"}]
[null,null,{"$f":"IF(シート名設定!E24=0,\"\",シート名設定!E24)","v":"印刷フォーム10ソートデーター"}]
[null,null,{"$f":"IF(シート名設定!E25=0,\"\",シート名設定!E25)","v":"印刷フォーム11ソートデーター"}]
[null,null,{"$f":"IF(シート名設定!E26=0,\"\",シート名設定!E26)","v":"印刷フォーム12ソートデーター"}]
[null,null,{"$f":"IF(シート名設定!E27=0,\"\",シート名設定!E27)","v":"印刷フォーム13ソートデーター"}]
[null,null,{"$f":"IF(シート名設定!E28=0,\"\",シート名設定!E28)","v":"印刷フォーム14ソートデーター"}]
[null,null,{"$f":"IF(シート名設定!E29=0,\"\",シート名設定!E29)","v":"印刷フォーム15ソートデーター"}]
[null,null,{"$f":"IF(シート名設定!E30=0,\"\",シート名設定!E30)","v":"印刷フォーム16ソートデーター"}]
[null,null,{"$f":"IF(シート名設定!E31=0,\"\",シート名設定!E31)","v":"印刷フォーム17ソートデーター"}]
[null,null,{"$f":"IF(シート名設定!E32=0,\"\",シート名設定!E32)","v":"印刷フォーム18ソートデーター"}]
[null,null,{"$f":"IF(シート名設定!E33=0,\"\",シート名設定!E33)","v":"印刷フォーム19ソートデーター"}]
[null,null,{"$f":"IF(シート名設定!E34=0,\"\",シート名設定!E34)","v":"印刷フォーム20ソートデーター"}]
[null,null,{"$f":"IF(シート名設定!E35=0,\"\",シート名設定!E35)","v":"印刷フォーム21ソートデーター"}]
[null,null,{"$f":"IF(シート名設定!E36=0,\"\",シート名設定!E36)","v":"印刷フォーム22ソートデーター"}]
[null,null,{"$f":"IF(シート名設定!E37=0,\"\",シート名設定!E37)","v":"印刷フォーム23ソートデーター"}]
[null,null,{"$f":"IF(シート名設定!E38=0,\"\",シート名設定!E38)","v":"印刷フォーム24ソートデーター"}]
[null,null,{"$f":"IF(シート名設定!E39=0,\"\",シート名設定!E39)","v":"印刷フォーム25ソートデーター"}]
[null,null,{"$f":"IF(シート名設定!E40=0,\"\",シート名設定!E40)","v":"印刷フォーム26ソートデーター"}]
[null,null,{"$f":"IF(シート名設定!E41=0,\"\",シート名設定!E41)","v":"印刷フォーム27ソートデーター"}]
[null,null,{"$f":"IF(シート名設定!E42=0,\"\",シート名設定!E42)","v":"印刷フォーム28ソートデーター"}]
[null,null,{"$f":"IF(シート名設定!E43=0,\"\",シート名設定!E43)","v":"印刷フォーム29ソートデーター"}]
[null,null,{"$f":"IF(シート名設定!E44=0,\"\",シート名設定!E44)","v":"印刷フォーム30ソートデーター"}]
[null,null,{"$f":"IF(追加ワークシート名設定!D6=0,\"\",追加ワークシート名設定!D6)","v":""}]
[null,null,{"$f":"IF(追加ワークシート名設定!D7=0,\"\",追加ワークシート名設定!D7)","v":""}]
[null,null,{"$f":"IF(追加ワークシート名設定!D8=0,\"\",追加ワークシート名設定!D8)","v":""}]
[null,null,{"$f":"IF(追加ワークシート名設定!D9=0,\"\",追加ワークシート名設定!D9)","v":""}]
[null,null,{"$f":"IF(追加ワークシート名設定!D10=0,\"\",追加ワークシート名設定!D10)","v":""}]
[null,null,{"$f":"IF(追加ワークシート名設定!D11=0,\"\",追加ワークシート名設定!D11)","v":""}]
[null,null,{"$f":"IF(追加ワークシート名設定!D12=0,\"\",追加ワークシート名設定!D12)","v":""}]
[null,null,{"$f":"IF(追加ワークシート名設定!D13=0,\"\",追加ワークシート名設定!D13)","v":""}]
[null,null,{"$f":"IF(追加ワークシート名設定!D14=0,\"\",追加ワークシート名設定!D14)","v":""}]
[null,null,{"$f":"IF(追加ワークシート名設定!D15=0,\"\",追加ワークシート名設定!D15)","v":""}]
[null,null,{"$f":"IF(追加ワークシート名設定!D16=0,\"\",追加ワークシート名設定!D16)","v":""}]
[null,null,{"$f":"IF(追加ワークシート名設定!D17=0,\"\",追加ワークシート名設定!D17)","v":""}]
[null,null,{"$f":"IF(追加ワークシート名設定!D18=0,\"\",追加ワークシート名設定!D18)","v":""}]
[null,null,{"$f":"IF(追加ワークシート名設定!D19=0,\"\",追加ワークシート名設定!D19)","v":""}]
[null,null,{"$f":"IF(追加ワークシート名設定!D20=0,\"\",追加ワークシート名設定!D20)","v":""}]
[null,null,{"$f":"IF(追加ワークシート名設定!D21=0,\"\",追加ワークシート名設定!D21)","v":""}]
[null,null,{"$f":"IF(追加ワークシート名設定!D22=0,\"\",追加ワークシート名設定!D22)","v":""}]
[null,null,{"$f":"IF(追加ワークシート名設定!D23=0,\"\",追加ワークシート名設定!D23)","v":""}]
[null,null,{"$f":"IF(追加ワークシート名設定!D24=0,\"\",追加ワークシート名設定!D24)","v":""}]
[null,null,{"$f":"IF(追加ワークシート名設定!D25=0,\"\",追加ワークシート名設定!D25)","v":""}]
[null,null,{"$f":"IF(追加ワークシート名設定!D26=0,\"\",追加ワークシート名設定!D26)","v":""}]
[null,null,{"$f":"IF(追加ワークシート名設定!D27=0,\"\",追加ワークシート名設定!D27)","v":""}]
[null,null,{"$f":"IF(追加ワークシート名設定!D28=0,\"\",追加ワークシート名設定!D28)","v":""}]
[null,null,{"$f":"IF(追加ワークシート名設定!D29=0,\"\",追加ワークシート名設定!D29)","v":""}]
[null,null,{"$f":"IF(追加ワークシート名設定!D30=0,\"\",追加ワークシート名設定!D30)","v":""}]
[null,null,{"$f":"IF(追加ワークシート名設定!D31=0,\"\",追加ワークシート名設定!D31)","v":""}]
[null,null,{"$f":"IF(追加ワークシート名設定!D32=0,\"\",追加ワークシート名設定!D32)","v":""}]
[null,null,{"$f":"IF(追加ワークシート名設定!D33=0,\"\",追加ワークシート名設定!D33)","v":""}]
[null,null,{"$f":"IF(追加ワークシート名設定!D34=0,\"\",追加ワークシート名設定!D34)","v":""}]
[null,null,{"$f":"IF(追加ワークシート名設定!D35=0,\"\",追加ワークシート名設定!D35)","v":""}]
[null,null,{"$f":"IF(追加ワークシート名設定!D36=0,\"\",追加ワークシート名設定!D36)","v":""}]
[null,null,{"$f":"IF(追加ワークシート名設定!D37=0,\"\",追加ワークシート名設定!D37)","v":""}]
[null,null,{"$f":"IF(追加ワークシート名設定!D38=0,\"\",追加ワークシート名設定!D38)","v":""}]
[null,null,{"$f":"IF(追加ワークシート名設定!D39=0,\"\",追加ワークシート名設定!D39)","v":""}]
[null,null,{"$f":"IF(追加ワークシート名設定!D40=0,\"\",追加ワークシート名設定!D40)","v":""}]
[null,null,{"$f":"IF(追加ワークシート名設定!D41=0,\"\",追加ワークシート名設定!D41)","v":""}]
[null,null,{"$f":"IF(追加ワークシート名設定!D42=0,\"\",追加ワークシート名設定!D42)","v":""}]
[null,null,{"$f":"IF(追加ワークシート名設定!D43=0,\"\",追加ワークシート名設定!D43)","v":""}]
[null,null,{"$f":"IF(追加ワークシート名設定!D44=0,\"\",追加ワークシート名設定!D44)","v":""}]
[null,null,{"$f":"IF(追加ワークシート名設定!D45=0,\"\",追加ワークシート名設定!D45)","v":""}]
[null,null,{"$f":"IF(追加ワークシート名設定!D46=0,\"\",追加ワークシート名設定!D46)","v":""}]
[null,null,{"$f":"IF(追加ワークシート名設定!D47=0,\"\",追加ワークシート名設定!D47)","v":""}]
[null,null,{"$f":"IF(追加ワークシート名設定!D48=0,\"\",追加ワークシート名設定!D48)","v":""}]
[null,null,{"$f":"IF(追加ワークシート名設定!D49=0,\"\",追加ワークシート名設定!D49)","v":""}]
[null,null,{"$f":"IF(追加ワークシート名設定!D50=0,\"\",追加ワークシート名設定!D50)","v":""}]
[null,null,{"$f":"IF(追加ワークシート名設定!D51=0,\"\",追加ワークシート名設定!D51)","v":""}]
[null,null,{"$f":"IF(追加ワークシート名設定!D52=0,\"\",追加ワークシート名設定!D52)","v":""}]
[null,null,{"$f":"IF(追加ワークシート名設定!D53=0,\"\",追加ワークシート名設定!D53)","v":""}]
[null,null,{"$f":"IF(追加ワークシート名設定!D54=0,\"\",追加ワークシート名設定!D54)","v":""}]
[null,null,{"$f":"IF(追加ワークシート名設定!D55=0,\"\",追加ワークシート名設定!D55)","v":""}]
[null,null,{"$f":"IF(追加ワークシート名設定!D56=0,\"\",追加ワークシート名設定!D56)","v":""}]
[null,null,{"$f":"IF(追加ワークシート名設定!D57=0,\"\",追加ワークシート名設定!D57)","v":""}]
[null,null,{"$f":"IF(追加ワークシート名設定!D58=0,\"\",追加ワークシート名設定!D58)","v":""}]
[null,null,{"$f":"IF(追加ワークシート名設定!D59=0,\"\",追加ワークシート名設定!D59)","v":""}]
[null,null,{"$f":"IF(追加ワークシート名設定!D60=0,\"\",追加ワークシート名設定!D60)","v":""}]
[null,null,{"$f":"IF(追加ワークシート名設定!D61=0,\"\",追加ワークシート名設定!D61)","v":""}]
[null,null,{"$f":"IF(追加ワークシート名設定!D62=0,\"\",追加ワークシート名設定!D62)","v":""}]
[null,null,{"$f":"IF(追加ワークシート名設定!D63=0,\"\",追加ワークシート名設定!D63)","v":""}]
[null,null,{"$f":"IF(追加ワークシート名設定!D64=0,\"\",追加ワークシート名設定!D64)","v":""}]
[null,null,{"$f":"IF(追加ワークシート名設定!D65=0,\"\",追加ワークシート名設定!D65)","v":""}]
[null,null,{"$f":"IF(追加ワークシート名設定!D66=0,\"\",追加ワークシート名設定!D66)","v":""}]
[null,null,{"$f":"IF(追加ワークシート名設定!D67=0,\"\",追加ワークシート名設定!D67)","v":""}]
[null,null,{"$f":"IF(追加ワークシート名設定!D68=0,\"\",追加ワークシート名設定!D68)","v":""}]
[null,null,{"$f":"IF(追加ワークシート名設定!D69=0,\"\",追加ワークシート名設定!D69)","v":""}]
[null,null,{"$f":"IF(シート名設定!C30=0,\"\",シート名設定!C30)","v":"入力AA1"}]
[null,null,{"$f":"IF(シート名設定!C31=0,\"\",シート名設定!C31)","v":"入力AA2"}]
[null,null,{"$f":"IF(シート名設定!C32=0,\"\",シート名設定!C32)","v":"入力AA3"}]
[null,null,{"$f":"IF(シート名設定!C33=0,\"\",シート名設定!C33)","v":"入力AA4"}]
[null,null,{"$f":"IF(シート名設定!C34=0,\"\",シート名設定!C34)","v":"入力AA5"}]

{"sheet":"一覧表付ファイル作成入力設定2","index":15,"n_rows":165,"n_cols":5,"rows_kept":165,"cut":false,"hidden":false,"merged":[[2,1,2,2]]}
[]
[]
[null,{"$f":"シート名設定!C10","v":"一覧表付ファイル作成入力設定2"}]
[null,"１．入力元の設定"]
[null,"項　　　　　　目","設定内容"]
[null,"シート名"]
[null,"データ先頭セル行番号"]
[null,"データ先頭セル列番号"]
[null,"異同比較列番号"]
[null,"データー数"]
[null,"For Next の増分"]
[]
[null,"２．入力先の設定"]
[null,"項　　　　　　目","設定内容"]
[null,"シート名"]
[null,"入力先頭セル行番号"]
[null,"入力先頭セル列番号"]
[null,"入力最終セル行番号"]
[null,"入力最終セル列番号"]
[null,"入力データー数"]
[null,"通しページ入力セル行番号"]
[null,"通しページ入力セル列番号"]
[null,"区分内ページ入力セル行番号"]
[null,"区分内ページ入力セル列番号"]
[null,"３．印刷処理かファイルのメール送信の設定"]
[null,"項　　　　　　目","設定内容"]
[null,"印刷処理か\nファイルの\nメール送信\nの選択",null,1]
[null,"ファイルのメール送信の場合の印刷フォームソートデーターシートのメールアドレスが入力されている列番号"]
[null,"ファイルのメール送信の場合の印刷フォームソートデーターシートの件名が入力されている列番号"]
[null,"ファイルのメール送信の場合の印刷フォームソートデーターシートの本文が入力されている列番号"]
[null,"ファイルのメール送信の場合の添付ファイルの保存先ドライブ及びフォルダー"]
[]
[]
[]
[]
[]
[null,null,{"$f":"IF(シート名設定!C35=0,\"\",シート名設定!C35)","v":"印刷フォーム1"},1,"印刷する"]
[null,null,{"$f":"IF(シート名設定!C36=0,\"\",シート名設定!C36)","v":"印刷フォーム2"},2,"メールで送信する"]
[null,null,{"$f":"IF(シート名設定!C37=0,\"\",シート名設定!C37)","v":"印刷フォーム3"},3,"添付ファイルなし件名本文のみのメール"]
[null,null,{"$f":"IF(シート名設定!C38=0,\"\",シート名設定!C38)","v":"印刷フォーム4"}]
[null,null,{"$f":"IF(シート名設定!C39=0,\"\",シート名設定!C39)","v":"印刷フォーム5"}]
[null,null,{"$f":"IF(シート名設定!C40=0,\"\",シート名設定!C40)","v":"印刷フォーム6"}]
[null,null,{"$f":"IF(シート名設定!C41=0,\"\",シート名設定!C41)","v":"印刷フォーム7"}]
[null,null,{"$f":"IF(シート名設定!C42=0,\"\",シート名設定!C42)","v":"印刷フォーム8"}]
[null,null,{"$f":"IF(シート名設定!C43=0,\"\",シート名設定!C43)","v":"印刷フォーム9"}]
[null,null,{"$f":"IF(シート名設定!C44=0,\"\",シート名設定!C44)","v":"印刷フォーム10"}]
[null,null,{"$f":"IF(シート名設定!C45=0,\"\",シート名設定!C45)","v":"印刷フォーム11"}]
[null,null,{"$f":"IF(シート名設定!C46=0,\"\",シート名設定!C46)","v":"印刷フォーム12"}]
[null,null,{"$f":"IF(シート名設定!C47=0,\"\",シート名設定!C47)","v":"印刷フォーム13"}]
[null,null,{"$f":"IF(シート名設定!C48=0,\"\",シート名設定!C48)","v":"印刷フォーム14"}]
[null,null,{"$f":"IF(シート名設定!C49=0,\"\",シート名設定!C49)","v":"印刷フォーム15"}]
[null,null,{"$f":"IF(シート名設定!C50=0,\"\",シート名設定!C50)","v":"印刷フォーム16"}]
[null,null,{"$f":"IF(シート名設定!C51=0,\"\",シート名設定!C51)","v":"印刷フォーム17"}]
[null,null,{"$f":"IF(シート名設定!C52=0,\"\",シート名設定!C52)","v":"印刷フォーム18"}]
[null,null,{"$f":"IF(シート名設定!C53=0,\"\",シート名設定!C53)","v":"印刷フォーム19"}]
[null,null,{"$f":"IF(シート名設定!C54=0,\"\",シート名設定!C54)","v":"印刷フォーム20"}]
[null,null,{"$f":"IF(シート名設定!E5=0,\"\",シート名設定!E5)","v":"印刷フォーム21"}]
[null,null,{"$f":"IF(シート名設定!E6=0,\"\",シート名設定!E6)","v":"印刷フォーム22"}]
[null,null,{"$f":"IF(シート名設定!E7=0,\"\",シート名設定!E7)","v":"印刷フォーム23"}]
[null,null,{"$f":"IF(シート名設定!E8=0,\"\",シート名設定!E8)","v":"印刷フォーム24"}]
[null,null,{"$f":"IF(シート名設定!E9=0,\"\",シート名設定!E9)","v":"印刷フォーム25"}]
[null,null,{"$f":"IF(シート名設定!E10=0,\"\",シート名設定!E10)","v":"印刷フォーム26"}]
[null,null,{"$f":"IF(シート名設定!E11=0,\"\",シート名設定!E11)","v":"印刷フォーム27"}]
[null,null,{"$f":"IF(シート名設定!E12=0,\"\",シート名設定!E12)","v":"印刷フォーム28"}]
[null,null,{"$f":"IF(シート名設定!E13=0,\"\",シート名設定!E13)","v":"印刷フォーム29"}]
[null,null,{"$f":"IF(シート名設定!E14=0,\"\",シート名設定!E14)","v":"印刷フォーム30"}]
[null,null,{"$f":"IF(シート名設定!E15=0,\"\",シート名設定!E15)","v":"印刷フォーム1ソートデーター"}]
[null,null,{"$f":"IF(シート名設定!E16=0,\"\",シート名設定!E16)","v":"印刷フォーム2ソートデーター"}]
[null,null,{"$f":"IF(シート名設定!E17=0,\"\",シート名設定!E17)","v":"印刷フォーム3ソートデーター"}]
[null,null,{"$f":"IF(シート名設定!E18=0,\"\",シート名設定!E18)","v":"印刷フォーム4ソートデーター"}]
[null,null,{"$f":"IF(シート名設定!E19=0,\"\",シート名設定!E19)","v":"印刷フォーム5ソートデーター"}]
[null,null,{"$f":"IF(シート名設定!E20=0,\"\",シート名設定!E20)","v":"印刷フォーム6ソートデーター"}]
[null,null,{"$f":"IF(シート名設定!E21=0,\"\",シート名設定!E21)","v":"印刷フォーム7ソートデーター"}]
[null,null,{"$f":"IF(シート名設定!E22=0,\"\",シート名設定!E22)","v":"印刷フォーム8ソートデーター"}]
[null,null,{"$f":"IF(シート名設定!E23=0,\"\",シート名設定!E23)","v":"印刷フォーム9ソートデーター"}]
[null,null,{"$f":"IF(シート名設定!E24=0,\"\",シート名設定!E24)","v":"印刷フォーム10ソートデーター"}]
[null,null,{"$f":"IF(シート名設定!E25=0,\"\",シート名設定!E25)","v":"印刷フォーム11ソートデーター"}]
[null,null,{"$f":"IF(シート名設定!E26=0,\"\",シート名設定!E26)","v":"印刷フォーム12ソートデーター"}]
[null,null,{"$f":"IF(シート名設定!E27=0,\"\",シート名設定!E27)","v":"印刷フォーム13ソートデーター"}]
[null,null,{"$f":"IF(シート名設定!E28=0,\"\",シート名設定!E28)","v":"印刷フォーム14ソートデーター"}]
[null,null,{"$f":"IF(シート名設定!E29=0,\"\",シート名設定!E29)","v":"印刷フォーム15ソートデーター"}]
[null,null,{"$f":"IF(シート名設定!E30=0,\"\",シート名設定!E30)","v":"印刷フォーム16ソートデーター"}]
[null,null,{"$f":"IF(シート名設定!E31=0,\"\",シート名設定!E31)","v":"印刷フォーム17ソートデーター"}]
[null,null,{"$f":"IF(シート名設定!E32=0,\"\",シート名設定!E32)","v":"印刷フォーム18ソートデーター"}]
[null,null,{"$f":"IF(シート名設定!E33=0,\"\",シート名設定!E33)","v":"印刷フォーム19ソートデーター"}]
[null,null,{"$f":"IF(シート名設定!E34=0,\"\",シート名設定!E34)","v":"印刷フォーム20ソートデーター"}]
[null,null,{"$f":"IF(シート名設定!E35=0,\"\",シート名設定!E35)","v":"印刷フォーム21ソートデーター"}]
[null,null,{"$f":"IF(シート名設定!E36=0,\"\",シート名設定!E36)","v":"印刷フォーム22ソートデーター"}]
[null,null,{"$f":"IF(シート名設定!E37=0,\"\",シート名設定!E37)","v":"印刷フォーム23ソートデーター"}]
[null,null,{"$f":"IF(シート名設定!E38=0,\"\",シート名設定!E38)","v":"印刷フォーム24ソートデーター"}]
[null,null,{"$f":"IF(シート名設定!E39=0,\"\",シート名設定!E39)","v":"印刷フォーム25ソートデーター"}]
[null,null,{"$f":"IF(シート名設定!E40=0,\"\",シート名設定!E40)","v":"印刷フォーム26ソートデーター"}]
[null,null,{"$f":"IF(シート名設定!E41=0,\"\",シート名設定!E41)","v":"印刷フォーム27ソートデーター"}]
[null,null,{"$f":"IF(シート名設定!E42=0,\"\",シート名設定!E42)","v":"印刷フォーム28ソートデーター"}]
[null,null,{"$f":"IF(シート名設定!E43=0,\"\",シート名設定!E43)","v":"印刷フォーム29ソートデーター"}]
[null,null,{"$f":"IF(シート名設定!E44=0,\"\",シート名設定!E44)","v":"印刷フォーム30ソートデーター"}]
[null,null,{"$f":"IF(追加ワークシート名設定!D6=0,\"\",追加ワークシート名設定!D6)","v":""}]
[null,null,{"$f":"IF(追加ワークシート名設定!D7=0,\"\",追加ワークシート名設定!D7)","v":""}]
[null,null,{"$f":"IF(追加ワークシート名設定!D8=0,\"\",追加ワークシート名設定!D8)","v":""}]
[null,null,{"$f":"IF(追加ワークシート名設定!D9=0,\"\",追加ワークシート名設定!D9)","v":""}]
[null,null,{"$f":"IF(追加ワークシート名設定!D10=0,\"\",追加ワークシート名設定!D10)","v":""}]
[null,null,{"$f":"IF(追加ワークシート名設定!D11=0,\"\",追加ワークシート名設定!D11)","v":""}]
[null,null,{"$f":"IF(追加ワークシート名設定!D12=0,\"\",追加ワークシート名設定!D12)","v":""}]
[null,null,{"$f":"IF(追加ワークシート名設定!D13=0,\"\",追加ワークシート名設定!D13)","v":""}]
[null,null,{"$f":"IF(追加ワークシート名設定!D14=0,\"\",追加ワークシート名設定!D14)","v":""}]
[null,null,{"$f":"IF(追加ワークシート名設定!D15=0,\"\",追加ワークシート名設定!D15)","v":""}]
[null,null,{"$f":"IF(追加ワークシート名設定!D16=0,\"\",追加ワークシート名設定!D16)","v":""}]
[null,null,{"$f":"IF(追加ワークシート名設定!D17=0,\"\",追加ワークシート名設定!D17)","v":""}]
[null,null,{"$f":"IF(追加ワークシート名設定!D18=0,\"\",追加ワークシート名設定!D18)","v":""}]
[null,null,{"$f":"IF(追加ワークシート名設定!D19=0,\"\",追加ワークシート名設定!D19)","v":""}]
[null,null,{"$f":"IF(追加ワークシート名設定!D20=0,\"\",追加ワークシート名設定!D20)","v":""}]
[null,null,{"$f":"IF(追加ワークシート名設定!D21=0,\"\",追加ワークシート名設定!D21)","v":""}]
[null,null,{"$f":"IF(追加ワークシート名設定!D22=0,\"\",追加ワークシート名設定!D22)","v":""}]
[null,null,{"$f":"IF(追加ワークシート名設定!D23=0,\"\",追加ワークシート名設定!D23)","v":""}]
[null,null,{"$f":"IF(追加ワークシート名設定!D24=0,\"\",追加ワークシート名設定!D24)","v":""}]
[null,null,{"$f":"IF(追加ワークシート名設定!D25=0,\"\",追加ワークシート名設定!D25)","v":""}]
[null,null,{"$f":"IF(追加ワークシート名設定!D26=0,\"\",追加ワークシート名設定!D26)","v":""}]
[null,null,{"$f":"IF(追加ワークシート名設定!D27=0,\"\",追加ワークシート名設定!D27)","v":""}]
[null,null,{"$f":"IF(追加ワークシート名設定!D28=0,\"\",追加ワークシート名設定!D28)","v":""}]
[null,null,{"$f":"IF(追加ワークシート名設定!D29=0,\"\",追加ワークシート名設定!D29)","v":""}]
[null,null,{"$f":"IF(追加ワークシート名設定!D30=0,\"\",追加ワークシート名設定!D30)","v":""}]
[null,null,{"$f":"IF(追加ワークシート名設定!D31=0,\"\",追加ワークシート名設定!D31)","v":""}]
[null,null,{"$f":"IF(追加ワークシート名設定!D32=0,\"\",追加ワークシート名設定!D32)","v":""}]
[null,null,{"$f":"IF(追加ワークシート名設定!D33=0,\"\",追加ワークシート名設定!D33)","v":""}]
[null,null,{"$f":"IF(追加ワークシート名設定!D34=0,\"\",追加ワークシート名設定!D34)","v":""}]
[null,null,{"$f":"IF(追加ワークシート名設定!D35=0,\"\",追加ワークシート名設定!D35)","v":""}]
[null,null,{"$f":"IF(追加ワークシート名設定!D36=0,\"\",追加ワークシート名設定!D36)","v":""}]
[null,null,{"$f":"IF(追加ワークシート名設定!D37=0,\"\",追加ワークシート名設定!D37)","v":""}]
[null,null,{"$f":"IF(追加ワークシート名設定!D38=0,\"\",追加ワークシート名設定!D38)","v":""}]
[null,null,{"$f":"IF(追加ワークシート名設定!D39=0,\"\",追加ワークシート名設定!D39)","v":""}]
[null,null,{"$f":"IF(追加ワークシート名設定!D40=0,\"\",追加ワークシート名設定!D40)","v":""}]
[null,null,{"$f":"IF(追加ワークシート名設定!D41=0,\"\",追加ワークシート名設定!D41)","v":""}]
[null,null,{"$f":"IF(追加ワークシート名設定!D42=0,\"\",追加ワークシート名設定!D42)","v":""}]
[null,null,{"$f":"IF(追加ワークシート名設定!D43=0,\"\",追加ワークシート名設定!D43)","v":""}]
[null,null,{"$f":"IF(追加ワークシート名設定!D44=0,\"\",追加ワークシート名設定!D44)","v":""}]
[null,null,{"$f":"IF(追加ワークシート名設定!D45=0,\"\",追加ワークシート名設定!D45)","v":""}]
[null,null,{"$f":"IF(追加ワークシート名設定!D46=0,\"\",追加ワークシート名設定!D46)","v":""}]
[null,null,{"$f":"IF(追加ワークシート名設定!D47=0,\"\",追加ワークシート名設定!D47)","v":""}]
[null,null,{"$f":"IF(追加ワークシート名設定!D48=0,\"\",追加ワークシート名設定!D48)","v":""}]
[null,null,{"$f":"IF(追加ワークシート名設定!D49=0,\"\",追加ワークシート名設定!D49)","v":""}]
[null,null,{"$f":"IF(追加ワークシート名設定!D50=0,\"\",追加ワークシート名設定!D50)","v":""}]
[null,null,{"$f":"IF(追加ワークシート名設定!D51=0,\"\",追加ワークシート名設定!D51)","v":""}]
[null,null,{"$f":"IF(追加ワークシート名設定!D52=0,\"\",追加ワークシート名設定!D52)","v":""}]
[null,null,{"$f":"IF(追加ワークシート名設定!D53=0,\"\",追加ワークシート名設定!D53)","v":""}]
[null,null,{"$f":"IF(追加ワークシート名設定!D54=0,\"\",追加ワークシート名設定!D54)","v":""}]
[null,null,{"$f":"IF(追加ワークシート名設定!D55=0,\"\",追加ワークシート名設定!D55)","v":""}]
[null,null,{"$f":"IF(追加ワークシート名設定!D56=0,\"\",追加ワークシート名設定!D56)","v":""}]
[null,null,{"$f":"IF(追加ワークシート名設定!D57=0,\"\",追加ワークシート名設定!D57)","v":""}]
[null,null,{"$f":"IF(追加ワークシート名設定!D58=0,\"\",追加ワークシート名設定!D58)","v":""}]
[null,null,{"$f":"IF(追加ワークシート名設定!D59=0,\"\",追加ワークシート名設定!D59)","v":""}]
[null,null,{"$f":"IF(追加ワークシート名設定!D60=0,\"\",追加ワークシート名設定!D60)","v":""}]
[null,null,{"$f":"IF(追加ワークシート名設定!D61=0,\"\",追加ワークシート名設定!D61)","v":""}]
[null,null,{"$f":"IF(追加ワークシート名設定!D62=0,\"\",追加ワークシート名設定!D62)","v":""}]
[null,null,{"$f":"IF(追加ワークシート名設定!D63=0,\"\",追加ワークシート名設定!D63)","v":""}]
[null,null,{"$f":"IF(追加ワークシート名設定!D64=0,\"\",追加ワークシート名設定!D64)","v":""}]
[null,null,{"$f":"IF(追加ワークシート名設定!D65=0,\"\",追加ワークシート名設定!D65)","v":""}]
[null,null,{"$f":"IF(追加ワークシート名設定!D66=0,\"\",追加ワークシート名設定!D66)","v":""}]
[null,null,{"$f":"IF(追加ワークシート名設定!D67=0,\"\",追加ワークシート名設定!D67)","v":""}]
[null,null,{"$f":"IF(追加ワークシート名設定!D68=0,\"\",追加ワークシート名設定!D68)","v":""}]
[null,null,{"$f":"IF(追加ワークシート名設定!D69=0,\"\",追加ワークシート名設定!D69)","v":""}]
[null,null,{"$f":"IF(シート名設定!C30=0,\"\",シート名設定!C30)","v":"入力AA1"}]
[null,null,{"$f":"IF(シート名設定!C31=0,\"\",シート名設定!C31)","v":"入力AA2"}]
[null,null,{"$f":"IF(シート名設定!C32=0,\"\",シート名設定!C32)","v":"入力AA3"}]
[null,null,{"$f":"IF(シート名設定!C33=0,\"\",シート名設定!C33)","v":"入力AA4"}]
[null,null,{"$f":"IF(シート名設定!C34=0,\"\",シート名設定!C34)","v":"入力AA5"}]

{"sheet":"一覧表付ファイル作成入力設定3","index":16,"n_rows":165,"n_cols":5,"rows_kept":165,"cut":false,"hidden":false,"merged":[[2,1,2,2]]}
[]
[]
[null,{"$f":"シート名設定!C11","v":"一覧表付ファイル作成入力設定3"}]
[null,"１．入力元の設定"]
[null,"項　　　　　　目","設定内容"]
[null,"シート名"]
[null,"データ先頭セル行番号"]
[null,"データ先頭セル列番号"]
[null,"異同比較列番号"]
[null,"データー数"]
[null,"For Next の増分"]
[]
[null,"２．入力先の設定"]
[null,"項　　　　　　目","設定内容"]
[null,"シート名"]
[null,"入力先頭セル行番号"]
[null,"入力先頭セル列番号"]
[null,"入力最終セル行番号"]
[null,"入力最終セル列番号"]
[null,"入力データー数"]
[null,"通しページ入力セル行番号"]
[null,"通しページ入力セル列番号"]
[null,"区分内ページ入力セル行番号"]
[null,"区分内ページ入力セル列番号"]
[null,"３．印刷処理かファイルのメール送信の設定"]
[null,"項　　　　　　目","設定内容"]
[null,"印刷処理か\nファイルの\nメール送信\nの選択",null,1]
[null,"ファイルのメール送信の場合の印刷フォームソートデーターシートのメールアドレスが入力されている列番号"]
[null,"ファイルのメール送信の場合の印刷フォームソートデーターシートの件名が入力されている列番号"]
[null,"ファイルのメール送信の場合の印刷フォームソートデーターシートの本文が入力されている列番号"]
[null,"ファイルのメール送信の場合の添付ファイルの保存先ドライブ及びフォルダー"]
[]
[]
[]
[]
[]
[null,null,{"$f":"IF(シート名設定!C35=0,\"\",シート名設定!C35)","v":"印刷フォーム1"},1,"印刷する"]
[null,null,{"$f":"IF(シート名設定!C36=0,\"\",シート名設定!C36)","v":"印刷フォーム2"},2,"メールで送信する"]
[null,null,{"$f":"IF(シート名設定!C37=0,\"\",シート名設定!C37)","v":"印刷フォーム3"},3,"添付ファイルなし件名本文のみのメール"]
[null,null,{"$f":"IF(シート名設定!C38=0,\"\",シート名設定!C38)","v":"印刷フォーム4"}]
[null,null,{"$f":"IF(シート名設定!C39=0,\"\",シート名設定!C39)","v":"印刷フォーム5"}]
[null,null,{"$f":"IF(シート名設定!C40=0,\"\",シート名設定!C40)","v":"印刷フォーム6"}]
[null,null,{"$f":"IF(シート名設定!C41=0,\"\",シート名設定!C41)","v":"印刷フォーム7"}]
[null,null,{"$f":"IF(シート名設定!C42=0,\"\",シート名設定!C42)","v":"印刷フォーム8"}]
[null,null,{"$f":"IF(シート名設定!C43=0,\"\",シート名設定!C43)","v":"印刷フォーム9"}]
[null,null,{"$f":"IF(シート名設定!C44=0,\"\",シート名設定!C44)","v":"印刷フォーム10"}]
[null,null,{"$f":"IF(シート名設定!C45=0,\"\",シート名設定!C45)","v":"印刷フォーム11"}]
[null,null,{"$f":"IF(シート名設定!C46=0,\"\",シート名設定!C46)","v":"印刷フォーム12"}]
[null,null,{"$f":"IF(シート名設定!C47=0,\"\",シート名設定!C47)","v":"印刷フォーム13"}]
[null,null,{"$f":"IF(シート名設定!C48=0,\"\",シート名設定!C48)","v":"印刷フォーム14"}]
[null,null,{"$f":"IF(シート名設定!C49=0,\"\",シート名設定!C49)","v":"印刷フォーム15"}]
[null,null,{"$f":"IF(シート名設定!C50=0,\"\",シート名設定!C50)","v":"印刷フォーム16"}]
[null,null,{"$f":"IF(シート名設定!C51=0,\"\",シート名設定!C51)","v":"印刷フォーム17"}]
[null,null,{"$f":"IF(シート名設定!C52=0,\"\",シート名設定!C52)","v":"印刷フォーム18"}]
[null,null,{"$f":"IF(シート名設定!C53=0,\"\",シート名設定!C53)","v":"印刷フォーム19"}]
[null,null,{"$f":"IF(シート名設定!C54=0,\"\",シート名設定!C54)","v":"印刷フォーム20"}]
[null,null,{"$f":"IF(シート名設定!E5=0,\"\",シート名設定!E5)","v":"印刷フォーム21"}]
[null,null,{"$f":"IF(シート名設定!E6=0,\"\",シート名設定!E6)","v":"印刷フォーム22"}]
[null,null,{"$f":"IF(シート名設定!E7=0,\"\",シート名設定!E7)","v":"印刷フォーム23"}]
[null,null,{"$f":"IF(シート名設定!E8=0,\"\",シート名設定!E8)","v":"印刷フォーム24"}]
[null,null,{"$f":"IF(シート名設定!E9=0,\"\",シート名設定!E9)","v":"印刷フォーム25"}]
[null,null,{"$f":"IF(シート名設定!E10=0,\"\",シート名設定!E10)","v":"印刷フォーム26"}]
[null,null,{"$f":"IF(シート名設定!E11=0,\"\",シート名設定!E11)","v":"印刷フォーム27"}]
[null,null,{"$f":"IF(シート名設定!E12=0,\"\",シート名設定!E12)","v":"印刷フォーム28"}]
[null,null,{"$f":"IF(シート名設定!E13=0,\"\",シート名設定!E13)","v":"印刷フォーム29"}]
[null,null,{"$f":"IF(シート名設定!E14=0,\"\",シート名設定!E14)","v":"印刷フォーム30"}]
[null,null,{"$f":"IF(シート名設定!E15=0,\"\",シート名設定!E15)","v":"印刷フォーム1ソートデーター"}]
[null,null,{"$f":"IF(シート名設定!E16=0,\"\",シート名設定!E16)","v":"印刷フォーム2ソートデーター"}]
[null,null,{"$f":"IF(シート名設定!E17=0,\"\",シート名設定!E17)","v":"印刷フォーム3ソートデーター"}]
[null,null,{"$f":"IF(シート名設定!E18=0,\"\",シート名設定!E18)","v":"印刷フォーム4ソートデーター"}]
[null,null,{"$f":"IF(シート名設定!E19=0,\"\",シート名設定!E19)","v":"印刷フォーム5ソートデーター"}]
[null,null,{"$f":"IF(シート名設定!E20=0,\"\",シート名設定!E20)","v":"印刷フォーム6ソートデーター"}]
[null,null,{"$f":"IF(シート名設定!E21=0,\"\",シート名設定!E21)","v":"印刷フォーム7ソートデーター"}]
[null,null,{"$f":"IF(シート名設定!E22=0,\"\",シート名設定!E22)","v":"印刷フォーム8ソートデーター"}]
[null,null,{"$f":"IF(シート名設定!E23=0,\"\",シート名設定!E23)","v":"印刷フォーム9ソートデーター"}]
[null,null,{"$f":"IF(シート名設定!E24=0,\"\",シート名設定!E24)","v":"印刷フォーム10ソートデーター"}]
[null,null,{"$f":"IF(シート名設定!E25=0,\"\",シート名設定!E25)","v":"印刷フォーム11ソートデーター"}]
[null,null,{"$f":"IF(シート名設定!E26=0,\"\",シート名設定!E26)","v":"印刷フォーム12ソートデーター"}]
[null,null,{"$f":"IF(シート名設定!E27=0,\"\",シート名設定!E27)","v":"印刷フォーム13ソートデーター"}]
[null,null,{"$f":"IF(シート名設定!E28=0,\"\",シート名設定!E28)","v":"印刷フォーム14ソートデーター"}]
[null,null,{"$f":"IF(シート名設定!E29=0,\"\",シート名設定!E29)","v":"印刷フォーム15ソートデーター"}]
[null,null,{"$f":"IF(シート名設定!E30=0,\"\",シート名設定!E30)","v":"印刷フォーム16ソートデーター"}]
[null,null,{"$f":"IF(シート名設定!E31=0,\"\",シート名設定!E31)","v":"印刷フォーム17ソートデーター"}]
[null,null,{"$f":"IF(シート名設定!E32=0,\"\",シート名設定!E32)","v":"印刷フォーム18ソートデーター"}]
[null,null,{"$f":"IF(シート名設定!E33=0,\"\",シート名設定!E33)","v":"印刷フォーム19ソートデーター"}]
[null,null,{"$f":"IF(シート名設定!E34=0,\"\",シート名設定!E34)","v":"印刷フォーム20ソートデーター"}]
[null,null,{"$f":"IF(シート名設定!E35=0,\"\",シート名設定!E35)","v":"印刷フォーム21ソートデーター"}]
[null,null,{"$f":"IF(シート名設定!E36=0,\"\",シート名設定!E36)","v":"印刷フォーム22ソートデーター"}]
[null,null,{"$f":"IF(シート名設定!E37=0,\"\",シート名設定!E37)","v":"印刷フォーム23ソートデーター"}]
[null,null,{"$f":"IF(シート名設定!E38=0,\"\",シート名設定!E38)","v":"印刷フォーム24ソートデーター"}]
[null,null,{"$f":"IF(シート名設定!E39=0,\"\",シート名設定!E39)","v":"印刷フォーム25ソートデーター"}]
[null,null,{"$f":"IF(シート名設定!E40=0,\"\",シート名設定!E40)","v":"印刷フォーム26ソートデーター"}]
[null,null,{"$f":"IF(シート名設定!E41=0,\"\",シート名設定!E41)","v":"印刷フォーム27ソートデーター"}]
[null,null,{"$f":"IF(シート名設定!E42=0,\"\",シート名設定!E42)","v":"印刷フォーム28ソートデーター"}]
[null,null,{"$f":"IF(シート名設定!E43=0,\"\",シート名設定!E43)","v":"印刷フォーム29ソートデーター"}]
[null,null,{"$f":"IF(シート名設定!E44=0,\"\",シート名設定!E44)","v":"印刷フォーム30ソートデーター"}]
[null,null,{"$f":"IF(追加ワークシート名設定!D6=0,\"\",追加ワークシート名設定!D6)","v":""}]
[null,null,{"$f":"IF(追加ワークシート名設定!D7=0,\"\",追加ワークシート名設定!D7)","v":""}]
[null,null,{"$f":"IF(追加ワークシート名設定!D8=0,\"\",追加ワークシート名設定!D8)","v":""}]
[null,null,{"$f":"IF(追加ワークシート名設定!D9=0,\"\",追加ワークシート名設定!D9)","v":""}]
[null,null,{"$f":"IF(追加ワークシート名設定!D10=0,\"\",追加ワークシート名設定!D10)","v":""}]
[null,null,{"$f":"IF(追加ワークシート名設定!D11=0,\"\",追加ワークシート名設定!D11)","v":""}]
[null,null,{"$f":"IF(追加ワークシート名設定!D12=0,\"\",追加ワークシート名設定!D12)","v":""}]
[null,null,{"$f":"IF(追加ワークシート名設定!D13=0,\"\",追加ワークシート名設定!D13)","v":""}]
[null,null,{"$f":"IF(追加ワークシート名設定!D14=0,\"\",追加ワークシート名設定!D14)","v":""}]
[null,null,{"$f":"IF(追加ワークシート名設定!D15=0,\"\",追加ワークシート名設定!D15)","v":""}]
[null,null,{"$f":"IF(追加ワークシート名設定!D16=0,\"\",追加ワークシート名設定!D16)","v":""}]
[null,null,{"$f":"IF(追加ワークシート名設定!D17=0,\"\",追加ワークシート名設定!D17)","v":""}]
[null,null,{"$f":"IF(追加ワークシート名設定!D18=0,\"\",追加ワークシート名設定!D18)","v":""}]
[null,null,{"$f":"IF(追加ワークシート名設定!D19=0,\"\",追加ワークシート名設定!D19)","v":""}]
[null,null,{"$f":"IF(追加ワークシート名設定!D20=0,\"\",追加ワークシート名設定!D20)","v":""}]
[null,null,{"$f":"IF(追加ワークシート名設定!D21=0,\"\",追加ワークシート名設定!D21)","v":""}]
[null,null,{"$f":"IF(追加ワークシート名設定!D22=0,\"\",追加ワークシート名設定!D22)","v":""}]
[null,null,{"$f":"IF(追加ワークシート名設定!D23=0,\"\",追加ワークシート名設定!D23)","v":""}]
[null,null,{"$f":"IF(追加ワークシート名設定!D24=0,\"\",追加ワークシート名設定!D24)","v":""}]
[null,null,{"$f":"IF(追加ワークシート名設定!D25=0,\"\",追加ワークシート名設定!D25)","v":""}]
[null,null,{"$f":"IF(追加ワークシート名設定!D26=0,\"\",追加ワークシート名設定!D26)","v":""}]
[null,null,{"$f":"IF(追加ワークシート名設定!D27=0,\"\",追加ワークシート名設定!D27)","v":""}]
[null,null,{"$f":"IF(追加ワークシート名設定!D28=0,\"\",追加ワークシート名設定!D28)","v":""}]
[null,null,{"$f":"IF(追加ワークシート名設定!D29=0,\"\",追加ワークシート名設定!D29)","v":""}]
[null,null,{"$f":"IF(追加ワークシート名設定!D30=0,\"\",追加ワークシート名設定!D30)","v":""}]
[null,null,{"$f":"IF(追加ワークシート名設定!D31=0,\"\",追加ワークシート名設定!D31)","v":""}]
[null,null,{"$f":"IF(追加ワークシート名設定!D32=0,\"\",追加ワークシート名設定!D32)","v":""}]
[null,null,{"$f":"IF(追加ワークシート名設定!D33=0,\"\",追加ワークシート名設定!D33)","v":""}]
[null,null,{"$f":"IF(追加ワークシート名設定!D34=0,\"\",追加ワークシート名設定!D34)","v":""}]
[null,null,{"$f":"IF(追加ワークシート名設定!D35=0,\"\",追加ワークシート名設定!D35)","v":""}]
[null,null,{"$f":"IF(追加ワークシート名設定!D36=0,\"\",追加ワークシート名設定!D36)","v":""}]
[null,null,{"$f":"IF(追加ワークシート名設定!D37=0,\"\",追加ワークシート名設定!D37)","v":""}]
[null,null,{"$f":"IF(追加ワークシート名設定!D38=0,\"\",追加ワークシート名設定!D38)","v":""}]
[null,null,{"$f":"IF(追加ワークシート名設定!D39=0,\"\",追加ワークシート名設定!D39)","v":""}]
[null,null,{"$f":"IF(追加ワークシート名設定!D40=0,\"\",追加ワークシート名設定!D40)","v":""}]
[null,null,{"$f":"IF(追加ワークシート名設定!D41=0,\"\",追加ワークシート名設定!D41)","v":""}]
[null,null,{"$f":"IF(追加ワークシート名設定!D42=0,\"\",追加ワークシート名設定!D42)","v":""}]
[null,null,{"$f":"IF(追加ワークシート名設定!D43=0,\"\",追加ワークシート名設定!D43)","v":""}]
[null,null,{"$f":"IF(追加ワークシート名設定!D44=0,\"\",追加ワークシート名設定!D44)","v":""}]
[null,null,{"$f":"IF(追加ワークシート名設定!D45=0,\"\",追加ワークシート名設定!D45)","v":""}]
[null,null,{"$f":"IF(追加ワークシート名設定!D46=0,\"\",追加ワークシート名設定!D46)","v":""}]
[null,null,{"$f":"IF(追加ワークシート名設定!D47=0,\"\",追加ワークシート名設定!D47)","v":""}]
[null,null,{"$f":"IF(追加ワークシート名設定!D48=0,\"\",追加ワークシート名設定!D48)","v":""}]
[null,null,{"$f":"IF(追加ワークシート名設定!D49=0,\"\",追加ワークシート名設定!D49)","v":""}]
[null,null,{"$f":"IF(追加ワークシート名設定!D50=0,\"\",追加ワークシート名設定!D50)","v":""}]
[null,null,{"$f":"IF(追加ワークシート名設定!D51=0,\"\",追加ワークシート名設定!D51)","v":""}]
[null,null,{"$f":"IF(追加ワークシート名設定!D52=0,\"\",追加ワークシート名設定!D52)","v":""}]
[null,null,{"$f":"IF(追加ワークシート名設定!D53=0,\"\",追加ワークシート名設定!D53)","v":""}]
[null,null,{"$f":"IF(追加ワークシート名設定!D54=0,\"\",追加ワークシート名設定!D54)","v":""}]
[null,null,{"$f":"IF(追加ワークシート名設定!D55=0,\"\",追加ワークシート名設定!D55)","v":""}]
[null,null,{"$f":"IF(追加ワークシート名設定!D56=0,\"\",追加ワークシート名設定!D56)","v":""}]
[null,null,{"$f":"IF(追加ワークシート名設定!D57=0,\"\",追加ワークシート名設定!D57)","v":""}]
[null,null,{"$f":"IF(追加ワークシート名設定!D58=0,\"\",追加ワークシート名設定!D58)","v":""}]
[null,null,{"$f":"IF(追加ワークシート名設定!D59=0,\"\",追加ワークシート名設定!D59)","v":""}]
[null,null,{"$f":"IF(追加ワークシート名設定!D60=0,\"\",追加ワークシート名設定!D60)","v":""}]
[null,null,{"$f":"IF(追加ワークシート名設定!D61=0,\"\",追加ワークシート名設定!D61)","v":""}]
[null,null,{"$f":"IF(追加ワークシート名設定!D62=0,\"\",追加ワークシート名設定!D62)","v":""}]
[null,null,{"$f":"IF(追加ワークシート名設定!D63=0,\"\",追加ワークシート名設定!D63)","v":""}]
[null,null,{"$f":"IF(追加ワークシート名設定!D64=0,\"\",追加ワークシート名設定!D64)","v":""}]
[null,null,{"$f":"IF(追加ワークシート名設定!D65=0,\"\",追加ワークシート名設定!D65)","v":""}]
[null,null,{"$f":"IF(追加ワークシート名設定!D66=0,\"\",追加ワークシート名設定!D66)","v":""}]
[null,null,{"$f":"IF(追加ワークシート名設定!D67=0,\"\",追加ワークシート名設定!D67)","v":""}]
[null,null,{"$f":"IF(追加ワークシート名設定!D68=0,\"\",追加ワークシート名設定!D68)","v":""}]
[null,null,{"$f":"IF(追加ワークシート名設定!D69=0,\"\",追加ワークシート名設定!D69)","v":""}]
[null,null,{"$f":"IF(シート名設定!C30=0,\"\",シート名設定!C30)","v":"入力AA1"}]
[null,null,{"$f":"IF(シート名設定!C31=0,\"\",シート名設定!C31)","v":"入力AA2"}]
[null,null,{"$f":"IF(シート名設定!C32=0,\"\",シート名設定!C32)","v":"入力AA3"}]
[null,null,{"$f":"IF(シート名設定!C33=0,\"\",シート名設定!C33)","v":"入力AA4"}]
[null,null,{"$f":"IF(シート名設定!C34=0,\"\",シート名設定!C34)","v":"入力AA5"}]

{"sheet":"一覧表付ファイル作成入力設定4","index":17,"n_rows":165,"n_cols":5,"rows_kept":165,"cut":false,"hidden":false,"merged":[[2,1,2,2]]}
[]
[]
[null,{"$f":"シート名設定!C12","v":"一覧表付ファイル作成入力設定4"}]
[null,"１．入力元の設定"]
[null,"項　　　　　　目","設定内容"]
[null,"シート名"]
[null,"データ先頭セル行番号"]
[null,"データ先頭セル列番号"]
[null,"異同比較列番号"]
[null,"データー数"]
[null,"For Next の増分"]
[]
[null,"２．入力先の設定"]
[null,"項　　　　　　目","設定内容"]
[null,"シート名"]
[null,"入力先頭セル行番号"]
[null,"入力先頭セル列番号"]
[null,"入力最終セル行番号"]
[null,"入力最終セル列番号"]
[null,"入力データー数"]
[null,"通しページ入力セル行番号"]
[null,"通しページ入力セル列番号"]
[null,"区分内ページ入力セル行番号"]
[null,"区分内ページ入力セル列番号"]
[null,"３．印刷処理かファイルのメール送信の設定"]
[null,"項　　　　　　目","設定内容"]
[null,"印刷処理か\nファイルの\nメール送信\nの選択",null,1]
[null,"ファイルのメール送信の場合の印刷フォームソートデーターシートのメールアドレスが入力されている列番号"]
[null,"ファイルのメール送信の場合の印刷フォームソートデーターシートの件名が入力されている列番号"]
[null,"ファイルのメール送信の場合の印刷フォームソートデーターシートの本文が入力されている列番号"]
[null,"ファイルのメール送信の場合の添付ファイルの保存先ドライブ及びフォルダー"]
[]
[]
[]
[]
[]
[null,null,{"$f":"IF(シート名設定!C35=0,\"\",シート名設定!C35)","v":"印刷フォーム1"},1,"印刷する"]
[null,null,{"$f":"IF(シート名設定!C36=0,\"\",シート名設定!C36)","v":"印刷フォーム2"},2,"メールで送信する"]
[null,null,{"$f":"IF(シート名設定!C37=0,\"\",シート名設定!C37)","v":"印刷フォーム3"},3,"添付ファイルなし件名本文のみのメール"]
[null,null,{"$f":"IF(シート名設定!C38=0,\"\",シート名設定!C38)","v":"印刷フォーム4"}]
[null,null,{"$f":"IF(シート名設定!C39=0,\"\",シート名設定!C39)","v":"印刷フォーム5"}]
[null,null,{"$f":"IF(シート名設定!C40=0,\"\",シート名設定!C40)","v":"印刷フォーム6"}]
[null,null,{"$f":"IF(シート名設定!C41=0,\"\",シート名設定!C41)","v":"印刷フォーム7"}]
[null,null,{"$f":"IF(シート名設定!C42=0,\"\",シート名設定!C42)","v":"印刷フォーム8"}]
[null,null,{"$f":"IF(シート名設定!C43=0,\"\",シート名設定!C43)","v":"印刷フォーム9"}]
[null,null,{"$f":"IF(シート名設定!C44=0,\"\",シート名設定!C44)","v":"印刷フォーム10"}]
[null,null,{"$f":"IF(シート名設定!C45=0,\"\",シート名設定!C45)","v":"印刷フォーム11"}]
[null,null,{"$f":"IF(シート名設定!C46=0,\"\",シート名設定!C46)","v":"印刷フォーム12"}]
[null,null,{"$f":"IF(シート名設定!C47=0,\"\",シート名設定!C47)","v":"印刷フォーム13"}]
[null,null,{"$f":"IF(シート名設定!C48=0,\"\",シート名設定!C48)","v":"印刷フォーム14"}]
[null,null,{"$f":"IF(シート名設定!C49=0,\"\",シート名設定!C49)","v":"印刷フォーム15"}]
[null,null,{"$f":"IF(シート名設定!C50=0,\"\",シート名設定!C50)","v":"印刷フォーム16"}]
[null,null,{"$f":"IF(シート名設定!C51=0,\"\",シート名設定!C51)","v":"印刷フォーム17"}]
[null,null,{"$f":"IF(シート名設定!C52=0,\"\",シート名設定!C52)","v":"印刷フォーム18"}]
[null,null,{"$f":"IF(シート名設定!C53=0,\"\",シート名設定!C53)","v":"印刷フォーム19"}]
[null,null,{"$f":"IF(シート名設定!C54=0,\"\",シート名設定!C54)","v":"印刷フォーム20"}]
[null,null,{"$f":"IF(シート名設定!E5=0,\"\",シート名設定!E5)","v":"印刷フォーム21"}]
[null,null,{"$f":"IF(シート名設定!E6=0,\"\",シート名設定!E6)","v":"印刷フォーム22"}]
[null,null,{"$f":"IF(シート名設定!E7=0,\"\",シート名設定!E7)","v":"印刷フォーム23"}]
[null,null,{"$f":"IF(シート名設定!E8=0,\"\",シート名設定!E8)","v":"印刷フォーム24"}]
[null,null,{"$f":"IF(シート名設定!E9=0,\"\",シート名設定!E9)","v":"印刷フォーム25"}]
[null,null,{"$f":"IF(シート名設定!E10=0,\"\",シート名設定!E10)","v":"印刷フォーム26"}]
[null,null,{"$f":"IF(シート名設定!E11=0,\"\",シート名設定!E11)","v":"印刷フォーム27"}]
[null,null,{"$f":"IF(シート名設定!E12=0,\"\",シート名設定!E12)","v":"印刷フォーム28"}]
[null,null,{"$f":"IF(シート名設定!E13=0,\"\",シート名設定!E13)","v":"印刷フォーム29"}]
[null,null,{"$f":"IF(シート名設定!E14=0,\"\",シート名設定!E14)","v":"印刷フォーム30"}]
[null,null,{"$f":"IF(シート名設定!E15=0,\"\",シート名設定!E15)","v":"印刷フォーム1ソートデーター"}]
[null,null,{"$f":"IF(シート名設定!E16=0,\"\",シート名設定!E16)","v":"印刷フォーム2ソートデーター"}]
[null,null,{"$f":"IF(シート名設定!E17=0,\"\",シート名設定!E17)","v":"印刷フォーム3ソートデーター"}]
[null,null,{"$f":"IF(シート名設定!E18=0,\"\",シート名設定!E18)","v":"印刷フォーム4ソートデーター"}]
[null,null,{"$f":"IF(シート名設定!E19=0,\"\",シート名設定!E19)","v":"印刷フォーム5ソートデーター"}]
[null,null,{"$f":"IF(シート名設定!E20=0,\"\",シート名設定!E20)","v":"印刷フォーム6ソートデーター"}]
[null,null,{"$f":"IF(シート名設定!E21=0,\"\",シート名設定!E21)","v":"印刷フォーム7ソートデーター"}]
[null,null,{"$f":"IF(シート名設定!E22=0,\"\",シート名設定!E22)","v":"印刷フォーム8ソートデーター"}]
[null,null,{"$f":"IF(シート名設定!E23=0,\"\",シート名設定!E23)","v":"印刷フォーム9ソートデーター"}]
[null,null,{"$f":"IF(シート名設定!E24=0,\"\",シート名設定!E24)","v":"印刷フォーム10ソートデーター"}]
[null,null,{"$f":"IF(シート名設定!E25=0,\"\",シート名設定!E25)","v":"印刷フォーム11ソートデーター"}]
[null,null,{"$f":"IF(シート名設定!E26=0,\"\",シート名設定!E26)","v":"印刷フォーム12ソートデーター"}]
[null,null,{"$f":"IF(シート名設定!E27=0,\"\",シート名設定!E27)","v":"印刷フォーム13ソートデーター"}]
[null,null,{"$f":"IF(シート名設定!E28=0,\"\",シート名設定!E28)","v":"印刷フォーム14ソートデーター"}]
[null,null,{"$f":"IF(シート名設定!E29=0,\"\",シート名設定!E29)","v":"印刷フォーム15ソートデーター"}]
[null,null,{"$f":"IF(シート名設定!E30=0,\"\",シート名設定!E30)","v":"印刷フォーム16ソートデーター"}]
[null,null,{"$f":"IF(シート名設定!E31=0,\"\",シート名設定!E31)","v":"印刷フォーム17ソートデーター"}]
[null,null,{"$f":"IF(シート名設定!E32=0,\"\",シート名設定!E32)","v":"印刷フォーム18ソートデーター"}]
[null,null,{"$f":"IF(シート名設定!E33=0,\"\",シート名設定!E33)","v":"印刷フォーム19ソートデーター"}]
[null,null,{"$f":"IF(シート名設定!E34=0,\"\",シート名設定!E34)","v":"印刷フォーム20ソートデーター"}]
[null,null,{"$f":"IF(シート名設定!E35=0,\"\",シート名設定!E35)","v":"印刷フォーム21ソートデーター"}]
[null,null,{"$f":"IF(シート名設定!E36=0,\"\",シート名設定!E36)","v":"印刷フォーム22ソートデーター"}]
[null,null,{"$f":"IF(シート名設定!E37=0,\"\",シート名設定!E37)","v":"印刷フォーム23ソートデーター"}]
[null,null,{"$f":"IF(シート名設定!E38=0,\"\",シート名設定!E38)","v":"印刷フォーム24ソートデーター"}]
[null,null,{"$f":"IF(シート名設定!E39=0,\"\",シート名設定!E39)","v":"印刷フォーム25ソートデーター"}]
[null,null,{"$f":"IF(シート名設定!E40=0,\"\",シート名設定!E40)","v":"印刷フォーム26ソートデーター"}]
[null,null,{"$f":"IF(シート名設定!E41=0,\"\",シート名設定!E41)","v":"印刷フォーム27ソートデーター"}]
[null,null,{"$f":"IF(シート名設定!E42=0,\"\",シート名設定!E42)","v":"印刷フォーム28ソートデーター"}]
[null,null,{"$f":"IF(シート名設定!E43=0,\"\",シート名設定!E43)","v":"印刷フォーム29ソートデーター"}]
[null,null,{"$f":"IF(シート名設定!E44=0,\"\",シート名設定!E44)","v":"印刷フォーム30ソートデーター"}]
[null,null,{"$f":"IF(追加ワークシート名設定!D6=0,\"\",追加ワークシート名設定!D6)","v":""}]
[null,null,{"$f":"IF(追加ワークシート名設定!D7=0,\"\",追加ワークシート名設定!D7)","v":""}]
[null,null,{"$f":"IF(追加ワークシート名設定!D8=0,\"\",追加ワークシート名設定!D8)","v":""}]
[null,null,{"$f":"IF(追加ワークシート名設定!D9=0,\"\",追加ワークシート名設定!D9)","v":""}]
[null,null,{"$f":"IF(追加ワークシート名設定!D10=0,\"\",追加ワークシート名設定!D10)","v":""}]
[null,null,{"$f":"IF(追加ワークシート名設定!D11=0,\"\",追加ワークシート名設定!D11)","v":""}]
[null,null,{"$f":"IF(追加ワークシート名設定!D12=0,\"\",追加ワークシート名設定!D12)","v":""}]
[null,null,{"$f":"IF(追加ワークシート名設定!D13=0,\"\",追加ワークシート名設定!D13)","v":""}]
[null,null,{"$f":"IF(追加ワークシート名設定!D14=0,\"\",追加ワークシート名設定!D14)","v":""}]
[null,null,{"$f":"IF(追加ワークシート名設定!D15=0,\"\",追加ワークシート名設定!D15)","v":""}]
[null,null,{"$f":"IF(追加ワークシート名設定!D16=0,\"\",追加ワークシート名設定!D16)","v":""}]
[null,null,{"$f":"IF(追加ワークシート名設定!D17=0,\"\",追加ワークシート名設定!D17)","v":""}]
[null,null,{"$f":"IF(追加ワークシート名設定!D18=0,\"\",追加ワークシート名設定!D18)","v":""}]
[null,null,{"$f":"IF(追加ワークシート名設定!D19=0,\"\",追加ワークシート名設定!D19)","v":""}]
[null,null,{"$f":"IF(追加ワークシート名設定!D20=0,\"\",追加ワークシート名設定!D20)","v":""}]
[null,null,{"$f":"IF(追加ワークシート名設定!D21=0,\"\",追加ワークシート名設定!D21)","v":""}]
[null,null,{"$f":"IF(追加ワークシート名設定!D22=0,\"\",追加ワークシート名設定!D22)","v":""}]
[null,null,{"$f":"IF(追加ワークシート名設定!D23=0,\"\",追加ワークシート名設定!D23)","v":""}]
[null,null,{"$f":"IF(追加ワークシート名設定!D24=0,\"\",追加ワークシート名設定!D24)","v":""}]
[null,null,{"$f":"IF(追加ワークシート名設定!D25=0,\"\",追加ワークシート名設定!D25)","v":""}]
[null,null,{"$f":"IF(追加ワークシート名設定!D26=0,\"\",追加ワークシート名設定!D26)","v":""}]
[null,null,{"$f":"IF(追加ワークシート名設定!D27=0,\"\",追加ワークシート名設定!D27)","v":""}]
[null,null,{"$f":"IF(追加ワークシート名設定!D28=0,\"\",追加ワークシート名設定!D28)","v":""}]
[null,null,{"$f":"IF(追加ワークシート名設定!D29=0,\"\",追加ワークシート名設定!D29)","v":""}]
[null,null,{"$f":"IF(追加ワークシート名設定!D30=0,\"\",追加ワークシート名設定!D30)","v":""}]
[null,null,{"$f":"IF(追加ワークシート名設定!D31=0,\"\",追加ワークシート名設定!D31)","v":""}]
[null,null,{"$f":"IF(追加ワークシート名設定!D32=0,\"\",追加ワークシート名設定!D32)","v":""}]
[null,null,{"$f":"IF(追加ワークシート名設定!D33=0,\"\",追加ワークシート名設定!D33)","v":""}]
[null,null,{"$f":"IF(追加ワークシート名設定!D34=0,\"\",追加ワークシート名設定!D34)","v":""}]
[null,null,{"$f":"IF(追加ワークシート名設定!D35=0,\"\",追加ワークシート名設定!D35)","v":""}]
[null,null,{"$f":"IF(追加ワークシート名設定!D36=0,\"\",追加ワークシート名設定!D36)","v":""}]
[null,null,{"$f":"IF(追加ワークシート名設定!D37=0,\"\",追加ワークシート名設定!D37)","v":""}]
[null,null,{"$f":"IF(追加ワークシート名設定!D38=0,\"\",追加ワークシート名設定!D38)","v":""}]
[null,null,{"$f":"IF(追加ワークシート名設定!D39=0,\"\",追加ワークシート名設定!D39)","v":""}]
[null,null,{"$f":"IF(追加ワークシート名設定!D40=0,\"\",追加ワークシート名設定!D40)","v":""}]
[null,null,{"$f":"IF(追加ワークシート名設定!D41=0,\"\",追加ワークシート名設定!D41)","v":""}]
[null,null,{"$f":"IF(追加ワークシート名設定!D42=0,\"\",追加ワークシート名設定!D42)","v":""}]
[null,null,{"$f":"IF(追加ワークシート名設定!D43=0,\"\",追加ワークシート名設定!D43)","v":""}]
[null,null,{"$f":"IF(追加ワークシート名設定!D44=0,\"\",追加ワークシート名設定!D44)","v":""}]
[null,null,{"$f":"IF(追加ワークシート名設定!D45=0,\"\",追加ワークシート名設定!D45)","v":""}]
[null,null,{"$f":"IF(追加ワークシート名設定!D46=0,\"\",追加ワークシート名設定!D46)","v":""}]
[null,null,{"$f":"IF(追加ワークシート名設定!D47=0,\"\",追加ワークシート名設定!D47)","v":""}]
[null,null,{"$f":"IF(追加ワークシート名設定!D48=0,\"\",追加ワークシート名設定!D48)","v":""}]
[null,null,{"$f":"IF(追加ワークシート名設定!D49=0,\"\",追加ワークシート名設定!D49)","v":""}]
[null,null,{"$f":"IF(追加ワークシート名設定!D50=0,\"\",追加ワークシート名設定!D50)","v":""}]
[null,null,{"$f":"IF(追加ワークシート名設定!D51=0,\"\",追加ワークシート名設定!D51)","v":""}]
[null,null,{"$f":"IF(追加ワークシート名設定!D52=0,\"\",追加ワークシート名設定!D52)","v":""}]
[null,null,{"$f":"IF(追加ワークシート名設定!D53=0,\"\",追加ワークシート名設定!D53)","v":""}]
[null,null,{"$f":"IF(追加ワークシート名設定!D54=0,\"\",追加ワークシート名設定!D54)","v":""}]
[null,null,{"$f":"IF(追加ワークシート名設定!D55=0,\"\",追加ワークシート名設定!D55)","v":""}]
[null,null,{"$f":"IF(追加ワークシート名設定!D56=0,\"\",追加ワークシート名設定!D56)","v":""}]
[null,null,{"$f":"IF(追加ワークシート名設定!D57=0,\"\",追加ワークシート名設定!D57)","v":""}]
[null,null,{"$f":"IF(追加ワークシート名設定!D58=0,\"\",追加ワークシート名設定!D58)","v":""}]
[null,null,{"$f":"IF(追加ワークシート名設定!D59=0,\"\",追加ワークシート名設定!D59)","v":""}]
[null,null,{"$f":"IF(追加ワークシート名設定!D60=0,\"\",追加ワークシート名設定!D60)","v":""}]
[null,null,{"$f":"IF(追加ワークシート名設定!D61=0,\"\",追加ワークシート名設定!D61)","v":""}]
[null,null,{"$f":"IF(追加ワークシート名設定!D62=0,\"\",追加ワークシート名設定!D62)","v":""}]
[null,null,{"$f":"IF(追加ワークシート名設定!D63=0,\"\",追加ワークシート名設定!D63)","v":""}]
[null,null,{"$f":"IF(追加ワークシート名設定!D64=0,\"\",追加ワークシート名設定!D64)","v":""}]
[null,null,{"$f":"IF(追加ワークシート名設定!D65=0,\"\",追加ワークシート名設定!D65)","v":""}]
[null,null,{"$f":"IF(追加ワークシート名設定!D66=0,\"\",追加ワークシート名設定!D66)","v":""}]
[null,null,{"$f":"IF(追加ワークシート名設定!D67=0,\"\",追加ワークシート名設定!D67)","v":""}]
[null,null,{"$f":"IF(追加ワークシート名設定!D68=0,\"\",追加ワークシート名設定!D68)","v":""}]
[null,null,{"$f":"IF(追加ワークシート名設定!D69=0,\"\",追加ワークシート名設定!D69)","v":""}]
[null,null,{"$f":"IF(シート名設定!C30=0,\"\",シート名設定!C30)","v":"入力AA1"}]
[null,null,{"$f":"IF(シート名設定!C31=0,\"\",シート名設定!C31)","v":"入力AA2"}]
[null,null,{"$f":"IF(シート名設定!C32=0,\"\",シート名設定!C32)","v":"入力AA3"}]
[null,null,{"$f":"IF(シート名設定!C33=0,\"\",シート名設定!C33)","v":"入力AA4"}]
[null,null,{"$f":"IF(シート名設定!C34=0,\"\",シート名設定!C34)","v":"入力AA5"}]

{"sheet":"一覧表付ファイル作成入力設定5","index":18,"n_rows":165,"n_cols":5,"rows_kept":165,"cut":false,"hidden":false,"merged":[[2,1,2,2]]}
[]
[]
[null,{"$f":"シート名設定!C13","v":"一覧表付ファイル作成入力設定5"}]
[null,"１．入力元の設定"]
[null,"項　　　　　　目","設定内容"]
[null,"シート名"]
[null,"データ先頭セル行番号"]
[null,"データ先頭セル列番号"]
[null,"異同比較列番号"]
[null,"データー数"]
[null,"For Next の増分"]
[]
[null,"２．入力先の設定"]
[null,"項　　　　　　目","設定内容"]
[null,"シート名"]
[null,"入力先頭セル行番号"]
[null,"入力先頭セル列番号"]
[null,"入力最終セル行番号"]
[null,"入力最終セル列番号"]
[null,"入力データー数"]
[null,"通しページ入力セル行番号"]
[null,"通しページ入力セル列番号"]
[null,"区分内ページ入力セル行番号"]
[null,"区分内ページ入力セル列番号"]
[null,"３．印刷処理かファイルのメール送信の設定"]
[null,"項　　　　　　目","設定内容"]
[null,"印刷処理か\nファイルの\nメール送信\nの選択",null,1]
[null,"ファイルのメール送信の場合の印刷フォームソートデーターシートのメールアドレスが入力されている列番号"]
[null,"ファイルのメール送信の場合の印刷フォームソートデーターシートの件名が入力されている列番号"]
[null,"ファイルのメール送信の場合の印刷フォームソートデーターシートの本文が入力されている列番号"]
[null,"ファイルのメール送信の場合の添付ファイルの保存先ドライブ及びフォルダー"]
[]
[]
[]
[]
[]
[null,null,{"$f":"IF(シート名設定!C35=0,\"\",シート名設定!C35)","v":"印刷フォーム1"},1,"印刷する"]
[null,null,{"$f":"IF(シート名設定!C36=0,\"\",シート名設定!C36)","v":"印刷フォーム2"},2,"メールで送信する"]
[null,null,{"$f":"IF(シート名設定!C37=0,\"\",シート名設定!C37)","v":"印刷フォーム3"},3,"添付ファイルなし件名本文のみのメール"]
[null,null,{"$f":"IF(シート名設定!C38=0,\"\",シート名設定!C38)","v":"印刷フォーム4"}]
[null,null,{"$f":"IF(シート名設定!C39=0,\"\",シート名設定!C39)","v":"印刷フォーム5"}]
[null,null,{"$f":"IF(シート名設定!C40=0,\"\",シート名設定!C40)","v":"印刷フォーム6"}]
[null,null,{"$f":"IF(シート名設定!C41=0,\"\",シート名設定!C41)","v":"印刷フォーム7"}]
[null,null,{"$f":"IF(シート名設定!C42=0,\"\",シート名設定!C42)","v":"印刷フォーム8"}]
[null,null,{"$f":"IF(シート名設定!C43=0,\"\",シート名設定!C43)","v":"印刷フォーム9"}]
[null,null,{"$f":"IF(シート名設定!C44=0,\"\",シート名設定!C44)","v":"印刷フォーム10"}]
[null,null,{"$f":"IF(シート名設定!C45=0,\"\",シート名設定!C45)","v":"印刷フォーム11"}]
[null,null,{"$f":"IF(シート名設定!C46=0,\"\",シート名設定!C46)","v":"印刷フォーム12"}]
[null,null,{"$f":"IF(シート名設定!C47=0,\"\",シート名設定!C47)","v":"印刷フォーム13"}]
[null,null,{"$f":"IF(シート名設定!C48=0,\"\",シート名設定!C48)","v":"印刷フォーム14"}]
[null,null,{"$f":"IF(シート名設定!C49=0,\"\",シート名設定!C49)","v":"印刷フォーム15"}]
[null,null,{"$f":"IF(シート名設定!C50=0,\"\",シート名設定!C50)","v":"印刷フォーム16"}]
[null,null,{"$f":"IF(シート名設定!C51=0,\"\",シート名設定!C51)","v":"印刷フォーム17"}]
[null,null,{"$f":"IF(シート名設定!C52=0,\"\",シート名設定!C52)","v":"印刷フォーム18"}]
[null,null,{"$f":"IF(シート名設定!C53=0,\"\",シート名設定!C53)","v":"印刷フォーム19"}]
[null,null,{"$f":"IF(シート名設定!C54=0,\"\",シート名設定!C54)","v":"印刷フォーム20"}]
[null,null,{"$f":"IF(シート名設定!E5=0,\"\",シート名設定!E5)","v":"印刷フォーム21"}]
[null,null,{"$f":"IF(シート名設定!E6=0,\"\",シート名設定!E6)","v":"印刷フォーム22"}]
[null,null,{"$f":"IF(シート名設定!E7=0,\"\",シート名設定!E7)","v":"印刷フォーム23"}]
[null,null,{"$f":"IF(シート名設定!E8=0,\"\",シート名設定!E8)","v":"印刷フォーム24"}]
[null,null,{"$f":"IF(シート名設定!E9=0,\"\",シート名設定!E9)","v":"印刷フォーム25"}]
[null,null,{"$f":"IF(シート名設定!E10=0,\"\",シート名設定!E10)","v":"印刷フォーム26"}]
[null,null,{"$f":"IF(シート名設定!E11=0,\"\",シート名設定!E11)","v":"印刷フォーム27"}]
[null,null,{"$f":"IF(シート名設定!E12=0,\"\",シート名設定!E12)","v":"印刷フォーム28"}]
[null,null,{"$f":"IF(シート名設定!E13=0,\"\",シート名設定!E13)","v":"印刷フォーム29"}]
[null,null,{"$f":"IF(シート名設定!E14=0,\"\",シート名設定!E14)","v":"印刷フォーム30"}]
[null,null,{"$f":"IF(シート名設定!E15=0,\"\",シート名設定!E15)","v":"印刷フォーム1ソートデーター"}]
[null,null,{"$f":"IF(シート名設定!E16=0,\"\",シート名設定!E16)","v":"印刷フォーム2ソートデーター"}]
[null,null,{"$f":"IF(シート名設定!E17=0,\"\",シート名設定!E17)","v":"印刷フォーム3ソートデーター"}]
[null,null,{"$f":"IF(シート名設定!E18=0,\"\",シート名設定!E18)","v":"印刷フォーム4ソートデーター"}]
[null,null,{"$f":"IF(シート名設定!E19=0,\"\",シート名設定!E19)","v":"印刷フォーム5ソートデーター"}]
[null,null,{"$f":"IF(シート名設定!E20=0,\"\",シート名設定!E20)","v":"印刷フォーム6ソートデーター"}]
[null,null,{"$f":"IF(シート名設定!E21=0,\"\",シート名設定!E21)","v":"印刷フォーム7ソートデーター"}]
[null,null,{"$f":"IF(シート名設定!E22=0,\"\",シート名設定!E22)","v":"印刷フォーム8ソートデーター"}]
[null,null,{"$f":"IF(シート名設定!E23=0,\"\",シート名設定!E23)","v":"印刷フォーム9ソートデーター"}]
[null,null,{"$f":"IF(シート名設定!E24=0,\"\",シート名設定!E24)","v":"印刷フォーム10ソートデーター"}]
[null,null,{"$f":"IF(シート名設定!E25=0,\"\",シート名設定!E25)","v":"印刷フォーム11ソートデーター"}]
[null,null,{"$f":"IF(シート名設定!E26=0,\"\",シート名設定!E26)","v":"印刷フォーム12ソートデーター"}]
[null,null,{"$f":"IF(シート名設定!E27=0,\"\",シート名設定!E27)","v":"印刷フォーム13ソートデーター"}]
[null,null,{"$f":"IF(シート名設定!E28=0,\"\",シート名設定!E28)","v":"印刷フォーム14ソートデーター"}]
[null,null,{"$f":"IF(シート名設定!E29=0,\"\",シート名設定!E29)","v":"印刷フォーム15ソートデーター"}]
[null,null,{"$f":"IF(シート名設定!E30=0,\"\",シート名設定!E30)","v":"印刷フォーム16ソートデーター"}]
[null,null,{"$f":"IF(シート名設定!E31=0,\"\",シート名設定!E31)","v":"印刷フォーム17ソートデーター"}]
[null,null,{"$f":"IF(シート名設定!E32=0,\"\",シート名設定!E32)","v":"印刷フォーム18ソートデーター"}]
[null,null,{"$f":"IF(シート名設定!E33=0,\"\",シート名設定!E33)","v":"印刷フォーム19ソートデーター"}]
[null,null,{"$f":"IF(シート名設定!E34=0,\"\",シート名設定!E34)","v":"印刷フォーム20ソートデーター"}]
[null,null,{"$f":"IF(シート名設定!E35=0,\"\",シート名設定!E35)","v":"印刷フォーム21ソートデーター"}]
[null,null,{"$f":"IF(シート名設定!E36=0,\"\",シート名設定!E36)","v":"印刷フォーム22ソートデーター"}]
[null,null,{"$f":"IF(シート名設定!E37=0,\"\",シート名設定!E37)","v":"印刷フォーム23ソートデーター"}]
[null,null,{"$f":"IF(シート名設定!E38=0,\"\",シート名設定!E38)","v":"印刷フォーム24ソートデーター"}]
[null,null,{"$f":"IF(シート名設定!E39=0,\"\",シート名設定!E39)","v":"印刷フォーム25ソートデーター"}]
[null,null,{"$f":"IF(シート名設定!E40=0,\"\",シート名設定!E40)","v":"印刷フォーム26ソートデーター"}]
[null,null,{"$f":"IF(シート名設定!E41=0,\"\",シート名設定!E41)","v":"印刷フォーム27ソートデーター"}]
[null,null,{"$f":"IF(シート名設定!E42=0,\"\",シート名設定!E42)","v":"印刷フォーム28ソートデーター"}]
[null,null,{"$f":"IF(シート名設定!E43=0,\"\",シート名設定!E43)","v":"印刷フォーム29ソートデーター"}]
[null,null,{"$f":"IF(シート名設定!E44=0,\"\",シート名設定!E44)","v":"印刷フォーム30ソートデーター"}]
[null,null,{"$f":"IF(追加ワークシート名設定!D6=0,\"\",追加ワークシート名設定!D6)","v":""}]
[null,null,{"$f":"IF(追加ワークシート名設定!D7=0,\"\",追加ワークシート名設定!D7)","v":""}]
[null,null,{"$f":"IF(追加ワークシート名設定!D8=0,\"\",追加ワークシート名設定!D8)","v":""}]
[null,null,{"$f":"IF(追加ワークシート名設定!D9=0,\"\",追加ワークシート名設定!D9)","v":""}]
[null,null,{"$f":"IF(追加ワークシート名設定!D10=0,\"\",追加ワークシート名設定!D10)","v":""}]
[null,null,{"$f":"IF(追加ワークシート名設定!D11=0,\"\",追加ワークシート名設定!D11)","v":""}]
[null,null,{"$f":"IF(追加ワークシート名設定!D12=0,\"\",追加ワークシート名設定!D12)","v":""}]
[null,null,{"$f":"IF(追加ワークシート名設定!D13=0,\"\",追加ワークシート名設定!D13)","v":""}]
[null,null,{"$f":"IF(追加ワークシート名設定!D14=0,\"\",追加ワークシート名設定!D14)","v":""}]
[null,null,{"$f":"IF(追加ワークシート名設定!D15=0,\"\",追加ワークシート名設定!D15)","v":""}]
[null,null,{"$f":"IF(追加ワークシート名設定!D16=0,\"\",追加ワークシート名設定!D16)","v":""}]
[null,null,{"$f":"IF(追加ワークシート名設定!D17=0,\"\",追加ワークシート名設定!D17)","v":""}]
[null,null,{"$f":"IF(追加ワークシート名設定!D18=0,\"\",追加ワークシート名設定!D18)","v":""}]
[null,null,{"$f":"IF(追加ワークシート名設定!D19=0,\"\",追加ワークシート名設定!D19)","v":""}]
[null,null,{"$f":"IF(追加ワークシート名設定!D20=0,\"\",追加ワークシート名設定!D20)","v":""}]
[null,null,{"$f":"IF(追加ワークシート名設定!D21=0,\"\",追加ワークシート名設定!D21)","v":""}]
[null,null,{"$f":"IF(追加ワークシート名設定!D22=0,\"\",追加ワークシート名設定!D22)","v":""}]
[null,null,{"$f":"IF(追加ワークシート名設定!D23=0,\"\",追加ワークシート名設定!D23)","v":""}]
[null,null,{"$f":"IF(追加ワークシート名設定!D24=0,\"\",追加ワークシート名設定!D24)","v":""}]
[null,null,{"$f":"IF(追加ワークシート名設定!D25=0,\"\",追加ワークシート名設定!D25)","v":""}]
[null,null,{"$f":"IF(追加ワークシート名設定!D26=0,\"\",追加ワークシート名設定!D26)","v":""}]
[null,null,{"$f":"IF(追加ワークシート名設定!D27=0,\"\",追加ワークシート名設定!D27)","v":""}]
[null,null,{"$f":"IF(追加ワークシート名設定!D28=0,\"\",追加ワークシート名設定!D28)","v":""}]
[null,null,{"$f":"IF(追加ワークシート名設定!D29=0,\"\",追加ワークシート名設定!D29)","v":""}]
[null,null,{"$f":"IF(追加ワークシート名設定!D30=0,\"\",追加ワークシート名設定!D30)","v":""}]
[null,null,{"$f":"IF(追加ワークシート名設定!D31=0,\"\",追加ワークシート名設定!D31)","v":""}]
[null,null,{"$f":"IF(追加ワークシート名設定!D32=0,\"\",追加ワークシート名設定!D32)","v":""}]
[null,null,{"$f":"IF(追加ワークシート名設定!D33=0,\"\",追加ワークシート名設定!D33)","v":""}]
[null,null,{"$f":"IF(追加ワークシート名設定!D34=0,\"\",追加ワークシート名設定!D34)","v":""}]
[null,null,{"$f":"IF(追加ワークシート名設定!D35=0,\"\",追加ワークシート名設定!D35)","v":""}]
[null,null,{"$f":"IF(追加ワークシート名設定!D36=0,\"\",追加ワークシート名設定!D36)","v":""}]
[null,null,{"$f":"IF(追加ワークシート名設定!D37=0,\"\",追加ワークシート名設定!D37)","v":""}]
[null,null,{"$f":"IF(追加ワークシート名設定!D38=0,\"\",追加ワークシート名設定!D38)","v":""}]
[null,null,{"$f":"IF(追加ワークシート名設定!D39=0,\"\",追加ワークシート名設定!D39)","v":""}]
[null,null,{"$f":"IF(追加ワークシート名設定!D40=0,\"\",追加ワークシート名設定!D40)","v":""}]
[null,null,{"$f":"IF(追加ワークシート名設定!D41=0,\"\",追加ワークシート名設定!D41)","v":""}]
[null,null,{"$f":"IF(追加ワークシート名設定!D42=0,\"\",追加ワークシート名設定!D42)","v":""}]
[null,null,{"$f":"IF(追加ワークシート名設定!D43=0,\"\",追加ワークシート名設定!D43)","v":""}]
[null,null,{"$f":"IF(追加ワークシート名設定!D44=0,\"\",追加ワークシート名設定!D44)","v":""}]
[null,null,{"$f":"IF(追加ワークシート名設定!D45=0,\"\",追加ワークシート名設定!D45)","v":""}]
[null,null,{"$f":"IF(追加ワークシート名設定!D46=0,\"\",追加ワークシート名設定!D46)","v":""}]
[null,null,{"$f":"IF(追加ワークシート名設定!D47=0,\"\",追加ワークシート名設定!D47)","v":""}]
[null,null,{"$f":"IF(追加ワークシート名設定!D48=0,\"\",追加ワークシート名設定!D48)","v":""}]
[null,null,{"$f":"IF(追加ワークシート名設定!D49=0,\"\",追加ワークシート名設定!D49)","v":""}]
[null,null,{"$f":"IF(追加ワークシート名設定!D50=0,\"\",追加ワークシート名設定!D50)","v":""}]
[null,null,{"$f":"IF(追加ワークシート名設定!D51=0,\"\",追加ワークシート名設定!D51)","v":""}]
[null,null,{"$f":"IF(追加ワークシート名設定!D52=0,\"\",追加ワークシート名設定!D52)","v":""}]
[null,null,{"$f":"IF(追加ワークシート名設定!D53=0,\"\",追加ワークシート名設定!D53)","v":""}]
[null,null,{"$f":"IF(追加ワークシート名設定!D54=0,\"\",追加ワークシート名設定!D54)","v":""}]
[null,null,{"$f":"IF(追加ワークシート名設定!D55=0,\"\",追加ワークシート名設定!D55)","v":""}]
[null,null,{"$f":"IF(追加ワークシート名設定!D56=0,\"\",追加ワークシート名設定!D56)","v":""}]
[null,null,{"$f":"IF(追加ワークシート名設定!D57=0,\"\",追加ワークシート名設定!D57)","v":""}]
[null,null,{"$f":"IF(追加ワークシート名設定!D58=0,\"\",追加ワークシート名設定!D58)","v":""}]
[null,null,{"$f":"IF(追加ワークシート名設定!D59=0,\"\",追加ワークシート名設定!D59)","v":""}]
[null,null,{"$f":"IF(追加ワークシート名設定!D60=0,\"\",追加ワークシート名設定!D60)","v":""}]
[null,null,{"$f":"IF(追加ワークシート名設定!D61=0,\"\",追加ワークシート名設定!D61)","v":""}]
[null,null,{"$f":"IF(追加ワークシート名設定!D62=0,\"\",追加ワークシート名設定!D62)","v":""}]
[null,null,{"$f":"IF(追加ワークシート名設定!D63=0,\"\",追加ワークシート名設定!D63)","v":""}]
[null,null,{"$f":"IF(追加ワークシート名設定!D64=0,\"\",追加ワークシート名設定!D64)","v":""}]
[null,null,{"$f":"IF(追加ワークシート名設定!D65=0,\"\",追加ワークシート名設定!D65)","v":""}]
[null,null,{"$f":"IF(追加ワークシート名設定!D66=0,\"\",追加ワークシート名設定!D66)","v":""}]
[null,null,{"$f":"IF(追加ワークシート名設定!D67=0,\"\",追加ワークシート名設定!D67)","v":""}]
[null,null,{"$f":"IF(追加ワークシート名設定!D68=0,\"\",追加ワークシート名設定!D68)","v":""}]
[null,null,{"$f":"IF(追加ワークシート名設定!D69=0,\"\",追加ワークシート名設定!D69)","v":""}]
[null,null,{"$f":"IF(シート名設定!C30=0,\"\",シート名設定!C30)","v":"入力AA1"}]
[null,null,{"$f":"IF(シート名設定!C31=0,\"\",シート名設定!C31)","v":"入力AA2"}]
[null,null,{"$f":"IF(シート名設定!C32=0,\"\",シート名設定!C32)","v":"入力AA3"}]
[null,null,{"$f":"IF(シート名設定!C33=0,\"\",シート名設定!C33)","v":"入力AA4"}]
[null,null,{"$f":"IF(シート名設定!C34=0,\"\",シート名設定!C34)","v":"入力AA5"}]

{"sheet":"一覧表付ファイル作成入力設定6","index":19,"n_rows":165,"n_cols":5,"rows_kept":165,"cut":false,"hidden":false,"merged":[[2,1,2,2]]}
[]
[]
[null,{"$f":"シート名設定!C14","v":"一覧表付ファイル作成入力設定6"}]
[null,"１．入力元の設定"]
[null,"項　　　　　　目","設定内容"]
[null,"シート名"]
[null,"データ先頭セル行番号"]
[null,"データ先頭セル列番号"]
[null,"異同比較列番号"]
[null,"データー数"]
[null,"For Next の増分"]
[]
[null,"２．入力先の設定"]
[null,"項　　　　　　目","設定内容"]
[null,"シート名"]
[null,"入力先頭セル行番号"]
[null,"入力先頭セル列番号"]
[null,"入力最終セル行番号"]
[null,"入力最終セル列番号"]
[null,"入力データー数"]
[null,"通しページ入力セル行番号"]
[null,"通しページ入力セル列番号"]
[null,"区分内ページ入力セル行番号"]
[null,"区分内ページ入力セル列番号"]
[null,"３．印刷処理かファイルのメール送信の設定"]
[null,"項　　　　　　目","設定内容"]
[null,"印刷処理か\nファイルの\nメール送信\nの選択",null,1]
[null,"ファイルのメール送信の場合の印刷フォームソートデーターシートのメールアドレスが入力されている列番号"]
[null,"ファイルのメール送信の場合の印刷フォームソートデーターシートの件名が入力されている列番号"]
[null,"ファイルのメール送信の場合の印刷フォームソートデーターシートの本文が入力されている列番号"]
[null,"ファイルのメール送信の場合の添付ファイルの保存先ドライブ及びフォルダー"]
[]
[]
[]
[]
[]
[null,null,{"$f":"IF(シート名設定!C35=0,\"\",シート名設定!C35)","v":"印刷フォーム1"},1,"印刷する"]
[null,null,{"$f":"IF(シート名設定!C36=0,\"\",シート名設定!C36)","v":"印刷フォーム2"},2,"メールで送信する"]
[null,null,{"$f":"IF(シート名設定!C37=0,\"\",シート名設定!C37)","v":"印刷フォーム3"},3,"添付ファイルなし件名本文のみのメール"]
[null,null,{"$f":"IF(シート名設定!C38=0,\"\",シート名設定!C38)","v":"印刷フォーム4"}]
[null,null,{"$f":"IF(シート名設定!C39=0,\"\",シート名設定!C39)","v":"印刷フォーム5"}]
[null,null,{"$f":"IF(シート名設定!C40=0,\"\",シート名設定!C40)","v":"印刷フォーム6"}]
[null,null,{"$f":"IF(シート名設定!C41=0,\"\",シート名設定!C41)","v":"印刷フォーム7"}]
[null,null,{"$f":"IF(シート名設定!C42=0,\"\",シート名設定!C42)","v":"印刷フォーム8"}]
[null,null,{"$f":"IF(シート名設定!C43=0,\"\",シート名設定!C43)","v":"印刷フォーム9"}]
[null,null,{"$f":"IF(シート名設定!C44=0,\"\",シート名設定!C44)","v":"印刷フォーム10"}]
[null,null,{"$f":"IF(シート名設定!C45=0,\"\",シート名設定!C45)","v":"印刷フォーム11"}]
[null,null,{"$f":"IF(シート名設定!C46=0,\"\",シート名設定!C46)","v":"印刷フォーム12"}]
[null,null,{"$f":"IF(シート名設定!C47=0,\"\",シート名設定!C47)","v":"印刷フォーム13"}]
[null,null,{"$f":"IF(シート名設定!C48=0,\"\",シート名設定!C48)","v":"印刷フォーム14"}]
[null,null,{"$f":"IF(シート名設定!C49=0,\"\",シート名設定!C49)","v":"印刷フォーム15"}]
[null,null,{"$f":"IF(シート名設定!C50=0,\"\",シート名設定!C50)","v":"印刷フォーム16"}]
[null,null,{"$f":"IF(シート名設定!C51=0,\"\",シート名設定!C51)","v":"印刷フォーム17"}]
[null,null,{"$f":"IF(シート名設定!C52=0,\"\",シート名設定!C52)","v":"印刷フォーム18"}]
[null,null,{"$f":"IF(シート名設定!C53=0,\"\",シート名設定!C53)","v":"印刷フォーム19"}]
[null,null,{"$f":"IF(シート名設定!C54=0,\"\",シート名設定!C54)","v":"印刷フォーム20"}]
[null,null,{"$f":"IF(シート名設定!E5=0,\"\",シート名設定!E5)","v":"印刷フォーム21"}]
[null,null,{"$f":"IF(シート名設定!E6=0,\"\",シート名設定!E6)","v":"印刷フォーム22"}]
[null,null,{"$f":"IF(シート名設定!E7=0,\"\",シート名設定!E7)","v":"印刷フォーム23"}]
[null,null,{"$f":"IF(シート名設定!E8=0,\"\",シート名設定!E8)","v":"印刷フォーム24"}]
[null,null,{"$f":"IF(シート名設定!E9=0,\"\",シート名設定!E9)","v":"印刷フォーム25"}]
[null,null,{"$f":"IF(シート名設定!E10=0,\"\",シート名設定!E10)","v":"印刷フォーム26"}]
[null,null,{"$f":"IF(シート名設定!E11=0,\"\",シート名設定!E11)","v":"印刷フォーム27"}]
[null,null,{"$f":"IF(シート名設定!E12=0,\"\",シート名設定!E12)","v":"印刷フォーム28"}]
[null,null,{"$f":"IF(シート名設定!E13=0,\"\",シート名設定!E13)","v":"印刷フォーム29"}]
[null,null,{"$f":"IF(シート名設定!E14=0,\"\",シート名設定!E14)","v":"印刷フォーム30"}]
[null,null,{"$f":"IF(シート名設定!E15=0,\"\",シート名設定!E15)","v":"印刷フォーム1ソートデーター"}]
[null,null,{"$f":"IF(シート名設定!E16=0,\"\",シート名設定!E16)","v":"印刷フォーム2ソートデーター"}]
[null,null,{"$f":"IF(シート名設定!E17=0,\"\",シート名設定!E17)","v":"印刷フォーム3ソートデーター"}]
[null,null,{"$f":"IF(シート名設定!E18=0,\"\",シート名設定!E18)","v":"印刷フォーム4ソートデーター"}]
[null,null,{"$f":"IF(シート名設定!E19=0,\"\",シート名設定!E19)","v":"印刷フォーム5ソートデーター"}]
[null,null,{"$f":"IF(シート名設定!E20=0,\"\",シート名設定!E20)","v":"印刷フォーム6ソートデーター"}]
[null,null,{"$f":"IF(シート名設定!E21=0,\"\",シート名設定!E21)","v":"印刷フォーム7ソートデーター"}]
[null,null,{"$f":"IF(シート名設定!E22=0,\"\",シート名設定!E22)","v":"印刷フォーム8ソートデーター"}]
[null,null,{"$f":"IF(シート名設定!E23=0,\"\",シート名設定!E23)","v":"印刷フォーム9ソートデーター"}]
[null,null,{"$f":"IF(シート名設定!E24=0,\"\",シート名設定!E24)","v":"印刷フォーム10ソートデーター"}]
[null,null,{"$f":"IF(シート名設定!E25=0,\"\",シート名設定!E25)","v":"印刷フォーム11ソートデーター"}]
[null,null,{"$f":"IF(シート名設定!E26=0,\"\",シート名設定!E26)","v":"印刷フォーム12ソートデーター"}]
[null,null,{"$f":"IF(シート名設定!E27=0,\"\",シート名設定!E27)","v":"印刷フォーム13ソートデーター"}]
[null,null,{"$f":"IF(シート名設定!E28=0,\"\",シート名設定!E28)","v":"印刷フォーム14ソートデーター"}]
[null,null,{"$f":"IF(シート名設定!E29=0,\"\",シート名設定!E29)","v":"印刷フォーム15ソートデーター"}]
[null,null,{"$f":"IF(シート名設定!E30=0,\"\",シート名設定!E30)","v":"印刷フォーム16ソートデーター"}]
[null,null,{"$f":"IF(シート名設定!E31=0,\"\",シート名設定!E31)","v":"印刷フォーム17ソートデーター"}]
[null,null,{"$f":"IF(シート名設定!E32=0,\"\",シート名設定!E32)","v":"印刷フォーム18ソートデーター"}]
[null,null,{"$f":"IF(シート名設定!E33=0,\"\",シート名設定!E33)","v":"印刷フォーム19ソートデーター"}]
[null,null,{"$f":"IF(シート名設定!E34=0,\"\",シート名設定!E34)","v":"印刷フォーム20ソートデーター"}]
[null,null,{"$f":"IF(シート名設定!E35=0,\"\",シート名設定!E35)","v":"印刷フォーム21ソートデーター"}]
[null,null,{"$f":"IF(シート名設定!E36=0,\"\",シート名設定!E36)","v":"印刷フォーム22ソートデーター"}]
[null,null,{"$f":"IF(シート名設定!E37=0,\"\",シート名設定!E37)","v":"印刷フォーム23ソートデーター"}]
[null,null,{"$f":"IF(シート名設定!E38=0,\"\",シート名設定!E38)","v":"印刷フォーム24ソートデーター"}]
[null,null,{"$f":"IF(シート名設定!E39=0,\"\",シート名設定!E39)","v":"印刷フォーム25ソートデーター"}]
[null,null,{"$f":"IF(シート名設定!E40=0,\"\",シート名設定!E40)","v":"印刷フォーム26ソートデーター"}]
[null,null,{"$f":"IF(シート名設定!E41=0,\"\",シート名設定!E41)","v":"印刷フォーム27ソートデーター"}]
[null,null,{"$f":"IF(シート名設定!E42=0,\"\",シート名設定!E42)","v":"印刷フォーム28ソートデーター"}]
[null,null,{"$f":"IF(シート名設定!E43=0,\"\",シート名設定!E43)","v":"印刷フォーム29ソートデーター"}]
[null,null,{"$f":"IF(シート名設定!E44=0,\"\",シート名設定!E44)","v":"印刷フォーム30ソートデーター"}]
[null,null,{"$f":"IF(追加ワークシート名設定!D6=0,\"\",追加ワークシート名設定!D6)","v":""}]
[null,null,{"$f":"IF(追加ワークシート名設定!D7=0,\"\",追加ワークシート名設定!D7)","v":""}]
[null,null,{"$f":"IF(追加ワークシート名設定!D8=0,\"\",追加ワークシート名設定!D8)","v":""}]
[null,null,{"$f":"IF(追加ワークシート名設定!D9=0,\"\",追加ワークシート名設定!D9)","v":""}]
[null,null,{"$f":"IF(追加ワークシート名設定!D10=0,\"\",追加ワークシート名設定!D10)","v":""}]
[null,null,{"$f":"IF(追加ワークシート名設定!D11=0,\"\",追加ワークシート名設定!D11)","v":""}]
[null,null,{"$f":"IF(追加ワークシート名設定!D12=0,\"\",追加ワークシート名設定!D12)","v":""}]
[null,null,{"$f":"IF(追加ワークシート名設定!D13=0,\"\",追加ワークシート名設定!D13)","v":""}]
[null,null,{"$f":"IF(追加ワークシート名設定!D14=0,\"\",追加ワークシート名設定!D14)","v":""}]
[null,null,{"$f":"IF(追加ワークシート名設定!D15=0,\"\",追加ワークシート名設定!D15)","v":""}]
[null,null,{"$f":"IF(追加ワークシート名設定!D16=0,\"\",追加ワークシート名設定!D16)","v":""}]
[null,null,{"$f":"IF(追加ワークシート名設定!D17=0,\"\",追加ワークシート名設定!D17)","v":""}]
[null,null,{"$f":"IF(追加ワークシート名設定!D18=0,\"\",追加ワークシート名設定!D18)","v":""}]
[null,null,{"$f":"IF(追加ワークシート名設定!D19=0,\"\",追加ワークシート名設定!D19)","v":""}]
[null,null,{"$f":"IF(追加ワークシート名設定!D20=0,\"\",追加ワークシート名設定!D20)","v":""}]
[null,null,{"$f":"IF(追加ワークシート名設定!D21=0,\"\",追加ワークシート名設定!D21)","v":""}]
[null,null,{"$f":"IF(追加ワークシート名設定!D22=0,\"\",追加ワークシート名設定!D22)","v":""}]
[null,null,{"$f":"IF(追加ワークシート名設定!D23=0,\"\",追加ワークシート名設定!D23)","v":""}]
[null,null,{"$f":"IF(追加ワークシート名設定!D24=0,\"\",追加ワークシート名設定!D24)","v":""}]
[null,null,{"$f":"IF(追加ワークシート名設定!D25=0,\"\",追加ワークシート名設定!D25)","v":""}]
[null,null,{"$f":"IF(追加ワークシート名設定!D26=0,\"\",追加ワークシート名設定!D26)","v":""}]
[null,null,{"$f":"IF(追加ワークシート名設定!D27=0,\"\",追加ワークシート名設定!D27)","v":""}]
[null,null,{"$f":"IF(追加ワークシート名設定!D28=0,\"\",追加ワークシート名設定!D28)","v":""}]
[null,null,{"$f":"IF(追加ワークシート名設定!D29=0,\"\",追加ワークシート名設定!D29)","v":""}]
[null,null,{"$f":"IF(追加ワークシート名設定!D30=0,\"\",追加ワークシート名設定!D30)","v":""}]
[null,null,{"$f":"IF(追加ワークシート名設定!D31=0,\"\",追加ワークシート名設定!D31)","v":""}]
[null,null,{"$f":"IF(追加ワークシート名設定!D32=0,\"\",追加ワークシート名設定!D32)","v":""}]
[null,null,{"$f":"IF(追加ワークシート名設定!D33=0,\"\",追加ワークシート名設定!D33)","v":""}]
[null,null,{"$f":"IF(追加ワークシート名設定!D34=0,\"\",追加ワークシート名設定!D34)","v":""}]
[null,null,{"$f":"IF(追加ワークシート名設定!D35=0,\"\",追加ワークシート名設定!D35)","v":""}]
[null,null,{"$f":"IF(追加ワークシート名設定!D36=0,\"\",追加ワークシート名設定!D36)","v":""}]
[null,null,{"$f":"IF(追加ワークシート名設定!D37=0,\"\",追加ワークシート名設定!D37)","v":""}]
[null,null,{"$f":"IF(追加ワークシート名設定!D38=0,\"\",追加ワークシート名設定!D38)","v":""}]
[null,null,{"$f":"IF(追加ワークシート名設定!D39=0,\"\",追加ワークシート名設定!D39)","v":""}]
[null,null,{"$f":"IF(追加ワークシート名設定!D40=0,\"\",追加ワークシート名設定!D40)","v":""}]
[null,null,{"$f":"IF(追加ワークシート名設定!D41=0,\"\",追加ワークシート名設定!D41)","v":""}]
[null,null,{"$f":"IF(追加ワークシート名設定!D42=0,\"\",追加ワークシート名設定!D42)","v":""}]
[null,null,{"$f":"IF(追加ワークシート名設定!D43=0,\"\",追加ワークシート名設定!D43)","v":""}]
[null,null,{"$f":"IF(追加ワークシート名設定!D44=0,\"\",追加ワークシート名設定!D44)","v":""}]
[null,null,{"$f":"IF(追加ワークシート名設定!D45=0,\"\",追加ワークシート名設定!D45)","v":""}]
[null,null,{"$f":"IF(追加ワークシート名設定!D46=0,\"\",追加ワークシート名設定!D46)","v":""}]
[null,null,{"$f":"IF(追加ワークシート名設定!D47=0,\"\",追加ワークシート名設定!D47)","v":""}]
[null,null,{"$f":"IF(追加ワークシート名設定!D48=0,\"\",追加ワークシート名設定!D48)","v":""}]
[null,null,{"$f":"IF(追加ワークシート名設定!D49=0,\"\",追加ワークシート名設定!D49)","v":""}]
[null,null,{"$f":"IF(追加ワークシート名設定!D50=0,\"\",追加ワークシート名設定!D50)","v":""}]
[null,null,{"$f":"IF(追加ワークシート名設定!D51=0,\"\",追加ワークシート名設定!D51)","v":""}]
[null,null,{"$f":"IF(追加ワークシート名設定!D52=0,\"\",追加ワークシート名設定!D52)","v":""}]
[null,null,{"$f":"IF(追加ワークシート名設定!D53=0,\"\",追加ワークシート名設定!D53)","v":""}]
[null,null,{"$f":"IF(追加ワークシート名設定!D54=0,\"\",追加ワークシート名設定!D54)","v":""}]
[null,null,{"$f":"IF(追加ワークシート名設定!D55=0,\"\",追加ワークシート名設定!D55)","v":""}]
[null,null,{"$f":"IF(追加ワークシート名設定!D56=0,\"\",追加ワークシート名設定!D56)","v":""}]
[null,null,{"$f":"IF(追加ワークシート名設定!D57=0,\"\",追加ワークシート名設定!D57)","v":""}]
[null,null,{"$f":"IF(追加ワークシート名設定!D58=0,\"\",追加ワークシート名設定!D58)","v":""}]
[null,null,{"$f":"IF(追加ワークシート名設定!D59=0,\"\",追加ワークシート名設定!D59)","v":""}]
[null,null,{"$f":"IF(追加ワークシート名設定!D60=0,\"\",追加ワークシート名設定!D60)","v":""}]
[null,null,{"$f":"IF(追加ワークシート名設定!D61=0,\"\",追加ワークシート名設定!D61)","v":""}]
[null,null,{"$f":"IF(追加ワークシート名設定!D62=0,\"\",追加ワークシート名設定!D62)","v":""}]
[null,null,{"$f":"IF(追加ワークシート名設定!D63=0,\"\",追加ワークシート名設定!D63)","v":""}]
[null,null,{"$f":"IF(追加ワークシート名設定!D64=0,\"\",追加ワークシート名設定!D64)","v":""}]
[null,null,{"$f":"IF(追加ワークシート名設定!D65=0,\"\",追加ワークシート名設定!D65)","v":""}]
[null,null,{"$f":"IF(追加ワークシート名設定!D66=0,\"\",追加ワークシート名設定!D66)","v":""}]
[null,null,{"$f":"IF(追加ワークシート名設定!D67=0,\"\",追加ワークシート名設定!D67)","v":""}]
[null,null,{"$f":"IF(追加ワークシート名設定!D68=0,\"\",追加ワークシート名設定!D68)","v":""}]
[null,null,{"$f":"IF(追加ワークシート名設定!D69=0,\"\",追加ワークシート名設定!D69)","v":""}]
[null,null,{"$f":"IF(シート名設定!C30=0,\"\",シート名設定!C30)","v":"入力AA1"}]
[null,null,{"$f":"IF(シート名設定!C31=0,\"\",シート名設定!C31)","v":"入力AA2"}]
[null,null,{"$f":"IF(シート名設定!C32=0,\"\",シート名設定!C32)","v":"入力AA3"}]
[null,null,{"$f":"IF(シート名設定!C33=0,\"\",シート名設定!C33)","v":"入力AA4"}]
[null,null,{"$f":"IF(シート名設定!C34=0,\"\",シート名設定!C34)","v":"入力AA5"}]

{"sheet":"一覧表付ファイル作成入力設定7","index":20,"n_rows":165,"n_cols":5,"rows_kept":165,"cut":false,"hidden":false,"merged":[[2,1,2,2]]}
[]
[]
[null,{"$f":"シート名設定!C15","v":"一覧表付ファイル作成入力設定7"}]
[null,"１．入力元の設定"]
[null,"項　　　　　　目","設定内容"]
[null,"シート名"]
[null,"データ先頭セル行番号"]
[null,"データ先頭セル列番号"]
[null,"異同比較列番号"]
[null,"データー数"]
[null,"For Next の増分"]
[]
[null,"２．入力先の設定"]
[null,"項　　　　　　目","設定内容"]
[null,"シート名"]
[null,"入力先頭セル行番号"]
[null,"入力先頭セル列番号"]
[null,"入力最終セル行番号"]
[null,"入力最終セル列番号"]
[null,"入力データー数"]
[null,"通しページ入力セル行番号"]
[null,"通しページ入力セル列番号"]
[null,"区分内ページ入力セル行番号"]
[null,"区分内ページ入力セル列番号"]
[null,"３．印刷処理かファイルのメール送信の設定"]
[null,"項　　　　　　目","設定内容"]
[null,"印刷処理か\nファイルの\nメール送信\nの選択",null,1]
[null,"ファイルのメール送信の場合の印刷フォームソートデーターシートのメールアドレスが入力されている列番号"]
[null,"ファイルのメール送信の場合の印刷フォームソートデーターシートの件名が入力されている列番号"]
[null,"ファイルのメール送信の場合の印刷フォームソートデーターシートの本文が入力されている列番号"]
[null,"ファイルのメール送信の場合の添付ファイルの保存先ドライブ及びフォルダー"]
[]
[]
[]
[]
[]
[null,null,{"$f":"IF(シート名設定!C35=0,\"\",シート名設定!C35)","v":"印刷フォーム1"},1,"印刷する"]
[null,null,{"$f":"IF(シート名設定!C36=0,\"\",シート名設定!C36)","v":"印刷フォーム2"},2,"メールで送信する"]
[null,null,{"$f":"IF(シート名設定!C37=0,\"\",シート名設定!C37)","v":"印刷フォーム3"},3,"添付ファイルなし件名本文のみのメール"]
[null,null,{"$f":"IF(シート名設定!C38=0,\"\",シート名設定!C38)","v":"印刷フォーム4"}]
[null,null,{"$f":"IF(シート名設定!C39=0,\"\",シート名設定!C39)","v":"印刷フォーム5"}]
[null,null,{"$f":"IF(シート名設定!C40=0,\"\",シート名設定!C40)","v":"印刷フォーム6"}]
[null,null,{"$f":"IF(シート名設定!C41=0,\"\",シート名設定!C41)","v":"印刷フォーム7"}]
[null,null,{"$f":"IF(シート名設定!C42=0,\"\",シート名設定!C42)","v":"印刷フォーム8"}]
[null,null,{"$f":"IF(シート名設定!C43=0,\"\",シート名設定!C43)","v":"印刷フォーム9"}]
[null,null,{"$f":"IF(シート名設定!C44=0,\"\",シート名設定!C44)","v":"印刷フォーム10"}]
[null,null,{"$f":"IF(シート名設定!C45=0,\"\",シート名設定!C45)","v":"印刷フォーム11"}]
[null,null,{"$f":"IF(シート名設定!C46=0,\"\",シート名設定!C46)","v":"印刷フォーム12"}]
[null,null,{"$f":"IF(シート名設定!C47=0,\"\",シート名設定!C47)","v":"印刷フォーム13"}]
[null,null,{"$f":"IF(シート名設定!C48=0,\"\",シート名設定!C48)","v":"印刷フォーム14"}]
[null,null,{"$f":"IF(シート名設定!C49=0,\"\",シート名設定!C49)","v":"印刷フォーム15"}]
[null,null,{"$f":"IF(シート名設定!C50=0,\"\",シート名設定!C50)","v":"印刷フォーム16"}]
[null,null,{"$f":"IF(シート名設定!C51=0,\"\",シート名設定!C51)","v":"印刷フォーム17"}]
[null,null,{"$f":"IF(シート名設定!C52=0,\"\",シート名設定!C52)","v":"印刷フォーム18"}]
[null,null,{"$f":"IF(シート名設定!C53=0,\"\",シート名設定!C53)","v":"印刷フォーム19"}]
[null,null,{"$f":"IF(シート名設定!C54=0,\"\",シート名設定!C54)","v":"印刷フォーム20"}]
[null,null,{"$f":"IF(シート名設定!E5=0,\"\",シート名設定!E5)","v":"印刷フォーム21"}]
[null,null,{"$f":"IF(シート名設定!E6=0,\"\",シート名設定!E6)","v":"印刷フォーム22"}]
[null,null,{"$f":"IF(シート名設定!E7=0,\"\",シート名設定!E7)","v":"印刷フォーム23"}]
[null,null,{"$f":"IF(シート名設定!E8=0,\"\",シート名設定!E8)","v":"印刷フォーム24"}]
[null,null,{"$f":"IF(シート名設定!E9=0,\"\",シート名設定!E9)","v":"印刷フォーム25"}]
[null,null,{"$f":"IF(シート名設定!E10=0,\"\",シート名設定!E10)","v":"印刷フォーム26"}]
[null,null,{"$f":"IF(シート名設定!E11=0,\"\",シート名設定!E11)","v":"印刷フォーム27"}]
[null,null,{"$f":"IF(シート名設定!E12=0,\"\",シート名設定!E12)","v":"印刷フォーム28"}]
[null,null,{"$f":"IF(シート名設定!E13=0,\"\",シート名設定!E13)","v":"印刷フォーム29"}]
[null,null,{"$f":"IF(シート名設定!E14=0,\"\",シート名設定!E14)","v":"印刷フォーム30"}]
[null,null,{"$f":"IF(シート名設定!E15=0,\"\",シート名設定!E15)","v":"印刷フォーム1ソートデーター"}]
[null,null,{"$f":"IF(シート名設定!E16=0,\"\",シート名設定!E16)","v":"印刷フォーム2ソートデーター"}]
[null,null,{"$f":"IF(シート名設定!E17=0,\"\",シート名設定!E17)","v":"印刷フォーム3ソートデーター"}]
[null,null,{"$f":"IF(シート名設定!E18=0,\"\",シート名設定!E18)","v":"印刷フォーム4ソートデーター"}]
[null,null,{"$f":"IF(シート名設定!E19=0,\"\",シート名設定!E19)","v":"印刷フォーム5ソートデーター"}]
[null,null,{"$f":"IF(シート名設定!E20=0,\"\",シート名設定!E20)","v":"印刷フォーム6ソートデーター"}]
[null,null,{"$f":"IF(シート名設定!E21=0,\"\",シート名設定!E21)","v":"印刷フォーム7ソートデーター"}]
[null,null,{"$f":"IF(シート名設定!E22=0,\"\",シート名設定!E22)","v":"印刷フォーム8ソートデーター"}]
[null,null,{"$f":"IF(シート名設定!E23=0,\"\",シート名設定!E23)","v":"印刷フォーム9ソートデーター"}]
[null,null,{"$f":"IF(シート名設定!E24=0,\"\",シート名設定!E24)","v":"印刷フォーム10ソートデーター"}]
[null,null,{"$f":"IF(シート名設定!E25=0,\"\",シート名設定!E25)","v":"印刷フォーム11ソートデーター"}]
[null,null,{"$f":"IF(シート名設定!E26=0,\"\",シート名設定!E26)","v":"印刷フォーム12ソートデーター"}]
[null,null,{"$f":"IF(シート名設定!E27=0,\"\",シート名設定!E27)","v":"印刷フォーム13ソートデーター"}]
[null,null,{"$f":"IF(シート名設定!E28=0,\"\",シート名設定!E28)","v":"印刷フォーム14ソートデーター"}]
[null,null,{"$f":"IF(シート名設定!E29=0,\"\",シート名設定!E29)","v":"印刷フォーム15ソートデーター"}]
[null,null,{"$f":"IF(シート名設定!E30=0,\"\",シート名設定!E30)","v":"印刷フォーム16ソートデーター"}]
[null,null,{"$f":"IF(シート名設定!E31=0,\"\",シート名設定!E31)","v":"印刷フォーム17ソートデーター"}]
[null,null,{"$f":"IF(シート名設定!E32=0,\"\",シート名設定!E32)","v":"印刷フォーム18ソートデーター"}]
[null,null,{"$f":"IF(シート名設定!E33=0,\"\",シート名設定!E33)","v":"印刷フォーム19ソートデーター"}]
[null,null,{"$f":"IF(シート名設定!E34=0,\"\",シート名設定!E34)","v":"印刷フォーム20ソートデーター"}]
[null,null,{"$f":"IF(シート名設定!E35=0,\"\",シート名設定!E35)","v":"印刷フォーム21ソートデーター"}]
[null,null,{"$f":"IF(シート名設定!E36=0,\"\",シート名設定!E36)","v":"印刷フォーム22ソートデーター"}]
[null,null,{"$f":"IF(シート名設定!E37=0,\"\",シート名設定!E37)","v":"印刷フォーム23ソートデーター"}]
[null,null,{"$f":"IF(シート名設定!E38=0,\"\",シート名設定!E38)","v":"印刷フォーム24ソートデーター"}]
[null,null,{"$f":"IF(シート名設定!E39=0,\"\",シート名設定!E39)","v":"印刷フォーム25ソートデーター"}]
[null,null,{"$f":"IF(シート名設定!E40=0,\"\",シート名設定!E40)","v":"印刷フォーム26ソートデーター"}]
[null,null,{"$f":"IF(シート名設定!E41=0,\"\",シート名設定!E41)","v":"印刷フォーム27ソートデーター"}]
[null,null,{"$f":"IF(シート名設定!E42=0,\"\",シート名設定!E42)","v":"印刷フォーム28ソートデーター"}]
[null,null,{"$f":"IF(シート名設定!E43=0,\"\",シート名設定!E43)","v":"印刷フォーム29ソートデーター"}]
[null,null,{"$f":"IF(シート名設定!E44=0,\"\",シート名設定!E44)","v":"印刷フォーム30ソートデーター"}]
[null,null,{"$f":"IF(追加ワークシート名設定!D6=0,\"\",追加ワークシート名設定!D6)","v":""}]
[null,null,{"$f":"IF(追加ワークシート名設定!D7=0,\"\",追加ワークシート名設定!D7)","v":""}]
[null,null,{"$f":"IF(追加ワークシート名設定!D8=0,\"\",追加ワークシート名設定!D8)","v":""}]
[null,null,{"$f":"IF(追加ワークシート名設定!D9=0,\"\",追加ワークシート名設定!D9)","v":""}]
[null,null,{"$f":"IF(追加ワークシート名設定!D10=0,\"\",追加ワークシート名設定!D10)","v":""}]
[null,null,{"$f":"IF(追加ワークシート名設定!D11=0,\"\",追加ワークシート名設定!D11)","v":""}]
[null,null,{"$f":"IF(追加ワークシート名設定!D12=0,\"\",追加ワークシート名設定!D12)","v":""}]
[null,null,{"$f":"IF(追加ワークシート名設定!D13=0,\"\",追加ワークシート名設定!D13)","v":""}]
[null,null,{"$f":"IF(追加ワークシート名設定!D14=0,\"\",追加ワークシート名設定!D14)","v":""}]
[null,null,{"$f":"IF(追加ワークシート名設定!D15=0,\"\",追加ワークシート名設定!D15)","v":""}]
[null,null,{"$f":"IF(追加ワークシート名設定!D16=0,\"\",追加ワークシート名設定!D16)","v":""}]
[null,null,{"$f":"IF(追加ワークシート名設定!D17=0,\"\",追加ワークシート名設定!D17)","v":""}]
[null,null,{"$f":"IF(追加ワークシート名設定!D18=0,\"\",追加ワークシート名設定!D18)","v":""}]
[null,null,{"$f":"IF(追加ワークシート名設定!D19=0,\"\",追加ワークシート名設定!D19)","v":""}]
[null,null,{"$f":"IF(追加ワークシート名設定!D20=0,\"\",追加ワークシート名設定!D20)","v":""}]
[null,null,{"$f":"IF(追加ワークシート名設定!D21=0,\"\",追加ワークシート名設定!D21)","v":""}]
[null,null,{"$f":"IF(追加ワークシート名設定!D22=0,\"\",追加ワークシート名設定!D22)","v":""}]
[null,null,{"$f":"IF(追加ワークシート名設定!D23=0,\"\",追加ワークシート名設定!D23)","v":""}]
[null,null,{"$f":"IF(追加ワークシート名設定!D24=0,\"\",追加ワークシート名設定!D24)","v":""}]
[null,null,{"$f":"IF(追加ワークシート名設定!D25=0,\"\",追加ワークシート名設定!D25)","v":""}]
[null,null,{"$f":"IF(追加ワークシート名設定!D26=0,\"\",追加ワークシート名設定!D26)","v":""}]
[null,null,{"$f":"IF(追加ワークシート名設定!D27=0,\"\",追加ワークシート名設定!D27)","v":""}]
[null,null,{"$f":"IF(追加ワークシート名設定!D28=0,\"\",追加ワークシート名設定!D28)","v":""}]
[null,null,{"$f":"IF(追加ワークシート名設定!D29=0,\"\",追加ワークシート名設定!D29)","v":""}]
[null,null,{"$f":"IF(追加ワークシート名設定!D30=0,\"\",追加ワークシート名設定!D30)","v":""}]
[null,null,{"$f":"IF(追加ワークシート名設定!D31=0,\"\",追加ワークシート名設定!D31)","v":""}]
[null,null,{"$f":"IF(追加ワークシート名設定!D32=0,\"\",追加ワークシート名設定!D32)","v":""}]
[null,null,{"$f":"IF(追加ワークシート名設定!D33=0,\"\",追加ワークシート名設定!D33)","v":""}]
[null,null,{"$f":"IF(追加ワークシート名設定!D34=0,\"\",追加ワークシート名設定!D34)","v":""}]
[null,null,{"$f":"IF(追加ワークシート名設定!D35=0,\"\",追加ワークシート名設定!D35)","v":""}]
[null,null,{"$f":"IF(追加ワークシート名設定!D36=0,\"\",追加ワークシート名設定!D36)","v":""}]
[null,null,{"$f":"IF(追加ワークシート名設定!D37=0,\"\",追加ワークシート名設定!D37)","v":""}]
[null,null,{"$f":"IF(追加ワークシート名設定!D38=0,\"\",追加ワークシート名設定!D38)","v":""}]
[null,null,{"$f":"IF(追加ワークシート名設定!D39=0,\"\",追加ワークシート名設定!D39)","v":""}]
[null,null,{"$f":"IF(追加ワークシート名設定!D40=0,\"\",追加ワークシート名設定!D40)","v":""}]
[null,null,{"$f":"IF(追加ワークシート名設定!D41=0,\"\",追加ワークシート名設定!D41)","v":""}]
[null,null,{"$f":"IF(追加ワークシート名設定!D42=0,\"\",追加ワークシート名設定!D42)","v":""}]
[null,null,{"$f":"IF(追加ワークシート名設定!D43=0,\"\",追加ワークシート名設定!D43)","v":""}]
[null,null,{"$f":"IF(追加ワークシート名設定!D44=0,\"\",追加ワークシート名設定!D44)","v":""}]
[null,null,{"$f":"IF(追加ワークシート名設定!D45=0,\"\",追加ワークシート名設定!D45)","v":""}]
[null,null,{"$f":"IF(追加ワークシート名設定!D46=0,\"\",追加ワークシート名設定!D46)","v":""}]
[null,null,{"$f":"IF(追加ワークシート名設定!D47=0,\"\",追加ワークシート名設定!D47)","v":""}]
[null,null,{"$f":"IF(追加ワークシート名設定!D48=0,\"\",追加ワークシート名設定!D48)","v":""}]
[null,null,{"$f":"IF(追加ワークシート名設定!D49=0,\"\",追加ワークシート名設定!D49)","v":""}]
[null,null,{"$f":"IF(追加ワークシート名設定!D50=0,\"\",追加ワークシート名設定!D50)","v":""}]
[null,null,{"$f":"IF(追加ワークシート名設定!D51=0,\"\",追加ワークシート名設定!D51)","v":""}]
[null,null,{"$f":"IF(追加ワークシート名設定!D52=0,\"\",追加ワークシート名設定!D52)","v":""}]
[null,null,{"$f":"IF(追加ワークシート名設定!D53=0,\"\",追加ワークシート名設定!D53)","v":""}]
[null,null,{"$f":"IF(追加ワークシート名設定!D54=0,\"\",追加ワークシート名設定!D54)","v":""}]
[null,null,{"$f":"IF(追加ワークシート名設定!D55=0,\"\",追加ワークシート名設定!D55)","v":""}]
[null,null,{"$f":"IF(追加ワークシート名設定!D56=0,\"\",追加ワークシート名設定!D56)","v":""}]
[null,null,{"$f":"IF(追加ワークシート名設定!D57=0,\"\",追加ワークシート名設定!D57)","v":""}]
[null,null,{"$f":"IF(追加ワークシート名設定!D58=0,\"\",追加ワークシート名設定!D58)","v":""}]
[null,null,{"$f":"IF(追加ワークシート名設定!D59=0,\"\",追加ワークシート名設定!D59)","v":""}]
[null,null,{"$f":"IF(追加ワークシート名設定!D60=0,\"\",追加ワークシート名設定!D60)","v":""}]
[null,null,{"$f":"IF(追加ワークシート名設定!D61=0,\"\",追加ワークシート名設定!D61)","v":""}]
[null,null,{"$f":"IF(追加ワークシート名設定!D62=0,\"\",追加ワークシート名設定!D62)","v":""}]
[null,null,{"$f":"IF(追加ワークシート名設定!D63=0,\"\",追加ワークシート名設定!D63)","v":""}]
[null,null,{"$f":"IF(追加ワークシート名設定!D64=0,\"\",追加ワークシート名設定!D64)","v":""}]
[null,null,{"$f":"IF(追加ワークシート名設定!D65=0,\"\",追加ワークシート名設定!D65)","v":""}]
[null,null,{"$f":"IF(追加ワークシート名設定!D66=0,\"\",追加ワークシート名設定!D66)","v":""}]
[null,null,{"$f":"IF(追加ワークシート名設定!D67=0,\"\",追加ワークシート名設定!D67)","v":""}]
[null,null,{"$f":"IF(追加ワークシート名設定!D68=0,\"\",追加ワークシート名設定!D68)","v":""}]
[null,null,{"$f":"IF(追加ワークシート名設定!D69=0,\"\",追加ワークシート名設定!D69)","v":""}]
[null,null,{"$f":"IF(シート名設定!C30=0,\"\",シート名設定!C30)","v":"入力AA1"}]
[null,null,{"$f":"IF(シート名設定!C31=0,\"\",シート名設定!C31)","v":"入力AA2"}]
[null,null,{"$f":"IF(シート名設定!C32=0,\"\",シート名設定!C32)","v":"入力AA3"}]
[null,null,{"$f":"IF(シート名設定!C33=0,\"\",シート名設定!C33)","v":"入力AA4"}]
[null,null,{"$f":"IF(シート名設定!C34=0,\"\",シート名設定!C34)","v":"入力AA5"}]

{"sheet":"一覧表付ファイル作成入力設定8","index":21,"n_rows":165,"n_cols":5,"rows_kept":165,"cut":false,"hidden":false,"merged":[[2,1,2,2]]}
[]
[]
[null,{"$f":"シート名設定!C16","v":"一覧表付ファイル作成入力設定8"}]
[null,"１．入力元の設定"]
[null,"項　　　　　　目","設定内容"]
[null,"シート名"]
[null,"データ先頭セル行番号"]
[null,"データ先頭セル列番号"]
[null,"異同比較列番号"]
[null,"データー数"]
[null,"For Next の増分"]
[]
[null,"２．入力先の設定"]
[null,"項　　　　　　目","設定内容"]
[null,"シート名"]
[null,"入力先頭セル行番号"]
[null,"入力先頭セル列番号"]
[null,"入力最終セル行番号"]
[null,"入力最終セル列番号"]
[null,"入力データー数"]
[null,"通しページ入力セル行番号"]
[null,"通しページ入力セル列番号"]
[null,"区分内ページ入力セル行番号"]
[null,"区分内ページ入力セル列番号"]
[null,"３．印刷処理かファイルのメール送信の設定"]
[null,"項　　　　　　目","設定内容"]
[null,"印刷処理か\nファイルの\nメール送信\nの選択",null,1]
[null,"ファイルのメール送信の場合の印刷フォームソートデーターシートのメールアドレスが入力されている列番号"]
[null,"ファイルのメール送信の場合の印刷フォームソートデーターシートの件名が入力されている列番号"]
[null,"ファイルのメール送信の場合の印刷フォームソートデーターシートの本文が入力されている列番号"]
[null,"ファイルのメール送信の場合の添付ファイルの保存先ドライブ及びフォルダー"]
[]
[]
[]
[]
[]
[null,null,{"$f":"IF(シート名設定!C35=0,\"\",シート名設定!C35)","v":"印刷フォーム1"},1,"印刷する"]
[null,null,{"$f":"IF(シート名設定!C36=0,\"\",シート名設定!C36)","v":"印刷フォーム2"},2,"メールで送信する"]
[null,null,{"$f":"IF(シート名設定!C37=0,\"\",シート名設定!C37)","v":"印刷フォーム3"},3,"添付ファイルなし件名本文のみのメール"]
[null,null,{"$f":"IF(シート名設定!C38=0,\"\",シート名設定!C38)","v":"印刷フォーム4"}]
[null,null,{"$f":"IF(シート名設定!C39=0,\"\",シート名設定!C39)","v":"印刷フォーム5"}]
[null,null,{"$f":"IF(シート名設定!C40=0,\"\",シート名設定!C40)","v":"印刷フォーム6"}]
[null,null,{"$f":"IF(シート名設定!C41=0,\"\",シート名設定!C41)","v":"印刷フォーム7"}]
[null,null,{"$f":"IF(シート名設定!C42=0,\"\",シート名設定!C42)","v":"印刷フォーム8"}]
[null,null,{"$f":"IF(シート名設定!C43=0,\"\",シート名設定!C43)","v":"印刷フォーム9"}]
[null,null,{"$f":"IF(シート名設定!C44=0,\"\",シート名設定!C44)","v":"印刷フォーム10"}]
[null,null,{"$f":"IF(シート名設定!C45=0,\"\",シート名設定!C45)","v":"印刷フォーム11"}]
[null,null,{"$f":"IF(シート名設定!C46=0,\"\",シート名設定!C46)","v":"印刷フォーム12"}]
[null,null,{"$f":"IF(シート名設定!C47=0,\"\",シート名設定!C47)","v":"印刷フォーム13"}]
[null,null,{"$f":"IF(シート名設定!C48=0,\"\",シート名設定!C48)","v":"印刷フォーム14"}]
[null,null,{"$f":"IF(シート名設定!C49=0,\"\",シート名設定!C49)","v":"印刷フォーム15"}]
[null,null,{"$f":"IF(シート名設定!C50=0,\"\",シート名設定!C50)","v":"印刷フォーム16"}]
[null,null,{"$f":"IF(シート名設定!C51=0,\"\",シート名設定!C51)","v":"印刷フォーム17"}]
[null,null,{"$f":"IF(シート名設定!C52=0,\"\",シート名設定!C52)","v":"印刷フォーム18"}]
[null,null,{"$f":"IF(シート名設定!C53=0,\"\",シート名設定!C53)","v":"印刷フォーム19"}]
[null,null,{"$f":"IF(シート名設定!C54=0,\"\",シート名設定!C54)","v":"印刷フォーム20"}]
[null,null,{"$f":"IF(シート名設定!E5=0,\"\",シート名設定!E5)","v":"印刷フォーム21"}]
[null,null,{"$f":"IF(シート名設定!E6=0,\"\",シート名設定!E6)","v":"印刷フォーム22"}]
[null,null,{"$f":"IF(シート名設定!E7=0,\"\",シート名設定!E7)","v":"印刷フォーム23"}]
[null,null,{"$f":"IF(シート名設定!E8=0,\"\",シート名設定!E8)","v":"印刷フォーム24"}]
[null,null,{"$f":"IF(シート名設定!E9=0,\"\",シート名設定!E9)","v":"印刷フォーム25"}]
[null,null,{"$f":"IF(シート名設定!E10=0,\"\",シート名設定!E10)","v":"印刷フォーム26"}]
[null,null,{"$f":"IF(シート名設定!E11=0,\"\",シート名設定!E11)","v":"印刷フォーム27"}]
[null,null,{"$f":"IF(シート名設定!E12=0,\"\",シート名設定!E12)","v":"印刷フォーム28"}]
[null,null,{"$f":"IF(シート名設定!E13=0,\"\",シート名設定!E13)","v":"印刷フォーム29"}]
[null,null,{"$f":"IF(シート名設定!E14=0,\"\",シート名設定!E14)","v":"印刷フォーム30"}]
[null,null,{"$f":"IF(シート名設定!E15=0,\"\",シート名設定!E15)","v":"印刷フォーム1ソートデーター"}]
[null,null,{"$f":"IF(シート名設定!E16=0,\"\",シート名設定!E16)","v":"印刷フォーム2ソートデーター"}]
[null,null,{"$f":"IF(シート名設定!E17=0,\"\",シート名設定!E17)","v":"印刷フォーム3ソートデーター"}]
[null,null,{"$f":"IF(シート名設定!E18=0,\"\",シート名設定!E18)","v":"印刷フォーム4ソートデーター"}]
[null,null,{"$f":"IF(シート名設定!E19=0,\"\",シート名設定!E19)","v":"印刷フォーム5ソートデーター"}]
[null,null,{"$f":"IF(シート名設定!E20=0,\"\",シート名設定!E20)","v":"印刷フォーム6ソートデーター"}]
[null,null,{"$f":"IF(シート名設定!E21=0,\"\",シート名設定!E21)","v":"印刷フォーム7ソートデーター"}]
[null,null,{"$f":"IF(シート名設定!E22=0,\"\",シート名設定!E22)","v":"印刷フォーム8ソートデーター"}]
[null,null,{"$f":"IF(シート名設定!E23=0,\"\",シート名設定!E23)","v":"印刷フォーム9ソートデーター"}]
[null,null,{"$f":"IF(シート名設定!E24=0,\"\",シート名設定!E24)","v":"印刷フォーム10ソートデーター"}]
[null,null,{"$f":"IF(シート名設定!E25=0,\"\",シート名設定!E25)","v":"印刷フォーム11ソートデーター"}]
[null,null,{"$f":"IF(シート名設定!E26=0,\"\",シート名設定!E26)","v":"印刷フォーム12ソートデーター"}]
[null,null,{"$f":"IF(シート名設定!E27=0,\"\",シート名設定!E27)","v":"印刷フォーム13ソートデーター"}]
[null,null,{"$f":"IF(シート名設定!E28=0,\"\",シート名設定!E28)","v":"印刷フォーム14ソートデーター"}]
[null,null,{"$f":"IF(シート名設定!E29=0,\"\",シート名設定!E29)","v":"印刷フォーム15ソートデーター"}]
[null,null,{"$f":"IF(シート名設定!E30=0,\"\",シート名設定!E30)","v":"印刷フォーム16ソートデーター"}]
[null,null,{"$f":"IF(シート名設定!E31=0,\"\",シート名設定!E31)","v":"印刷フォーム17ソートデーター"}]
[null,null,{"$f":"IF(シート名設定!E32=0,\"\",シート名設定!E32)","v":"印刷フォーム18ソートデーター"}]
[null,null,{"$f":"IF(シート名設定!E33=0,\"\",シート名設定!E33)","v":"印刷フォーム19ソートデーター"}]
[null,null,{"$f":"IF(シート名設定!E34=0,\"\",シート名設定!E34)","v":"印刷フォーム20ソートデーター"}]
[null,null,{"$f":"IF(シート名設定!E35=0,\"\",シート名設定!E35)","v":"印刷フォーム21ソートデーター"}]
[null,null,{"$f":"IF(シート名設定!E36=0,\"\",シート名設定!E36)","v":"印刷フォーム22ソートデーター"}]
[null,null,{"$f":"IF(シート名設定!E37=0,\"\",シート名設定!E37)","v":"印刷フォーム23ソートデーター"}]
[null,null,{"$f":"IF(シート名設定!E38=0,\"\",シート名設定!E38)","v":"印刷フォーム24ソートデーター"}]
[null,null,{"$f":"IF(シート名設定!E39=0,\"\",シート名設定!E39)","v":"印刷フォーム25ソートデーター"}]
[null,null,{"$f":"IF(シート名設定!E40=0,\"\",シート名設定!E40)","v":"印刷フォーム26ソートデーター"}]
[null,null,{"$f":"IF(シート名設定!E41=0,\"\",シート名設定!E41)","v":"印刷フォーム27ソートデーター"}]
[null,null,{"$f":"IF(シート名設定!E42=0,\"\",シート名設定!E42)","v":"印刷フォーム28ソートデーター"}]
[null,null,{"$f":"IF(シート名設定!E43=0,\"\",シート名設定!E43)","v":"印刷フォーム29ソートデーター"}]
[null,null,{"$f":"IF(シート名設定!E44=0,\"\",シート名設定!E44)","v":"印刷フォーム30ソートデーター"}]
[null,null,{"$f":"IF(追加ワークシート名設定!D6=0,\"\",追加ワークシート名設定!D6)","v":""}]
[null,null,{"$f":"IF(追加ワークシート名設定!D7=0,\"\",追加ワークシート名設定!D7)","v":""}]
[null,null,{"$f":"IF(追加ワークシート名設定!D8=0,\"\",追加ワークシート名設定!D8)","v":""}]
[null,null,{"$f":"IF(追加ワークシート名設定!D9=0,\"\",追加ワークシート名設定!D9)","v":""}]
[null,null,{"$f":"IF(追加ワークシート名設定!D10=0,\"\",追加ワークシート名設定!D10)","v":""}]
[null,null,{"$f":"IF(追加ワークシート名設定!D11=0,\"\",追加ワークシート名設定!D11)","v":""}]
[null,null,{"$f":"IF(追加ワークシート名設定!D12=0,\"\",追加ワークシート名設定!D12)","v":""}]
[null,null,{"$f":"IF(追加ワークシート名設定!D13=0,\"\",追加ワークシート名設定!D13)","v":""}]
[null,null,{"$f":"IF(追加ワークシート名設定!D14=0,\"\",追加ワークシート名設定!D14)","v":""}]
[null,null,{"$f":"IF(追加ワークシート名設定!D15=0,\"\",追加ワークシート名設定!D15)","v":""}]
[null,null,{"$f":"IF(追加ワークシート名設定!D16=0,\"\",追加ワークシート名設定!D16)","v":""}]
[null,null,{"$f":"IF(追加ワークシート名設定!D17=0,\"\",追加ワークシート名設定!D17)","v":""}]
[null,null,{"$f":"IF(追加ワークシート名設定!D18=0,\"\",追加ワークシート名設定!D18)","v":""}]
[null,null,{"$f":"IF(追加ワークシート名設定!D19=0,\"\",追加ワークシート名設定!D19)","v":""}]
[null,null,{"$f":"IF(追加ワークシート名設定!D20=0,\"\",追加ワークシート名設定!D20)","v":""}]
[null,null,{"$f":"IF(追加ワークシート名設定!D21=0,\"\",追加ワークシート名設定!D21)","v":""}]
[null,null,{"$f":"IF(追加ワークシート名設定!D22=0,\"\",追加ワークシート名設定!D22)","v":""}]
[null,null,{"$f":"IF(追加ワークシート名設定!D23=0,\"\",追加ワークシート名設定!D23)","v":""}]
[null,null,{"$f":"IF(追加ワークシート名設定!D24=0,\"\",追加ワークシート名設定!D24)","v":""}]
[null,null,{"$f":"IF(追加ワークシート名設定!D25=0,\"\",追加ワークシート名設定!D25)","v":""}]
[null,null,{"$f":"IF(追加ワークシート名設定!D26=0,\"\",追加ワークシート名設定!D26)","v":""}]
[null,null,{"$f":"IF(追加ワークシート名設定!D27=0,\"\",追加ワークシート名設定!D27)","v":""}]
[null,null,{"$f":"IF(追加ワークシート名設定!D28=0,\"\",追加ワークシート名設定!D28)","v":""}]
[null,null,{"$f":"IF(追加ワークシート名設定!D29=0,\"\",追加ワークシート名設定!D29)","v":""}]
[null,null,{"$f":"IF(追加ワークシート名設定!D30=0,\"\",追加ワークシート名設定!D30)","v":""}]
[null,null,{"$f":"IF(追加ワークシート名設定!D31=0,\"\",追加ワークシート名設定!D31)","v":""}]
[null,null,{"$f":"IF(追加ワークシート名設定!D32=0,\"\",追加ワークシート名設定!D32)","v":""}]
[null,null,{"$f":"IF(追加ワークシート名設定!D33=0,\"\",追加ワークシート名設定!D33)","v":""}]
[null,null,{"$f":"IF(追加ワークシート名設定!D34=0,\"\",追加ワークシート名設定!D34)","v":""}]
[null,null,{"$f":"IF(追加ワークシート名設定!D35=0,\"\",追加ワークシート名設定!D35)","v":""}]
[null,null,{"$f":"IF(追加ワークシート名設定!D36=0,\"\",追加ワークシート名設定!D36)","v":""}]
[null,null,{"$f":"IF(追加ワークシート名設定!D37=0,\"\",追加ワークシート名設定!D37)","v":""}]
[null,null,{"$f":"IF(追加ワークシート名設定!D38=0,\"\",追加ワークシート名設定!D38)","v":""}]
[null,null,{"$f":"IF(追加ワークシート名設定!D39=0,\"\",追加ワークシート名設定!D39)","v":""}]
[null,null,{"$f":"IF(追加ワークシート名設定!D40=0,\"\",追加ワークシート名設定!D40)","v":""}]
[null,null,{"$f":"IF(追加ワークシート名設定!D41=0,\"\",追加ワークシート名設定!D41)","v":""}]
[null,null,{"$f":"IF(追加ワークシート名設定!D42=0,\"\",追加ワークシート名設定!D42)","v":""}]
[null,null,{"$f":"IF(追加ワークシート名設定!D43=0,\"\",追加ワークシート名設定!D43)","v":""}]
[null,null,{"$f":"IF(追加ワークシート名設定!D44=0,\"\",追加ワークシート名設定!D44)","v":""}]
[null,null,{"$f":"IF(追加ワークシート名設定!D45=0,\"\",追加ワークシート名設定!D45)","v":""}]
[null,null,{"$f":"IF(追加ワークシート名設定!D46=0,\"\",追加ワークシート名設定!D46)","v":""}]
[null,null,{"$f":"IF(追加ワークシート名設定!D47=0,\"\",追加ワークシート名設定!D47)","v":""}]
[null,null,{"$f":"IF(追加ワークシート名設定!D48=0,\"\",追加ワークシート名設定!D48)","v":""}]
[null,null,{"$f":"IF(追加ワークシート名設定!D49=0,\"\",追加ワークシート名設定!D49)","v":""}]
[null,null,{"$f":"IF(追加ワークシート名設定!D50=0,\"\",追加ワークシート名設定!D50)","v":""}]
[null,null,{"$f":"IF(追加ワークシート名設定!D51=0,\"\",追加ワークシート名設定!D51)","v":""}]
[null,null,{"$f":"IF(追加ワークシート名設定!D52=0,\"\",追加ワークシート名設定!D52)","v":""}]
[null,null,{"$f":"IF(追加ワークシート名設定!D53=0,\"\",追加ワークシート名設定!D53)","v":""}]
[null,null,{"$f":"IF(追加ワークシート名設定!D54=0,\"\",追加ワークシート名設定!D54)","v":""}]
[null,null,{"$f":"IF(追加ワークシート名設定!D55=0,\"\",追加ワークシート名設定!D55)","v":""}]
[null,null,{"$f":"IF(追加ワークシート名設定!D56=0,\"\",追加ワークシート名設定!D56)","v":""}]
[null,null,{"$f":"IF(追加ワークシート名設定!D57=0,\"\",追加ワークシート名設定!D57)","v":""}]
[null,null,{"$f":"IF(追加ワークシート名設定!D58=0,\"\",追加ワークシート名設定!D58)","v":""}]
[null,null,{"$f":"IF(追加ワークシート名設定!D59=0,\"\",追加ワークシート名設定!D59)","v":""}]
[null,null,{"$f":"IF(追加ワークシート名設定!D60=0,\"\",追加ワークシート名設定!D60)","v":""}]
[null,null,{"$f":"IF(追加ワークシート名設定!D61=0,\"\",追加ワークシート名設定!D61)","v":""}]
[null,null,{"$f":"IF(追加ワークシート名設定!D62=0,\"\",追加ワークシート名設定!D62)","v":""}]
[null,null,{"$f":"IF(追加ワークシート名設定!D63=0,\"\",追加ワークシート名設定!D63)","v":""}]
[null,null,{"$f":"IF(追加ワークシート名設定!D64=0,\"\",追加ワークシート名設定!D64)","v":""}]
[null,null,{"$f":"IF(追加ワークシート名設定!D65=0,\"\",追加ワークシート名設定!D65)","v":""}]
[null,null,{"$f":"IF(追加ワークシート名設定!D66=0,\"\",追加ワークシート名設定!D66)","v":""}]
[null,null,{"$f":"IF(追加ワークシート名設定!D67=0,\"\",追加ワークシート名設定!D67)","v":""}]
[null,null,{"$f":"IF(追加ワークシート名設定!D68=0,\"\",追加ワークシート名設定!D68)","v":""}]
[null,null,{"$f":"IF(追加ワークシート名設定!D69=0,\"\",追加ワークシート名設定!D69)","v":""}]
[null,null,{"$f":"IF(シート名設定!C30=0,\"\",シート名設定!C30)","v":"入力AA1"}]
[null,null,{"$f":"IF(シート名設定!C31=0,\"\",シート名設定!C31)","v":"入力AA2"}]
[null,null,{"$f":"IF(シート名設定!C32=0,\"\",シート名設定!C32)","v":"入力AA3"}]
[null,null,{"$f":"IF(シート名設定!C33=0,\"\",シート名設定!C33)","v":"入力AA4"}]
[null,null,{"$f":"IF(シート名設定!C34=0,\"\",シート名設定!C34)","v":"入力AA5"}]

{"sheet":"一覧表付ファイル作成入力設定9","index":22,"n_rows":165,"n_cols":5,"rows_kept":165,"cut":false,"hidden":false,"merged":[[2,1,2,2]]}
[]
[]
[null,{"$f":"シート名設定!C17","v":"一覧表付ファイル作成入力設定9"}]
[null,"１．入力元の設定"]
[null,"項　　　　　　目","設定内容"]
[null,"シート名"]
[null,"データ先頭セル行番号"]
[null,"データ先頭セル列番号"]
[null,"異同比較列番号"]
[null,"データー数"]
[null,"For Next の増分"]
[]
[null,"２．入力先の設定"]
[null,"項　　　　　　目","設定内容"]
[null,"シート名"]
[null,"入力先頭セル行番号"]
[null,"入力先頭セル列番号"]
[null,"入力最終セル行番号"]
[null,"入力最終セル列番号"]
[null,"入力データー数"]
[null,"通しページ入力セル行番号"]
[null,"通しページ入力セル列番号"]
[null,"区分内ページ入力セル行番号"]
[null,"区分内ページ入力セル列番号"]
[null,"３．印刷処理かファイルのメール送信の設定"]
[null,"項　　　　　　目","設定内容"]
[null,"印刷処理か\nファイルの\nメール送信\nの選択",null,1]
[null,"ファイルのメール送信の場合の印刷フォームソートデーターシートのメールアドレスが入力されている列番号"]
[null,"ファイルのメール送信の場合の印刷フォームソートデーターシートの件名が入力されている列番号"]
[null,"ファイルのメール送信の場合の印刷フォームソートデーターシートの本文が入力されている列番号"]
[null,"ファイルのメール送信の場合の添付ファイルの保存先ドライブ及びフォルダー"]
[]
[]
[]
[]
[]
[null,null,{"$f":"IF(シート名設定!C35=0,\"\",シート名設定!C35)","v":"印刷フォーム1"},1,"印刷する"]
[null,null,{"$f":"IF(シート名設定!C36=0,\"\",シート名設定!C36)","v":"印刷フォーム2"},2,"メールで送信する"]
[null,null,{"$f":"IF(シート名設定!C37=0,\"\",シート名設定!C37)","v":"印刷フォーム3"},3,"添付ファイルなし件名本文のみのメール"]
[null,null,{"$f":"IF(シート名設定!C38=0,\"\",シート名設定!C38)","v":"印刷フォーム4"}]
[null,null,{"$f":"IF(シート名設定!C39=0,\"\",シート名設定!C39)","v":"印刷フォーム5"}]
[null,null,{"$f":"IF(シート名設定!C40=0,\"\",シート名設定!C40)","v":"印刷フォーム6"}]
[null,null,{"$f":"IF(シート名設定!C41=0,\"\",シート名設定!C41)","v":"印刷フォーム7"}]
[null,null,{"$f":"IF(シート名設定!C42=0,\"\",シート名設定!C42)","v":"印刷フォーム8"}]
[null,null,{"$f":"IF(シート名設定!C43=0,\"\",シート名設定!C43)","v":"印刷フォーム9"}]
[null,null,{"$f":"IF(シート名設定!C44=0,\"\",シート名設定!C44)","v":"印刷フォーム10"}]
[null,null,{"$f":"IF(シート名設定!C45=0,\"\",シート名設定!C45)","v":"印刷フォーム11"}]
[null,null,{"$f":"IF(シート名設定!C46=0,\"\",シート名設定!C46)","v":"印刷フォーム12"}]
[null,null,{"$f":"IF(シート名設定!C47=0,\"\",シート名設定!C47)","v":"印刷フォーム13"}]
[null,null,{"$f":"IF(シート名設定!C48=0,\"\",シート名設定!C48)","v":"印刷フォーム14"}]
[null,null,{"$f":"IF(シート名設定!C49=0,\"\",シート名設定!C49)","v":"印刷フォーム15"}]
[null,null,{"$f":"IF(シート名設定!C50=0,\"\",シート名設定!C50)","v":"印刷フォーム16"}]
[null,null,{"$f":"IF(シート名設定!C51=0,\"\",シート名設定!C51)","v":"印刷フォーム17"}]
[null,null,{"$f":"IF(シート名設定!C52=0,\"\",シート名設定!C52)","v":"印刷フォーム18"}]
[null,null,{"$f":"IF(シート名設定!C53=0,\"\",シート名設定!C53)","v":"印刷フォーム19"}]
[null,null,{"$f":"IF(シート名設定!C54=0,\"\",シート名設定!C54)","v":"印刷フォーム20"}]
[null,null,{"$f":"IF(シート名設定!E5=0,\"\",シート名設定!E5)","v":"印刷フォーム21"}]
[null,null,{"$f":"IF(シート名設定!E6=0,\"\",シート名設定!E6)","v":"印刷フォーム22"}]
[null,null,{"$f":"IF(シート名設定!E7=0,\"\",シート名設定!E7)","v":"印刷フォーム23"}]
[null,null,{"$f":"IF(シート名設定!E8=0,\"\",シート名設定!E8)","v":"印刷フォーム24"}]
[null,null,{"$f":"IF(シート名設定!E9=0,\"\",シート名設定!E9)","v":"印刷フォーム25"}]
[null,null,{"$f":"IF(シート名設定!E10=0,\"\",シート名設定!E10)","v":"印刷フォーム26"}]
[null,null,{"$f":"IF(シート名設定!E11=0,\"\",シート名設定!E11)","v":"印刷フォーム27"}]
[null,null,{"$f":"IF(シート名設定!E12=0,\"\",シート名設定!E12)","v":"印刷フォーム28"}]
[null,null,{"$f":"IF(シート名設定!E13=0,\"\",シート名設定!E13)","v":"印刷フォーム29"}]
[null,null,{"$f":"IF(シート名設定!E14=0,\"\",シート名設定!E14)","v":"印刷フォーム30"}]
[null,null,{"$f":"IF(シート名設定!E15=0,\"\",シート名設定!E15)","v":"印刷フォーム1ソートデーター"}]
[null,null,{"$f":"IF(シート名設定!E16=0,\"\",シート名設定!E16)","v":"印刷フォーム2ソートデーター"}]
[null,null,{"$f":"IF(シート名設定!E17=0,\"\",シート名設定!E17)","v":"印刷フォーム3ソートデーター"}]
[null,null,{"$f":"IF(シート名設定!E18=0,\"\",シート名設定!E18)","v":"印刷フォーム4ソートデーター"}]
[null,null,{"$f":"IF(シート名設定!E19=0,\"\",シート名設定!E19)","v":"印刷フォーム5ソートデーター"}]
[null,null,{"$f":"IF(シート名設定!E20=0,\"\",シート名設定!E20)","v":"印刷フォーム6ソートデーター"}]
[null,null,{"$f":"IF(シート名設定!E21=0,\"\",シート名設定!E21)","v":"印刷フォーム7ソートデーター"}]
[null,null,{"$f":"IF(シート名設定!E22=0,\"\",シート名設定!E22)","v":"印刷フォーム8ソートデーター"}]
[null,null,{"$f":"IF(シート名設定!E23=0,\"\",シート名設定!E23)","v":"印刷フォーム9ソートデーター"}]
[null,null,{"$f":"IF(シート名設定!E24=0,\"\",シート名設定!E24)","v":"印刷フォーム10ソートデーター"}]
[null,null,{"$f":"IF(シート名設定!E25=0,\"\",シート名設定!E25)","v":"印刷フォーム11ソートデーター"}]
[null,null,{"$f":"IF(シート名設定!E26=0,\"\",シート名設定!E26)","v":"印刷フォーム12ソートデーター"}]
[null,null,{"$f":"IF(シート名設定!E27=0,\"\",シート名設定!E27)","v":"印刷フォーム13ソートデーター"}]
[null,null,{"$f":"IF(シート名設定!E28=0,\"\",シート名設定!E28)","v":"印刷フォーム14ソートデーター"}]
[null,null,{"$f":"IF(シート名設定!E29=0,\"\",シート名設定!E29)","v":"印刷フォーム15ソートデーター"}]
[null,null,{"$f":"IF(シート名設定!E30=0,\"\",シート名設定!E30)","v":"印刷フォーム16ソートデーター"}]
[null,null,{"$f":"IF(シート名設定!E31=0,\"\",シート名設定!E31)","v":"印刷フォーム17ソートデーター"}]
[null,null,{"$f":"IF(シート名設定!E32=0,\"\",シート名設定!E32)","v":"印刷フォーム18ソートデーター"}]
[null,null,{"$f":"IF(シート名設定!E33=0,\"\",シート名設定!E33)","v":"印刷フォーム19ソートデーター"}]
[null,null,{"$f":"IF(シート名設定!E34=0,\"\",シート名設定!E34)","v":"印刷フォーム20ソートデーター"}]
[null,null,{"$f":"IF(シート名設定!E35=0,\"\",シート名設定!E35)","v":"印刷フォーム21ソートデーター"}]
[null,null,{"$f":"IF(シート名設定!E36=0,\"\",シート名設定!E36)","v":"印刷フォーム22ソートデーター"}]
[null,null,{"$f":"IF(シート名設定!E37=0,\"\",シート名設定!E37)","v":"印刷フォーム23ソートデーター"}]
[null,null,{"$f":"IF(シート名設定!E38=0,\"\",シート名設定!E38)","v":"印刷フォーム24ソートデーター"}]
[null,null,{"$f":"IF(シート名設定!E39=0,\"\",シート名設定!E39)","v":"印刷フォーム25ソートデーター"}]
[null,null,{"$f":"IF(シート名設定!E40=0,\"\",シート名設定!E40)","v":"印刷フォーム26ソートデーター"}]
[null,null,{"$f":"IF(シート名設定!E41=0,\"\",シート名設定!E41)","v":"印刷フォーム27ソートデーター"}]
[null,null,{"$f":"IF(シート名設定!E42=0,\"\",シート名設定!E42)","v":"印刷フォーム28ソートデーター"}]
[null,null,{"$f":"IF(シート名設定!E43=0,\"\",シート名設定!E43)","v":"印刷フォーム29ソートデーター"}]
[null,null,{"$f":"IF(シート名設定!E44=0,\"\",シート名設定!E44)","v":"印刷フォーム30ソートデーター"}]
[null,null,{"$f":"IF(追加ワークシート名設定!D6=0,\"\",追加ワークシート名設定!D6)","v":""}]
[null,null,{"$f":"IF(追加ワークシート名設定!D7=0,\"\",追加ワークシート名設定!D7)","v":""}]
[null,null,{"$f":"IF(追加ワークシート名設定!D8=0,\"\",追加ワークシート名設定!D8)","v":""}]
[null,null,{"$f":"IF(追加ワークシート名設定!D9=0,\"\",追加ワークシート名設定!D9)","v":""}]
[null,null,{"$f":"IF(追加ワークシート名設定!D10=0,\"\",追加ワークシート名設定!D10)","v":""}]
[null,null,{"$f":"IF(追加ワークシート名設定!D11=0,\"\",追加ワークシート名設定!D11)","v":""}]
[null,null,{"$f":"IF(追加ワークシート名設定!D12=0,\"\",追加ワークシート名設定!D12)","v":""}]
[null,null,{"$f":"IF(追加ワークシート名設定!D13=0,\"\",追加ワークシート名設定!D13)","v":""}]
[null,null,{"$f":"IF(追加ワークシート名設定!D14=0,\"\",追加ワークシート名設定!D14)","v":""}]
[null,null,{"$f":"IF(追加ワークシート名設定!D15=0,\"\",追加ワークシート名設定!D15)","v":""}]
[null,null,{"$f":"IF(追加ワークシート名設定!D16=0,\"\",追加ワークシート名設定!D16)","v":""}]
[null,null,{"$f":"IF(追加ワークシート名設定!D17=0,\"\",追加ワークシート名設定!D17)","v":""}]
[null,null,{"$f":"IF(追加ワークシート名設定!D18=0,\"\",追加ワークシート名設定!D18)","v":""}]
[null,null,{"$f":"IF(追加ワークシート名設定!D19=0,\"\",追加ワークシート名設定!D19)","v":""}]
[null,null,{"$f":"IF(追加ワークシート名設定!D20=0,\"\",追加ワークシート名設定!D20)","v":""}]
[null,null,{"$f":"IF(追加ワークシート名設定!D21=0,\"\",追加ワークシート名設定!D21)","v":""}]
[null,null,{"$f":"IF(追加ワークシート名設定!D22=0,\"\",追加ワークシート名設定!D22)","v":""}]
[null,null,{"$f":"IF(追加ワークシート名設定!D23=0,\"\",追加ワークシート名設定!D23)","v":""}]
[null,null,{"$f":"IF(追加ワークシート名設定!D24=0,\"\",追加ワークシート名設定!D24)","v":""}]
[null,null,{"$f":"IF(追加ワークシート名設定!D25=0,\"\",追加ワークシート名設定!D25)","v":""}]
[null,null,{"$f":"IF(追加ワークシート名設定!D26=0,\"\",追加ワークシート名設定!D26)","v":""}]
[null,null,{"$f":"IF(追加ワークシート名設定!D27=0,\"\",追加ワークシート名設定!D27)","v":""}]
[null,null,{"$f":"IF(追加ワークシート名設定!D28=0,\"\",追加ワークシート名設定!D28)","v":""}]
[null,null,{"$f":"IF(追加ワークシート名設定!D29=0,\"\",追加ワークシート名設定!D29)","v":""}]
[null,null,{"$f":"IF(追加ワークシート名設定!D30=0,\"\",追加ワークシート名設定!D30)","v":""}]
[null,null,{"$f":"IF(追加ワークシート名設定!D31=0,\"\",追加ワークシート名設定!D31)","v":""}]
[null,null,{"$f":"IF(追加ワークシート名設定!D32=0,\"\",追加ワークシート名設定!D32)","v":""}]
[null,null,{"$f":"IF(追加ワークシート名設定!D33=0,\"\",追加ワークシート名設定!D33)","v":""}]
[null,null,{"$f":"IF(追加ワークシート名設定!D34=0,\"\",追加ワークシート名設定!D34)","v":""}]
[null,null,{"$f":"IF(追加ワークシート名設定!D35=0,\"\",追加ワークシート名設定!D35)","v":""}]
[null,null,{"$f":"IF(追加ワークシート名設定!D36=0,\"\",追加ワークシート名設定!D36)","v":""}]
[null,null,{"$f":"IF(追加ワークシート名設定!D37=0,\"\",追加ワークシート名設定!D37)","v":""}]
[null,null,{"$f":"IF(追加ワークシート名設定!D38=0,\"\",追加ワークシート名設定!D38)","v":""}]
[null,null,{"$f":"IF(追加ワークシート名設定!D39=0,\"\",追加ワークシート名設定!D39)","v":""}]
[null,null,{"$f":"IF(追加ワークシート名設定!D40=0,\"\",追加ワークシート名設定!D40)","v":""}]
[null,null,{"$f":"IF(追加ワークシート名設定!D41=0,\"\",追加ワークシート名設定!D41)","v":""}]
[null,null,{"$f":"IF(追加ワークシート名設定!D42=0,\"\",追加ワークシート名設定!D42)","v":""}]
[null,null,{"$f":"IF(追加ワークシート名設定!D43=0,\"\",追加ワークシート名設定!D43)","v":""}]
[null,null,{"$f":"IF(追加ワークシート名設定!D44=0,\"\",追加ワークシート名設定!D44)","v":""}]
[null,null,{"$f":"IF(追加ワークシート名設定!D45=0,\"\",追加ワークシート名設定!D45)","v":""}]
[null,null,{"$f":"IF(追加ワークシート名設定!D46=0,\"\",追加ワークシート名設定!D46)","v":""}]
[null,null,{"$f":"IF(追加ワークシート名設定!D47=0,\"\",追加ワークシート名設定!D47)","v":""}]
[null,null,{"$f":"IF(追加ワークシート名設定!D48=0,\"\",追加ワークシート名設定!D48)","v":""}]
[null,null,{"$f":"IF(追加ワークシート名設定!D49=0,\"\",追加ワークシート名設定!D49)","v":""}]
[null,null,{"$f":"IF(追加ワークシート名設定!D50=0,\"\",追加ワークシート名設定!D50)","v":""}]
[null,null,{"$f":"IF(追加ワークシート名設定!D51=0,\"\",追加ワークシート名設定!D51)","v":""}]
[null,null,{"$f":"IF(追加ワークシート名設定!D52=0,\"\",追加ワークシート名設定!D52)","v":""}]
[null,null,{"$f":"IF(追加ワークシート名設定!D53=0,\"\",追加ワークシート名設定!D53)","v":""}]
[null,null,{"$f":"IF(追加ワークシート名設定!D54=0,\"\",追加ワークシート名設定!D54)","v":""}]
[null,null,{"$f":"IF(追加ワークシート名設定!D55=0,\"\",追加ワークシート名設定!D55)","v":""}]
[null,null,{"$f":"IF(追加ワークシート名設定!D56=0,\"\",追加ワークシート名設定!D56)","v":""}]
[null,null,{"$f":"IF(追加ワークシート名設定!D57=0,\"\",追加ワークシート名設定!D57)","v":""}]
[null,null,{"$f":"IF(追加ワークシート名設定!D58=0,\"\",追加ワークシート名設定!D58)","v":""}]
[null,null,{"$f":"IF(追加ワークシート名設定!D59=0,\"\",追加ワークシート名設定!D59)","v":""}]
[null,null,{"$f":"IF(追加ワークシート名設定!D60=0,\"\",追加ワークシート名設定!D60)","v":""}]
[null,null,{"$f":"IF(追加ワークシート名設定!D61=0,\"\",追加ワークシート名設定!D61)","v":""}]
[null,null,{"$f":"IF(追加ワークシート名設定!D62=0,\"\",追加ワークシート名設定!D62)","v":""}]
[null,null,{"$f":"IF(追加ワークシート名設定!D63=0,\"\",追加ワークシート名設定!D63)","v":""}]
[null,null,{"$f":"IF(追加ワークシート名設定!D64=0,\"\",追加ワークシート名設定!D64)","v":""}]
[null,null,{"$f":"IF(追加ワークシート名設定!D65=0,\"\",追加ワークシート名設定!D65)","v":""}]
[null,null,{"$f":"IF(追加ワークシート名設定!D66=0,\"\",追加ワークシート名設定!D66)","v":""}]
[null,null,{"$f":"IF(追加ワークシート名設定!D67=0,\"\",追加ワークシート名設定!D67)","v":""}]
[null,null,{"$f":"IF(追加ワークシート名設定!D68=0,\"\",追加ワークシート名設定!D68)","v":""}]
[null,null,{"$f":"IF(追加ワークシート名設定!D69=0,\"\",追加ワークシート名設定!D69)","v":""}]
[null,null,{"$f":"IF(シート名設定!C30=0,\"\",シート名設定!C30)","v":"入力AA1"}]
[null,null,{"$f":"IF(シート名設定!C31=0,\"\",シート名設定!C31)","v":"入力AA2"}]
[null,null,{"$f":"IF(シート名設定!C32=0,\"\",シート名設定!C32)","v":"入力AA3"}]
[null,null,{"$f":"IF(シート名設定!C33=0,\"\",シート名設定!C33)","v":"入力AA4"}]
[null,null,{"$f":"IF(シート名設定!C34=0,\"\",シート名設定!C34)","v":"入力AA5"}]

{"sheet":"一覧表付ファイル作成入力設定10","index":23,"n_rows":165,"n_cols":5,"rows_kept":165,"cut":false,"hidden":false,"merged":[[2,1,2,2]]}
[]
[]
[null,{"$f":"シート名設定!C18","v":"一覧表付ファイル作成入力設定10"}]
[null,"１．入力元の設定"]
[null,"項　　　　　　目","設定内容"]
[null,"シート名"]
[null,"データ先頭セル行番号"]
[null,"データ先頭セル列番号"]
[null,"異同比較列番号"]
[null,"データー数"]
[null,"For Next の増分"]
[]
[null,"２．入力先の設定"]
[null,"項　　　　　　目","設定内容"]
[null,"シート名"]
[null,"入力先頭セル行番号"]
[null,"入力先頭セル列番号"]
[null,"入力最終セル行番号"]
[null,"入力最終セル列番号"]
[null,"入力データー数"]
[null,"通しページ入力セル行番号"]
[null,"通しページ入力セル列番号"]
[null,"区分内ページ入力セル行番号"]
[null,"区分内ページ入力セル列番号"]
[null,"３．印刷処理かファイルのメール送信の設定"]
[null,"項　　　　　　目","設定内容"]
[null,"印刷処理か\nファイルの\nメール送信\nの選択",null,1]
[null,"ファイルのメール送信の場合の印刷フォームソートデーターシートのメールアドレスが入力されている列番号"]
[null,"ファイルのメール送信の場合の印刷フォームソートデーターシートの件名が入力されている列番号"]
[null,"ファイルのメール送信の場合の印刷フォームソートデーターシートの本文が入力されている列番号"]
[null,"ファイルのメール送信の場合の添付ファイルの保存先ドライブ及びフォルダー"]
[]
[]
[]
[]
[]
[null,null,{"$f":"IF(シート名設定!C35=0,\"\",シート名設定!C35)","v":"印刷フォーム1"},1,"印刷する"]
[null,null,{"$f":"IF(シート名設定!C36=0,\"\",シート名設定!C36)","v":"印刷フォーム2"},2,"メールで送信する"]
[null,null,{"$f":"IF(シート名設定!C37=0,\"\",シート名設定!C37)","v":"印刷フォーム3"},3,"添付ファイルなし件名本文のみのメール"]
[null,null,{"$f":"IF(シート名設定!C38=0,\"\",シート名設定!C38)","v":"印刷フォーム4"}]
[null,null,{"$f":"IF(シート名設定!C39=0,\"\",シート名設定!C39)","v":"印刷フォーム5"}]
[null,null,{"$f":"IF(シート名設定!C40=0,\"\",シート名設定!C40)","v":"印刷フォーム6"}]
[null,null,{"$f":"IF(シート名設定!C41=0,\"\",シート名設定!C41)","v":"印刷フォーム7"}]
[null,null,{"$f":"IF(シート名設定!C42=0,\"\",シート名設定!C42)","v":"印刷フォーム8"}]
[null,null,{"$f":"IF(シート名設定!C43=0,\"\",シート名設定!C43)","v":"印刷フォーム9"}]
[null,null,{"$f":"IF(シート名設定!C44=0,\"\",シート名設定!C44)","v":"印刷フォーム10"}]
[null,null,{"$f":"IF(シート名設定!C45=0,\"\",シート名設定!C45)","v":"印刷フォーム11"}]
[null,null,{"$f":"IF(シート名設定!C46=0,\"\",シート名設定!C46)","v":"印刷フォーム12"}]
[null,null,{"$f":"IF(シート名設定!C47=0,\"\",シート名設定!C47)","v":"印刷フォーム13"}]
[null,null,{"$f":"IF(シート名設定!C48=0,\"\",シート名設定!C48)","v":"印刷フォーム14"}]
[null,null,{"$f":"IF(シート名設定!C49=0,\"\",シート名設定!C49)","v":"印刷フォーム15"}]
[null,null,{"$f":"IF(シート名設定!C50=0,\"\",シート名設定!C50)","v":"印刷フォーム16"}]
[null,null,{"$f":"IF(シート名設定!C51=0,\"\",シート名設定!C51)","v":"印刷フォーム17"}]
[null,null,{"$f":"IF(シート名設定!C52=0,\"\",シート名設定!C52)","v":"印刷フォーム18"}]
[null,null,{"$f":"IF(シート名設定!C53=0,\"\",シート名設定!C53)","v":"印刷フォーム19"}]
[null,null,{"$f":"IF(シート名設定!C54=0,\"\",シート名設定!C54)","v":"印刷フォーム20"}]
[null,null,{"$f":"IF(シート名設定!E5=0,\"\",シート名設定!E5)","v":"印刷フォーム21"}]
[null,null,{"$f":"IF(シート名設定!E6=0,\"\",シート名設定!E6)","v":"印刷フォーム22"}]
[null,null,{"$f":"IF(シート名設定!E7=0,\"\",シート名設定!E7)","v":"印刷フォーム23"}]
[null,null,{"$f":"IF(シート名設定!E8=0,\"\",シート名設定!E8)","v":"印刷フォーム24"}]
[null,null,{"$f":"IF(シート名設定!E9=0,\"\",シート名設定!E9)","v":"印刷フォーム25"}]
[null,null,{"$f":"IF(シート名設定!E10=0,\"\",シート名設定!E10)","v":"印刷フォーム26"}]
[null,null,{"$f":"IF(シート名設定!E11=0,\"\",シート名設定!E11)","v":"印刷フォーム27"}]
[null,null,{"$f":"IF(シート名設定!E12=0,\"\",シート名設定!E12)","v":"印刷フォーム28"}]
[null,null,{"$f":"IF(シート名設定!E13=0,\"\",シート名設定!E13)","v":"印刷フォーム29"}]
[null,null,{"$f":"IF(シート名設定!E14=0,\"\",シート名設定!E14)","v":"印刷フォーム30"}]
[null,null,{"$f":"IF(シート名設定!E15=0,\"\",シート名設定!E15)","v":"印刷フォーム1ソートデーター"}]
[null,null,{"$f":"IF(シート名設定!E16=0,\"\",シート名設定!E16)","v":"印刷フォーム2ソートデーター"}]
[null,null,{"$f":"IF(シート名設定!E17=0,\"\",シート名設定!E17)","v":"印刷フォーム3ソートデーター"}]
[null,null,{"$f":"IF(シート名設定!E18=0,\"\",シート名設定!E18)","v":"印刷フォーム4ソートデーター"}]
[null,null,{"$f":"IF(シート名設定!E19=0,\"\",シート名設定!E19)","v":"印刷フォーム5ソートデーター"}]
[null,null,{"$f":"IF(シート名設定!E20=0,\"\",シート名設定!E20)","v":"印刷フォーム6ソートデーター"}]
[null,null,{"$f":"IF(シート名設定!E21=0,\"\",シート名設定!E21)","v":"印刷フォーム7ソートデーター"}]
[null,null,{"$f":"IF(シート名設定!E22=0,\"\",シート名設定!E22)","v":"印刷フォーム8ソートデーター"}]
[null,null,{"$f":"IF(シート名設定!E23=0,\"\",シート名設定!E23)","v":"印刷フォーム9ソートデーター"}]
[null,null,{"$f":"IF(シート名設定!E24=0,\"\",シート名設定!E24)","v":"印刷フォーム10ソートデーター"}]
[null,null,{"$f":"IF(シート名設定!E25=0,\"\",シート名設定!E25)","v":"印刷フォーム11ソートデーター"}]
[null,null,{"$f":"IF(シート名設定!E26=0,\"\",シート名設定!E26)","v":"印刷フォーム12ソートデーター"}]
[null,null,{"$f":"IF(シート名設定!E27=0,\"\",シート名設定!E27)","v":"印刷フォーム13ソートデーター"}]
[null,null,{"$f":"IF(シート名設定!E28=0,\"\",シート名設定!E28)","v":"印刷フォーム14ソートデーター"}]
[null,null,{"$f":"IF(シート名設定!E29=0,\"\",シート名設定!E29)","v":"印刷フォーム15ソートデーター"}]
[null,null,{"$f":"IF(シート名設定!E30=0,\"\",シート名設定!E30)","v":"印刷フォーム16ソートデーター"}]
[null,null,{"$f":"IF(シート名設定!E31=0,\"\",シート名設定!E31)","v":"印刷フォーム17ソートデーター"}]
[null,null,{"$f":"IF(シート名設定!E32=0,\"\",シート名設定!E32)","v":"印刷フォーム18ソートデーター"}]
[null,null,{"$f":"IF(シート名設定!E33=0,\"\",シート名設定!E33)","v":"印刷フォーム19ソートデーター"}]
[null,null,{"$f":"IF(シート名設定!E34=0,\"\",シート名設定!E34)","v":"印刷フォーム20ソートデーター"}]
[null,null,{"$f":"IF(シート名設定!E35=0,\"\",シート名設定!E35)","v":"印刷フォーム21ソートデーター"}]
[null,null,{"$f":"IF(シート名設定!E36=0,\"\",シート名設定!E36)","v":"印刷フォーム22ソートデーター"}]
[null,null,{"$f":"IF(シート名設定!E37=0,\"\",シート名設定!E37)","v":"印刷フォーム23ソートデーター"}]
[null,null,{"$f":"IF(シート名設定!E38=0,\"\",シート名設定!E38)","v":"印刷フォーム24ソートデーター"}]
[null,null,{"$f":"IF(シート名設定!E39=0,\"\",シート名設定!E39)","v":"印刷フォーム25ソートデーター"}]
[null,null,{"$f":"IF(シート名設定!E40=0,\"\",シート名設定!E40)","v":"印刷フォーム26ソートデーター"}]
[null,null,{"$f":"IF(シート名設定!E41=0,\"\",シート名設定!E41)","v":"印刷フォーム27ソートデーター"}]
[null,null,{"$f":"IF(シート名設定!E42=0,\"\",シート名設定!E42)","v":"印刷フォーム28ソートデーター"}]
[null,null,{"$f":"IF(シート名設定!E43=0,\"\",シート名設定!E43)","v":"印刷フォーム29ソートデーター"}]
[null,null,{"$f":"IF(シート名設定!E44=0,\"\",シート名設定!E44)","v":"印刷フォーム30ソートデーター"}]
[null,null,{"$f":"IF(追加ワークシート名設定!D6=0,\"\",追加ワークシート名設定!D6)","v":""}]
[null,null,{"$f":"IF(追加ワークシート名設定!D7=0,\"\",追加ワークシート名設定!D7)","v":""}]
[null,null,{"$f":"IF(追加ワークシート名設定!D8=0,\"\",追加ワークシート名設定!D8)","v":""}]
[null,null,{"$f":"IF(追加ワークシート名設定!D9=0,\"\",追加ワークシート名設定!D9)","v":""}]
[null,null,{"$f":"IF(追加ワークシート名設定!D10=0,\"\",追加ワークシート名設定!D10)","v":""}]
[null,null,{"$f":"IF(追加ワークシート名設定!D11=0,\"\",追加ワークシート名設定!D11)","v":""}]
[null,null,{"$f":"IF(追加ワークシート名設定!D12=0,\"\",追加ワークシート名設定!D12)","v":""}]
[null,null,{"$f":"IF(追加ワークシート名設定!D13=0,\"\",追加ワークシート名設定!D13)","v":""}]
[null,null,{"$f":"IF(追加ワークシート名設定!D14=0,\"\",追加ワークシート名設定!D14)","v":""}]
[null,null,{"$f":"IF(追加ワークシート名設定!D15=0,\"\",追加ワークシート名設定!D15)","v":""}]
[null,null,{"$f":"IF(追加ワークシート名設定!D16=0,\"\",追加ワークシート名設定!D16)","v":""}]
[null,null,{"$f":"IF(追加ワークシート名設定!D17=0,\"\",追加ワークシート名設定!D17)","v":""}]
[null,null,{"$f":"IF(追加ワークシート名設定!D18=0,\"\",追加ワークシート名設定!D18)","v":""}]
[null,null,{"$f":"IF(追加ワークシート名設定!D19=0,\"\",追加ワークシート名設定!D19)","v":""}]
[null,null,{"$f":"IF(追加ワークシート名設定!D20=0,\"\",追加ワークシート名設定!D20)","v":""}]
[null,null,{"$f":"IF(追加ワークシート名設定!D21=0,\"\",追加ワークシート名設定!D21)","v":""}]
[null,null,{"$f":"IF(追加ワークシート名設定!D22=0,\"\",追加ワークシート名設定!D22)","v":""}]
[null,null,{"$f":"IF(追加ワークシート名設定!D23=0,\"\",追加ワークシート名設定!D23)","v":""}]
[null,null,{"$f":"IF(追加ワークシート名設定!D24=0,\"\",追加ワークシート名設定!D24)","v":""}]
[null,null,{"$f":"IF(追加ワークシート名設定!D25=0,\"\",追加ワークシート名設定!D25)","v":""}]
[null,null,{"$f":"IF(追加ワークシート名設定!D26=0,\"\",追加ワークシート名設定!D26)","v":""}]
[null,null,{"$f":"IF(追加ワークシート名設定!D27=0,\"\",追加ワークシート名設定!D27)","v":""}]
[null,null,{"$f":"IF(追加ワークシート名設定!D28=0,\"\",追加ワークシート名設定!D28)","v":""}]
[null,null,{"$f":"IF(追加ワークシート名設定!D29=0,\"\",追加ワークシート名設定!D29)","v":""}]
[null,null,{"$f":"IF(追加ワークシート名設定!D30=0,\"\",追加ワークシート名設定!D30)","v":""}]
[null,null,{"$f":"IF(追加ワークシート名設定!D31=0,\"\",追加ワークシート名設定!D31)","v":""}]
[null,null,{"$f":"IF(追加ワークシート名設定!D32=0,\"\",追加ワークシート名設定!D32)","v":""}]
[null,null,{"$f":"IF(追加ワークシート名設定!D33=0,\"\",追加ワークシート名設定!D33)","v":""}]
[null,null,{"$f":"IF(追加ワークシート名設定!D34=0,\"\",追加ワークシート名設定!D34)","v":""}]
[null,null,{"$f":"IF(追加ワークシート名設定!D35=0,\"\",追加ワークシート名設定!D35)","v":""}]
[null,null,{"$f":"IF(追加ワークシート名設定!D36=0,\"\",追加ワークシート名設定!D36)","v":""}]
[null,null,{"$f":"IF(追加ワークシート名設定!D37=0,\"\",追加ワークシート名設定!D37)","v":""}]
[null,null,{"$f":"IF(追加ワークシート名設定!D38=0,\"\",追加ワークシート名設定!D38)","v":""}]
[null,null,{"$f":"IF(追加ワークシート名設定!D39=0,\"\",追加ワークシート名設定!D39)","v":""}]
[null,null,{"$f":"IF(追加ワークシート名設定!D40=0,\"\",追加ワークシート名設定!D40)","v":""}]
[null,null,{"$f":"IF(追加ワークシート名設定!D41=0,\"\",追加ワークシート名設定!D41)","v":""}]
[null,null,{"$f":"IF(追加ワークシート名設定!D42=0,\"\",追加ワークシート名設定!D42)","v":""}]
[null,null,{"$f":"IF(追加ワークシート名設定!D43=0,\"\",追加ワークシート名設定!D43)","v":""}]
[null,null,{"$f":"IF(追加ワークシート名設定!D44=0,\"\",追加ワークシート名設定!D44)","v":""}]
[null,null,{"$f":"IF(追加ワークシート名設定!D45=0,\"\",追加ワークシート名設定!D45)","v":""}]
[null,null,{"$f":"IF(追加ワークシート名設定!D46=0,\"\",追加ワークシート名設定!D46)","v":""}]
[null,null,{"$f":"IF(追加ワークシート名設定!D47=0,\"\",追加ワークシート名設定!D47)","v":""}]
[null,null,{"$f":"IF(追加ワークシート名設定!D48=0,\"\",追加ワークシート名設定!D48)","v":""}]
[null,null,{"$f":"IF(追加ワークシート名設定!D49=0,\"\",追加ワークシート名設定!D49)","v":""}]
[null,null,{"$f":"IF(追加ワークシート名設定!D50=0,\"\",追加ワークシート名設定!D50)","v":""}]
[null,null,{"$f":"IF(追加ワークシート名設定!D51=0,\"\",追加ワークシート名設定!D51)","v":""}]
[null,null,{"$f":"IF(追加ワークシート名設定!D52=0,\"\",追加ワークシート名設定!D52)","v":""}]
[null,null,{"$f":"IF(追加ワークシート名設定!D53=0,\"\",追加ワークシート名設定!D53)","v":""}]
[null,null,{"$f":"IF(追加ワークシート名設定!D54=0,\"\",追加ワークシート名設定!D54)","v":""}]
[null,null,{"$f":"IF(追加ワークシート名設定!D55=0,\"\",追加ワークシート名設定!D55)","v":""}]
[null,null,{"$f":"IF(追加ワークシート名設定!D56=0,\"\",追加ワークシート名設定!D56)","v":""}]
[null,null,{"$f":"IF(追加ワークシート名設定!D57=0,\"\",追加ワークシート名設定!D57)","v":""}]
[null,null,{"$f":"IF(追加ワークシート名設定!D58=0,\"\",追加ワークシート名設定!D58)","v":""}]
[null,null,{"$f":"IF(追加ワークシート名設定!D59=0,\"\",追加ワークシート名設定!D59)","v":""}]
[null,null,{"$f":"IF(追加ワークシート名設定!D60=0,\"\",追加ワークシート名設定!D60)","v":""}]
[null,null,{"$f":"IF(追加ワークシート名設定!D61=0,\"\",追加ワークシート名設定!D61)","v":""}]
[null,null,{"$f":"IF(追加ワークシート名設定!D62=0,\"\",追加ワークシート名設定!D62)","v":""}]
[null,null,{"$f":"IF(追加ワークシート名設定!D63=0,\"\",追加ワークシート名設定!D63)","v":""}]
[null,null,{"$f":"IF(追加ワークシート名設定!D64=0,\"\",追加ワークシート名設定!D64)","v":""}]
[null,null,{"$f":"IF(追加ワークシート名設定!D65=0,\"\",追加ワークシート名設定!D65)","v":""}]
[null,null,{"$f":"IF(追加ワークシート名設定!D66=0,\"\",追加ワークシート名設定!D66)","v":""}]
[null,null,{"$f":"IF(追加ワークシート名設定!D67=0,\"\",追加ワークシート名設定!D67)","v":""}]
[null,null,{"$f":"IF(追加ワークシート名設定!D68=0,\"\",追加ワークシート名設定!D68)","v":""}]
[null,null,{"$f":"IF(追加ワークシート名設定!D69=0,\"\",追加ワークシート名設定!D69)","v":""}]
[null,null,{"$f":"IF(シート名設定!C30=0,\"\",シート名設定!C30)","v":"入力AA1"}]
[null,null,{"$f":"IF(シート名設定!C31=0,\"\",シート名設定!C31)","v":"入力AA2"}]
[null,null,{"$f":"IF(シート名設定!C32=0,\"\",シート名設定!C32)","v":"入力AA3"}]
[null,null,{"$f":"IF(シート名設定!C33=0,\"\",シート名設定!C33)","v":"入力AA4"}]
[null,null,{"$f":"IF(シート名設定!C34=0,\"\",シート名設定!C34)","v":"入力AA5"}]

{"sheet":"一覧表付ファイル作成入力設定11","index":24,"n_rows":165,"n_cols":5,"rows_kept":165,"cut":false,"hidden":false,"merged":[[2,1,2,2]]}
[]
[]
[null,{"$f":"シート名設定!C19","v":"一覧表付ファイル作成入力設定11"}]
[null,"１．入力元の設定"]
[null,"項　　　　　　目","設定内容"]
[null,"シート名"]
[null,"データ先頭セル行番号"]
[null,"データ先頭セル列番号"]
[null,"異同比較列番号"]
[null,"データー数"]
[null,"For Next の増分"]
[]
[null,"２．入力先の設定"]
[null,"項　　　　　　目","設定内容"]
[null,"シート名"]
[null,"入力先頭セル行番号"]
[null,"入力先頭セル列番号"]
[null,"入力最終セル行番号"]
[null,"入力最終セル列番号"]
[null,"入力データー数"]
[null,"通しページ入力セル行番号"]
[null,"通しページ入力セル列番号"]
[null,"区分内ページ入力セル行番号"]
[null,"区分内ページ入力セル列番号"]
[null,"３．印刷処理かファイルのメール送信の設定"]
[null,"項　　　　　　目","設定内容"]
[null,"印刷処理か\nファイルの\nメール送信\nの選択",null,1]
[null,"ファイルのメール送信の場合の印刷フォームソートデーターシートのメールアドレスが入力されている列番号"]
[null,"ファイルのメール送信の場合の印刷フォームソートデーターシートの件名が入力されている列番号"]
[null,"ファイルのメール送信の場合の印刷フォームソートデーターシートの本文が入力されている列番号"]
[null,"ファイルのメール送信の場合の添付ファイルの保存先ドライブ及びフォルダー"]
[]
[]
[]
[]
[]
[null,null,{"$f":"IF(シート名設定!C35=0,\"\",シート名設定!C35)","v":"印刷フォーム1"},1,"印刷する"]
[null,null,{"$f":"IF(シート名設定!C36=0,\"\",シート名設定!C36)","v":"印刷フォーム2"},2,"メールで送信する"]
[null,null,{"$f":"IF(シート名設定!C37=0,\"\",シート名設定!C37)","v":"印刷フォーム3"},3,"添付ファイルなし件名本文のみのメール"]
[null,null,{"$f":"IF(シート名設定!C38=0,\"\",シート名設定!C38)","v":"印刷フォーム4"}]
[null,null,{"$f":"IF(シート名設定!C39=0,\"\",シート名設定!C39)","v":"印刷フォーム5"}]
[null,null,{"$f":"IF(シート名設定!C40=0,\"\",シート名設定!C40)","v":"印刷フォーム6"}]
[null,null,{"$f":"IF(シート名設定!C41=0,\"\",シート名設定!C41)","v":"印刷フォーム7"}]
[null,null,{"$f":"IF(シート名設定!C42=0,\"\",シート名設定!C42)","v":"印刷フォーム8"}]
[null,null,{"$f":"IF(シート名設定!C43=0,\"\",シート名設定!C43)","v":"印刷フォーム9"}]
[null,null,{"$f":"IF(シート名設定!C44=0,\"\",シート名設定!C44)","v":"印刷フォーム10"}]
[null,null,{"$f":"IF(シート名設定!C45=0,\"\",シート名設定!C45)","v":"印刷フォーム11"}]
[null,null,{"$f":"IF(シート名設定!C46=0,\"\",シート名設定!C46)","v":"印刷フォーム12"}]
[null,null,{"$f":"IF(シート名設定!C47=0,\"\",シート名設定!C47)","v":"印刷フォーム13"}]
[null,null,{"$f":"IF(シート名設定!C48=0,\"\",シート名設定!C48)","v":"印刷フォーム14"}]
[null,null,{"$f":"IF(シート名設定!C49=0,\"\",シート名設定!C49)","v":"印刷フォーム15"}]
[null,null,{"$f":"IF(シート名設定!C50=0,\"\",シート名設定!C50)","v":"印刷フォーム16"}]
[null,null,{"$f":"IF(シート名設定!C51=0,\"\",シート名設定!C51)","v":"印刷フォーム17"}]
[null,null,{"$f":"IF(シート名設定!C52=0,\"\",シート名設定!C52)","v":"印刷フォーム18"}]
[null,null,{"$f":"IF(シート名設定!C53=0,\"\",シート名設定!C53)","v":"印刷フォーム19"}]
[null,null,{"$f":"IF(シート名設定!C54=0,\"\",シート名設定!C54)","v":"印刷フォーム20"}]
[null,null,{"$f":"IF(シート名設定!E5=0,\"\",シート名設定!E5)","v":"印刷フォーム21"}]
[null,null,{"$f":"IF(シート名設定!E6=0,\"\",シート名設定!E6)","v":"印刷フォーム22"}]
[null,null,{"$f":"IF(シート名設定!E7=0,\"\",シート名設定!E7)","v":"印刷フォーム23"}]
[null,null,{"$f":"IF(シート名設定!E8=0,\"\",シート名設定!E8)","v":"印刷フォーム24"}]
[null,null,{"$f":"IF(シート名設定!E9=0,\"\",シート名設定!E9)","v":"印刷フォーム25"}]
[null,null,{"$f":"IF(シート名設定!E10=0,\"\",シート名設定!E10)","v":"印刷フォーム26"}]
[null,null,{"$f":"IF(シート名設定!E11=0,\"\",シート名設定!E11)","v":"印刷フォーム27"}]
[null,null,{"$f":"IF(シート名設定!E12=0,\"\",シート名設定!E12)","v":"印刷フォーム28"}]
[null,null,{"$f":"IF(シート名設定!E13=0,\"\",シート名設定!E13)","v":"印刷フォーム29"}]
[null,null,{"$f":"IF(シート名設定!E14=0,\"\",シート名設定!E14)","v":"印刷フォーム30"}]
[null,null,{"$f":"IF(シート名設定!E15=0,\"\",シート名設定!E15)","v":"印刷フォーム1ソートデーター"}]
[null,null,{"$f":"IF(シート名設定!E16=0,\"\",シート名設定!E16)","v":"印刷フォーム2ソートデーター"}]
[null,null,{"$f":"IF(シート名設定!E17=0,\"\",シート名設定!E17)","v":"印刷フォーム3ソートデーター"}]
[null,null,{"$f":"IF(シート名設定!E18=0,\"\",シート名設定!E18)","v":"印刷フォーム4ソートデーター"}]
[null,null,{"$f":"IF(シート名設定!E19=0,\"\",シート名設定!E19)","v":"印刷フォーム5ソートデーター"}]
[null,null,{"$f":"IF(シート名設定!E20=0,\"\",シート名設定!E20)","v":"印刷フォーム6ソートデーター"}]
[null,null,{"$f":"IF(シート名設定!E21=0,\"\",シート名設定!E21)","v":"印刷フォーム7ソートデーター"}]
[null,null,{"$f":"IF(シート名設定!E22=0,\"\",シート名設定!E22)","v":"印刷フォーム8ソートデーター"}]
[null,null,{"$f":"IF(シート名設定!E23=0,\"\",シート名設定!E23)","v":"印刷フォーム9ソートデーター"}]
[null,null,{"$f":"IF(シート名設定!E24=0,\"\",シート名設定!E24)","v":"印刷フォーム10ソートデーター"}]
[null,null,{"$f":"IF(シート名設定!E25=0,\"\",シート名設定!E25)","v":"印刷フォーム11ソートデーター"}]
[null,null,{"$f":"IF(シート名設定!E26=0,\"\",シート名設定!E26)","v":"印刷フォーム12ソートデーター"}]
[null,null,{"$f":"IF(シート名設定!E27=0,\"\",シート名設定!E27)","v":"印刷フォーム13ソートデーター"}]
[null,null,{"$f":"IF(シート名設定!E28=0,\"\",シート名設定!E28)","v":"印刷フォーム14ソートデーター"}]
[null,null,{"$f":"IF(シート名設定!E29=0,\"\",シート名設定!E29)","v":"印刷フォーム15ソートデーター"}]
[null,null,{"$f":"IF(シート名設定!E30=0,\"\",シート名設定!E30)","v":"印刷フォーム16ソートデーター"}]
[null,null,{"$f":"IF(シート名設定!E31=0,\"\",シート名設定!E31)","v":"印刷フォーム17ソートデーター"}]
[null,null,{"$f":"IF(シート名設定!E32=0,\"\",シート名設定!E32)","v":"印刷フォーム18ソートデーター"}]
[null,null,{"$f":"IF(シート名設定!E33=0,\"\",シート名設定!E33)","v":"印刷フォーム19ソートデーター"}]
[null,null,{"$f":"IF(シート名設定!E34=0,\"\",シート名設定!E34)","v":"印刷フォーム20ソートデーター"}]
[null,null,{"$f":"IF(シート名設定!E35=0,\"\",シート名設定!E35)","v":"印刷フォーム21ソートデーター"}]
[null,null,{"$f":"IF(シート名設定!E36=0,\"\",シート名設定!E36)","v":"印刷フォーム22ソートデーター"}]
[null,null,{"$f":"IF(シート名設定!E37=0,\"\",シート名設定!E37)","v":"印刷フォーム23ソートデーター"}]
[null,null,{"$f":"IF(シート名設定!E38=0,\"\",シート名設定!E38)","v":"印刷フォーム24ソートデーター"}]
[null,null,{"$f":"IF(シート名設定!E39=0,\"\",シート名設定!E39)","v":"印刷フォーム25ソートデーター"}]
[null,null,{"$f":"IF(シート名設定!E40=0,\"\",シート名設定!E40)","v":"印刷フォーム26ソートデーター"}]
[null,null,{"$f":"IF(シート名設定!E41=0,\"\",シート名設定!E41)","v":"印刷フォーム27ソートデーター"}]
[null,null,{"$f":"IF(シート名設定!E42=0,\"\",シート名設定!E42)","v":"印刷フォーム28ソートデーター"}]
[null,null,{"$f":"IF(シート名設定!E43=0,\"\",シート名設定!E43)","v":"印刷フォーム29ソートデーター"}]
[null,null,{"$f":"IF(シート名設定!E44=0,\"\",シート名設定!E44)","v":"印刷フォーム30ソートデーター"}]
[null,null,{"$f":"IF(追加ワークシート名設定!D6=0,\"\",追加ワークシート名設定!D6)","v":""}]
[null,null,{"$f":"IF(追加ワークシート名設定!D7=0,\"\",追加ワークシート名設定!D7)","v":""}]
[null,null,{"$f":"IF(追加ワークシート名設定!D8=0,\"\",追加ワークシート名設定!D8)","v":""}]
[null,null,{"$f":"IF(追加ワークシート名設定!D9=0,\"\",追加ワークシート名設定!D9)","v":""}]
[null,null,{"$f":"IF(追加ワークシート名設定!D10=0,\"\",追加ワークシート名設定!D10)","v":""}]
[null,null,{"$f":"IF(追加ワークシート名設定!D11=0,\"\",追加ワークシート名設定!D11)","v":""}]
[null,null,{"$f":"IF(追加ワークシート名設定!D12=0,\"\",追加ワークシート名設定!D12)","v":""}]
[null,null,{"$f":"IF(追加ワークシート名設定!D13=0,\"\",追加ワークシート名設定!D13)","v":""}]
[null,null,{"$f":"IF(追加ワークシート名設定!D14=0,\"\",追加ワークシート名設定!D14)","v":""}]
[null,null,{"$f":"IF(追加ワークシート名設定!D15=0,\"\",追加ワークシート名設定!D15)","v":""}]
[null,null,{"$f":"IF(追加ワークシート名設定!D16=0,\"\",追加ワークシート名設定!D16)","v":""}]
[null,null,{"$f":"IF(追加ワークシート名設定!D17=0,\"\",追加ワークシート名設定!D17)","v":""}]
[null,null,{"$f":"IF(追加ワークシート名設定!D18=0,\"\",追加ワークシート名設定!D18)","v":""}]
[null,null,{"$f":"IF(追加ワークシート名設定!D19=0,\"\",追加ワークシート名設定!D19)","v":""}]
[null,null,{"$f":"IF(追加ワークシート名設定!D20=0,\"\",追加ワークシート名設定!D20)","v":""}]
[null,null,{"$f":"IF(追加ワークシート名設定!D21=0,\"\",追加ワークシート名設定!D21)","v":""}]
[null,null,{"$f":"IF(追加ワークシート名設定!D22=0,\"\",追加ワークシート名設定!D22)","v":""}]
[null,null,{"$f":"IF(追加ワークシート名設定!D23=0,\"\",追加ワークシート名設定!D23)","v":""}]
[null,null,{"$f":"IF(追加ワークシート名設定!D24=0,\"\",追加ワークシート名設定!D24)","v":""}]
[null,null,{"$f":"IF(追加ワークシート名設定!D25=0,\"\",追加ワークシート名設定!D25)","v":""}]
[null,null,{"$f":"IF(追加ワークシート名設定!D26=0,\"\",追加ワークシート名設定!D26)","v":""}]
[null,null,{"$f":"IF(追加ワークシート名設定!D27=0,\"\",追加ワークシート名設定!D27)","v":""}]
[null,null,{"$f":"IF(追加ワークシート名設定!D28=0,\"\",追加ワークシート名設定!D28)","v":""}]
[null,null,{"$f":"IF(追加ワークシート名設定!D29=0,\"\",追加ワークシート名設定!D29)","v":""}]
[null,null,{"$f":"IF(追加ワークシート名設定!D30=0,\"\",追加ワークシート名設定!D30)","v":""}]
[null,null,{"$f":"IF(追加ワークシート名設定!D31=0,\"\",追加ワークシート名設定!D31)","v":""}]
[null,null,{"$f":"IF(追加ワークシート名設定!D32=0,\"\",追加ワークシート名設定!D32)","v":""}]
[null,null,{"$f":"IF(追加ワークシート名設定!D33=0,\"\",追加ワークシート名設定!D33)","v":""}]
[null,null,{"$f":"IF(追加ワークシート名設定!D34=0,\"\",追加ワークシート名設定!D34)","v":""}]
[null,null,{"$f":"IF(追加ワークシート名設定!D35=0,\"\",追加ワークシート名設定!D35)","v":""}]
[null,null,{"$f":"IF(追加ワークシート名設定!D36=0,\"\",追加ワークシート名設定!D36)","v":""}]
[null,null,{"$f":"IF(追加ワークシート名設定!D37=0,\"\",追加ワークシート名設定!D37)","v":""}]
[null,null,{"$f":"IF(追加ワークシート名設定!D38=0,\"\",追加ワークシート名設定!D38)","v":""}]
[null,null,{"$f":"IF(追加ワークシート名設定!D39=0,\"\",追加ワークシート名設定!D39)","v":""}]
[null,null,{"$f":"IF(追加ワークシート名設定!D40=0,\"\",追加ワークシート名設定!D40)","v":""}]
[null,null,{"$f":"IF(追加ワークシート名設定!D41=0,\"\",追加ワークシート名設定!D41)","v":""}]
[null,null,{"$f":"IF(追加ワークシート名設定!D42=0,\"\",追加ワークシート名設定!D42)","v":""}]
[null,null,{"$f":"IF(追加ワークシート名設定!D43=0,\"\",追加ワークシート名設定!D43)","v":""}]
[null,null,{"$f":"IF(追加ワークシート名設定!D44=0,\"\",追加ワークシート名設定!D44)","v":""}]
[null,null,{"$f":"IF(追加ワークシート名設定!D45=0,\"\",追加ワークシート名設定!D45)","v":""}]
[null,null,{"$f":"IF(追加ワークシート名設定!D46=0,\"\",追加ワークシート名設定!D46)","v":""}]
[null,null,{"$f":"IF(追加ワークシート名設定!D47=0,\"\",追加ワークシート名設定!D47)","v":""}]
[null,null,{"$f":"IF(追加ワークシート名設定!D48=0,\"\",追加ワークシート名設定!D48)","v":""}]
[null,null,{"$f":"IF(追加ワークシート名設定!D49=0,\"\",追加ワークシート名設定!D49)","v":""}]
[null,null,{"$f":"IF(追加ワークシート名設定!D50=0,\"\",追加ワークシート名設定!D50)","v":""}]
[null,null,{"$f":"IF(追加ワークシート名設定!D51=0,\"\",追加ワークシート名設定!D51)","v":""}]
[null,null,{"$f":"IF(追加ワークシート名設定!D52=0,\"\",追加ワークシート名設定!D52)","v":""}]
[null,null,{"$f":"IF(追加ワークシート名設定!D53=0,\"\",追加ワークシート名設定!D53)","v":""}]
[null,null,{"$f":"IF(追加ワークシート名設定!D54=0,\"\",追加ワークシート名設定!D54)","v":""}]
[null,null,{"$f":"IF(追加ワークシート名設定!D55=0,\"\",追加ワークシート名設定!D55)","v":""}]
[null,null,{"$f":"IF(追加ワークシート名設定!D56=0,\"\",追加ワークシート名設定!D56)","v":""}]
[null,null,{"$f":"IF(追加ワークシート名設定!D57=0,\"\",追加ワークシート名設定!D57)","v":""}]
[null,null,{"$f":"IF(追加ワークシート名設定!D58=0,\"\",追加ワークシート名設定!D58)","v":""}]
[null,null,{"$f":"IF(追加ワークシート名設定!D59=0,\"\",追加ワークシート名設定!D59)","v":""}]
[null,null,{"$f":"IF(追加ワークシート名設定!D60=0,\"\",追加ワークシート名設定!D60)","v":""}]
[null,null,{"$f":"IF(追加ワークシート名設定!D61=0,\"\",追加ワークシート名設定!D61)","v":""}]
[null,null,{"$f":"IF(追加ワークシート名設定!D62=0,\"\",追加ワークシート名設定!D62)","v":""}]
[null,null,{"$f":"IF(追加ワークシート名設定!D63=0,\"\",追加ワークシート名設定!D63)","v":""}]
[null,null,{"$f":"IF(追加ワークシート名設定!D64=0,\"\",追加ワークシート名設定!D64)","v":""}]
[null,null,{"$f":"IF(追加ワークシート名設定!D65=0,\"\",追加ワークシート名設定!D65)","v":""}]
[null,null,{"$f":"IF(追加ワークシート名設定!D66=0,\"\",追加ワークシート名設定!D66)","v":""}]
[null,null,{"$f":"IF(追加ワークシート名設定!D67=0,\"\",追加ワークシート名設定!D67)","v":""}]
[null,null,{"$f":"IF(追加ワークシート名設定!D68=0,\"\",追加ワークシート名設定!D68)","v":""}]
[null,null,{"$f":"IF(追加ワークシート名設定!D69=0,\"\",追加ワークシート名設定!D69)","v":""}]
[null,null,{"$f":"IF(シート名設定!C30=0,\"\",シート名設定!C30)","v":"入力AA1"}]
[null,null,{"$f":"IF(シート名設定!C31=0,\"\",シート名設定!C31)","v":"入力AA2"}]
[null,null,{"$f":"IF(シート名設定!C32=0,\"\",シート名設定!C32)","v":"入力AA3"}]
[null,null,{"$f":"IF(シート名設定!C33=0,\"\",シート名設定!C33)","v":"入力AA4"}]
[null,null,{"$f":"IF(シート名設定!C34=0,\"\",シート名設定!C34)","v":"入力AA5"}]

{"sheet":"一覧表付ファイル作成入力設定12","index":25,"n_rows":165,"n_cols":5,"rows_kept":165,"cut":false,"hidden":false,"merged":[[2,1,2,2]]}
[]
[]
[null,{"$f":"シート名設定!C20","v":"一覧表付ファイル作成入力設定12"}]
[null,"１．入力元の設定"]
[null,"項　　　　　　目","設定内容"]
[null,"シート名"]
[null,"データ先頭セル行番号"]
[null,"データ先頭セル列番号"]
[null,"異同比較列番号"]
[null,"データー数"]
[null,"For Next の増分"]
[]
[null,"２．入力先の設定"]
[null,"項　　　　　　目","設定内容"]
[null,"シート名"]
[null,"入力先頭セル行番号"]
[null,"入力先頭セル列番号"]
[null,"入力最終セル行番号"]
[null,"入力最終セル列番号"]
[null,"入力データー数"]
[null,"通しページ入力セル行番号"]
[null,"通しページ入力セル列番号"]
[null,"区分内ページ入力セル行番号"]
[null,"区分内ページ入力セル列番号"]
[null,"３．印刷処理かファイルのメール送信の設定"]
[null,"項　　　　　　目","設定内容"]
[null,"印刷処理か\nファイルの\nメール送信\nの選択",null,1]
[null,"ファイルのメール送信の場合の印刷フォームソートデーターシートのメールアドレスが入力されている列番号"]
[null,"ファイルのメール送信の場合の印刷フォームソートデーターシートの件名が入力されている列番号"]
[null,"ファイルのメール送信の場合の印刷フォームソートデーターシートの本文が入力されている列番号"]
[null,"ファイルのメール送信の場合の添付ファイルの保存先ドライブ及びフォルダー"]
[]
[]
[]
[]
[]
[null,null,{"$f":"IF(シート名設定!C35=0,\"\",シート名設定!C35)","v":"印刷フォーム1"},1,"印刷する"]
[null,null,{"$f":"IF(シート名設定!C36=0,\"\",シート名設定!C36)","v":"印刷フォーム2"},2,"メールで送信する"]
[null,null,{"$f":"IF(シート名設定!C37=0,\"\",シート名設定!C37)","v":"印刷フォーム3"},3,"添付ファイルなし件名本文のみのメール"]
[null,null,{"$f":"IF(シート名設定!C38=0,\"\",シート名設定!C38)","v":"印刷フォーム4"}]
[null,null,{"$f":"IF(シート名設定!C39=0,\"\",シート名設定!C39)","v":"印刷フォーム5"}]
[null,null,{"$f":"IF(シート名設定!C40=0,\"\",シート名設定!C40)","v":"印刷フォーム6"}]
[null,null,{"$f":"IF(シート名設定!C41=0,\"\",シート名設定!C41)","v":"印刷フォーム7"}]
[null,null,{"$f":"IF(シート名設定!C42=0,\"\",シート名設定!C42)","v":"印刷フォーム8"}]
[null,null,{"$f":"IF(シート名設定!C43=0,\"\",シート名設定!C43)","v":"印刷フォーム9"}]
[null,null,{"$f":"IF(シート名設定!C44=0,\"\",シート名設定!C44)","v":"印刷フォーム10"}]
[null,null,{"$f":"IF(シート名設定!C45=0,\"\",シート名設定!C45)","v":"印刷フォーム11"}]
[null,null,{"$f":"IF(シート名設定!C46=0,\"\",シート名設定!C46)","v":"印刷フォーム12"}]
[null,null,{"$f":"IF(シート名設定!C47=0,\"\",シート名設定!C47)","v":"印刷フォーム13"}]
[null,null,{"$f":"IF(シート名設定!C48=0,\"\",シート名設定!C48)","v":"印刷フォーム14"}]
[null,null,{"$f":"IF(シート名設定!C49=0,\"\",シート名設定!C49)","v":"印刷フォーム15"}]
[null,null,{"$f":"IF(シート名設定!C50=0,\"\",シート名設定!C50)","v":"印刷フォーム16"}]
[null,null,{"$f":"IF(シート名設定!C51=0,\"\",シート名設定!C51)","v":"印刷フォーム17"}]
[null,null,{"$f":"IF(シート名設定!C52=0,\"\",シート名設定!C52)","v":"印刷フォーム18"}]
[null,null,{"$f":"IF(シート名設定!C53=0,\"\",シート名設定!C53)","v":"印刷フォーム19"}]
[null,null,{"$f":"IF(シート名設定!C54=0,\"\",シート名設定!C54)","v":"印刷フォーム20"}]
[null,null,{"$f":"IF(シート名設定!E5=0,\"\",シート名設定!E5)","v":"印刷フォーム21"}]
[null,null,{"$f":"IF(シート名設定!E6=0,\"\",シート名設定!E6)","v":"印刷フォーム22"}]
[null,null,{"$f":"IF(シート名設定!E7=0,\"\",シート名設定!E7)","v":"印刷フォーム23"}]
[null,null,{"$f":"IF(シート名設定!E8=0,\"\",シート名設定!E8)","v":"印刷フォーム24"}]
[null,null,{"$f":"IF(シート名設定!E9=0,\"\",シート名設定!E9)","v":"印刷フォーム25"}]
[null,null,{"$f":"IF(シート名設定!E10=0,\"\",シート名設定!E10)","v":"印刷フォーム26"}]
[null,null,{"$f":"IF(シート名設定!E11=0,\"\",シート名設定!E11)","v":"印刷フォーム27"}]
[null,null,{"$f":"IF(シート名設定!E12=0,\"\",シート名設定!E12)","v":"印刷フォーム28"}]
[null,null,{"$f":"IF(シート名設定!E13=0,\"\",シート名設定!E13)","v":"印刷フォーム29"}]
[null,null,{"$f":"IF(シート名設定!E14=0,\"\",シート名設定!E14)","v":"印刷フォーム30"}]
[null,null,{"$f":"IF(シート名設定!E15=0,\"\",シート名設定!E15)","v":"印刷フォーム1ソートデーター"}]
[null,null,{"$f":"IF(シート名設定!E16=0,\"\",シート名設定!E16)","v":"印刷フォーム2ソートデーター"}]
[null,null,{"$f":"IF(シート名設定!E17=0,\"\",シート名設定!E17)","v":"印刷フォーム3ソートデーター"}]
[null,null,{"$f":"IF(シート名設定!E18=0,\"\",シート名設定!E18)","v":"印刷フォーム4ソートデーター"}]
[null,null,{"$f":"IF(シート名設定!E19=0,\"\",シート名設定!E19)","v":"印刷フォーム5ソートデーター"}]
[null,null,{"$f":"IF(シート名設定!E20=0,\"\",シート名設定!E20)","v":"印刷フォーム6ソートデーター"}]
[null,null,{"$f":"IF(シート名設定!E21=0,\"\",シート名設定!E21)","v":"印刷フォーム7ソートデーター"}]
[null,null,{"$f":"IF(シート名設定!E22=0,\"\",シート名設定!E22)","v":"印刷フォーム8ソートデーター"}]
[null,null,{"$f":"IF(シート名設定!E23=0,\"\",シート名設定!E23)","v":"印刷フォーム9ソートデーター"}]
[null,null,{"$f":"IF(シート名設定!E24=0,\"\",シート名設定!E24)","v":"印刷フォーム10ソートデーター"}]
[null,null,{"$f":"IF(シート名設定!E25=0,\"\",シート名設定!E25)","v":"印刷フォーム11ソートデーター"}]
[null,null,{"$f":"IF(シート名設定!E26=0,\"\",シート名設定!E26)","v":"印刷フォーム12ソートデーター"}]
[null,null,{"$f":"IF(シート名設定!E27=0,\"\",シート名設定!E27)","v":"印刷フォーム13ソートデーター"}]
[null,null,{"$f":"IF(シート名設定!E28=0,\"\",シート名設定!E28)","v":"印刷フォーム14ソートデーター"}]
[null,null,{"$f":"IF(シート名設定!E29=0,\"\",シート名設定!E29)","v":"印刷フォーム15ソートデーター"}]
[null,null,{"$f":"IF(シート名設定!E30=0,\"\",シート名設定!E30)","v":"印刷フォーム16ソートデーター"}]
[null,null,{"$f":"IF(シート名設定!E31=0,\"\",シート名設定!E31)","v":"印刷フォーム17ソートデーター"}]
[null,null,{"$f":"IF(シート名設定!E32=0,\"\",シート名設定!E32)","v":"印刷フォーム18ソートデーター"}]
[null,null,{"$f":"IF(シート名設定!E33=0,\"\",シート名設定!E33)","v":"印刷フォーム19ソートデーター"}]
[null,null,{"$f":"IF(シート名設定!E34=0,\"\",シート名設定!E34)","v":"印刷フォーム20ソートデーター"}]
[null,null,{"$f":"IF(シート名設定!E35=0,\"\",シート名設定!E35)","v":"印刷フォーム21ソートデーター"}]
[null,null,{"$f":"IF(シート名設定!E36=0,\"\",シート名設定!E36)","v":"印刷フォーム22ソートデーター"}]
[null,null,{"$f":"IF(シート名設定!E37=0,\"\",シート名設定!E37)","v":"印刷フォーム23ソートデーター"}]
[null,null,{"$f":"IF(シート名設定!E38=0,\"\",シート名設定!E38)","v":"印刷フォーム24ソートデーター"}]
[null,null,{"$f":"IF(シート名設定!E39=0,\"\",シート名設定!E39)","v":"印刷フォーム25ソートデーター"}]
[null,null,{"$f":"IF(シート名設定!E40=0,\"\",シート名設定!E40)","v":"印刷フォーム26ソートデーター"}]
[null,null,{"$f":"IF(シート名設定!E41=0,\"\",シート名設定!E41)","v":"印刷フォーム27ソートデーター"}]
[null,null,{"$f":"IF(シート名設定!E42=0,\"\",シート名設定!E42)","v":"印刷フォーム28ソートデーター"}]
[null,null,{"$f":"IF(シート名設定!E43=0,\"\",シート名設定!E43)","v":"印刷フォーム29ソートデーター"}]
[null,null,{"$f":"IF(シート名設定!E44=0,\"\",シート名設定!E44)","v":"印刷フォーム30ソートデーター"}]
[null,null,{"$f":"IF(追加ワークシート名設定!D6=0,\"\",追加ワークシート名設定!D6)","v":""}]
[null,null,{"$f":"IF(追加ワークシート名設定!D7=0,\"\",追加ワークシート名設定!D7)","v":""}]
[null,null,{"$f":"IF(追加ワークシート名設定!D8=0,\"\",追加ワークシート名設定!D8)","v":""}]
[null,null,{"$f":"IF(追加ワークシート名設定!D9=0,\"\",追加ワークシート名設定!D9)","v":""}]
[null,null,{"$f":"IF(追加ワークシート名設定!D10=0,\"\",追加ワークシート名設定!D10)","v":""}]
[null,null,{"$f":"IF(追加ワークシート名設定!D11=0,\"\",追加ワークシート名設定!D11)","v":""}]
[null,null,{"$f":"IF(追加ワークシート名設定!D12=0,\"\",追加ワークシート名設定!D12)","v":""}]
[null,null,{"$f":"IF(追加ワークシート名設定!D13=0,\"\",追加ワークシート名設定!D13)","v":""}]
[null,null,{"$f":"IF(追加ワークシート名設定!D14=0,\"\",追加ワークシート名設定!D14)","v":""}]
[null,null,{"$f":"IF(追加ワークシート名設定!D15=0,\"\",追加ワークシート名設定!D15)","v":""}]
[null,null,{"$f":"IF(追加ワークシート名設定!D16=0,\"\",追加ワークシート名設定!D16)","v":""}]
[null,null,{"$f":"IF(追加ワークシート名設定!D17=0,\"\",追加ワークシート名設定!D17)","v":""}]
[null,null,{"$f":"IF(追加ワークシート名設定!D18=0,\"\",追加ワークシート名設定!D18)","v":""}]
[null,null,{"$f":"IF(追加ワークシート名設定!D19=0,\"\",追加ワークシート名設定!D19)","v":""}]
[null,null,{"$f":"IF(追加ワークシート名設定!D20=0,\"\",追加ワークシート名設定!D20)","v":""}]
[null,null,{"$f":"IF(追加ワークシート名設定!D21=0,\"\",追加ワークシート名設定!D21)","v":""}]
[null,null,{"$f":"IF(追加ワークシート名設定!D22=0,\"\",追加ワークシート名設定!D22)","v":""}]
[null,null,{"$f":"IF(追加ワークシート名設定!D23=0,\"\",追加ワークシート名設定!D23)","v":""}]
[null,null,{"$f":"IF(追加ワークシート名設定!D24=0,\"\",追加ワークシート名設定!D24)","v":""}]
[null,null,{"$f":"IF(追加ワークシート名設定!D25=0,\"\",追加ワークシート名設定!D25)","v":""}]
[null,null,{"$f":"IF(追加ワークシート名設定!D26=0,\"\",追加ワークシート名設定!D26)","v":""}]
[null,null,{"$f":"IF(追加ワークシート名設定!D27=0,\"\",追加ワークシート名設定!D27)","v":""}]
[null,null,{"$f":"IF(追加ワークシート名設定!D28=0,\"\",追加ワークシート名設定!D28)","v":""}]
[null,null,{"$f":"IF(追加ワークシート名設定!D29=0,\"\",追加ワークシート名設定!D29)","v":""}]
[null,null,{"$f":"IF(追加ワークシート名設定!D30=0,\"\",追加ワークシート名設定!D30)","v":""}]
[null,null,{"$f":"IF(追加ワークシート名設定!D31=0,\"\",追加ワークシート名設定!D31)","v":""}]
[null,null,{"$f":"IF(追加ワークシート名設定!D32=0,\"\",追加ワークシート名設定!D32)","v":""}]
[null,null,{"$f":"IF(追加ワークシート名設定!D33=0,\"\",追加ワークシート名設定!D33)","v":""}]
[null,null,{"$f":"IF(追加ワークシート名設定!D34=0,\"\",追加ワークシート名設定!D34)","v":""}]
[null,null,{"$f":"IF(追加ワークシート名設定!D35=0,\"\",追加ワークシート名設定!D35)","v":""}]
[null,null,{"$f":"IF(追加ワークシート名設定!D36=0,\"\",追加ワークシート名設定!D36)","v":""}]
[null,null,{"$f":"IF(追加ワークシート名設定!D37=0,\"\",追加ワークシート名設定!D37)","v":""}]
[null,null,{"$f":"IF(追加ワークシート名設定!D38=0,\"\",追加ワークシート名設定!D38)","v":""}]
[null,null,{"$f":"IF(追加ワークシート名設定!D39=0,\"\",追加ワークシート名設定!D39)","v":""}]
[null,null,{"$f":"IF(追加ワークシート名設定!D40=0,\"\",追加ワークシート名設定!D40)","v":""}]
[null,null,{"$f":"IF(追加ワークシート名設定!D41=0,\"\",追加ワークシート名設定!D41)","v":""}]
[null,null,{"$f":"IF(追加ワークシート名設定!D42=0,\"\",追加ワークシート名設定!D42)","v":""}]
[null,null,{"$f":"IF(追加ワークシート名設定!D43=0,\"\",追加ワークシート名設定!D43)","v":""}]
[null,null,{"$f":"IF(追加ワークシート名設定!D44=0,\"\",追加ワークシート名設定!D44)","v":""}]
[null,null,{"$f":"IF(追加ワークシート名設定!D45=0,\"\",追加ワークシート名設定!D45)","v":""}]
[null,null,{"$f":"IF(追加ワークシート名設定!D46=0,\"\",追加ワークシート名設定!D46)","v":""}]
[null,null,{"$f":"IF(追加ワークシート名設定!D47=0,\"\",追加ワークシート名設定!D47)","v":""}]
[null,null,{"$f":"IF(追加ワークシート名設定!D48=0,\"\",追加ワークシート名設定!D48)","v":""}]
[null,null,{"$f":"IF(追加ワークシート名設定!D49=0,\"\",追加ワークシート名設定!D49)","v":""}]
[null,null,{"$f":"IF(追加ワークシート名設定!D50=0,\"\",追加ワークシート名設定!D50)","v":""}]
[null,null,{"$f":"IF(追加ワークシート名設定!D51=0,\"\",追加ワークシート名設定!D51)","v":""}]
[null,null,{"$f":"IF(追加ワークシート名設定!D52=0,\"\",追加ワークシート名設定!D52)","v":""}]
[null,null,{"$f":"IF(追加ワークシート名設定!D53=0,\"\",追加ワークシート名設定!D53)","v":""}]
[null,null,{"$f":"IF(追加ワークシート名設定!D54=0,\"\",追加ワークシート名設定!D54)","v":""}]
[null,null,{"$f":"IF(追加ワークシート名設定!D55=0,\"\",追加ワークシート名設定!D55)","v":""}]
[null,null,{"$f":"IF(追加ワークシート名設定!D56=0,\"\",追加ワークシート名設定!D56)","v":""}]
[null,null,{"$f":"IF(追加ワークシート名設定!D57=0,\"\",追加ワークシート名設定!D57)","v":""}]
[null,null,{"$f":"IF(追加ワークシート名設定!D58=0,\"\",追加ワークシート名設定!D58)","v":""}]
[null,null,{"$f":"IF(追加ワークシート名設定!D59=0,\"\",追加ワークシート名設定!D59)","v":""}]
[null,null,{"$f":"IF(追加ワークシート名設定!D60=0,\"\",追加ワークシート名設定!D60)","v":""}]
[null,null,{"$f":"IF(追加ワークシート名設定!D61=0,\"\",追加ワークシート名設定!D61)","v":""}]
[null,null,{"$f":"IF(追加ワークシート名設定!D62=0,\"\",追加ワークシート名設定!D62)","v":""}]
[null,null,{"$f":"IF(追加ワークシート名設定!D63=0,\"\",追加ワークシート名設定!D63)","v":""}]
[null,null,{"$f":"IF(追加ワークシート名設定!D64=0,\"\",追加ワークシート名設定!D64)","v":""}]
[null,null,{"$f":"IF(追加ワークシート名設定!D65=0,\"\",追加ワークシート名設定!D65)","v":""}]
[null,null,{"$f":"IF(追加ワークシート名設定!D66=0,\"\",追加ワークシート名設定!D66)","v":""}]
[null,null,{"$f":"IF(追加ワークシート名設定!D67=0,\"\",追加ワークシート名設定!D67)","v":""}]
[null,null,{"$f":"IF(追加ワークシート名設定!D68=0,\"\",追加ワークシート名設定!D68)","v":""}]
[null,null,{"$f":"IF(追加ワークシート名設定!D69=0,\"\",追加ワークシート名設定!D69)","v":""}]
[null,null,{"$f":"IF(シート名設定!C30=0,\"\",シート名設定!C30)","v":"入力AA1"}]
[null,null,{"$f":"IF(シート名設定!C31=0,\"\",シート名設定!C31)","v":"入力AA2"}]
[null,null,{"$f":"IF(シート名設定!C32=0,\"\",シート名設定!C32)","v":"入力AA3"}]
[null,null,{"$f":"IF(シート名設定!C33=0,\"\",シート名設定!C33)","v":"入力AA4"}]
[null,null,{"$f":"IF(シート名設定!C34=0,\"\",シート名設定!C34)","v":"入力AA5"}]

{"sheet":"一覧表付ファイル作成入力設定13","index":26,"n_rows":165,"n_cols":5,"rows_kept":165,"cut":false,"hidden":false,"merged":[[2,1,2,2]]}
[]
[]
[null,{"$f":"シート名設定!C21","v":"一覧表付ファイル作成入力設定13"}]
[null,"１．入力元の設定"]
[null,"項　　　　　　目","設定内容"]
[null,"シート名"]
[null,"データ先頭セル行番号"]
[null,"データ先頭セル列番号"]
[null,"異同比較列番号"]
[null,"データー数"]
[null,"For Next の増分"]
[]
[null,"２．入力先の設定"]
[null,"項　　　　　　目","設定内容"]
[null,"シート名"]
[null,"入力先頭セル行番号"]
[null,"入力先頭セル列番号"]
[null,"入力最終セル行番号"]
[null,"入力最終セル列番号"]
[null,"入力データー数"]
[null,"通しページ入力セル行番号"]
[null,"通しページ入力セル列番号"]
[null,"区分内ページ入力セル行番号"]
[null,"区分内ページ入力セル列番号"]
[null,"３．印刷処理かファイルのメール送信の設定"]
[null,"項　　　　　　目","設定内容"]
[null,"印刷処理か\nファイルの\nメール送信\nの選択",null,1]
[null,"ファイルのメール送信の場合の印刷フォームソートデーターシートのメールアドレスが入力されている列番号"]
[null,"ファイルのメール送信の場合の印刷フォームソートデーターシートの件名が入力されている列番号"]
[null,"ファイルのメール送信の場合の印刷フォームソートデーターシートの本文が入力されている列番号"]
[null,"ファイルのメール送信の場合の添付ファイルの保存先ドライブ及びフォルダー"]
[]
[]
[]
[]
[]
[null,null,{"$f":"IF(シート名設定!C35=0,\"\",シート名設定!C35)","v":"印刷フォーム1"},1,"印刷する"]
[null,null,{"$f":"IF(シート名設定!C36=0,\"\",シート名設定!C36)","v":"印刷フォーム2"},2,"メールで送信する"]
[null,null,{"$f":"IF(シート名設定!C37=0,\"\",シート名設定!C37)","v":"印刷フォーム3"},3,"添付ファイルなし件名本文のみのメール"]
[null,null,{"$f":"IF(シート名設定!C38=0,\"\",シート名設定!C38)","v":"印刷フォーム4"}]
[null,null,{"$f":"IF(シート名設定!C39=0,\"\",シート名設定!C39)","v":"印刷フォーム5"}]
[null,null,{"$f":"IF(シート名設定!C40=0,\"\",シート名設定!C40)","v":"印刷フォーム6"}]
[null,null,{"$f":"IF(シート名設定!C41=0,\"\",シート名設定!C41)","v":"印刷フォーム7"}]
[null,null,{"$f":"IF(シート名設定!C42=0,\"\",シート名設定!C42)","v":"印刷フォーム8"}]
[null,null,{"$f":"IF(シート名設定!C43=0,\"\",シート名設定!C43)","v":"印刷フォーム9"}]
[null,null,{"$f":"IF(シート名設定!C44=0,\"\",シート名設定!C44)","v":"印刷フォーム10"}]
[null,null,{"$f":"IF(シート名設定!C45=0,\"\",シート名設定!C45)","v":"印刷フォーム11"}]
[null,null,{"$f":"IF(シート名設定!C46=0,\"\",シート名設定!C46)","v":"印刷フォーム12"}]
[null,null,{"$f":"IF(シート名設定!C47=0,\"\",シート名設定!C47)","v":"印刷フォーム13"}]
[null,null,{"$f":"IF(シート名設定!C48=0,\"\",シート名設定!C48)","v":"印刷フォーム14"}]
[null,null,{"$f":"IF(シート名設定!C49=0,\"\",シート名設定!C49)","v":"印刷フォーム15"}]
[null,null,{"$f":"IF(シート名設定!C50=0,\"\",シート名設定!C50)","v":"印刷フォーム16"}]
[null,null,{"$f":"IF(シート名設定!C51=0,\"\",シート名設定!C51)","v":"印刷フォーム17"}]
[null,null,{"$f":"IF(シート名設定!C52=0,\"\",シート名設定!C52)","v":"印刷フォーム18"}]
[null,null,{"$f":"IF(シート名設定!C53=0,\"\",シート名設定!C53)","v":"印刷フォーム19"}]
[null,null,{"$f":"IF(シート名設定!C54=0,\"\",シート名設定!C54)","v":"印刷フォーム20"}]
[null,null,{"$f":"IF(シート名設定!E5=0,\"\",シート名設定!E5)","v":"印刷フォーム21"}]
[null,null,{"$f":"IF(シート名設定!E6=0,\"\",シート名設定!E6)","v":"印刷フォーム22"}]
[null,null,{"$f":"IF(シート名設定!E7=0,\"\",シート名設定!E7)","v":"印刷フォーム23"}]
[null,null,{"$f":"IF(シート名設定!E8=0,\"\",シート名設定!E8)","v":"印刷フォーム24"}]
[null,null,{"$f":"IF(シート名設定!E9=0,\"\",シート名設定!E9)","v":"印刷フォーム25"}]
[null,null,{"$f":"IF(シート名設定!E10=0,\"\",シート名設定!E10)","v":"印刷フォーム26"}]
[null,null,{"$f":"IF(シート名設定!E11=0,\"\",シート名設定!E11)","v":"印刷フォーム27"}]
[null,null,{"$f":"IF(シート名設定!E12=0,\"\",シート名設定!E12)","v":"印刷フォーム28"}]
[null,null,{"$f":"IF(シート名設定!E13=0,\"\",シート名設定!E13)","v":"印刷フォーム29"}]
[null,null,{"$f":"IF(シート名設定!E14=0,\"\",シート名設定!E14)","v":"印刷フォーム30"}]
[null,null,{"$f":"IF(シート名設定!E15=0,\"\",シート名設定!E15)","v":"印刷フォーム1ソートデーター"}]
[null,null,{"$f":"IF(シート名設定!E16=0,\"\",シート名設定!E16)","v":"印刷フォーム2ソートデーター"}]
[null,null,{"$f":"IF(シート名設定!E17=0,\"\",シート名設定!E17)","v":"印刷フォーム3ソートデーター"}]
[null,null,{"$f":"IF(シート名設定!E18=0,\"\",シート名設定!E18)","v":"印刷フォーム4ソートデーター"}]
[null,null,{"$f":"IF(シート名設定!E19=0,\"\",シート名設定!E19)","v":"印刷フォーム5ソートデーター"}]
[null,null,{"$f":"IF(シート名設定!E20=0,\"\",シート名設定!E20)","v":"印刷フォーム6ソートデーター"}]
[null,null,{"$f":"IF(シート名設定!E21=0,\"\",シート名設定!E21)","v":"印刷フォーム7ソートデーター"}]
[null,null,{"$f":"IF(シート名設定!E22=0,\"\",シート名設定!E22)","v":"印刷フォーム8ソートデーター"}]
[null,null,{"$f":"IF(シート名設定!E23=0,\"\",シート名設定!E23)","v":"印刷フォーム9ソートデーター"}]
[null,null,{"$f":"IF(シート名設定!E24=0,\"\",シート名設定!E24)","v":"印刷フォーム10ソートデーター"}]
[null,null,{"$f":"IF(シート名設定!E25=0,\"\",シート名設定!E25)","v":"印刷フォーム11ソートデーター"}]
[null,null,{"$f":"IF(シート名設定!E26=0,\"\",シート名設定!E26)","v":"印刷フォーム12ソートデーター"}]
[null,null,{"$f":"IF(シート名設定!E27=0,\"\",シート名設定!E27)","v":"印刷フォーム13ソートデーター"}]
[null,null,{"$f":"IF(シート名設定!E28=0,\"\",シート名設定!E28)","v":"印刷フォーム14ソートデーター"}]
[null,null,{"$f":"IF(シート名設定!E29=0,\"\",シート名設定!E29)","v":"印刷フォーム15ソートデーター"}]
[null,null,{"$f":"IF(シート名設定!E30=0,\"\",シート名設定!E30)","v":"印刷フォーム16ソートデーター"}]
[null,null,{"$f":"IF(シート名設定!E31=0,\"\",シート名設定!E31)","v":"印刷フォーム17ソートデーター"}]
[null,null,{"$f":"IF(シート名設定!E32=0,\"\",シート名設定!E32)","v":"印刷フォーム18ソートデーター"}]
[null,null,{"$f":"IF(シート名設定!E33=0,\"\",シート名設定!E33)","v":"印刷フォーム19ソートデーター"}]
[null,null,{"$f":"IF(シート名設定!E34=0,\"\",シート名設定!E34)","v":"印刷フォーム20ソートデーター"}]
[null,null,{"$f":"IF(シート名設定!E35=0,\"\",シート名設定!E35)","v":"印刷フォーム21ソートデーター"}]
[null,null,{"$f":"IF(シート名設定!E36=0,\"\",シート名設定!E36)","v":"印刷フォーム22ソートデーター"}]
[null,null,{"$f":"IF(シート名設定!E37=0,\"\",シート名設定!E37)","v":"印刷フォーム23ソートデーター"}]
[null,null,{"$f":"IF(シート名設定!E38=0,\"\",シート名設定!E38)","v":"印刷フォーム24ソートデーター"}]
[null,null,{"$f":"IF(シート名設定!E39=0,\"\",シート名設定!E39)","v":"印刷フォーム25ソートデーター"}]
[null,null,{"$f":"IF(シート名設定!E40=0,\"\",シート名設定!E40)","v":"印刷フォーム26ソートデーター"}]
[null,null,{"$f":"IF(シート名設定!E41=0,\"\",シート名設定!E41)","v":"印刷フォーム27ソートデーター"}]
[null,null,{"$f":"IF(シート名設定!E42=0,\"\",シート名設定!E42)","v":"印刷フォーム28ソートデーター"}]
[null,null,{"$f":"IF(シート名設定!E43=0,\"\",シート名設定!E43)","v":"印刷フォーム29ソートデーター"}]
[null,null,{"$f":"IF(シート名設定!E44=0,\"\",シート名設定!E44)","v":"印刷フォーム30ソートデーター"}]
[null,null,{"$f":"IF(追加ワークシート名設定!D6=0,\"\",追加ワークシート名設定!D6)","v":""}]
[null,null,{"$f":"IF(追加ワークシート名設定!D7=0,\"\",追加ワークシート名設定!D7)","v":""}]
[null,null,{"$f":"IF(追加ワークシート名設定!D8=0,\"\",追加ワークシート名設定!D8)","v":""}]
[null,null,{"$f":"IF(追加ワークシート名設定!D9=0,\"\",追加ワークシート名設定!D9)","v":""}]
[null,null,{"$f":"IF(追加ワークシート名設定!D10=0,\"\",追加ワークシート名設定!D10)","v":""}]
[null,null,{"$f":"IF(追加ワークシート名設定!D11=0,\"\",追加ワークシート名設定!D11)","v":""}]
[null,null,{"$f":"IF(追加ワークシート名設定!D12=0,\"\",追加ワークシート名設定!D12)","v":""}]
[null,null,{"$f":"IF(追加ワークシート名設定!D13=0,\"\",追加ワークシート名設定!D13)","v":""}]
[null,null,{"$f":"IF(追加ワークシート名設定!D14=0,\"\",追加ワークシート名設定!D14)","v":""}]
[null,null,{"$f":"IF(追加ワークシート名設定!D15=0,\"\",追加ワークシート名設定!D15)","v":""}]
[null,null,{"$f":"IF(追加ワークシート名設定!D16=0,\"\",追加ワークシート名設定!D16)","v":""}]
[null,null,{"$f":"IF(追加ワークシート名設定!D17=0,\"\",追加ワークシート名設定!D17)","v":""}]
[null,null,{"$f":"IF(追加ワークシート名設定!D18=0,\"\",追加ワークシート名設定!D18)","v":""}]
[null,null,{"$f":"IF(追加ワークシート名設定!D19=0,\"\",追加ワークシート名設定!D19)","v":""}]
[null,null,{"$f":"IF(追加ワークシート名設定!D20=0,\"\",追加ワークシート名設定!D20)","v":""}]
[null,null,{"$f":"IF(追加ワークシート名設定!D21=0,\"\",追加ワークシート名設定!D21)","v":""}]
[null,null,{"$f":"IF(追加ワークシート名設定!D22=0,\"\",追加ワークシート名設定!D22)","v":""}]
[null,null,{"$f":"IF(追加ワークシート名設定!D23=0,\"\",追加ワークシート名設定!D23)","v":""}]
[null,null,{"$f":"IF(追加ワークシート名設定!D24=0,\"\",追加ワークシート名設定!D24)","v":""}]
[null,null,{"$f":"IF(追加ワークシート名設定!D25=0,\"\",追加ワークシート名設定!D25)","v":""}]
[null,null,{"$f":"IF(追加ワークシート名設定!D26=0,\"\",追加ワークシート名設定!D26)","v":""}]
[null,null,{"$f":"IF(追加ワークシート名設定!D27=0,\"\",追加ワークシート名設定!D27)","v":""}]
[null,null,{"$f":"IF(追加ワークシート名設定!D28=0,\"\",追加ワークシート名設定!D28)","v":""}]
[null,null,{"$f":"IF(追加ワークシート名設定!D29=0,\"\",追加ワークシート名設定!D29)","v":""}]
[null,null,{"$f":"IF(追加ワークシート名設定!D30=0,\"\",追加ワークシート名設定!D30)","v":""}]
[null,null,{"$f":"IF(追加ワークシート名設定!D31=0,\"\",追加ワークシート名設定!D31)","v":""}]
[null,null,{"$f":"IF(追加ワークシート名設定!D32=0,\"\",追加ワークシート名設定!D32)","v":""}]
[null,null,{"$f":"IF(追加ワークシート名設定!D33=0,\"\",追加ワークシート名設定!D33)","v":""}]
[null,null,{"$f":"IF(追加ワークシート名設定!D34=0,\"\",追加ワークシート名設定!D34)","v":""}]
[null,null,{"$f":"IF(追加ワークシート名設定!D35=0,\"\",追加ワークシート名設定!D35)","v":""}]
[null,null,{"$f":"IF(追加ワークシート名設定!D36=0,\"\",追加ワークシート名設定!D36)","v":""}]
[null,null,{"$f":"IF(追加ワークシート名設定!D37=0,\"\",追加ワークシート名設定!D37)","v":""}]
[null,null,{"$f":"IF(追加ワークシート名設定!D38=0,\"\",追加ワークシート名設定!D38)","v":""}]
[null,null,{"$f":"IF(追加ワークシート名設定!D39=0,\"\",追加ワークシート名設定!D39)","v":""}]
[null,null,{"$f":"IF(追加ワークシート名設定!D40=0,\"\",追加ワークシート名設定!D40)","v":""}]
[null,null,{"$f":"IF(追加ワークシート名設定!D41=0,\"\",追加ワークシート名設定!D41)","v":""}]
[null,null,{"$f":"IF(追加ワークシート名設定!D42=0,\"\",追加ワークシート名設定!D42)","v":""}]
[null,null,{"$f":"IF(追加ワークシート名設定!D43=0,\"\",追加ワークシート名設定!D43)","v":""}]
[null,null,{"$f":"IF(追加ワークシート名設定!D44=0,\"\",追加ワークシート名設定!D44)","v":""}]
[null,null,{"$f":"IF(追加ワークシート名設定!D45=0,\"\",追加ワークシート名設定!D45)","v":""}]
[null,null,{"$f":"IF(追加ワークシート名設定!D46=0,\"\",追加ワークシート名設定!D46)","v":""}]
[null,null,{"$f":"IF(追加ワークシート名設定!D47=0,\"\",追加ワークシート名設定!D47)","v":""}]
[null,null,{"$f":"IF(追加ワークシート名設定!D48=0,\"\",追加ワークシート名設定!D48)","v":""}]
[null,null,{"$f":"IF(追加ワークシート名設定!D49=0,\"\",追加ワークシート名設定!D49)","v":""}]
[null,null,{"$f":"IF(追加ワークシート名設定!D50=0,\"\",追加ワークシート名設定!D50)","v":""}]
[null,null,{"$f":"IF(追加ワークシート名設定!D51=0,\"\",追加ワークシート名設定!D51)","v":""}]
[null,null,{"$f":"IF(追加ワークシート名設定!D52=0,\"\",追加ワークシート名設定!D52)","v":""}]
[null,null,{"$f":"IF(追加ワークシート名設定!D53=0,\"\",追加ワークシート名設定!D53)","v":""}]
[null,null,{"$f":"IF(追加ワークシート名設定!D54=0,\"\",追加ワークシート名設定!D54)","v":""}]
[null,null,{"$f":"IF(追加ワークシート名設定!D55=0,\"\",追加ワークシート名設定!D55)","v":""}]
[null,null,{"$f":"IF(追加ワークシート名設定!D56=0,\"\",追加ワークシート名設定!D56)","v":""}]
[null,null,{"$f":"IF(追加ワークシート名設定!D57=0,\"\",追加ワークシート名設定!D57)","v":""}]
[null,null,{"$f":"IF(追加ワークシート名設定!D58=0,\"\",追加ワークシート名設定!D58)","v":""}]
[null,null,{"$f":"IF(追加ワークシート名設定!D59=0,\"\",追加ワークシート名設定!D59)","v":""}]
[null,null,{"$f":"IF(追加ワークシート名設定!D60=0,\"\",追加ワークシート名設定!D60)","v":""}]
[null,null,{"$f":"IF(追加ワークシート名設定!D61=0,\"\",追加ワークシート名設定!D61)","v":""}]
[null,null,{"$f":"IF(追加ワークシート名設定!D62=0,\"\",追加ワークシート名設定!D62)","v":""}]
[null,null,{"$f":"IF(追加ワークシート名設定!D63=0,\"\",追加ワークシート名設定!D63)","v":""}]
[null,null,{"$f":"IF(追加ワークシート名設定!D64=0,\"\",追加ワークシート名設定!D64)","v":""}]
[null,null,{"$f":"IF(追加ワークシート名設定!D65=0,\"\",追加ワークシート名設定!D65)","v":""}]
[null,null,{"$f":"IF(追加ワークシート名設定!D66=0,\"\",追加ワークシート名設定!D66)","v":""}]
[null,null,{"$f":"IF(追加ワークシート名設定!D67=0,\"\",追加ワークシート名設定!D67)","v":""}]
[null,null,{"$f":"IF(追加ワークシート名設定!D68=0,\"\",追加ワークシート名設定!D68)","v":""}]
[null,null,{"$f":"IF(追加ワークシート名設定!D69=0,\"\",追加ワークシート名設定!D69)","v":""}]
[null,null,{"$f":"IF(シート名設定!C30=0,\"\",シート名設定!C30)","v":"入力AA1"}]
[null,null,{"$f":"IF(シート名設定!C31=0,\"\",シート名設定!C31)","v":"入力AA2"}]
[null,null,{"$f":"IF(シート名設定!C32=0,\"\",シート名設定!C32)","v":"入力AA3"}]
[null,null,{"$f":"IF(シート名設定!C33=0,\"\",シート名設定!C33)","v":"入力AA4"}]
[null,null,{"$f":"IF(シート名設定!C34=0,\"\",シート名設定!C34)","v":"入力AA5"}]

{"sheet":"一覧表付ファイル作成入力設定14","index":27,"n_rows":165,"n_cols":5,"rows_kept":165,"cut":false,"hidden":false,"merged":[[2,1,2,2]]}
[]
[]
[null,{"$f":"シート名設定!C22","v":"一覧表付ファイル作成入力設定14"}]
[null,"１．入力元の設定"]
[null,"項　　　　　　目","設定内容"]
[null,"シート名"]
[null,"データ先頭セル行番号"]
[null,"データ先頭セル列番号"]
[null,"異同比較列番号"]
[null,"データー数"]
[null,"For Next の増分"]
[]
[null,"２．入力先の設定"]
[null,"項　　　　　　目","設定内容"]
[null,"シート名"]
[null,"入力先頭セル行番号"]
[null,"入力先頭セル列番号"]
[null,"入力最終セル行番号"]
[null,"入力最終セル列番号"]
[null,"入力データー数"]
[null,"通しページ入力セル行番号"]
[null,"通しページ入力セル列番号"]
[null,"区分内ページ入力セル行番号"]
[null,"区分内ページ入力セル列番号"]
[null,"３．印刷処理かファイルのメール送信の設定"]
[null,"項　　　　　　目","設定内容"]
[null,"印刷処理か\nファイルの\nメール送信\nの選択",null,1]
[null,"ファイルのメール送信の場合の印刷フォームソートデーターシートのメールアドレスが入力されている列番号"]
[null,"ファイルのメール送信の場合の印刷フォームソートデーターシートの件名が入力されている列番号"]
[null,"ファイルのメール送信の場合の印刷フォームソートデーターシートの本文が入力されている列番号"]
[null,"ファイルのメール送信の場合の添付ファイルの保存先ドライブ及びフォルダー"]
[]
[]
[]
[]
[]
[null,null,{"$f":"IF(シート名設定!C35=0,\"\",シート名設定!C35)","v":"印刷フォーム1"},1,"印刷する"]
[null,null,{"$f":"IF(シート名設定!C36=0,\"\",シート名設定!C36)","v":"印刷フォーム2"},2,"メールで送信する"]
[null,null,{"$f":"IF(シート名設定!C37=0,\"\",シート名設定!C37)","v":"印刷フォーム3"},3,"添付ファイルなし件名本文のみのメール"]
[null,null,{"$f":"IF(シート名設定!C38=0,\"\",シート名設定!C38)","v":"印刷フォーム4"}]
[null,null,{"$f":"IF(シート名設定!C39=0,\"\",シート名設定!C39)","v":"印刷フォーム5"}]
[null,null,{"$f":"IF(シート名設定!C40=0,\"\",シート名設定!C40)","v":"印刷フォーム6"}]
[null,null,{"$f":"IF(シート名設定!C41=0,\"\",シート名設定!C41)","v":"印刷フォーム7"}]
[null,null,{"$f":"IF(シート名設定!C42=0,\"\",シート名設定!C42)","v":"印刷フォーム8"}]
[null,null,{"$f":"IF(シート名設定!C43=0,\"\",シート名設定!C43)","v":"印刷フォーム9"}]
[null,null,{"$f":"IF(シート名設定!C44=0,\"\",シート名設定!C44)","v":"印刷フォーム10"}]
[null,null,{"$f":"IF(シート名設定!C45=0,\"\",シート名設定!C45)","v":"印刷フォーム11"}]
[null,null,{"$f":"IF(シート名設定!C46=0,\"\",シート名設定!C46)","v":"印刷フォーム12"}]
[null,null,{"$f":"IF(シート名設定!C47=0,\"\",シート名設定!C47)","v":"印刷フォーム13"}]
[null,null,{"$f":"IF(シート名設定!C48=0,\"\",シート名設定!C48)","v":"印刷フォーム14"}]
[null,null,{"$f":"IF(シート名設定!C49=0,\"\",シート名設定!C49)","v":"印刷フォーム15"}]
[null,null,{"$f":"IF(シート名設定!C50=0,\"\",シート名設定!C50)","v":"印刷フォーム16"}]
[null,null,{"$f":"IF(シート名設定!C51=0,\"\",シート名設定!C51)","v":"印刷フォーム17"}]
[null,null,{"$f":"IF(シート名設定!C52=0,\"\",シート名設定!C52)","v":"印刷フォーム18"}]
[null,null,{"$f":"IF(シート名設定!C53=0,\"\",シート名設定!C53)","v":"印刷フォーム19"}]
[null,null,{"$f":"IF(シート名設定!C54=0,\"\",シート名設定!C54)","v":"印刷フォーム20"}]
[null,null,{"$f":"IF(シート名設定!E5=0,\"\",シート名設定!E5)","v":"印刷フォーム21"}]
[null,null,{"$f":"IF(シート名設定!E6=0,\"\",シート名設定!E6)","v":"印刷フォーム22"}]
[null,null,{"$f":"IF(シート名設定!E7=0,\"\",シート名設定!E7)","v":"印刷フォーム23"}]
[null,null,{"$f":"IF(シート名設定!E8=0,\"\",シート名設定!E8)","v":"印刷フォーム24"}]
[null,null,{"$f":"IF(シート名設定!E9=0,\"\",シート名設定!E9)","v":"印刷フォーム25"}]
[null,null,{"$f":"IF(シート名設定!E10=0,\"\",シート名設定!E10)","v":"印刷フォーム26"}]
[null,null,{"$f":"IF(シート名設定!E11=0,\"\",シート名設定!E11)","v":"印刷フォーム27"}]
[null,null,{"$f":"IF(シート名設定!E12=0,\"\",シート名設定!E12)","v":"印刷フォーム28"}]
[null,null,{"$f":"IF(シート名設定!E13=0,\"\",シート名設定!E13)","v":"印刷フォーム29"}]
[null,null,{"$f":"IF(シート名設定!E14=0,\"\",シート名設定!E14)","v":"印刷フォーム30"}]
[null,null,{"$f":"IF(シート名設定!E15=0,\"\",シート名設定!E15)","v":"印刷フォーム1ソートデーター"}]
[null,null,{"$f":"IF(シート名設定!E16=0,\"\",シート名設定!E16)","v":"印刷フォーム2ソートデーター"}]
[null,null,{"$f":"IF(シート名設定!E17=0,\"\",シート名設定!E17)","v":"印刷フォーム3ソートデーター"}]
[null,null,{"$f":"IF(シート名設定!E18=0,\"\",シート名設定!E18)","v":"印刷フォーム4ソートデーター"}]
[null,null,{"$f":"IF(シート名設定!E19=0,\"\",シート名設定!E19)","v":"印刷フォーム5ソートデーター"}]
[null,null,{"$f":"IF(シート名設定!E20=0,\"\",シート名設定!E20)","v":"印刷フォーム6ソートデーター"}]
[null,null,{"$f":"IF(シート名設定!E21=0,\"\",シート名設定!E21)","v":"印刷フォーム7ソートデーター"}]
[null,null,{"$f":"IF(シート名設定!E22=0,\"\",シート名設定!E22)","v":"印刷フォーム8ソートデーター"}]
[null,null,{"$f":"IF(シート名設定!E23=0,\"\",シート名設定!E23)","v":"印刷フォーム9ソートデーター"}]
[null,null,{"$f":"IF(シート名設定!E24=0,\"\",シート名設定!E24)","v":"印刷フォーム10ソートデーター"}]
[null,null,{"$f":"IF(シート名設定!E25=0,\"\",シート名設定!E25)","v":"印刷フォーム11ソートデーター"}]
[null,null,{"$f":"IF(シート名設定!E26=0,\"\",シート名設定!E26)","v":"印刷フォーム12ソートデーター"}]
[null,null,{"$f":"IF(シート名設定!E27=0,\"\",シート名設定!E27)","v":"印刷フォーム13ソートデーター"}]
[null,null,{"$f":"IF(シート名設定!E28=0,\"\",シート名設定!E28)","v":"印刷フォーム14ソートデーター"}]
[null,null,{"$f":"IF(シート名設定!E29=0,\"\",シート名設定!E29)","v":"印刷フォーム15ソートデーター"}]
[null,null,{"$f":"IF(シート名設定!E30=0,\"\",シート名設定!E30)","v":"印刷フォーム16ソートデーター"}]
[null,null,{"$f":"IF(シート名設定!E31=0,\"\",シート名設定!E31)","v":"印刷フォーム17ソートデーター"}]
[null,null,{"$f":"IF(シート名設定!E32=0,\"\",シート名設定!E32)","v":"印刷フォーム18ソートデーター"}]
[null,null,{"$f":"IF(シート名設定!E33=0,\"\",シート名設定!E33)","v":"印刷フォーム19ソートデーター"}]
[null,null,{"$f":"IF(シート名設定!E34=0,\"\",シート名設定!E34)","v":"印刷フォーム20ソートデーター"}]
[null,null,{"$f":"IF(シート名設定!E35=0,\"\",シート名設定!E35)","v":"印刷フォーム21ソートデーター"}]
[null,null,{"$f":"IF(シート名設定!E36=0,\"\",シート名設定!E36)","v":"印刷フォーム22ソートデーター"}]
[null,null,{"$f":"IF(シート名設定!E37=0,\"\",シート名設定!E37)","v":"印刷フォーム23ソートデーター"}]
[null,null,{"$f":"IF(シート名設定!E38=0,\"\",シート名設定!E38)","v":"印刷フォーム24ソートデーター"}]
[null,null,{"$f":"IF(シート名設定!E39=0,\"\",シート名設定!E39)","v":"印刷フォーム25ソートデーター"}]
[null,null,{"$f":"IF(シート名設定!E40=0,\"\",シート名設定!E40)","v":"印刷フォーム26ソートデーター"}]
[null,null,{"$f":"IF(シート名設定!E41=0,\"\",シート名設定!E41)","v":"印刷フォーム27ソートデーター"}]
[null,null,{"$f":"IF(シート名設定!E42=0,\"\",シート名設定!E42)","v":"印刷フォーム28ソートデーター"}]
[null,null,{"$f":"IF(シート名設定!E43=0,\"\",シート名設定!E43)","v":"印刷フォーム29ソートデーター"}]
[null,null,{"$f":"IF(シート名設定!E44=0,\"\",シート名設定!E44)","v":"印刷フォーム30ソートデーター"}]
[null,null,{"$f":"IF(追加ワークシート名設定!D6=0,\"\",追加ワークシート名設定!D6)","v":""}]
[null,null,{"$f":"IF(追加ワークシート名設定!D7=0,\"\",追加ワークシート名設定!D7)","v":""}]
[null,null,{"$f":"IF(追加ワークシート名設定!D8=0,\"\",追加ワークシート名設定!D8)","v":""}]
[null,null,{"$f":"IF(追加ワークシート名設定!D9=0,\"\",追加ワークシート名設定!D9)","v":""}]
[null,null,{"$f":"IF(追加ワークシート名設定!D10=0,\"\",追加ワークシート名設定!D10)","v":""}]
[null,null,{"$f":"IF(追加ワークシート名設定!D11=0,\"\",追加ワークシート名設定!D11)","v":""}]
[null,null,{"$f":"IF(追加ワークシート名設定!D12=0,\"\",追加ワークシート名設定!D12)","v":""}]
[null,null,{"$f":"IF(追加ワークシート名設定!D13=0,\"\",追加ワークシート名設定!D13)","v":""}]
[null,null,{"$f":"IF(追加ワークシート名設定!D14=0,\"\",追加ワークシート名設定!D14)","v":""}]
[null,null,{"$f":"IF(追加ワークシート名設定!D15=0,\"\",追加ワークシート名設定!D15)","v":""}]
[null,null,{"$f":"IF(追加ワークシート名設定!D16=0,\"\",追加ワークシート名設定!D16)","v":""}]
[null,null,{"$f":"IF(追加ワークシート名設定!D17=0,\"\",追加ワークシート名設定!D17)","v":""}]
[null,null,{"$f":"IF(追加ワークシート名設定!D18=0,\"\",追加ワークシート名設定!D18)","v":""}]
[null,null,{"$f":"IF(追加ワークシート名設定!D19=0,\"\",追加ワークシート名設定!D19)","v":""}]
[null,null,{"$f":"IF(追加ワークシート名設定!D20=0,\"\",追加ワークシート名設定!D20)","v":""}]
[null,null,{"$f":"IF(追加ワークシート名設定!D21=0,\"\",追加ワークシート名設定!D21)","v":""}]
[null,null,{"$f":"IF(追加ワークシート名設定!D22=0,\"\",追加ワークシート名設定!D22)","v":""}]
[null,null,{"$f":"IF(追加ワークシート名設定!D23=0,\"\",追加ワークシート名設定!D23)","v":""}]
[null,null,{"$f":"IF(追加ワークシート名設定!D24=0,\"\",追加ワークシート名設定!D24)","v":""}]
[null,null,{"$f":"IF(追加ワークシート名設定!D25=0,\"\",追加ワークシート名設定!D25)","v":""}]
[null,null,{"$f":"IF(追加ワークシート名設定!D26=0,\"\",追加ワークシート名設定!D26)","v":""}]
[null,null,{"$f":"IF(追加ワークシート名設定!D27=0,\"\",追加ワークシート名設定!D27)","v":""}]
[null,null,{"$f":"IF(追加ワークシート名設定!D28=0,\"\",追加ワークシート名設定!D28)","v":""}]
[null,null,{"$f":"IF(追加ワークシート名設定!D29=0,\"\",追加ワークシート名設定!D29)","v":""}]
[null,null,{"$f":"IF(追加ワークシート名設定!D30=0,\"\",追加ワークシート名設定!D30)","v":""}]
[null,null,{"$f":"IF(追加ワークシート名設定!D31=0,\"\",追加ワークシート名設定!D31)","v":""}]
[null,null,{"$f":"IF(追加ワークシート名設定!D32=0,\"\",追加ワークシート名設定!D32)","v":""}]
[null,null,{"$f":"IF(追加ワークシート名設定!D33=0,\"\",追加ワークシート名設定!D33)","v":""}]
[null,null,{"$f":"IF(追加ワークシート名設定!D34=0,\"\",追加ワークシート名設定!D34)","v":""}]
[null,null,{"$f":"IF(追加ワークシート名設定!D35=0,\"\",追加ワークシート名設定!D35)","v":""}]
[null,null,{"$f":"IF(追加ワークシート名設定!D36=0,\"\",追加ワークシート名設定!D36)","v":""}]
[null,null,{"$f":"IF(追加ワークシート名設定!D37=0,\"\",追加ワークシート名設定!D37)","v":""}]
[null,null,{"$f":"IF(追加ワークシート名設定!D38=0,\"\",追加ワークシート名設定!D38)","v":""}]
[null,null,{"$f":"IF(追加ワークシート名設定!D39=0,\"\",追加ワークシート名設定!D39)","v":""}]
[null,null,{"$f":"IF(追加ワークシート名設定!D40=0,\"\",追加ワークシート名設定!D40)","v":""}]
[null,null,{"$f":"IF(追加ワークシート名設定!D41=0,\"\",追加ワークシート名設定!D41)","v":""}]
[null,null,{"$f":"IF(追加ワークシート名設定!D42=0,\"\",追加ワークシート名設定!D42)","v":""}]
[null,null,{"$f":"IF(追加ワークシート名設定!D43=0,\"\",追加ワークシート名設定!D43)","v":""}]
[null,null,{"$f":"IF(追加ワークシート名設定!D44=0,\"\",追加ワークシート名設定!D44)","v":""}]
[null,null,{"$f":"IF(追加ワークシート名設定!D45=0,\"\",追加ワークシート名設定!D45)","v":""}]
[null,null,{"$f":"IF(追加ワークシート名設定!D46=0,\"\",追加ワークシート名設定!D46)","v":""}]
[null,null,{"$f":"IF(追加ワークシート名設定!D47=0,\"\",追加ワークシート名設定!D47)","v":""}]
[null,null,{"$f":"IF(追加ワークシート名設定!D48=0,\"\",追加ワークシート名設定!D48)","v":""}]
[null,null,{"$f":"IF(追加ワークシート名設定!D49=0,\"\",追加ワークシート名設定!D49)","v":""}]
[null,null,{"$f":"IF(追加ワークシート名設定!D50=0,\"\",追加ワークシート名設定!D50)","v":""}]
[null,null,{"$f":"IF(追加ワークシート名設定!D51=0,\"\",追加ワークシート名設定!D51)","v":""}]
[null,null,{"$f":"IF(追加ワークシート名設定!D52=0,\"\",追加ワークシート名設定!D52)","v":""}]
[null,null,{"$f":"IF(追加ワークシート名設定!D53=0,\"\",追加ワークシート名設定!D53)","v":""}]
[null,null,{"$f":"IF(追加ワークシート名設定!D54=0,\"\",追加ワークシート名設定!D54)","v":""}]
[null,null,{"$f":"IF(追加ワークシート名設定!D55=0,\"\",追加ワークシート名設定!D55)","v":""}]
[null,null,{"$f":"IF(追加ワークシート名設定!D56=0,\"\",追加ワークシート名設定!D56)","v":""}]
[null,null,{"$f":"IF(追加ワークシート名設定!D57=0,\"\",追加ワークシート名設定!D57)","v":""}]
[null,null,{"$f":"IF(追加ワークシート名設定!D58=0,\"\",追加ワークシート名設定!D58)","v":""}]
[null,null,{"$f":"IF(追加ワークシート名設定!D59=0,\"\",追加ワークシート名設定!D59)","v":""}]
[null,null,{"$f":"IF(追加ワークシート名設定!D60=0,\"\",追加ワークシート名設定!D60)","v":""}]
[null,null,{"$f":"IF(追加ワークシート名設定!D61=0,\"\",追加ワークシート名設定!D61)","v":""}]
[null,null,{"$f":"IF(追加ワークシート名設定!D62=0,\"\",追加ワークシート名設定!D62)","v":""}]
[null,null,{"$f":"IF(追加ワークシート名設定!D63=0,\"\",追加ワークシート名設定!D63)","v":""}]
[null,null,{"$f":"IF(追加ワークシート名設定!D64=0,\"\",追加ワークシート名設定!D64)","v":""}]
[null,null,{"$f":"IF(追加ワークシート名設定!D65=0,\"\",追加ワークシート名設定!D65)","v":""}]
[null,null,{"$f":"IF(追加ワークシート名設定!D66=0,\"\",追加ワークシート名設定!D66)","v":""}]
[null,null,{"$f":"IF(追加ワークシート名設定!D67=0,\"\",追加ワークシート名設定!D67)","v":""}]
[null,null,{"$f":"IF(追加ワークシート名設定!D68=0,\"\",追加ワークシート名設定!D68)","v":""}]
[null,null,{"$f":"IF(追加ワークシート名設定!D69=0,\"\",追加ワークシート名設定!D69)","v":""}]
[null,null,{"$f":"IF(シート名設定!C30=0,\"\",シート名設定!C30)","v":"入力AA1"}]
[null,null,{"$f":"IF(シート名設定!C31=0,\"\",シート名設定!C31)","v":"入力AA2"}]
[null,null,{"$f":"IF(シート名設定!C32=0,\"\",シート名設定!C32)","v":"入力AA3"}]
[null,null,{"$f":"IF(シート名設定!C33=0,\"\",シート名設定!C33)","v":"入力AA4"}]
[null,null,{"$f":"IF(シート名設定!C34=0,\"\",シート名設定!C34)","v":"入力AA5"}]

{"sheet":"一覧表付ファイル作成入力設定15","index":28,"n_rows":165,"n_cols":5,"rows_kept":165,"cut":false,"hidden":false,"merged":[[2,1,2,2]]}
[]
[]
[null,{"$f":"シート名設定!C23","v":"一覧表付ファイル作成入力設定15"}]
[null,"１．入力元の設定"]
[null,"項　　　　　　目","設定内容"]
[null,"シート名"]
[null,"データ先頭セル行番号"]
[null,"データ先頭セル列番号"]
[null,"異同比較列番号"]
[null,"データー数"]
[null,"For Next の増分"]
[]
[null,"２．入力先の設定"]
[null,"項　　　　　　目","設定内容"]
[null,"シート名"]
[null,"入力先頭セル行番号"]
[null,"入力先頭セル列番号"]
[null,"入力最終セル行番号"]
[null,"入力最終セル列番号"]
[null,"入力データー数"]
[null,"通しページ入力セル行番号"]
[null,"通しページ入力セル列番号"]
[null,"区分内ページ入力セル行番号"]
[null,"区分内ページ入力セル列番号"]
[null,"３．印刷処理かファイルのメール送信の設定"]
[null,"項　　　　　　目","設定内容"]
[null,"印刷処理か\nファイルの\nメール送信\nの選択",null,1]
[null,"ファイルのメール送信の場合の印刷フォームソートデーターシートのメールアドレスが入力されている列番号"]
[null,"ファイルのメール送信の場合の印刷フォームソートデーターシートの件名が入力されている列番号"]
[null,"ファイルのメール送信の場合の印刷フォームソートデーターシートの本文が入力されている列番号"]
[null,"ファイルのメール送信の場合の添付ファイルの保存先ドライブ及びフォルダー"]
[]
[]
[]
[]
[]
[null,null,{"$f":"IF(シート名設定!C35=0,\"\",シート名設定!C35)","v":"印刷フォーム1"},1,"印刷する"]
[null,null,{"$f":"IF(シート名設定!C36=0,\"\",シート名設定!C36)","v":"印刷フォーム2"},2,"メールで送信する"]
[null,null,{"$f":"IF(シート名設定!C37=0,\"\",シート名設定!C37)","v":"印刷フォーム3"},3,"添付ファイルなし件名本文のみのメール"]
[null,null,{"$f":"IF(シート名設定!C38=0,\"\",シート名設定!C38)","v":"印刷フォーム4"}]
[null,null,{"$f":"IF(シート名設定!C39=0,\"\",シート名設定!C39)","v":"印刷フォーム5"}]
[null,null,{"$f":"IF(シート名設定!C40=0,\"\",シート名設定!C40)","v":"印刷フォーム6"}]
[null,null,{"$f":"IF(シート名設定!C41=0,\"\",シート名設定!C41)","v":"印刷フォーム7"}]
[null,null,{"$f":"IF(シート名設定!C42=0,\"\",シート名設定!C42)","v":"印刷フォーム8"}]
[null,null,{"$f":"IF(シート名設定!C43=0,\"\",シート名設定!C43)","v":"印刷フォーム9"}]
[null,null,{"$f":"IF(シート名設定!C44=0,\"\",シート名設定!C44)","v":"印刷フォーム10"}]
[null,null,{"$f":"IF(シート名設定!C45=0,\"\",シート名設定!C45)","v":"印刷フォーム11"}]
[null,null,{"$f":"IF(シート名設定!C46=0,\"\",シート名設定!C46)","v":"印刷フォーム12"}]
[null,null,{"$f":"IF(シート名設定!C47=0,\"\",シート名設定!C47)","v":"印刷フォーム13"}]
[null,null,{"$f":"IF(シート名設定!C48=0,\"\",シート名設定!C48)","v":"印刷フォーム14"}]
[null,null,{"$f":"IF(シート名設定!C49=0,\"\",シート名設定!C49)","v":"印刷フォーム15"}]
[null,null,{"$f":"IF(シート名設定!C50=0,\"\",シート名設定!C50)","v":"印刷フォーム16"}]
[null,null,{"$f":"IF(シート名設定!C51=0,\"\",シート名設定!C51)","v":"印刷フォーム17"}]
[null,null,{"$f":"IF(シート名設定!C52=0,\"\",シート名設定!C52)","v":"印刷フォーム18"}]
[null,null,{"$f":"IF(シート名設定!C53=0,\"\",シート名設定!C53)","v":"印刷フォーム19"}]
[null,null,{"$f":"IF(シート名設定!C54=0,\"\",シート名設定!C54)","v":"印刷フォーム20"}]
[null,null,{"$f":"IF(シート名設定!E5=0,\"\",シート名設定!E5)","v":"印刷フォーム21"}]
[null,null,{"$f":"IF(シート名設定!E6=0,\"\",シート名設定!E6)","v":"印刷フォーム22"}]
[null,null,{"$f":"IF(シート名設定!E7=0,\"\",シート名設定!E7)","v":"印刷フォーム23"}]
[null,null,{"$f":"IF(シート名設定!E8=0,\"\",シート名設定!E8)","v":"印刷フォーム24"}]
[null,null,{"$f":"IF(シート名設定!E9=0,\"\",シート名設定!E9)","v":"印刷フォーム25"}]
[null,null,{"$f":"IF(シート名設定!E10=0,\"\",シート名設定!E10)","v":"印刷フォーム26"}]
[null,null,{"$f":"IF(シート名設定!E11=0,\"\",シート名設定!E11)","v":"印刷フォーム27"}]
[null,null,{"$f":"IF(シート名設定!E12=0,\"\",シート名設定!E12)","v":"印刷フォーム28"}]
[null,null,{"$f":"IF(シート名設定!E13=0,\"\",シート名設定!E13)","v":"印刷フォーム29"}]
[null,null,{"$f":"IF(シート名設定!E14=0,\"\",シート名設定!E14)","v":"印刷フォーム30"}]
[null,null,{"$f":"IF(シート名設定!E15=0,\"\",シート名設定!E15)","v":"印刷フォーム1ソートデーター"}]
[null,null,{"$f":"IF(シート名設定!E16=0,\"\",シート名設定!E16)","v":"印刷フォーム2ソートデーター"}]
[null,null,{"$f":"IF(シート名設定!E17=0,\"\",シート名設定!E17)","v":"印刷フォーム3ソートデーター"}]
[null,null,{"$f":"IF(シート名設定!E18=0,\"\",シート名設定!E18)","v":"印刷フォーム4ソートデーター"}]
[null,null,{"$f":"IF(シート名設定!E19=0,\"\",シート名設定!E19)","v":"印刷フォーム5ソートデーター"}]
[null,null,{"$f":"IF(シート名設定!E20=0,\"\",シート名設定!E20)","v":"印刷フォーム6ソートデーター"}]
[null,null,{"$f":"IF(シート名設定!E21=0,\"\",シート名設定!E21)","v":"印刷フォーム7ソートデーター"}]
[null,null,{"$f":"IF(シート名設定!E22=0,\"\",シート名設定!E22)","v":"印刷フォーム8ソートデーター"}]
[null,null,{"$f":"IF(シート名設定!E23=0,\"\",シート名設定!E23)","v":"印刷フォーム9ソートデーター"}]
[null,null,{"$f":"IF(シート名設定!E24=0,\"\",シート名設定!E24)","v":"印刷フォーム10ソートデーター"}]
[null,null,{"$f":"IF(シート名設定!E25=0,\"\",シート名設定!E25)","v":"印刷フォーム11ソートデーター"}]
[null,null,{"$f":"IF(シート名設定!E26=0,\"\",シート名設定!E26)","v":"印刷フォーム12ソートデーター"}]
[null,null,{"$f":"IF(シート名設定!E27=0,\"\",シート名設定!E27)","v":"印刷フォーム13ソートデーター"}]
[null,null,{"$f":"IF(シート名設定!E28=0,\"\",シート名設定!E28)","v":"印刷フォーム14ソートデーター"}]
[null,null,{"$f":"IF(シート名設定!E29=0,\"\",シート名設定!E29)","v":"印刷フォーム15ソートデーター"}]
[null,null,{"$f":"IF(シート名設定!E30=0,\"\",シート名設定!E30)","v":"印刷フォーム16ソートデーター"}]
[null,null,{"$f":"IF(シート名設定!E31=0,\"\",シート名設定!E31)","v":"印刷フォーム17ソートデーター"}]
[null,null,{"$f":"IF(シート名設定!E32=0,\"\",シート名設定!E32)","v":"印刷フォーム18ソートデーター"}]
[null,null,{"$f":"IF(シート名設定!E33=0,\"\",シート名設定!E33)","v":"印刷フォーム19ソートデーター"}]
[null,null,{"$f":"IF(シート名設定!E34=0,\"\",シート名設定!E34)","v":"印刷フォーム20ソートデーター"}]
[null,null,{"$f":"IF(シート名設定!E35=0,\"\",シート名設定!E35)","v":"印刷フォーム21ソートデーター"}]
[null,null,{"$f":"IF(シート名設定!E36=0,\"\",シート名設定!E36)","v":"印刷フォーム22ソートデーター"}]
[null,null,{"$f":"IF(シート名設定!E37=0,\"\",シート名設定!E37)","v":"印刷フォーム23ソートデーター"}]
[null,null,{"$f":"IF(シート名設定!E38=0,\"\",シート名設定!E38)","v":"印刷フォーム24ソートデーター"}]
[null,null,{"$f":"IF(シート名設定!E39=0,\"\",シート名設定!E39)","v":"印刷フォーム25ソートデーター"}]
[null,null,{"$f":"IF(シート名設定!E40=0,\"\",シート名設定!E40)","v":"印刷フォーム26ソートデーター"}]
[null,null,{"$f":"IF(シート名設定!E41=0,\"\",シート名設定!E41)","v":"印刷フォーム27ソートデーター"}]
[null,null,{"$f":"IF(シート名設定!E42=0,\"\",シート名設定!E42)","v":"印刷フォーム28ソートデーター"}]
[null,null,{"$f":"IF(シート名設定!E43=0,\"\",シート名設定!E43)","v":"印刷フォーム29ソートデーター"}]
[null,null,{"$f":"IF(シート名設定!E44=0,\"\",シート名設定!E44)","v":"印刷フォーム30ソートデーター"}]
[null,null,{"$f":"IF(追加ワークシート名設定!D6=0,\"\",追加ワークシート名設定!D6)","v":""}]
[null,null,{"$f":"IF(追加ワークシート名設定!D7=0,\"\",追加ワークシート名設定!D7)","v":""}]
[null,null,{"$f":"IF(追加ワークシート名設定!D8=0,\"\",追加ワークシート名設定!D8)","v":""}]
[null,null,{"$f":"IF(追加ワークシート名設定!D9=0,\"\",追加ワークシート名設定!D9)","v":""}]
[null,null,{"$f":"IF(追加ワークシート名設定!D10=0,\"\",追加ワークシート名設定!D10)","v":""}]
[null,null,{"$f":"IF(追加ワークシート名設定!D11=0,\"\",追加ワークシート名設定!D11)","v":""}]
[null,null,{"$f":"IF(追加ワークシート名設定!D12=0,\"\",追加ワークシート名設定!D12)","v":""}]
[null,null,{"$f":"IF(追加ワークシート名設定!D13=0,\"\",追加ワークシート名設定!D13)","v":""}]
[null,null,{"$f":"IF(追加ワークシート名設定!D14=0,\"\",追加ワークシート名設定!D14)","v":""}]
[null,null,{"$f":"IF(追加ワークシート名設定!D15=0,\"\",追加ワークシート名設定!D15)","v":""}]
[null,null,{"$f":"IF(追加ワークシート名設定!D16=0,\"\",追加ワークシート名設定!D16)","v":""}]
[null,null,{"$f":"IF(追加ワークシート名設定!D17=0,\"\",追加ワークシート名設定!D17)","v":""}]
[null,null,{"$f":"IF(追加ワークシート名設定!D18=0,\"\",追加ワークシート名設定!D18)","v":""}]
[null,null,{"$f":"IF(追加ワークシート名設定!D19=0,\"\",追加ワークシート名設定!D19)","v":""}]
[null,null,{"$f":"IF(追加ワークシート名設定!D20=0,\"\",追加ワークシート名設定!D20)","v":""}]
[null,null,{"$f":"IF(追加ワークシート名設定!D21=0,\"\",追加ワークシート名設定!D21)","v":""}]
[null,null,{"$f":"IF(追加ワークシート名設定!D22=0,\"\",追加ワークシート名設定!D22)","v":""}]
[null,null,{"$f":"IF(追加ワークシート名設定!D23=0,\"\",追加ワークシート名設定!D23)","v":""}]
[null,null,{"$f":"IF(追加ワークシート名設定!D24=0,\"\",追加ワークシート名設定!D24)","v":""}]
[null,null,{"$f":"IF(追加ワークシート名設定!D25=0,\"\",追加ワークシート名設定!D25)","v":""}]
[null,null,{"$f":"IF(追加ワークシート名設定!D26=0,\"\",追加ワークシート名設定!D26)","v":""}]
[null,null,{"$f":"IF(追加ワークシート名設定!D27=0,\"\",追加ワークシート名設定!D27)","v":""}]
[null,null,{"$f":"IF(追加ワークシート名設定!D28=0,\"\",追加ワークシート名設定!D28)","v":""}]
[null,null,{"$f":"IF(追加ワークシート名設定!D29=0,\"\",追加ワークシート名設定!D29)","v":""}]
[null,null,{"$f":"IF(追加ワークシート名設定!D30=0,\"\",追加ワークシート名設定!D30)","v":""}]
[null,null,{"$f":"IF(追加ワークシート名設定!D31=0,\"\",追加ワークシート名設定!D31)","v":""}]
[null,null,{"$f":"IF(追加ワークシート名設定!D32=0,\"\",追加ワークシート名設定!D32)","v":""}]
[null,null,{"$f":"IF(追加ワークシート名設定!D33=0,\"\",追加ワークシート名設定!D33)","v":""}]
[null,null,{"$f":"IF(追加ワークシート名設定!D34=0,\"\",追加ワークシート名設定!D34)","v":""}]
[null,null,{"$f":"IF(追加ワークシート名設定!D35=0,\"\",追加ワークシート名設定!D35)","v":""}]
[null,null,{"$f":"IF(追加ワークシート名設定!D36=0,\"\",追加ワークシート名設定!D36)","v":""}]
[null,null,{"$f":"IF(追加ワークシート名設定!D37=0,\"\",追加ワークシート名設定!D37)","v":""}]
[null,null,{"$f":"IF(追加ワークシート名設定!D38=0,\"\",追加ワークシート名設定!D38)","v":""}]
[null,null,{"$f":"IF(追加ワークシート名設定!D39=0,\"\",追加ワークシート名設定!D39)","v":""}]
[null,null,{"$f":"IF(追加ワークシート名設定!D40=0,\"\",追加ワークシート名設定!D40)","v":""}]
[null,null,{"$f":"IF(追加ワークシート名設定!D41=0,\"\",追加ワークシート名設定!D41)","v":""}]
[null,null,{"$f":"IF(追加ワークシート名設定!D42=0,\"\",追加ワークシート名設定!D42)","v":""}]
[null,null,{"$f":"IF(追加ワークシート名設定!D43=0,\"\",追加ワークシート名設定!D43)","v":""}]
[null,null,{"$f":"IF(追加ワークシート名設定!D44=0,\"\",追加ワークシート名設定!D44)","v":""}]
[null,null,{"$f":"IF(追加ワークシート名設定!D45=0,\"\",追加ワークシート名設定!D45)","v":""}]
[null,null,{"$f":"IF(追加ワークシート名設定!D46=0,\"\",追加ワークシート名設定!D46)","v":""}]
[null,null,{"$f":"IF(追加ワークシート名設定!D47=0,\"\",追加ワークシート名設定!D47)","v":""}]
[null,null,{"$f":"IF(追加ワークシート名設定!D48=0,\"\",追加ワークシート名設定!D48)","v":""}]
[null,null,{"$f":"IF(追加ワークシート名設定!D49=0,\"\",追加ワークシート名設定!D49)","v":""}]
[null,null,{"$f":"IF(追加ワークシート名設定!D50=0,\"\",追加ワークシート名設定!D50)","v":""}]
[null,null,{"$f":"IF(追加ワークシート名設定!D51=0,\"\",追加ワークシート名設定!D51)","v":""}]
[null,null,{"$f":"IF(追加ワークシート名設定!D52=0,\"\",追加ワークシート名設定!D52)","v":""}]
[null,null,{"$f":"IF(追加ワークシート名設定!D53=0,\"\",追加ワークシート名設定!D53)","v":""}]
[null,null,{"$f":"IF(追加ワークシート名設定!D54=0,\"\",追加ワークシート名設定!D54)","v":""}]
[null,null,{"$f":"IF(追加ワークシート名設定!D55=0,\"\",追加ワークシート名設定!D55)","v":""}]
[null,null,{"$f":"IF(追加ワークシート名設定!D56=0,\"\",追加ワークシート名設定!D56)","v":""}]
[null,null,{"$f":"IF(追加ワークシート名設定!D57=0,\"\",追加ワークシート名設定!D57)","v":""}]
[null,null,{"$f":"IF(追加ワークシート名設定!D58=0,\"\",追加ワークシート名設定!D58)","v":""}]
[null,null,{"$f":"IF(追加ワークシート名設定!D59=0,\"\",追加ワークシート名設定!D59)","v":""}]
[null,null,{"$f":"IF(追加ワークシート名設定!D60=0,\"\",追加ワークシート名設定!D60)","v":""}]
[null,null,{"$f":"IF(追加ワークシート名設定!D61=0,\"\",追加ワークシート名設定!D61)","v":""}]
[null,null,{"$f":"IF(追加ワークシート名設定!D62=0,\"\",追加ワークシート名設定!D62)","v":""}]
[null,null,{"$f":"IF(追加ワークシート名設定!D63=0,\"\",追加ワークシート名設定!D63)","v":""}]
[null,null,{"$f":"IF(追加ワークシート名設定!D64=0,\"\",追加ワークシート名設定!D64)","v":""}]
[null,null,{"$f":"IF(追加ワークシート名設定!D65=0,\"\",追加ワークシート名設定!D65)","v":""}]
[null,null,{"$f":"IF(追加ワークシート名設定!D66=0,\"\",追加ワークシート名設定!D66)","v":""}]
[null,null,{"$f":"IF(追加ワークシート名設定!D67=0,\"\",追加ワークシート名設定!D67)","v":""}]
[null,null,{"$f":"IF(追加ワークシート名設定!D68=0,\"\",追加ワークシート名設定!D68)","v":""}]
[null,null,{"$f":"IF(追加ワークシート名設定!D69=0,\"\",追加ワークシート名設定!D69)","v":""}]
[null,null,{"$f":"IF(シート名設定!C30=0,\"\",シート名設定!C30)","v":"入力AA1"}]
[null,null,{"$f":"IF(シート名設定!C31=0,\"\",シート名設定!C31)","v":"入力AA2"}]
[null,null,{"$f":"IF(シート名設定!C32=0,\"\",シート名設定!C32)","v":"入力AA3"}]
[null,null,{"$f":"IF(シート名設定!C33=0,\"\",シート名設定!C33)","v":"入力AA4"}]
[null,null,{"$f":"IF(シート名設定!C34=0,\"\",シート名設定!C34)","v":"入力AA5"}]

{"sheet":"一覧表付ファイル作成入力設定16","index":29,"n_rows":165,"n_cols":5,"rows_kept":165,"cut":false,"hidden":false,"merged":[[2,1,2,2]]}
[]
[]
[null,{"$f":"シート名設定!C24","v":"一覧表付ファイル作成入力設定16"}]
[null,"１．入力元の設定"]
[null,"項　　　　　　目","設定内容"]
[null,"シート名"]
[null,"データ先頭セル行番号"]
[null,"データ先頭セル列番号"]
[null,"異同比較列番号"]
[null,"データー数"]
[null,"For Next の増分"]
[]
[null,"２．入力先の設定"]
[null,"項　　　　　　目","設定内容"]
[null,"シート名"]
[null,"入力先頭セル行番号"]
[null,"入力先頭セル列番号"]
[null,"入力最終セル行番号"]
[null,"入力最終セル列番号"]
[null,"入力データー数"]
[null,"通しページ入力セル行番号"]
[null,"通しページ入力セル列番号"]
[null,"区分内ページ入力セル行番号"]
[null,"区分内ページ入力セル列番号"]
[null,"３．印刷処理かファイルのメール送信の設定"]
[null,"項　　　　　　目","設定内容"]
[null,"印刷処理か\nファイルの\nメール送信\nの選択",null,1]
[null,"ファイルのメール送信の場合の印刷フォームソートデーターシートのメールアドレスが入力されている列番号"]
[null,"ファイルのメール送信の場合の印刷フォームソートデーターシートの件名が入力されている列番号"]
[null,"ファイルのメール送信の場合の印刷フォームソートデーターシートの本文が入力されている列番号"]
[null,"ファイルのメール送信の場合の添付ファイルの保存先ドライブ及びフォルダー"]
[]
[]
[]
[]
[]
[null,null,{"$f":"IF(シート名設定!C35=0,\"\",シート名設定!C35)","v":"印刷フォーム1"},1,"印刷する"]
[null,null,{"$f":"IF(シート名設定!C36=0,\"\",シート名設定!C36)","v":"印刷フォーム2"},2,"メールで送信する"]
[null,null,{"$f":"IF(シート名設定!C37=0,\"\",シート名設定!C37)","v":"印刷フォーム3"},3,"添付ファイルなし件名本文のみのメール"]
[null,null,{"$f":"IF(シート名設定!C38=0,\"\",シート名設定!C38)","v":"印刷フォーム4"}]
[null,null,{"$f":"IF(シート名設定!C39=0,\"\",シート名設定!C39)","v":"印刷フォーム5"}]
[null,null,{"$f":"IF(シート名設定!C40=0,\"\",シート名設定!C40)","v":"印刷フォーム6"}]
[null,null,{"$f":"IF(シート名設定!C41=0,\"\",シート名設定!C41)","v":"印刷フォーム7"}]
[null,null,{"$f":"IF(シート名設定!C42=0,\"\",シート名設定!C42)","v":"印刷フォーム8"}]
[null,null,{"$f":"IF(シート名設定!C43=0,\"\",シート名設定!C43)","v":"印刷フォーム9"}]
[null,null,{"$f":"IF(シート名設定!C44=0,\"\",シート名設定!C44)","v":"印刷フォーム10"}]
[null,null,{"$f":"IF(シート名設定!C45=0,\"\",シート名設定!C45)","v":"印刷フォーム11"}]
[null,null,{"$f":"IF(シート名設定!C46=0,\"\",シート名設定!C46)","v":"印刷フォーム12"}]
[null,null,{"$f":"IF(シート名設定!C47=0,\"\",シート名設定!C47)","v":"印刷フォーム13"}]
[null,null,{"$f":"IF(シート名設定!C48=0,\"\",シート名設定!C48)","v":"印刷フォーム14"}]
[null,null,{"$f":"IF(シート名設定!C49=0,\"\",シート名設定!C49)","v":"印刷フォーム15"}]
[null,null,{"$f":"IF(シート名設定!C50=0,\"\",シート名設定!C50)","v":"印刷フォーム16"}]
[null,null,{"$f":"IF(シート名設定!C51=0,\"\",シート名設定!C51)","v":"印刷フォーム17"}]
[null,null,{"$f":"IF(シート名設定!C52=0,\"\",シート名設定!C52)","v":"印刷フォーム18"}]
[null,null,{"$f":"IF(シート名設定!C53=0,\"\",シート名設定!C53)","v":"印刷フォーム19"}]
[null,null,{"$f":"IF(シート名設定!C54=0,\"\",シート名設定!C54)","v":"印刷フォーム20"}]
[null,null,{"$f":"IF(シート名設定!E5=0,\"\",シート名設定!E5)","v":"印刷フォーム21"}]
[null,null,{"$f":"IF(シート名設定!E6=0,\"\",シート名設定!E6)","v":"印刷フォーム22"}]
[null,null,{"$f":"IF(シート名設定!E7=0,\"\",シート名設定!E7)","v":"印刷フォーム23"}]
[null,null,{"$f":"IF(シート名設定!E8=0,\"\",シート名設定!E8)","v":"印刷フォーム24"}]
[null,null,{"$f":"IF(シート名設定!E9=0,\"\",シート名設定!E9)","v":"印刷フォーム25"}]
[null,null,{"$f":"IF(シート名設定!E10=0,\"\",シート名設定!E10)","v":"印刷フォーム26"}]
[null,null,{"$f":"IF(シート名設定!E11=0,\"\",シート名設定!E11)","v":"印刷フォーム27"}]
[null,null,{"$f":"IF(シート名設定!E12=0,\"\",シート名設定!E12)","v":"印刷フォーム28"}]
[null,null,{"$f":"IF(シート名設定!E13=0,\"\",シート名設定!E13)","v":"印刷フォーム29"}]
[null,null,{"$f":"IF(シート名設定!E14=0,\"\",シート名設定!E14)","v":"印刷フォーム30"}]
[null,null,{"$f":"IF(シート名設定!E15=0,\"\",シート名設定!E15)","v":"印刷フォーム1ソートデーター"}]
[null,null,{"$f":"IF(シート名設定!E16=0,\"\",シート名設定!E16)","v":"印刷フォーム2ソートデーター"}]
[null,null,{"$f":"IF(シート名設定!E17=0,\"\",シート名設定!E17)","v":"印刷フォーム3ソートデーター"}]
[null,null,{"$f":"IF(シート名設定!E18=0,\"\",シート名設定!E18)","v":"印刷フォーム4ソートデーター"}]
[null,null,{"$f":"IF(シート名設定!E19=0,\"\",シート名設定!E19)","v":"印刷フォーム5ソートデーター"}]
[null,null,{"$f":"IF(シート名設定!E20=0,\"\",シート名設定!E20)","v":"印刷フォーム6ソートデーター"}]
[null,null,{"$f":"IF(シート名設定!E21=0,\"\",シート名設定!E21)","v":"印刷フォーム7ソートデーター"}]
[null,null,{"$f":"IF(シート名設定!E22=0,\"\",シート名設定!E22)","v":"印刷フォーム8ソートデーター"}]
[null,null,{"$f":"IF(シート名設定!E23=0,\"\",シート名設定!E23)","v":"印刷フォーム9ソートデーター"}]
[null,null,{"$f":"IF(シート名設定!E24=0,\"\",シート名設定!E24)","v":"印刷フォーム10ソートデーター"}]
[null,null,{"$f":"IF(シート名設定!E25=0,\"\",シート名設定!E25)","v":"印刷フォーム11ソートデーター"}]
[null,null,{"$f":"IF(シート名設定!E26=0,\"\",シート名設定!E26)","v":"印刷フォーム12ソートデーター"}]
[null,null,{"$f":"IF(シート名設定!E27=0,\"\",シート名設定!E27)","v":"印刷フォーム13ソートデーター"}]
[null,null,{"$f":"IF(シート名設定!E28=0,\"\",シート名設定!E28)","v":"印刷フォーム14ソートデーター"}]
[null,null,{"$f":"IF(シート名設定!E29=0,\"\",シート名設定!E29)","v":"印刷フォーム15ソートデーター"}]
[null,null,{"$f":"IF(シート名設定!E30=0,\"\",シート名設定!E30)","v":"印刷フォーム16ソートデーター"}]
[null,null,{"$f":"IF(シート名設定!E31=0,\"\",シート名設定!E31)","v":"印刷フォーム17ソートデーター"}]
[null,null,{"$f":"IF(シート名設定!E32=0,\"\",シート名設定!E32)","v":"印刷フォーム18ソートデーター"}]
[null,null,{"$f":"IF(シート名設定!E33=0,\"\",シート名設定!E33)","v":"印刷フォーム19ソートデーター"}]
[null,null,{"$f":"IF(シート名設定!E34=0,\"\",シート名設定!E34)","v":"印刷フォーム20ソートデーター"}]
[null,null,{"$f":"IF(シート名設定!E35=0,\"\",シート名設定!E35)","v":"印刷フォーム21ソートデーター"}]
[null,null,{"$f":"IF(シート名設定!E36=0,\"\",シート名設定!E36)","v":"印刷フォーム22ソートデーター"}]
[null,null,{"$f":"IF(シート名設定!E37=0,\"\",シート名設定!E37)","v":"印刷フォーム23ソートデーター"}]
[null,null,{"$f":"IF(シート名設定!E38=0,\"\",シート名設定!E38)","v":"印刷フォーム24ソートデーター"}]
[null,null,{"$f":"IF(シート名設定!E39=0,\"\",シート名設定!E39)","v":"印刷フォーム25ソートデーター"}]
[null,null,{"$f":"IF(シート名設定!E40=0,\"\",シート名設定!E40)","v":"印刷フォーム26ソートデーター"}]
[null,null,{"$f":"IF(シート名設定!E41=0,\"\",シート名設定!E41)","v":"印刷フォーム27ソートデーター"}]
[null,null,{"$f":"IF(シート名設定!E42=0,\"\",シート名設定!E42)","v":"印刷フォーム28ソートデーター"}]
[null,null,{"$f":"IF(シート名設定!E43=0,\"\",シート名設定!E43)","v":"印刷フォーム29ソートデーター"}]
[null,null,{"$f":"IF(シート名設定!E44=0,\"\",シート名設定!E44)","v":"印刷フォーム30ソートデーター"}]
[null,null,{"$f":"IF(追加ワークシート名設定!D6=0,\"\",追加ワークシート名設定!D6)","v":""}]
[null,null,{"$f":"IF(追加ワークシート名設定!D7=0,\"\",追加ワークシート名設定!D7)","v":""}]
[null,null,{"$f":"IF(追加ワークシート名設定!D8=0,\"\",追加ワークシート名設定!D8)","v":""}]
[null,null,{"$f":"IF(追加ワークシート名設定!D9=0,\"\",追加ワークシート名設定!D9)","v":""}]
[null,null,{"$f":"IF(追加ワークシート名設定!D10=0,\"\",追加ワークシート名設定!D10)","v":""}]
[null,null,{"$f":"IF(追加ワークシート名設定!D11=0,\"\",追加ワークシート名設定!D11)","v":""}]
[null,null,{"$f":"IF(追加ワークシート名設定!D12=0,\"\",追加ワークシート名設定!D12)","v":""}]
[null,null,{"$f":"IF(追加ワークシート名設定!D13=0,\"\",追加ワークシート名設定!D13)","v":""}]
[null,null,{"$f":"IF(追加ワークシート名設定!D14=0,\"\",追加ワークシート名設定!D14)","v":""}]
[null,null,{"$f":"IF(追加ワークシート名設定!D15=0,\"\",追加ワークシート名設定!D15)","v":""}]
[null,null,{"$f":"IF(追加ワークシート名設定!D16=0,\"\",追加ワークシート名設定!D16)","v":""}]
[null,null,{"$f":"IF(追加ワークシート名設定!D17=0,\"\",追加ワークシート名設定!D17)","v":""}]
[null,null,{"$f":"IF(追加ワークシート名設定!D18=0,\"\",追加ワークシート名設定!D18)","v":""}]
[null,null,{"$f":"IF(追加ワークシート名設定!D19=0,\"\",追加ワークシート名設定!D19)","v":""}]
[null,null,{"$f":"IF(追加ワークシート名設定!D20=0,\"\",追加ワークシート名設定!D20)","v":""}]
[null,null,{"$f":"IF(追加ワークシート名設定!D21=0,\"\",追加ワークシート名設定!D21)","v":""}]
[null,null,{"$f":"IF(追加ワークシート名設定!D22=0,\"\",追加ワークシート名設定!D22)","v":""}]
[null,null,{"$f":"IF(追加ワークシート名設定!D23=0,\"\",追加ワークシート名設定!D23)","v":""}]
[null,null,{"$f":"IF(追加ワークシート名設定!D24=0,\"\",追加ワークシート名設定!D24)","v":""}]
[null,null,{"$f":"IF(追加ワークシート名設定!D25=0,\"\",追加ワークシート名設定!D25)","v":""}]
[null,null,{"$f":"IF(追加ワークシート名設定!D26=0,\"\",追加ワークシート名設定!D26)","v":""}]
[null,null,{"$f":"IF(追加ワークシート名設定!D27=0,\"\",追加ワークシート名設定!D27)","v":""}]
[null,null,{"$f":"IF(追加ワークシート名設定!D28=0,\"\",追加ワークシート名設定!D28)","v":""}]
[null,null,{"$f":"IF(追加ワークシート名設定!D29=0,\"\",追加ワークシート名設定!D29)","v":""}]
[null,null,{"$f":"IF(追加ワークシート名設定!D30=0,\"\",追加ワークシート名設定!D30)","v":""}]
[null,null,{"$f":"IF(追加ワークシート名設定!D31=0,\"\",追加ワークシート名設定!D31)","v":""}]
[null,null,{"$f":"IF(追加ワークシート名設定!D32=0,\"\",追加ワークシート名設定!D32)","v":""}]
[null,null,{"$f":"IF(追加ワークシート名設定!D33=0,\"\",追加ワークシート名設定!D33)","v":""}]
[null,null,{"$f":"IF(追加ワークシート名設定!D34=0,\"\",追加ワークシート名設定!D34)","v":""}]
[null,null,{"$f":"IF(追加ワークシート名設定!D35=0,\"\",追加ワークシート名設定!D35)","v":""}]
[null,null,{"$f":"IF(追加ワークシート名設定!D36=0,\"\",追加ワークシート名設定!D36)","v":""}]
[null,null,{"$f":"IF(追加ワークシート名設定!D37=0,\"\",追加ワークシート名設定!D37)","v":""}]
[null,null,{"$f":"IF(追加ワークシート名設定!D38=0,\"\",追加ワークシート名設定!D38)","v":""}]
[null,null,{"$f":"IF(追加ワークシート名設定!D39=0,\"\",追加ワークシート名設定!D39)","v":""}]
[null,null,{"$f":"IF(追加ワークシート名設定!D40=0,\"\",追加ワークシート名設定!D40)","v":""}]
[null,null,{"$f":"IF(追加ワークシート名設定!D41=0,\"\",追加ワークシート名設定!D41)","v":""}]
[null,null,{"$f":"IF(追加ワークシート名設定!D42=0,\"\",追加ワークシート名設定!D42)","v":""}]
[null,null,{"$f":"IF(追加ワークシート名設定!D43=0,\"\",追加ワークシート名設定!D43)","v":""}]
[null,null,{"$f":"IF(追加ワークシート名設定!D44=0,\"\",追加ワークシート名設定!D44)","v":""}]
[null,null,{"$f":"IF(追加ワークシート名設定!D45=0,\"\",追加ワークシート名設定!D45)","v":""}]
[null,null,{"$f":"IF(追加ワークシート名設定!D46=0,\"\",追加ワークシート名設定!D46)","v":""}]
[null,null,{"$f":"IF(追加ワークシート名設定!D47=0,\"\",追加ワークシート名設定!D47)","v":""}]
[null,null,{"$f":"IF(追加ワークシート名設定!D48=0,\"\",追加ワークシート名設定!D48)","v":""}]
[null,null,{"$f":"IF(追加ワークシート名設定!D49=0,\"\",追加ワークシート名設定!D49)","v":""}]
[null,null,{"$f":"IF(追加ワークシート名設定!D50=0,\"\",追加ワークシート名設定!D50)","v":""}]
[null,null,{"$f":"IF(追加ワークシート名設定!D51=0,\"\",追加ワークシート名設定!D51)","v":""}]
[null,null,{"$f":"IF(追加ワークシート名設定!D52=0,\"\",追加ワークシート名設定!D52)","v":""}]
[null,null,{"$f":"IF(追加ワークシート名設定!D53=0,\"\",追加ワークシート名設定!D53)","v":""}]
[null,null,{"$f":"IF(追加ワークシート名設定!D54=0,\"\",追加ワークシート名設定!D54)","v":""}]
[null,null,{"$f":"IF(追加ワークシート名設定!D55=0,\"\",追加ワークシート名設定!D55)","v":""}]
[null,null,{"$f":"IF(追加ワークシート名設定!D56=0,\"\",追加ワークシート名設定!D56)","v":""}]
[null,null,{"$f":"IF(追加ワークシート名設定!D57=0,\"\",追加ワークシート名設定!D57)","v":""}]
[null,null,{"$f":"IF(追加ワークシート名設定!D58=0,\"\",追加ワークシート名設定!D58)","v":""}]
[null,null,{"$f":"IF(追加ワークシート名設定!D59=0,\"\",追加ワークシート名設定!D59)","v":""}]
[null,null,{"$f":"IF(追加ワークシート名設定!D60=0,\"\",追加ワークシート名設定!D60)","v":""}]
[null,null,{"$f":"IF(追加ワークシート名設定!D61=0,\"\",追加ワークシート名設定!D61)","v":""}]
[null,null,{"$f":"IF(追加ワークシート名設定!D62=0,\"\",追加ワークシート名設定!D62)","v":""}]
[null,null,{"$f":"IF(追加ワークシート名設定!D63=0,\"\",追加ワークシート名設定!D63)","v":""}]
[null,null,{"$f":"IF(追加ワークシート名設定!D64=0,\"\",追加ワークシート名設定!D64)","v":""}]
[null,null,{"$f":"IF(追加ワークシート名設定!D65=0,\"\",追加ワークシート名設定!D65)","v":""}]
[null,null,{"$f":"IF(追加ワークシート名設定!D66=0,\"\",追加ワークシート名設定!D66)","v":""}]
[null,null,{"$f":"IF(追加ワークシート名設定!D67=0,\"\",追加ワークシート名設定!D67)","v":""}]
[null,null,{"$f":"IF(追加ワークシート名設定!D68=0,\"\",追加ワークシート名設定!D68)","v":""}]
[null,null,{"$f":"IF(追加ワークシート名設定!D69=0,\"\",追加ワークシート名設定!D69)","v":""}]
[null,null,{"$f":"IF(シート名設定!C30=0,\"\",シート名設定!C30)","v":"入力AA1"}]
[null,null,{"$f":"IF(シート名設定!C31=0,\"\",シート名設定!C31)","v":"入力AA2"}]
[null,null,{"$f":"IF(シート名設定!C32=0,\"\",シート名設定!C32)","v":"入力AA3"}]
[null,null,{"$f":"IF(シート名設定!C33=0,\"\",シート名設定!C33)","v":"入力AA4"}]
[null,null,{"$f":"IF(シート名設定!C34=0,\"\",シート名設定!C34)","v":"入力AA5"}]

{"sheet":"一覧表付ファイル作成入力設定17","index":30,"n_rows":165,"n_cols":5,"rows_kept":165,"cut":false,"hidden":false,"merged":[[2,1,2,2]]}
[]
[]
[null,{"$f":"シート名設定!C25","v":"一覧表付ファイル作成入力設定17"}]
[null,"１．入力元の設定"]
[null,"項　　　　　　目","設定内容"]
[null,"シート名"]
[null,"データ先頭セル行番号"]
[null,"データ先頭セル列番号"]
[null,"異同比較列番号"]
[null,"データー数"]
[null,"For Next の増分"]
[]
[null,"２．入力先の設定"]
[null,"項　　　　　　目","設定内容"]
[null,"シート名"]
[null,"入力先頭セル行番号"]
[null,"入力先頭セル列番号"]
[null,"入力最終セル行番号"]
[null,"入力最終セル列番号"]
[null,"入力データー数"]
[null,"通しページ入力セル行番号"]
[null,"通しページ入力セル列番号"]
[null,"区分内ページ入力セル行番号"]
[null,"区分内ページ入力セル列番号"]
[null,"３．印刷処理かファイルのメール送信の設定"]
[null,"項　　　　　　目","設定内容"]
[null,"印刷処理か\nファイルの\nメール送信\nの選択",null,1]
[null,"ファイルのメール送信の場合の印刷フォームソートデーターシートのメールアドレスが入力されている列番号"]
[null,"ファイルのメール送信の場合の印刷フォームソートデーターシートの件名が入力されている列番号"]
[null,"ファイルのメール送信の場合の印刷フォームソートデーターシートの本文が入力されている列番号"]
[null,"ファイルのメール送信の場合の添付ファイルの保存先ドライブ及びフォルダー"]
[]
[]
[]
[]
[]
[null,null,{"$f":"IF(シート名設定!C35=0,\"\",シート名設定!C35)","v":"印刷フォーム1"},1,"印刷する"]
[null,null,{"$f":"IF(シート名設定!C36=0,\"\",シート名設定!C36)","v":"印刷フォーム2"},2,"メールで送信する"]
[null,null,{"$f":"IF(シート名設定!C37=0,\"\",シート名設定!C37)","v":"印刷フォーム3"},3,"添付ファイルなし件名本文のみのメール"]
[null,null,{"$f":"IF(シート名設定!C38=0,\"\",シート名設定!C38)","v":"印刷フォーム4"}]
[null,null,{"$f":"IF(シート名設定!C39=0,\"\",シート名設定!C39)","v":"印刷フォーム5"}]
[null,null,{"$f":"IF(シート名設定!C40=0,\"\",シート名設定!C40)","v":"印刷フォーム6"}]
[null,null,{"$f":"IF(シート名設定!C41=0,\"\",シート名設定!C41)","v":"印刷フォーム7"}]
[null,null,{"$f":"IF(シート名設定!C42=0,\"\",シート名設定!C42)","v":"印刷フォーム8"}]
[null,null,{"$f":"IF(シート名設定!C43=0,\"\",シート名設定!C43)","v":"印刷フォーム9"}]
[null,null,{"$f":"IF(シート名設定!C44=0,\"\",シート名設定!C44)","v":"印刷フォーム10"}]
[null,null,{"$f":"IF(シート名設定!C45=0,\"\",シート名設定!C45)","v":"印刷フォーム11"}]
[null,null,{"$f":"IF(シート名設定!C46=0,\"\",シート名設定!C46)","v":"印刷フォーム12"}]
[null,null,{"$f":"IF(シート名設定!C47=0,\"\",シート名設定!C47)","v":"印刷フォーム13"}]
[null,null,{"$f":"IF(シート名設定!C48=0,\"\",シート名設定!C48)","v":"印刷フォーム14"}]
[null,null,{"$f":"IF(シート名設定!C49=0,\"\",シート名設定!C49)","v":"印刷フォーム15"}]
[null,null,{"$f":"IF(シート名設定!C50=0,\"\",シート名設定!C50)","v":"印刷フォーム16"}]
[null,null,{"$f":"IF(シート名設定!C51=0,\"\",シート名設定!C51)","v":"印刷フォーム17"}]
[null,null,{"$f":"IF(シート名設定!C52=0,\"\",シート名設定!C52)","v":"印刷フォーム18"}]
[null,null,{"$f":"IF(シート名設定!C53=0,\"\",シート名設定!C53)","v":"印刷フォーム19"}]
[null,null,{"$f":"IF(シート名設定!C54=0,\"\",シート名設定!C54)","v":"印刷フォーム20"}]
[null,null,{"$f":"IF(シート名設定!E5=0,\"\",シート名設定!E5)","v":"印刷フォーム21"}]
[null,null,{"$f":"IF(シート名設定!E6=0,\"\",シート名設定!E6)","v":"印刷フォーム22"}]
[null,null,{"$f":"IF(シート名設定!E7=0,\"\",シート名設定!E7)","v":"印刷フォーム23"}]
[null,null,{"$f":"IF(シート名設定!E8=0,\"\",シート名設定!E8)","v":"印刷フォーム24"}]
[null,null,{"$f":"IF(シート名設定!E9=0,\"\",シート名設定!E9)","v":"印刷フォーム25"}]
[null,null,{"$f":"IF(シート名設定!E10=0,\"\",シート名設定!E10)","v":"印刷フォーム26"}]
[null,null,{"$f":"IF(シート名設定!E11=0,\"\",シート名設定!E11)","v":"印刷フォーム27"}]
[null,null,{"$f":"IF(シート名設定!E12=0,\"\",シート名設定!E12)","v":"印刷フォーム28"}]
[null,null,{"$f":"IF(シート名設定!E13=0,\"\",シート名設定!E13)","v":"印刷フォーム29"}]
[null,null,{"$f":"IF(シート名設定!E14=0,\"\",シート名設定!E14)","v":"印刷フォーム30"}]
[null,null,{"$f":"IF(シート名設定!E15=0,\"\",シート名設定!E15)","v":"印刷フォーム1ソートデーター"}]
[null,null,{"$f":"IF(シート名設定!E16=0,\"\",シート名設定!E16)","v":"印刷フォーム2ソートデーター"}]
[null,null,{"$f":"IF(シート名設定!E17=0,\"\",シート名設定!E17)","v":"印刷フォーム3ソートデーター"}]
[null,null,{"$f":"IF(シート名設定!E18=0,\"\",シート名設定!E18)","v":"印刷フォーム4ソートデーター"}]
[null,null,{"$f":"IF(シート名設定!E19=0,\"\",シート名設定!E19)","v":"印刷フォーム5ソートデーター"}]
[null,null,{"$f":"IF(シート名設定!E20=0,\"\",シート名設定!E20)","v":"印刷フォーム6ソートデーター"}]
[null,null,{"$f":"IF(シート名設定!E21=0,\"\",シート名設定!E21)","v":"印刷フォーム7ソートデーター"}]
[null,null,{"$f":"IF(シート名設定!E22=0,\"\",シート名設定!E22)","v":"印刷フォーム8ソートデーター"}]
[null,null,{"$f":"IF(シート名設定!E23=0,\"\",シート名設定!E23)","v":"印刷フォーム9ソートデーター"}]
[null,null,{"$f":"IF(シート名設定!E24=0,\"\",シート名設定!E24)","v":"印刷フォーム10ソートデーター"}]
[null,null,{"$f":"IF(シート名設定!E25=0,\"\",シート名設定!E25)","v":"印刷フォーム11ソートデーター"}]
[null,null,{"$f":"IF(シート名設定!E26=0,\"\",シート名設定!E26)","v":"印刷フォーム12ソートデーター"}]
[null,null,{"$f":"IF(シート名設定!E27=0,\"\",シート名設定!E27)","v":"印刷フォーム13ソートデーター"}]
[null,null,{"$f":"IF(シート名設定!E28=0,\"\",シート名設定!E28)","v":"印刷フォーム14ソートデーター"}]
[null,null,{"$f":"IF(シート名設定!E29=0,\"\",シート名設定!E29)","v":"印刷フォーム15ソートデーター"}]
[null,null,{"$f":"IF(シート名設定!E30=0,\"\",シート名設定!E30)","v":"印刷フォーム16ソートデーター"}]
[null,null,{"$f":"IF(シート名設定!E31=0,\"\",シート名設定!E31)","v":"印刷フォーム17ソートデーター"}]
[null,null,{"$f":"IF(シート名設定!E32=0,\"\",シート名設定!E32)","v":"印刷フォーム18ソートデーター"}]
[null,null,{"$f":"IF(シート名設定!E33=0,\"\",シート名設定!E33)","v":"印刷フォーム19ソートデーター"}]
[null,null,{"$f":"IF(シート名設定!E34=0,\"\",シート名設定!E34)","v":"印刷フォーム20ソートデーター"}]
[null,null,{"$f":"IF(シート名設定!E35=0,\"\",シート名設定!E35)","v":"印刷フォーム21ソートデーター"}]
[null,null,{"$f":"IF(シート名設定!E36=0,\"\",シート名設定!E36)","v":"印刷フォーム22ソートデーター"}]
[null,null,{"$f":"IF(シート名設定!E37=0,\"\",シート名設定!E37)","v":"印刷フォーム23ソートデーター"}]
[null,null,{"$f":"IF(シート名設定!E38=0,\"\",シート名設定!E38)","v":"印刷フォーム24ソートデーター"}]
[null,null,{"$f":"IF(シート名設定!E39=0,\"\",シート名設定!E39)","v":"印刷フォーム25ソートデーター"}]
[null,null,{"$f":"IF(シート名設定!E40=0,\"\",シート名設定!E40)","v":"印刷フォーム26ソートデーター"}]
[null,null,{"$f":"IF(シート名設定!E41=0,\"\",シート名設定!E41)","v":"印刷フォーム27ソートデーター"}]
[null,null,{"$f":"IF(シート名設定!E42=0,\"\",シート名設定!E42)","v":"印刷フォーム28ソートデーター"}]
[null,null,{"$f":"IF(シート名設定!E43=0,\"\",シート名設定!E43)","v":"印刷フォーム29ソートデーター"}]
[null,null,{"$f":"IF(シート名設定!E44=0,\"\",シート名設定!E44)","v":"印刷フォーム30ソートデーター"}]
[null,null,{"$f":"IF(追加ワークシート名設定!D6=0,\"\",追加ワークシート名設定!D6)","v":""}]
[null,null,{"$f":"IF(追加ワークシート名設定!D7=0,\"\",追加ワークシート名設定!D7)","v":""}]
[null,null,{"$f":"IF(追加ワークシート名設定!D8=0,\"\",追加ワークシート名設定!D8)","v":""}]
[null,null,{"$f":"IF(追加ワークシート名設定!D9=0,\"\",追加ワークシート名設定!D9)","v":""}]
[null,null,{"$f":"IF(追加ワークシート名設定!D10=0,\"\",追加ワークシート名設定!D10)","v":""}]
[null,null,{"$f":"IF(追加ワークシート名設定!D11=0,\"\",追加ワークシート名設定!D11)","v":""}]
[null,null,{"$f":"IF(追加ワークシート名設定!D12=0,\"\",追加ワークシート名設定!D12)","v":""}]
[null,null,{"$f":"IF(追加ワークシート名設定!D13=0,\"\",追加ワークシート名設定!D13)","v":""}]
[null,null,{"$f":"IF(追加ワークシート名設定!D14=0,\"\",追加ワークシート名設定!D14)","v":""}]
[null,null,{"$f":"IF(追加ワークシート名設定!D15=0,\"\",追加ワークシート名設定!D15)","v":""}]
[null,null,{"$f":"IF(追加ワークシート名設定!D16=0,\"\",追加ワークシート名設定!D16)","v":""}]
[null,null,{"$f":"IF(追加ワークシート名設定!D17=0,\"\",追加ワークシート名設定!D17)","v":""}]
[null,null,{"$f":"IF(追加ワークシート名設定!D18=0,\"\",追加ワークシート名設定!D18)","v":""}]
[null,null,{"$f":"IF(追加ワークシート名設定!D19=0,\"\",追加ワークシート名設定!D19)","v":""}]
[null,null,{"$f":"IF(追加ワークシート名設定!D20=0,\"\",追加ワークシート名設定!D20)","v":""}]
[null,null,{"$f":"IF(追加ワークシート名設定!D21=0,\"\",追加ワークシート名設定!D21)","v":""}]
[null,null,{"$f":"IF(追加ワークシート名設定!D22=0,\"\",追加ワークシート名設定!D22)","v":""}]
[null,null,{"$f":"IF(追加ワークシート名設定!D23=0,\"\",追加ワークシート名設定!D23)","v":""}]
[null,null,{"$f":"IF(追加ワークシート名設定!D24=0,\"\",追加ワークシート名設定!D24)","v":""}]
[null,null,{"$f":"IF(追加ワークシート名設定!D25=0,\"\",追加ワークシート名設定!D25)","v":""}]
[null,null,{"$f":"IF(追加ワークシート名設定!D26=0,\"\",追加ワークシート名設定!D26)","v":""}]
[null,null,{"$f":"IF(追加ワークシート名設定!D27=0,\"\",追加ワークシート名設定!D27)","v":""}]
[null,null,{"$f":"IF(追加ワークシート名設定!D28=0,\"\",追加ワークシート名設定!D28)","v":""}]
[null,null,{"$f":"IF(追加ワークシート名設定!D29=0,\"\",追加ワークシート名設定!D29)","v":""}]
[null,null,{"$f":"IF(追加ワークシート名設定!D30=0,\"\",追加ワークシート名設定!D30)","v":""}]
[null,null,{"$f":"IF(追加ワークシート名設定!D31=0,\"\",追加ワークシート名設定!D31)","v":""}]
[null,null,{"$f":"IF(追加ワークシート名設定!D32=0,\"\",追加ワークシート名設定!D32)","v":""}]
[null,null,{"$f":"IF(追加ワークシート名設定!D33=0,\"\",追加ワークシート名設定!D33)","v":""}]
[null,null,{"$f":"IF(追加ワークシート名設定!D34=0,\"\",追加ワークシート名設定!D34)","v":""}]
[null,null,{"$f":"IF(追加ワークシート名設定!D35=0,\"\",追加ワークシート名設定!D35)","v":""}]
[null,null,{"$f":"IF(追加ワークシート名設定!D36=0,\"\",追加ワークシート名設定!D36)","v":""}]
[null,null,{"$f":"IF(追加ワークシート名設定!D37=0,\"\",追加ワークシート名設定!D37)","v":""}]
[null,null,{"$f":"IF(追加ワークシート名設定!D38=0,\"\",追加ワークシート名設定!D38)","v":""}]
[null,null,{"$f":"IF(追加ワークシート名設定!D39=0,\"\",追加ワークシート名設定!D39)","v":""}]
[null,null,{"$f":"IF(追加ワークシート名設定!D40=0,\"\",追加ワークシート名設定!D40)","v":""}]
[null,null,{"$f":"IF(追加ワークシート名設定!D41=0,\"\",追加ワークシート名設定!D41)","v":""}]
[null,null,{"$f":"IF(追加ワークシート名設定!D42=0,\"\",追加ワークシート名設定!D42)","v":""}]
[null,null,{"$f":"IF(追加ワークシート名設定!D43=0,\"\",追加ワークシート名設定!D43)","v":""}]
[null,null,{"$f":"IF(追加ワークシート名設定!D44=0,\"\",追加ワークシート名設定!D44)","v":""}]
[null,null,{"$f":"IF(追加ワークシート名設定!D45=0,\"\",追加ワークシート名設定!D45)","v":""}]
[null,null,{"$f":"IF(追加ワークシート名設定!D46=0,\"\",追加ワークシート名設定!D46)","v":""}]
[null,null,{"$f":"IF(追加ワークシート名設定!D47=0,\"\",追加ワークシート名設定!D47)","v":""}]
[null,null,{"$f":"IF(追加ワークシート名設定!D48=0,\"\",追加ワークシート名設定!D48)","v":""}]
[null,null,{"$f":"IF(追加ワークシート名設定!D49=0,\"\",追加ワークシート名設定!D49)","v":""}]
[null,null,{"$f":"IF(追加ワークシート名設定!D50=0,\"\",追加ワークシート名設定!D50)","v":""}]
[null,null,{"$f":"IF(追加ワークシート名設定!D51=0,\"\",追加ワークシート名設定!D51)","v":""}]
[null,null,{"$f":"IF(追加ワークシート名設定!D52=0,\"\",追加ワークシート名設定!D52)","v":""}]
[null,null,{"$f":"IF(追加ワークシート名設定!D53=0,\"\",追加ワークシート名設定!D53)","v":""}]
[null,null,{"$f":"IF(追加ワークシート名設定!D54=0,\"\",追加ワークシート名設定!D54)","v":""}]
[null,null,{"$f":"IF(追加ワークシート名設定!D55=0,\"\",追加ワークシート名設定!D55)","v":""}]
[null,null,{"$f":"IF(追加ワークシート名設定!D56=0,\"\",追加ワークシート名設定!D56)","v":""}]
[null,null,{"$f":"IF(追加ワークシート名設定!D57=0,\"\",追加ワークシート名設定!D57)","v":""}]
[null,null,{"$f":"IF(追加ワークシート名設定!D58=0,\"\",追加ワークシート名設定!D58)","v":""}]
[null,null,{"$f":"IF(追加ワークシート名設定!D59=0,\"\",追加ワークシート名設定!D59)","v":""}]
[null,null,{"$f":"IF(追加ワークシート名設定!D60=0,\"\",追加ワークシート名設定!D60)","v":""}]
[null,null,{"$f":"IF(追加ワークシート名設定!D61=0,\"\",追加ワークシート名設定!D61)","v":""}]
[null,null,{"$f":"IF(追加ワークシート名設定!D62=0,\"\",追加ワークシート名設定!D62)","v":""}]
[null,null,{"$f":"IF(追加ワークシート名設定!D63=0,\"\",追加ワークシート名設定!D63)","v":""}]
[null,null,{"$f":"IF(追加ワークシート名設定!D64=0,\"\",追加ワークシート名設定!D64)","v":""}]
[null,null,{"$f":"IF(追加ワークシート名設定!D65=0,\"\",追加ワークシート名設定!D65)","v":""}]
[null,null,{"$f":"IF(追加ワークシート名設定!D66=0,\"\",追加ワークシート名設定!D66)","v":""}]
[null,null,{"$f":"IF(追加ワークシート名設定!D67=0,\"\",追加ワークシート名設定!D67)","v":""}]
[null,null,{"$f":"IF(追加ワークシート名設定!D68=0,\"\",追加ワークシート名設定!D68)","v":""}]
[null,null,{"$f":"IF(追加ワークシート名設定!D69=0,\"\",追加ワークシート名設定!D69)","v":""}]
[null,null,{"$f":"IF(シート名設定!C30=0,\"\",シート名設定!C30)","v":"入力AA1"}]
[null,null,{"$f":"IF(シート名設定!C31=0,\"\",シート名設定!C31)","v":"入力AA2"}]
[null,null,{"$f":"IF(シート名設定!C32=0,\"\",シート名設定!C32)","v":"入力AA3"}]
[null,null,{"$f":"IF(シート名設定!C33=0,\"\",シート名設定!C33)","v":"入力AA4"}]
[null,null,{"$f":"IF(シート名設定!C34=0,\"\",シート名設定!C34)","v":"入力AA5"}]

{"sheet":"一覧表付ファイル作成入力設定18","index":31,"n_rows":165,"n_cols":5,"rows_kept":165,"cut":false,"hidden":false,"merged":[[2,1,2,2]]}
[]
[]
[null,{"$f":"シート名設定!C26","v":"一覧表付ファイル作成入力設定18"}]
[null,"１．入力元の設定"]
[null,"項　　　　　　目","設定内容"]
[null,"シート名"]
[null,"データ先頭セル行番号"]
[null,"データ先頭セル列番号"]
[null,"異同比較列番号"]
[null,"データー数"]
[null,"For Next の増分"]
[]
[null,"２．入力先の設定"]
[null,"項　　　　　　目","設定内容"]
[null,"シート名"]
[null,"入力先頭セル行番号"]
[null,"入力先頭セル列番号"]
[null,"入力最終セル行番号"]
[null,"入力最終セル列番号"]
[null,"入力データー数"]
[null,"通しページ入力セル行番号"]
[null,"通しページ入力セル列番号"]
[null,"区分内ページ入力セル行番号"]
[null,"区分内ページ入力セル列番号"]
[null,"３．印刷処理かファイルのメール送信の設定"]
[null,"項　　　　　　目","設定内容"]
[null,"印刷処理か\nファイルの\nメール送信\nの選択",null,1]
[null,"ファイルのメール送信の場合の印刷フォームソートデーターシートのメールアドレスが入力されている列番号"]
[null,"ファイルのメール送信の場合の印刷フォームソートデーターシートの件名が入力されている列番号"]
[null,"ファイルのメール送信の場合の印刷フォームソートデーターシートの本文が入力されている列番号"]
[null,"ファイルのメール送信の場合の添付ファイルの保存先ドライブ及びフォルダー"]
[]
[]
[]
[]
[]
[null,null,{"$f":"IF(シート名設定!C35=0,\"\",シート名設定!C35)","v":"印刷フォーム1"},1,"印刷する"]
[null,null,{"$f":"IF(シート名設定!C36=0,\"\",シート名設定!C36)","v":"印刷フォーム2"},2,"メールで送信する"]
[null,null,{"$f":"IF(シート名設定!C37=0,\"\",シート名設定!C37)","v":"印刷フォーム3"},3,"添付ファイルなし件名本文のみのメール"]
[null,null,{"$f":"IF(シート名設定!C38=0,\"\",シート名設定!C38)","v":"印刷フォーム4"}]
[null,null,{"$f":"IF(シート名設定!C39=0,\"\",シート名設定!C39)","v":"印刷フォーム5"}]
[null,null,{"$f":"IF(シート名設定!C40=0,\"\",シート名設定!C40)","v":"印刷フォーム6"}]
[null,null,{"$f":"IF(シート名設定!C41=0,\"\",シート名設定!C41)","v":"印刷フォーム7"}]
[null,null,{"$f":"IF(シート名設定!C42=0,\"\",シート名設定!C42)","v":"印刷フォーム8"}]
[null,null,{"$f":"IF(シート名設定!C43=0,\"\",シート名設定!C43)","v":"印刷フォーム9"}]
[null,null,{"$f":"IF(シート名設定!C44=0,\"\",シート名設定!C44)","v":"印刷フォーム10"}]
[null,null,{"$f":"IF(シート名設定!C45=0,\"\",シート名設定!C45)","v":"印刷フォーム11"}]
[null,null,{"$f":"IF(シート名設定!C46=0,\"\",シート名設定!C46)","v":"印刷フォーム12"}]
[null,null,{"$f":"IF(シート名設定!C47=0,\"\",シート名設定!C47)","v":"印刷フォーム13"}]
[null,null,{"$f":"IF(シート名設定!C48=0,\"\",シート名設定!C48)","v":"印刷フォーム14"}]
[null,null,{"$f":"IF(シート名設定!C49=0,\"\",シート名設定!C49)","v":"印刷フォーム15"}]
[null,null,{"$f":"IF(シート名設定!C50=0,\"\",シート名設定!C50)","v":"印刷フォーム16"}]
[null,null,{"$f":"IF(シート名設定!C51=0,\"\",シート名設定!C51)","v":"印刷フォーム17"}]
[null,null,{"$f":"IF(シート名設定!C52=0,\"\",シート名設定!C52)","v":"印刷フォーム18"}]
[null,null,{"$f":"IF(シート名設定!C53=0,\"\",シート名設定!C53)","v":"印刷フォーム19"}]
[null,null,{"$f":"IF(シート名設定!C54=0,\"\",シート名設定!C54)","v":"印刷フォーム20"}]
[null,null,{"$f":"IF(シート名設定!E5=0,\"\",シート名設定!E5)","v":"印刷フォーム21"}]
[null,null,{"$f":"IF(シート名設定!E6=0,\"\",シート名設定!E6)","v":"印刷フォーム22"}]
[null,null,{"$f":"IF(シート名設定!E7=0,\"\",シート名設定!E7)","v":"印刷フォーム23"}]
[null,null,{"$f":"IF(シート名設定!E8=0,\"\",シート名設定!E8)","v":"印刷フォーム24"}]
[null,null,{"$f":"IF(シート名設定!E9=0,\"\",シート名設定!E9)","v":"印刷フォーム25"}]
[null,null,{"$f":"IF(シート名設定!E10=0,\"\",シート名設定!E10)","v":"印刷フォーム26"}]
[null,null,{"$f":"IF(シート名設定!E11=0,\"\",シート名設定!E11)","v":"印刷フォーム27"}]
[null,null,{"$f":"IF(シート名設定!E12=0,\"\",シート名設定!E12)","v":"印刷フォーム28"}]
[null,null,{"$f":"IF(シート名設定!E13=0,\"\",シート名設定!E13)","v":"印刷フォーム29"}]
[null,null,{"$f":"IF(シート名設定!E14=0,\"\",シート名設定!E14)","v":"印刷フォーム30"}]
[null,null,{"$f":"IF(シート名設定!E15=0,\"\",シート名設定!E15)","v":"印刷フォーム1ソートデーター"}]
[null,null,{"$f":"IF(シート名設定!E16=0,\"\",シート名設定!E16)","v":"印刷フォーム2ソートデーター"}]
[null,null,{"$f":"IF(シート名設定!E17=0,\"\",シート名設定!E17)","v":"印刷フォーム3ソートデーター"}]
[null,null,{"$f":"IF(シート名設定!E18=0,\"\",シート名設定!E18)","v":"印刷フォーム4ソートデーター"}]
[null,null,{"$f":"IF(シート名設定!E19=0,\"\",シート名設定!E19)","v":"印刷フォーム5ソートデーター"}]
[null,null,{"$f":"IF(シート名設定!E20=0,\"\",シート名設定!E20)","v":"印刷フォーム6ソートデーター"}]
[null,null,{"$f":"IF(シート名設定!E21=0,\"\",シート名設定!E21)","v":"印刷フォーム7ソートデーター"}]
[null,null,{"$f":"IF(シート名設定!E22=0,\"\",シート名設定!E22)","v":"印刷フォーム8ソートデーター"}]
[null,null,{"$f":"IF(シート名設定!E23=0,\"\",シート名設定!E23)","v":"印刷フォーム9ソートデーター"}]
[null,null,{"$f":"IF(シート名設定!E24=0,\"\",シート名設定!E24)","v":"印刷フォーム10ソートデーター"}]
[null,null,{"$f":"IF(シート名設定!E25=0,\"\",シート名設定!E25)","v":"印刷フォーム11ソートデーター"}]
[null,null,{"$f":"IF(シート名設定!E26=0,\"\",シート名設定!E26)","v":"印刷フォーム12ソートデーター"}]
[null,null,{"$f":"IF(シート名設定!E27=0,\"\",シート名設定!E27)","v":"印刷フォーム13ソートデーター"}]
[null,null,{"$f":"IF(シート名設定!E28=0,\"\",シート名設定!E28)","v":"印刷フォーム14ソートデーター"}]
[null,null,{"$f":"IF(シート名設定!E29=0,\"\",シート名設定!E29)","v":"印刷フォーム15ソートデーター"}]
[null,null,{"$f":"IF(シート名設定!E30=0,\"\",シート名設定!E30)","v":"印刷フォーム16ソートデーター"}]
[null,null,{"$f":"IF(シート名設定!E31=0,\"\",シート名設定!E31)","v":"印刷フォーム17ソートデーター"}]
[null,null,{"$f":"IF(シート名設定!E32=0,\"\",シート名設定!E32)","v":"印刷フォーム18ソートデーター"}]
[null,null,{"$f":"IF(シート名設定!E33=0,\"\",シート名設定!E33)","v":"印刷フォーム19ソートデーター"}]
[null,null,{"$f":"IF(シート名設定!E34=0,\"\",シート名設定!E34)","v":"印刷フォーム20ソートデーター"}]
[null,null,{"$f":"IF(シート名設定!E35=0,\"\",シート名設定!E35)","v":"印刷フォーム21ソートデーター"}]
[null,null,{"$f":"IF(シート名設定!E36=0,\"\",シート名設定!E36)","v":"印刷フォーム22ソートデーター"}]
[null,null,{"$f":"IF(シート名設定!E37=0,\"\",シート名設定!E37)","v":"印刷フォーム23ソートデーター"}]
[null,null,{"$f":"IF(シート名設定!E38=0,\"\",シート名設定!E38)","v":"印刷フォーム24ソートデーター"}]
[null,null,{"$f":"IF(シート名設定!E39=0,\"\",シート名設定!E39)","v":"印刷フォーム25ソートデーター"}]
[null,null,{"$f":"IF(シート名設定!E40=0,\"\",シート名設定!E40)","v":"印刷フォーム26ソートデーター"}]
[null,null,{"$f":"IF(シート名設定!E41=0,\"\",シート名設定!E41)","v":"印刷フォーム27ソートデーター"}]
[null,null,{"$f":"IF(シート名設定!E42=0,\"\",シート名設定!E42)","v":"印刷フォーム28ソートデーター"}]
[null,null,{"$f":"IF(シート名設定!E43=0,\"\",シート名設定!E43)","v":"印刷フォーム29ソートデーター"}]
[null,null,{"$f":"IF(シート名設定!E44=0,\"\",シート名設定!E44)","v":"印刷フォーム30ソートデーター"}]
[null,null,{"$f":"IF(追加ワークシート名設定!D6=0,\"\",追加ワークシート名設定!D6)","v":""}]
[null,null,{"$f":"IF(追加ワークシート名設定!D7=0,\"\",追加ワークシート名設定!D7)","v":""}]
[null,null,{"$f":"IF(追加ワークシート名設定!D8=0,\"\",追加ワークシート名設定!D8)","v":""}]
[null,null,{"$f":"IF(追加ワークシート名設定!D9=0,\"\",追加ワークシート名設定!D9)","v":""}]
[null,null,{"$f":"IF(追加ワークシート名設定!D10=0,\"\",追加ワークシート名設定!D10)","v":""}]
[null,null,{"$f":"IF(追加ワークシート名設定!D11=0,\"\",追加ワークシート名設定!D11)","v":""}]
[null,null,{"$f":"IF(追加ワークシート名設定!D12=0,\"\",追加ワークシート名設定!D12)","v":""}]
[null,null,{"$f":"IF(追加ワークシート名設定!D13=0,\"\",追加ワークシート名設定!D13)","v":""}]
[null,null,{"$f":"IF(追加ワークシート名設定!D14=0,\"\",追加ワークシート名設定!D14)","v":""}]
[null,null,{"$f":"IF(追加ワークシート名設定!D15=0,\"\",追加ワークシート名設定!D15)","v":""}]
[null,null,{"$f":"IF(追加ワークシート名設定!D16=0,\"\",追加ワークシート名設定!D16)","v":""}]
[null,null,{"$f":"IF(追加ワークシート名設定!D17=0,\"\",追加ワークシート名設定!D17)","v":""}]
[null,null,{"$f":"IF(追加ワークシート名設定!D18=0,\"\",追加ワークシート名設定!D18)","v":""}]
[null,null,{"$f":"IF(追加ワークシート名設定!D19=0,\"\",追加ワークシート名設定!D19)","v":""}]
[null,null,{"$f":"IF(追加ワークシート名設定!D20=0,\"\",追加ワークシート名設定!D20)","v":""}]
[null,null,{"$f":"IF(追加ワークシート名設定!D21=0,\"\",追加ワークシート名設定!D21)","v":""}]
[null,null,{"$f":"IF(追加ワークシート名設定!D22=0,\"\",追加ワークシート名設定!D22)","v":""}]
[null,null,{"$f":"IF(追加ワークシート名設定!D23=0,\"\",追加ワークシート名設定!D23)","v":""}]
[null,null,{"$f":"IF(追加ワークシート名設定!D24=0,\"\",追加ワークシート名設定!D24)","v":""}]
[null,null,{"$f":"IF(追加ワークシート名設定!D25=0,\"\",追加ワークシート名設定!D25)","v":""}]
[null,null,{"$f":"IF(追加ワークシート名設定!D26=0,\"\",追加ワークシート名設定!D26)","v":""}]
[null,null,{"$f":"IF(追加ワークシート名設定!D27=0,\"\",追加ワークシート名設定!D27)","v":""}]
[null,null,{"$f":"IF(追加ワークシート名設定!D28=0,\"\",追加ワークシート名設定!D28)","v":""}]
[null,null,{"$f":"IF(追加ワークシート名設定!D29=0,\"\",追加ワークシート名設定!D29)","v":""}]
[null,null,{"$f":"IF(追加ワークシート名設定!D30=0,\"\",追加ワークシート名設定!D30)","v":""}]
[null,null,{"$f":"IF(追加ワークシート名設定!D31=0,\"\",追加ワークシート名設定!D31)","v":""}]
[null,null,{"$f":"IF(追加ワークシート名設定!D32=0,\"\",追加ワークシート名設定!D32)","v":""}]
[null,null,{"$f":"IF(追加ワークシート名設定!D33=0,\"\",追加ワークシート名設定!D33)","v":""}]
[null,null,{"$f":"IF(追加ワークシート名設定!D34=0,\"\",追加ワークシート名設定!D34)","v":""}]
[null,null,{"$f":"IF(追加ワークシート名設定!D35=0,\"\",追加ワークシート名設定!D35)","v":""}]
[null,null,{"$f":"IF(追加ワークシート名設定!D36=0,\"\",追加ワークシート名設定!D36)","v":""}]
[null,null,{"$f":"IF(追加ワークシート名設定!D37=0,\"\",追加ワークシート名設定!D37)","v":""}]
[null,null,{"$f":"IF(追加ワークシート名設定!D38=0,\"\",追加ワークシート名設定!D38)","v":""}]
[null,null,{"$f":"IF(追加ワークシート名設定!D39=0,\"\",追加ワークシート名設定!D39)","v":""}]
[null,null,{"$f":"IF(追加ワークシート名設定!D40=0,\"\",追加ワークシート名設定!D40)","v":""}]
[null,null,{"$f":"IF(追加ワークシート名設定!D41=0,\"\",追加ワークシート名設定!D41)","v":""}]
[null,null,{"$f":"IF(追加ワークシート名設定!D42=0,\"\",追加ワークシート名設定!D42)","v":""}]
[null,null,{"$f":"IF(追加ワークシート名設定!D43=0,\"\",追加ワークシート名設定!D43)","v":""}]
[null,null,{"$f":"IF(追加ワークシート名設定!D44=0,\"\",追加ワークシート名設定!D44)","v":""}]
[null,null,{"$f":"IF(追加ワークシート名設定!D45=0,\"\",追加ワークシート名設定!D45)","v":""}]
[null,null,{"$f":"IF(追加ワークシート名設定!D46=0,\"\",追加ワークシート名設定!D46)","v":""}]
[null,null,{"$f":"IF(追加ワークシート名設定!D47=0,\"\",追加ワークシート名設定!D47)","v":""}]
[null,null,{"$f":"IF(追加ワークシート名設定!D48=0,\"\",追加ワークシート名設定!D48)","v":""}]
[null,null,{"$f":"IF(追加ワークシート名設定!D49=0,\"\",追加ワークシート名設定!D49)","v":""}]
[null,null,{"$f":"IF(追加ワークシート名設定!D50=0,\"\",追加ワークシート名設定!D50)","v":""}]
[null,null,{"$f":"IF(追加ワークシート名設定!D51=0,\"\",追加ワークシート名設定!D51)","v":""}]
[null,null,{"$f":"IF(追加ワークシート名設定!D52=0,\"\",追加ワークシート名設定!D52)","v":""}]
[null,null,{"$f":"IF(追加ワークシート名設定!D53=0,\"\",追加ワークシート名設定!D53)","v":""}]
[null,null,{"$f":"IF(追加ワークシート名設定!D54=0,\"\",追加ワークシート名設定!D54)","v":""}]
[null,null,{"$f":"IF(追加ワークシート名設定!D55=0,\"\",追加ワークシート名設定!D55)","v":""}]
[null,null,{"$f":"IF(追加ワークシート名設定!D56=0,\"\",追加ワークシート名設定!D56)","v":""}]
[null,null,{"$f":"IF(追加ワークシート名設定!D57=0,\"\",追加ワークシート名設定!D57)","v":""}]
[null,null,{"$f":"IF(追加ワークシート名設定!D58=0,\"\",追加ワークシート名設定!D58)","v":""}]
[null,null,{"$f":"IF(追加ワークシート名設定!D59=0,\"\",追加ワークシート名設定!D59)","v":""}]
[null,null,{"$f":"IF(追加ワークシート名設定!D60=0,\"\",追加ワークシート名設定!D60)","v":""}]
[null,null,{"$f":"IF(追加ワークシート名設定!D61=0,\"\",追加ワークシート名設定!D61)","v":""}]
[null,null,{"$f":"IF(追加ワークシート名設定!D62=0,\"\",追加ワークシート名設定!D62)","v":""}]
[null,null,{"$f":"IF(追加ワークシート名設定!D63=0,\"\",追加ワークシート名設定!D63)","v":""}]
[null,null,{"$f":"IF(追加ワークシート名設定!D64=0,\"\",追加ワークシート名設定!D64)","v":""}]
[null,null,{"$f":"IF(追加ワークシート名設定!D65=0,\"\",追加ワークシート名設定!D65)","v":""}]
[null,null,{"$f":"IF(追加ワークシート名設定!D66=0,\"\",追加ワークシート名設定!D66)","v":""}]
[null,null,{"$f":"IF(追加ワークシート名設定!D67=0,\"\",追加ワークシート名設定!D67)","v":""}]
[null,null,{"$f":"IF(追加ワークシート名設定!D68=0,\"\",追加ワークシート名設定!D68)","v":""}]
[null,null,{"$f":"IF(追加ワークシート名設定!D69=0,\"\",追加ワークシート名設定!D69)","v":""}]
[null,null,{"$f":"IF(シート名設定!C30=0,\"\",シート名設定!C30)","v":"入力AA1"}]
[null,null,{"$f":"IF(シート名設定!C31=0,\"\",シート名設定!C31)","v":"入力AA2"}]
[null,null,{"$f":"IF(シート名設定!C32=0,\"\",シート名設定!C32)","v":"入力AA3"}]
[null,null,{"$f":"IF(シート名設定!C33=0,\"\",シート名設定!C33)","v":"入力AA4"}]
[null,null,{"$f":"IF(シート名設定!C34=0,\"\",シート名設定!C34)","v":"入力AA5"}]

{"sheet":"一覧表付ファイル作成入力設定19","index":32,"n_rows":165,"n_cols":5,"rows_kept":165,"cut":false,"hidden":false,"merged":[[2,1,2,2]]}
[]
[]
[null,{"$f":"シート名設定!C27","v":"一覧表付ファイル作成入力設定19"}]
[null,"１．入力元の設定"]
[null,"項　　　　　　目","設定内容"]
[null,"シート名"]
[null,"データ先頭セル行番号"]
[null,"データ先頭セル列番号"]
[null,"異同比較列番号"]
[null,"データー数"]
[null,"For Next の増分"]
[]
[null,"２．入力先の設定"]
[null,"項　　　　　　目","設定内容"]
[null,"シート名"]
[null,"入力先頭セル行番号"]
[null,"入力先頭セル列番号"]
[null,"入力最終セル行番号"]
[null,"入力最終セル列番号"]
[null,"入力データー数"]
[null,"通しページ入力セル行番号"]
[null,"通しページ入力セル列番号"]
[null,"区分内ページ入力セル行番号"]
[null,"区分内ページ入力セル列番号"]
[null,"３．印刷処理かファイルのメール送信の設定"]
[null,"項　　　　　　目","設定内容"]
[null,"印刷処理か\nファイルの\nメール送信\nの選択",null,1]
[null,"ファイルのメール送信の場合の印刷フォームソートデーターシートのメールアドレスが入力されている列番号"]
[null,"ファイルのメール送信の場合の印刷フォームソートデーターシートの件名が入力されている列番号"]
[null,"ファイルのメール送信の場合の印刷フォームソートデーターシートの本文が入力されている列番号"]
[null,"ファイルのメール送信の場合の添付ファイルの保存先ドライブ及びフォルダー"]
[]
[]
[]
[]
[]
[null,null,{"$f":"IF(シート名設定!C35=0,\"\",シート名設定!C35)","v":"印刷フォーム1"},1,"印刷する"]
[null,null,{"$f":"IF(シート名設定!C36=0,\"\",シート名設定!C36)","v":"印刷フォーム2"},2,"メールで送信する"]
[null,null,{"$f":"IF(シート名設定!C37=0,\"\",シート名設定!C37)","v":"印刷フォーム3"},3,"添付ファイルなし件名本文のみのメール"]
[null,null,{"$f":"IF(シート名設定!C38=0,\"\",シート名設定!C38)","v":"印刷フォーム4"}]
[null,null,{"$f":"IF(シート名設定!C39=0,\"\",シート名設定!C39)","v":"印刷フォーム5"}]
[null,null,{"$f":"IF(シート名設定!C40=0,\"\",シート名設定!C40)","v":"印刷フォーム6"}]
[null,null,{"$f":"IF(シート名設定!C41=0,\"\",シート名設定!C41)","v":"印刷フォーム7"}]
[null,null,{"$f":"IF(シート名設定!C42=0,\"\",シート名設定!C42)","v":"印刷フォーム8"}]
[null,null,{"$f":"IF(シート名設定!C43=0,\"\",シート名設定!C43)","v":"印刷フォーム9"}]
[null,null,{"$f":"IF(シート名設定!C44=0,\"\",シート名設定!C44)","v":"印刷フォーム10"}]
[null,null,{"$f":"IF(シート名設定!C45=0,\"\",シート名設定!C45)","v":"印刷フォーム11"}]
[null,null,{"$f":"IF(シート名設定!C46=0,\"\",シート名設定!C46)","v":"印刷フォーム12"}]
[null,null,{"$f":"IF(シート名設定!C47=0,\"\",シート名設定!C47)","v":"印刷フォーム13"}]
[null,null,{"$f":"IF(シート名設定!C48=0,\"\",シート名設定!C48)","v":"印刷フォーム14"}]
[null,null,{"$f":"IF(シート名設定!C49=0,\"\",シート名設定!C49)","v":"印刷フォーム15"}]
[null,null,{"$f":"IF(シート名設定!C50=0,\"\",シート名設定!C50)","v":"印刷フォーム16"}]
[null,null,{"$f":"IF(シート名設定!C51=0,\"\",シート名設定!C51)","v":"印刷フォーム17"}]
[null,null,{"$f":"IF(シート名設定!C52=0,\"\",シート名設定!C52)","v":"印刷フォーム18"}]
[null,null,{"$f":"IF(シート名設定!C53=0,\"\",シート名設定!C53)","v":"印刷フォーム19"}]
[null,null,{"$f":"IF(シート名設定!C54=0,\"\",シート名設定!C54)","v":"印刷フォーム20"}]
[null,null,{"$f":"IF(シート名設定!E5=0,\"\",シート名設定!E5)","v":"印刷フォーム21"}]
[null,null,{"$f":"IF(シート名設定!E6=0,\"\",シート名設定!E6)","v":"印刷フォーム22"}]
[null,null,{"$f":"IF(シート名設定!E7=0,\"\",シート名設定!E7)","v":"印刷フォーム23"}]
[null,null,{"$f":"IF(シート名設定!E8=0,\"\",シート名設定!E8)","v":"印刷フォーム24"}]
[null,null,{"$f":"IF(シート名設定!E9=0,\"\",シート名設定!E9)","v":"印刷フォーム25"}]
[null,null,{"$f":"IF(シート名設定!E10=0,\"\",シート名設定!E10)","v":"印刷フォーム26"}]
[null,null,{"$f":"IF(シート名設定!E11=0,\"\",シート名設定!E11)","v":"印刷フォーム27"}]
[null,null,{"$f":"IF(シート名設定!E12=0,\"\",シート名設定!E12)","v":"印刷フォーム28"}]
[null,null,{"$f":"IF(シート名設定!E13=0,\"\",シート名設定!E13)","v":"印刷フォーム29"}]
[null,null,{"$f":"IF(シート名設定!E14=0,\"\",シート名設定!E14)","v":"印刷フォーム30"}]
[null,null,{"$f":"IF(シート名設定!E15=0,\"\",シート名設定!E15)","v":"印刷フォーム1ソートデーター"}]
[null,null,{"$f":"IF(シート名設定!E16=0,\"\",シート名設定!E16)","v":"印刷フォーム2ソートデーター"}]
[null,null,{"$f":"IF(シート名設定!E17=0,\"\",シート名設定!E17)","v":"印刷フォーム3ソートデーター"}]
[null,null,{"$f":"IF(シート名設定!E18=0,\"\",シート名設定!E18)","v":"印刷フォーム4ソートデーター"}]
[null,null,{"$f":"IF(シート名設定!E19=0,\"\",シート名設定!E19)","v":"印刷フォーム5ソートデーター"}]
[null,null,{"$f":"IF(シート名設定!E20=0,\"\",シート名設定!E20)","v":"印刷フォーム6ソートデーター"}]
[null,null,{"$f":"IF(シート名設定!E21=0,\"\",シート名設定!E21)","v":"印刷フォーム7ソートデーター"}]
[null,null,{"$f":"IF(シート名設定!E22=0,\"\",シート名設定!E22)","v":"印刷フォーム8ソートデーター"}]
[null,null,{"$f":"IF(シート名設定!E23=0,\"\",シート名設定!E23)","v":"印刷フォーム9ソートデーター"}]
[null,null,{"$f":"IF(シート名設定!E24=0,\"\",シート名設定!E24)","v":"印刷フォーム10ソートデーター"}]
[null,null,{"$f":"IF(シート名設定!E25=0,\"\",シート名設定!E25)","v":"印刷フォーム11ソートデーター"}]
[null,null,{"$f":"IF(シート名設定!E26=0,\"\",シート名設定!E26)","v":"印刷フォーム12ソートデーター"}]
[null,null,{"$f":"IF(シート名設定!E27=0,\"\",シート名設定!E27)","v":"印刷フォーム13ソートデーター"}]
[null,null,{"$f":"IF(シート名設定!E28=0,\"\",シート名設定!E28)","v":"印刷フォーム14ソートデーター"}]
[null,null,{"$f":"IF(シート名設定!E29=0,\"\",シート名設定!E29)","v":"印刷フォーム15ソートデーター"}]
[null,null,{"$f":"IF(シート名設定!E30=0,\"\",シート名設定!E30)","v":"印刷フォーム16ソートデーター"}]
[null,null,{"$f":"IF(シート名設定!E31=0,\"\",シート名設定!E31)","v":"印刷フォーム17ソートデーター"}]
[null,null,{"$f":"IF(シート名設定!E32=0,\"\",シート名設定!E32)","v":"印刷フォーム18ソートデーター"}]
[null,null,{"$f":"IF(シート名設定!E33=0,\"\",シート名設定!E33)","v":"印刷フォーム19ソートデーター"}]
[null,null,{"$f":"IF(シート名設定!E34=0,\"\",シート名設定!E34)","v":"印刷フォーム20ソートデーター"}]
[null,null,{"$f":"IF(シート名設定!E35=0,\"\",シート名設定!E35)","v":"印刷フォーム21ソートデーター"}]
[null,null,{"$f":"IF(シート名設定!E36=0,\"\",シート名設定!E36)","v":"印刷フォーム22ソートデーター"}]
[null,null,{"$f":"IF(シート名設定!E37=0,\"\",シート名設定!E37)","v":"印刷フォーム23ソートデーター"}]
[null,null,{"$f":"IF(シート名設定!E38=0,\"\",シート名設定!E38)","v":"印刷フォーム24ソートデーター"}]
[null,null,{"$f":"IF(シート名設定!E39=0,\"\",シート名設定!E39)","v":"印刷フォーム25ソートデーター"}]
[null,null,{"$f":"IF(シート名設定!E40=0,\"\",シート名設定!E40)","v":"印刷フォーム26ソートデーター"}]
[null,null,{"$f":"IF(シート名設定!E41=0,\"\",シート名設定!E41)","v":"印刷フォーム27ソートデーター"}]
[null,null,{"$f":"IF(シート名設定!E42=0,\"\",シート名設定!E42)","v":"印刷フォーム28ソートデーター"}]
[null,null,{"$f":"IF(シート名設定!E43=0,\"\",シート名設定!E43)","v":"印刷フォーム29ソートデーター"}]
[null,null,{"$f":"IF(シート名設定!E44=0,\"\",シート名設定!E44)","v":"印刷フォーム30ソートデーター"}]
[null,null,{"$f":"IF(追加ワークシート名設定!D6=0,\"\",追加ワークシート名設定!D6)","v":""}]
[null,null,{"$f":"IF(追加ワークシート名設定!D7=0,\"\",追加ワークシート名設定!D7)","v":""}]
[null,null,{"$f":"IF(追加ワークシート名設定!D8=0,\"\",追加ワークシート名設定!D8)","v":""}]
[null,null,{"$f":"IF(追加ワークシート名設定!D9=0,\"\",追加ワークシート名設定!D9)","v":""}]
[null,null,{"$f":"IF(追加ワークシート名設定!D10=0,\"\",追加ワークシート名設定!D10)","v":""}]
[null,null,{"$f":"IF(追加ワークシート名設定!D11=0,\"\",追加ワークシート名設定!D11)","v":""}]
[null,null,{"$f":"IF(追加ワークシート名設定!D12=0,\"\",追加ワークシート名設定!D12)","v":""}]
[null,null,{"$f":"IF(追加ワークシート名設定!D13=0,\"\",追加ワークシート名設定!D13)","v":""}]
[null,null,{"$f":"IF(追加ワークシート名設定!D14=0,\"\",追加ワークシート名設定!D14)","v":""}]
[null,null,{"$f":"IF(追加ワークシート名設定!D15=0,\"\",追加ワークシート名設定!D15)","v":""}]
[null,null,{"$f":"IF(追加ワークシート名設定!D16=0,\"\",追加ワークシート名設定!D16)","v":""}]
[null,null,{"$f":"IF(追加ワークシート名設定!D17=0,\"\",追加ワークシート名設定!D17)","v":""}]
[null,null,{"$f":"IF(追加ワークシート名設定!D18=0,\"\",追加ワークシート名設定!D18)","v":""}]
[null,null,{"$f":"IF(追加ワークシート名設定!D19=0,\"\",追加ワークシート名設定!D19)","v":""}]
[null,null,{"$f":"IF(追加ワークシート名設定!D20=0,\"\",追加ワークシート名設定!D20)","v":""}]
[null,null,{"$f":"IF(追加ワークシート名設定!D21=0,\"\",追加ワークシート名設定!D21)","v":""}]
[null,null,{"$f":"IF(追加ワークシート名設定!D22=0,\"\",追加ワークシート名設定!D22)","v":""}]
[null,null,{"$f":"IF(追加ワークシート名設定!D23=0,\"\",追加ワークシート名設定!D23)","v":""}]
[null,null,{"$f":"IF(追加ワークシート名設定!D24=0,\"\",追加ワークシート名設定!D24)","v":""}]
[null,null,{"$f":"IF(追加ワークシート名設定!D25=0,\"\",追加ワークシート名設定!D25)","v":""}]
[null,null,{"$f":"IF(追加ワークシート名設定!D26=0,\"\",追加ワークシート名設定!D26)","v":""}]
[null,null,{"$f":"IF(追加ワークシート名設定!D27=0,\"\",追加ワークシート名設定!D27)","v":""}]
[null,null,{"$f":"IF(追加ワークシート名設定!D28=0,\"\",追加ワークシート名設定!D28)","v":""}]
[null,null,{"$f":"IF(追加ワークシート名設定!D29=0,\"\",追加ワークシート名設定!D29)","v":""}]
[null,null,{"$f":"IF(追加ワークシート名設定!D30=0,\"\",追加ワークシート名設定!D30)","v":""}]
[null,null,{"$f":"IF(追加ワークシート名設定!D31=0,\"\",追加ワークシート名設定!D31)","v":""}]
[null,null,{"$f":"IF(追加ワークシート名設定!D32=0,\"\",追加ワークシート名設定!D32)","v":""}]
[null,null,{"$f":"IF(追加ワークシート名設定!D33=0,\"\",追加ワークシート名設定!D33)","v":""}]
[null,null,{"$f":"IF(追加ワークシート名設定!D34=0,\"\",追加ワークシート名設定!D34)","v":""}]
[null,null,{"$f":"IF(追加ワークシート名設定!D35=0,\"\",追加ワークシート名設定!D35)","v":""}]
[null,null,{"$f":"IF(追加ワークシート名設定!D36=0,\"\",追加ワークシート名設定!D36)","v":""}]
[null,null,{"$f":"IF(追加ワークシート名設定!D37=0,\"\",追加ワークシート名設定!D37)","v":""}]
[null,null,{"$f":"IF(追加ワークシート名設定!D38=0,\"\",追加ワークシート名設定!D38)","v":""}]
[null,null,{"$f":"IF(追加ワークシート名設定!D39=0,\"\",追加ワークシート名設定!D39)","v":""}]
[null,null,{"$f":"IF(追加ワークシート名設定!D40=0,\"\",追加ワークシート名設定!D40)","v":""}]
[null,null,{"$f":"IF(追加ワークシート名設定!D41=0,\"\",追加ワークシート名設定!D41)","v":""}]
[null,null,{"$f":"IF(追加ワークシート名設定!D42=0,\"\",追加ワークシート名設定!D42)","v":""}]
[null,null,{"$f":"IF(追加ワークシート名設定!D43=0,\"\",追加ワークシート名設定!D43)","v":""}]
[null,null,{"$f":"IF(追加ワークシート名設定!D44=0,\"\",追加ワークシート名設定!D44)","v":""}]
[null,null,{"$f":"IF(追加ワークシート名設定!D45=0,\"\",追加ワークシート名設定!D45)","v":""}]
[null,null,{"$f":"IF(追加ワークシート名設定!D46=0,\"\",追加ワークシート名設定!D46)","v":""}]
[null,null,{"$f":"IF(追加ワークシート名設定!D47=0,\"\",追加ワークシート名設定!D47)","v":""}]
[null,null,{"$f":"IF(追加ワークシート名設定!D48=0,\"\",追加ワークシート名設定!D48)","v":""}]
[null,null,{"$f":"IF(追加ワークシート名設定!D49=0,\"\",追加ワークシート名設定!D49)","v":""}]
[null,null,{"$f":"IF(追加ワークシート名設定!D50=0,\"\",追加ワークシート名設定!D50)","v":""}]
[null,null,{"$f":"IF(追加ワークシート名設定!D51=0,\"\",追加ワークシート名設定!D51)","v":""}]
[null,null,{"$f":"IF(追加ワークシート名設定!D52=0,\"\",追加ワークシート名設定!D52)","v":""}]
[null,null,{"$f":"IF(追加ワークシート名設定!D53=0,\"\",追加ワークシート名設定!D53)","v":""}]
[null,null,{"$f":"IF(追加ワークシート名設定!D54=0,\"\",追加ワークシート名設定!D54)","v":""}]
[null,null,{"$f":"IF(追加ワークシート名設定!D55=0,\"\",追加ワークシート名設定!D55)","v":""}]
[null,null,{"$f":"IF(追加ワークシート名設定!D56=0,\"\",追加ワークシート名設定!D56)","v":""}]
[null,null,{"$f":"IF(追加ワークシート名設定!D57=0,\"\",追加ワークシート名設定!D57)","v":""}]
[null,null,{"$f":"IF(追加ワークシート名設定!D58=0,\"\",追加ワークシート名設定!D58)","v":""}]
[null,null,{"$f":"IF(追加ワークシート名設定!D59=0,\"\",追加ワークシート名設定!D59)","v":""}]
[null,null,{"$f":"IF(追加ワークシート名設定!D60=0,\"\",追加ワークシート名設定!D60)","v":""}]
[null,null,{"$f":"IF(追加ワークシート名設定!D61=0,\"\",追加ワークシート名設定!D61)","v":""}]
[null,null,{"$f":"IF(追加ワークシート名設定!D62=0,\"\",追加ワークシート名設定!D62)","v":""}]
[null,null,{"$f":"IF(追加ワークシート名設定!D63=0,\"\",追加ワークシート名設定!D63)","v":""}]
[null,null,{"$f":"IF(追加ワークシート名設定!D64=0,\"\",追加ワークシート名設定!D64)","v":""}]
[null,null,{"$f":"IF(追加ワークシート名設定!D65=0,\"\",追加ワークシート名設定!D65)","v":""}]
[null,null,{"$f":"IF(追加ワークシート名設定!D66=0,\"\",追加ワークシート名設定!D66)","v":""}]
[null,null,{"$f":"IF(追加ワークシート名設定!D67=0,\"\",追加ワークシート名設定!D67)","v":""}]
[null,null,{"$f":"IF(追加ワークシート名設定!D68=0,\"\",追加ワークシート名設定!D68)","v":""}]
[null,null,{"$f":"IF(追加ワークシート名設定!D69=0,\"\",追加ワークシート名設定!D69)","v":""}]
[null,null,{"$f":"IF(シート名設定!C30=0,\"\",シート名設定!C30)","v":"入力AA1"}]
[null,null,{"$f":"IF(シート名設定!C31=0,\"\",シート名設定!C31)","v":"入力AA2"}]
[null,null,{"$f":"IF(シート名設定!C32=0,\"\",シート名設定!C32)","v":"入力AA3"}]
[null,null,{"$f":"IF(シート名設定!C33=0,\"\",シート名設定!C33)","v":"入力AA4"}]
[null,null,{"$f":"IF(シート名設定!C34=0,\"\",シート名設定!C34)","v":"入力AA5"}]

{"sheet":"一覧表付ファイル作成入力設定20","index":33,"n_rows":165,"n_cols":5,"rows_kept":165,"cut":false,"hidden":false,"merged":[[2,1,2,2]]}
[]
[]
[null,{"$f":"シート名設定!C28","v":"一覧表付ファイル作成入力設定20"}]
[null,"１．入力元の設定"]
[null,"項　　　　　　目","設定内容"]
[null,"シート名"]
[null,"データ先頭セル行番号"]
[null,"データ先頭セル列番号"]
[null,"異同比較列番号"]
[null,"データー数"]
[null,"For Next の増分"]
[]
[null,"２．入力先の設定"]
[null,"項　　　　　　目","設定内容"]
[null,"シート名"]
[null,"入力先頭セル行番号"]
[null,"入力先頭セル列番号"]
[null,"入力最終セル行番号"]
[null,"入力最終セル列番号"]
[null,"入力データー数"]
[null,"通しページ入力セル行番号"]
[null,"通しページ入力セル列番号"]
[null,"区分内ページ入力セル行番号"]
[null,"区分内ページ入力セル列番号"]
[null,"３．印刷処理かファイルのメール送信の設定"]
[null,"項　　　　　　目","設定内容"]
[null,"印刷処理か\nファイルの\nメール送信\nの選択",null,1]
[null,"ファイルのメール送信の場合の印刷フォームソートデーターシートのメールアドレスが入力されている列番号"]
[null,"ファイルのメール送信の場合の印刷フォームソートデーターシートの件名が入力されている列番号"]
[null,"ファイルのメール送信の場合の印刷フォームソートデーターシートの本文が入力されている列番号"]
[null,"ファイルのメール送信の場合の添付ファイルの保存先ドライブ及びフォルダー"]
[]
[]
[]
[]
[]
[null,null,{"$f":"IF(シート名設定!C35=0,\"\",シート名設定!C35)","v":"印刷フォーム1"},1,"印刷する"]
[null,null,{"$f":"IF(シート名設定!C36=0,\"\",シート名設定!C36)","v":"印刷フォーム2"},2,"メールで送信する"]
[null,null,{"$f":"IF(シート名設定!C37=0,\"\",シート名設定!C37)","v":"印刷フォーム3"},3,"添付ファイルなし件名本文のみのメール"]
[null,null,{"$f":"IF(シート名設定!C38=0,\"\",シート名設定!C38)","v":"印刷フォーム4"}]
[null,null,{"$f":"IF(シート名設定!C39=0,\"\",シート名設定!C39)","v":"印刷フォーム5"}]
[null,null,{"$f":"IF(シート名設定!C40=0,\"\",シート名設定!C40)","v":"印刷フォーム6"}]
[null,null,{"$f":"IF(シート名設定!C41=0,\"\",シート名設定!C41)","v":"印刷フォーム7"}]
[null,null,{"$f":"IF(シート名設定!C42=0,\"\",シート名設定!C42)","v":"印刷フォーム8"}]
[null,null,{"$f":"IF(シート名設定!C43=0,\"\",シート名設定!C43)","v":"印刷フォーム9"}]
[null,null,{"$f":"IF(シート名設定!C44=0,\"\",シート名設定!C44)","v":"印刷フォーム10"}]
[null,null,{"$f":"IF(シート名設定!C45=0,\"\",シート名設定!C45)","v":"印刷フォーム11"}]
[null,null,{"$f":"IF(シート名設定!C46=0,\"\",シート名設定!C46)","v":"印刷フォーム12"}]
[null,null,{"$f":"IF(シート名設定!C47=0,\"\",シート名設定!C47)","v":"印刷フォーム13"}]
[null,null,{"$f":"IF(シート名設定!C48=0,\"\",シート名設定!C48)","v":"印刷フォーム14"}]
[null,null,{"$f":"IF(シート名設定!C49=0,\"\",シート名設定!C49)","v":"印刷フォーム15"}]
[null,null,{"$f":"IF(シート名設定!C50=0,\"\",シート名設定!C50)","v":"印刷フォーム16"}]
[null,null,{"$f":"IF(シート名設定!C51=0,\"\",シート名設定!C51)","v":"印刷フォーム17"}]
[null,null,{"$f":"IF(シート名設定!C52=0,\"\",シート名設定!C52)","v":"印刷フォーム18"}]
[null,null,{"$f":"IF(シート名設定!C53=0,\"\",シート名設定!C53)","v":"印刷フォーム19"}]
[null,null,{"$f":"IF(シート名設定!C54=0,\"\",シート名設定!C54)","v":"印刷フォーム20"}]
[null,null,{"$f":"IF(シート名設定!E5=0,\"\",シート名設定!E5)","v":"印刷フォーム21"}]
[null,null,{"$f":"IF(シート名設定!E6=0,\"\",シート名設定!E6)","v":"印刷フォーム22"}]
[null,null,{"$f":"IF(シート名設定!E7=0,\"\",シート名設定!E7)","v":"印刷フォーム23"}]
[null,null,{"$f":"IF(シート名設定!E8=0,\"\",シート名設定!E8)","v":"印刷フォーム24"}]
[null,null,{"$f":"IF(シート名設定!E9=0,\"\",シート名設定!E9)","v":"印刷フォーム25"}]
[null,null,{"$f":"IF(シート名設定!E10=0,\"\",シート名設定!E10)","v":"印刷フォーム26"}]
[null,null,{"$f":"IF(シート名設定!E11=0,\"\",シート名設定!E11)","v":"印刷フォーム27"}]
[null,null,{"$f":"IF(シート名設定!E12=0,\"\",シート名設定!E12)","v":"印刷フォーム28"}]
[null,null,{"$f":"IF(シート名設定!E13=0,\"\",シート名設定!E13)","v":"印刷フォーム29"}]
[null,null,{"$f":"IF(シート名設定!E14=0,\"\",シート名設定!E14)","v":"印刷フォーム30"}]
[null,null,{"$f":"IF(シート名設定!E15=0,\"\",シート名設定!E15)","v":"印刷フォーム1ソートデーター"}]
[null,null,{"$f":"IF(シート名設定!E16=0,\"\",シート名設定!E16)","v":"印刷フォーム2ソートデーター"}]
[null,null,{"$f":"IF(シート名設定!E17=0,\"\",シート名設定!E17)","v":"印刷フォーム3ソートデーター"}]
[null,null,{"$f":"IF(シート名設定!E18=0,\"\",シート名設定!E18)","v":"印刷フォーム4ソートデーター"}]
[null,null,{"$f":"IF(シート名設定!E19=0,\"\",シート名設定!E19)","v":"印刷フォーム5ソートデーター"}]
[null,null,{"$f":"IF(シート名設定!E20=0,\"\",シート名設定!E20)","v":"印刷フォーム6ソートデーター"}]
[null,null,{"$f":"IF(シート名設定!E21=0,\"\",シート名設定!E21)","v":"印刷フォーム7ソートデーター"}]
[null,null,{"$f":"IF(シート名設定!E22=0,\"\",シート名設定!E22)","v":"印刷フォーム8ソートデーター"}]
[null,null,{"$f":"IF(シート名設定!E23=0,\"\",シート名設定!E23)","v":"印刷フォーム9ソートデーター"}]
[null,null,{"$f":"IF(シート名設定!E24=0,\"\",シート名設定!E24)","v":"印刷フォーム10ソートデーター"}]
[null,null,{"$f":"IF(シート名設定!E25=0,\"\",シート名設定!E25)","v":"印刷フォーム11ソートデーター"}]
[null,null,{"$f":"IF(シート名設定!E26=0,\"\",シート名設定!E26)","v":"印刷フォーム12ソートデーター"}]
[null,null,{"$f":"IF(シート名設定!E27=0,\"\",シート名設定!E27)","v":"印刷フォーム13ソートデーター"}]
[null,null,{"$f":"IF(シート名設定!E28=0,\"\",シート名設定!E28)","v":"印刷フォーム14ソートデーター"}]
[null,null,{"$f":"IF(シート名設定!E29=0,\"\",シート名設定!E29)","v":"印刷フォーム15ソートデーター"}]
[null,null,{"$f":"IF(シート名設定!E30=0,\"\",シート名設定!E30)","v":"印刷フォーム16ソートデーター"}]
[null,null,{"$f":"IF(シート名設定!E31=0,\"\",シート名設定!E31)","v":"印刷フォーム17ソートデーター"}]
[null,null,{"$f":"IF(シート名設定!E32=0,\"\",シート名設定!E32)","v":"印刷フォーム18ソートデーター"}]
[null,null,{"$f":"IF(シート名設定!E33=0,\"\",シート名設定!E33)","v":"印刷フォーム19ソートデーター"}]
[null,null,{"$f":"IF(シート名設定!E34=0,\"\",シート名設定!E34)","v":"印刷フォーム20ソートデーター"}]
[null,null,{"$f":"IF(シート名設定!E35=0,\"\",シート名設定!E35)","v":"印刷フォーム21ソートデーター"}]
[null,null,{"$f":"IF(シート名設定!E36=0,\"\",シート名設定!E36)","v":"印刷フォーム22ソートデーター"}]
[null,null,{"$f":"IF(シート名設定!E37=0,\"\",シート名設定!E37)","v":"印刷フォーム23ソートデーター"}]
[null,null,{"$f":"IF(シート名設定!E38=0,\"\",シート名設定!E38)","v":"印刷フォーム24ソートデーター"}]
[null,null,{"$f":"IF(シート名設定!E39=0,\"\",シート名設定!E39)","v":"印刷フォーム25ソートデーター"}]
[null,null,{"$f":"IF(シート名設定!E40=0,\"\",シート名設定!E40)","v":"印刷フォーム26ソートデーター"}]
[null,null,{"$f":"IF(シート名設定!E41=0,\"\",シート名設定!E41)","v":"印刷フォーム27ソートデーター"}]
[null,null,{"$f":"IF(シート名設定!E42=0,\"\",シート名設定!E42)","v":"印刷フォーム28ソートデーター"}]
[null,null,{"$f":"IF(シート名設定!E43=0,\"\",シート名設定!E43)","v":"印刷フォーム29ソートデーター"}]
[null,null,{"$f":"IF(シート名設定!E44=0,\"\",シート名設定!E44)","v":"印刷フォーム30ソートデーター"}]
[null,null,{"$f":"IF(追加ワークシート名設定!D6=0,\"\",追加ワークシート名設定!D6)","v":""}]
[null,null,{"$f":"IF(追加ワークシート名設定!D7=0,\"\",追加ワークシート名設定!D7)","v":""}]
[null,null,{"$f":"IF(追加ワークシート名設定!D8=0,\"\",追加ワークシート名設定!D8)","v":""}]
[null,null,{"$f":"IF(追加ワークシート名設定!D9=0,\"\",追加ワークシート名設定!D9)","v":""}]
[null,null,{"$f":"IF(追加ワークシート名設定!D10=0,\"\",追加ワークシート名設定!D10)","v":""}]
[null,null,{"$f":"IF(追加ワークシート名設定!D11=0,\"\",追加ワークシート名設定!D11)","v":""}]
[null,null,{"$f":"IF(追加ワークシート名設定!D12=0,\"\",追加ワークシート名設定!D12)","v":""}]
[null,null,{"$f":"IF(追加ワークシート名設定!D13=0,\"\",追加ワークシート名設定!D13)","v":""}]
[null,null,{"$f":"IF(追加ワークシート名設定!D14=0,\"\",追加ワークシート名設定!D14)","v":""}]
[null,null,{"$f":"IF(追加ワークシート名設定!D15=0,\"\",追加ワークシート名設定!D15)","v":""}]
[null,null,{"$f":"IF(追加ワークシート名設定!D16=0,\"\",追加ワークシート名設定!D16)","v":""}]
[null,null,{"$f":"IF(追加ワークシート名設定!D17=0,\"\",追加ワークシート名設定!D17)","v":""}]
[null,null,{"$f":"IF(追加ワークシート名設定!D18=0,\"\",追加ワークシート名設定!D18)","v":""}]
[null,null,{"$f":"IF(追加ワークシート名設定!D19=0,\"\",追加ワークシート名設定!D19)","v":""}]
[null,null,{"$f":"IF(追加ワークシート名設定!D20=0,\"\",追加ワークシート名設定!D20)","v":""}]
[null,null,{"$f":"IF(追加ワークシート名設定!D21=0,\"\",追加ワークシート名設定!D21)","v":""}]
[null,null,{"$f":"IF(追加ワークシート名設定!D22=0,\"\",追加ワークシート名設定!D22)","v":""}]
[null,null,{"$f":"IF(追加ワークシート名設定!D23=0,\"\",追加ワークシート名設定!D23)","v":""}]
[null,null,{"$f":"IF(追加ワークシート名設定!D24=0,\"\",追加ワークシート名設定!D24)","v":""}]
[null,null,{"$f":"IF(追加ワークシート名設定!D25=0,\"\",追加ワークシート名設定!D25)","v":""}]
[null,null,{"$f":"IF(追加ワークシート名設定!D26=0,\"\",追加ワークシート名設定!D26)","v":""}]
[null,null,{"$f":"IF(追加ワークシート名設定!D27=0,\"\",追加ワークシート名設定!D27)","v":""}]
[null,null,{"$f":"IF(追加ワークシート名設定!D28=0,\"\",追加ワークシート名設定!D28)","v":""}]
[null,null,{"$f":"IF(追加ワークシート名設定!D29=0,\"\",追加ワークシート名設定!D29)","v":""}]
[null,null,{"$f":"IF(追加ワークシート名設定!D30=0,\"\",追加ワークシート名設定!D30)","v":""}]
[null,null,{"$f":"IF(追加ワークシート名設定!D31=0,\"\",追加ワークシート名設定!D31)","v":""}]
[null,null,{"$f":"IF(追加ワークシート名設定!D32=0,\"\",追加ワークシート名設定!D32)","v":""}]
[null,null,{"$f":"IF(追加ワークシート名設定!D33=0,\"\",追加ワークシート名設定!D33)","v":""}]
[null,null,{"$f":"IF(追加ワークシート名設定!D34=0,\"\",追加ワークシート名設定!D34)","v":""}]
[null,null,{"$f":"IF(追加ワークシート名設定!D35=0,\"\",追加ワークシート名設定!D35)","v":""}]
[null,null,{"$f":"IF(追加ワークシート名設定!D36=0,\"\",追加ワークシート名設定!D36)","v":""}]
[null,null,{"$f":"IF(追加ワークシート名設定!D37=0,\"\",追加ワークシート名設定!D37)","v":""}]
[null,null,{"$f":"IF(追加ワークシート名設定!D38=0,\"\",追加ワークシート名設定!D38)","v":""}]
[null,null,{"$f":"IF(追加ワークシート名設定!D39=0,\"\",追加ワークシート名設定!D39)","v":""}]
[null,null,{"$f":"IF(追加ワークシート名設定!D40=0,\"\",追加ワークシート名設定!D40)","v":""}]
[null,null,{"$f":"IF(追加ワークシート名設定!D41=0,\"\",追加ワークシート名設定!D41)","v":""}]
[null,null,{"$f":"IF(追加ワークシート名設定!D42=0,\"\",追加ワークシート名設定!D42)","v":""}]
[null,null,{"$f":"IF(追加ワークシート名設定!D43=0,\"\",追加ワークシート名設定!D43)","v":""}]
[null,null,{"$f":"IF(追加ワークシート名設定!D44=0,\"\",追加ワークシート名設定!D44)","v":""}]
[null,null,{"$f":"IF(追加ワークシート名設定!D45=0,\"\",追加ワークシート名設定!D45)","v":""}]
[null,null,{"$f":"IF(追加ワークシート名設定!D46=0,\"\",追加ワークシート名設定!D46)","v":""}]
[null,null,{"$f":"IF(追加ワークシート名設定!D47=0,\"\",追加ワークシート名設定!D47)","v":""}]
[null,null,{"$f":"IF(追加ワークシート名設定!D48=0,\"\",追加ワークシート名設定!D48)","v":""}]
[null,null,{"$f":"IF(追加ワークシート名設定!D49=0,\"\",追加ワークシート名設定!D49)","v":""}]
[null,null,{"$f":"IF(追加ワークシート名設定!D50=0,\"\",追加ワークシート名設定!D50)","v":""}]
[null,null,{"$f":"IF(追加ワークシート名設定!D51=0,\"\",追加ワークシート名設定!D51)","v":""}]
[null,null,{"$f":"IF(追加ワークシート名設定!D52=0,\"\",追加ワークシート名設定!D52)","v":""}]
[null,null,{"$f":"IF(追加ワークシート名設定!D53=0,\"\",追加ワークシート名設定!D53)","v":""}]
[null,null,{"$f":"IF(追加ワークシート名設定!D54=0,\"\",追加ワークシート名設定!D54)","v":""}]
[null,null,{"$f":"IF(追加ワークシート名設定!D55=0,\"\",追加ワークシート名設定!D55)","v":""}]
[null,null,{"$f":"IF(追加ワークシート名設定!D56=0,\"\",追加ワークシート名設定!D56)","v":""}]
[null,null,{"$f":"IF(追加ワークシート名設定!D57=0,\"\",追加ワークシート名設定!D57)","v":""}]
[null,null,{"$f":"IF(追加ワークシート名設定!D58=0,\"\",追加ワークシート名設定!D58)","v":""}]
[null,null,{"$f":"IF(追加ワークシート名設定!D59=0,\"\",追加ワークシート名設定!D59)","v":""}]
[null,null,{"$f":"IF(追加ワークシート名設定!D60=0,\"\",追加ワークシート名設定!D60)","v":""}]
[null,null,{"$f":"IF(追加ワークシート名設定!D61=0,\"\",追加ワークシート名設定!D61)","v":""}]
[null,null,{"$f":"IF(追加ワークシート名設定!D62=0,\"\",追加ワークシート名設定!D62)","v":""}]
[null,null,{"$f":"IF(追加ワークシート名設定!D63=0,\"\",追加ワークシート名設定!D63)","v":""}]
[null,null,{"$f":"IF(追加ワークシート名設定!D64=0,\"\",追加ワークシート名設定!D64)","v":""}]
[null,null,{"$f":"IF(追加ワークシート名設定!D65=0,\"\",追加ワークシート名設定!D65)","v":""}]
[null,null,{"$f":"IF(追加ワークシート名設定!D66=0,\"\",追加ワークシート名設定!D66)","v":""}]
[null,null,{"$f":"IF(追加ワークシート名設定!D67=0,\"\",追加ワークシート名設定!D67)","v":""}]
[null,null,{"$f":"IF(追加ワークシート名設定!D68=0,\"\",追加ワークシート名設定!D68)","v":""}]
[null,null,{"$f":"IF(追加ワークシート名設定!D69=0,\"\",追加ワークシート名設定!D69)","v":""}]
[null,null,{"$f":"IF(シート名設定!C30=0,\"\",シート名設定!C30)","v":"入力AA1"}]
[null,null,{"$f":"IF(シート名設定!C31=0,\"\",シート名設定!C31)","v":"入力AA2"}]
[null,null,{"$f":"IF(シート名設定!C32=0,\"\",シート名設定!C32)","v":"入力AA3"}]
[null,null,{"$f":"IF(シート名設定!C33=0,\"\",シート名設定!C33)","v":"入力AA4"}]
[null,null,{"$f":"IF(シート名設定!C34=0,\"\",シート名設定!C34)","v":"入力AA5"}]

{"sheet":"ファイル作成コピー用","index":34,"n_rows":61,"n_cols":22,"rows_kept":61,"cut":false,"hidden":false,"merged":[]}
[]
[]
[]
[null,{"$f":"シート名設定!C29","v":"ファイル作成コピー用"}]
[null,"入力項目表示とデーター表示の切替→",null,null,null,1]
[null,"入力項目表示は1，データ表示は2を入力"]
[]
[]
[null,1,{"$f":"IF(B9=0,\"\",IF(ISERROR(VLOOKUP(B9,入力AA1!$B$8:$GU$58,2))=TRUE,\"\",VLOOKUP(B9,入力AA1!$B$8:$GU$58,2)))","v":"対象1"}]
[]
[null,null,{"$f":"IF(オフセット番号A!$C$4=\"\",\"\",オフセット番号A!$C$4)","v":"列1"},{"$f":"IF(オフセット番号A!$D$4=\"\",\"\",オフセット番号A!$D$4)","v":"列2"},{"$f":"IF(オフセット番号A!$E$4=\"\",\"\",オフセット番号A!$E$4)","v":"列3"},{"$f":"IF(オフセット番号A!$F$4=\"\",\"\",オフセット番号A!$F$4)","v":"列4"},{"$f":"IF(オフセット番号A!$G$4=\"\",\"\",オフセット番号A!$G$4)","v":"列5"},{"$f":"IF(オフセット番号A!$H$4=\"\",\"\",オフセット番号A!$H$4)","v":"列6"},{"$f":"IF(オフセット番号A!$I$4=\"\",\"\",オフセット番号A!$I$4)","v":"列7"},{"$f":"IF(オフセット番号A!$J$4=\"\",\"\",オフセット番号A!$J$4)","v":"列8"},{"$f":"IF(オフセット番号A!$K$4=\"\",\"\",オフセット番号A!$K$4)","v":"列9"},{"$f":"IF(オフセット番号A!$L$4=\"\",\"\",オフセット番号A!$L$4)","v":"列10"},{"$f":"IF(オフセット番号A!$M$4=\"\",\"\",オフセット番号A!$M$4)","v":"列11"},{"$f":"IF(オフセット番号A!$N$4=\"\",\"\",オフセット番号A!$N$4)","v":"列12"},{"$f":"IF(オフセット番号A!$O$4=\"\",\"\",オフセット番号A!$O$4)","v":"列13"},{"$f":"IF(オフセット番号A!$P$4=\"\",\"\",オフセット番号A!$P$4)","v":"列14"},{"$f":"IF(オフセット番号A!$Q$4=\"\",\"\",オフセット番号A!$Q$4)","v":"列15"},{"$f":"IF(オフセット番号A!$R$4=\"\",\"\",オフセット番号A!$R$4)","v":"列16"},{"$f":"IF(オフセット番号A!$S$4=\"\",\"\",オフセット番号A!$S$4)","v":"列17"},{"$f":"IF(オフセット番号A!$T$4=\"\",\"\",オフセット番号A!$T$4)","v":"列18"},{"$f":"IF(オフセット番号A!$U$4=\"\",\"\",オフセット番号A!$U$4)","v":"列19"},{"$f":"IF(オフセット番号A!$V$4=\"\",\"\",オフセット番号A!$V$4)","v":"列20"}]
[null,{"$f":"IF(行列入力項目!$C$5=\"\",\"\",行列入力項目!$C$5)","v":"行1"},{"$f":"IF($F$5=1,項目表示入力!$C$7,IF($F$5=2,IF(ISERROR(VLOOKUP(B9,入力AA1!$B$8:$GU$58,オフセット番号A!$C$5+1))=TRUE,\"\",VLOOKUP(B9,入力AA1!$B$8:$GU$58,オフセット番号A!$C$5+1)),\"*\"))","v":"内容1,1"},{"$f":"IF($F$5=1,項目表示入力!$D$7,IF($F$5=2,IF(ISERROR(VLOOKUP(B9,入力AA1!$B$8:$GU$58,オフセット番号A!$D$5+1))=TRUE,\"\",VLOOKUP(B9,入力AA1!$B$8:$GU$58,オフセット番号A!$D$5+1)),\"*\"))","v":"内容1,2"},{"$f":"IF($F$5=1,項目表示入力!$E$7,IF($F$5=2,IF(ISERROR(VLOOKUP(B9,入力AA1!$B$8:$GU$58,オフセット番号A!$E$5+1))=TRUE,\"\",VLOOKUP(B9,入力AA1!$B$8:$GU$58,オフセット番号A!$E$5+1)),\"*\"))","v":"内容1,3"},{"$f":"IF($F$5=1,項目表示入力!$F$7,IF($F$5=2,IF(ISERROR(VLOOKUP(B9,入力AA1!$B$8:$GU$58,オフセット番号A!$F$5+1))=TRUE,\"\",VLOOKUP(B9,入力AA1!$B$8:$GU$58,オフセット番号A!$F$5+1)),\"*\"))","v":"内容1,4"},{"$f":"IF($F$5=1,項目表示入力!$G$7,IF($F$5=2,IF(ISERROR(VLOOKUP(B9,入力AA1!$B$8:$GU$58,オフセット番号A!$G$5+1))=TRUE,\"\",VLOOKUP(B9,入力AA1!$B$8:$GU$58,オフセット番号A!$G$5+1)),\"*\"))","v":"内容1,5"},{"$f":"IF($F$5=1,項目表示入力!$H$7,IF($F$5=2,IF(ISERROR(VLOOKUP(B9,入力AA1!$B$8:$GU$58,オフセット番号A!$H$5+1))=TRUE,\"\",VLOOKUP(B9,入力AA1!$B$8:$GU$58,オフセット番号A!$H$5+1)),\"*\"))","v":"内容1,6"},{"$f":"IF($F$5=1,項目表示入力!$I$7,IF($F$5=2,IF(ISERROR(VLOOKUP(B9,入力AA1!$B$8:$GU$58,オフセット番号A!$I$5+1))=TRUE,\"\",VLOOKUP(B9,入力AA1!$B$8:$GU$58,オフセット番号A!$I$5+1)),\"*\"))","v":"内容1,7"},{"$f":"IF($F$5=1,項目表示入力!$J$7,IF($F$5=2,IF(ISERROR(VLOOKUP(B9,入力AA1!$B$8:$GU$58,オフセット番号A!$J$5+1))=TRUE,\"\",VLOOKUP(B9,入力AA1!$B$8:$GU$58,オフセット番号A!$J$5+1)),\"*\"))","v":"内容1,8"},{"$f":"IF($F$5=1,項目表示入力!$K$7,IF($F$5=2,IF(ISERROR(VLOOKUP(B9,入力AA1!$B$8:$GU$58,オフセット番号A!$K$5+1))=TRUE,\"\",VLOOKUP(B9,入力AA1!$B$8:$GU$58,オフセット番号A!$K$5+1)),\"*\"))","v":"内容1,9"},{"$f":"IF($F$5=1,項目表示入力!$L$7,IF($F$5=2,IF(ISERROR(VLOOKUP(B9,入力AA1!$B$8:$GU$58,オフセット番号A!$L$5+1))=TRUE,\"\",VLOOKUP(B9,入力AA1!$B$8:$GU$58,オフセット番号A!$L$5+1)),\"*\"))","v":"内容1,10"},{"$f":"IF($F$5=1,項目表示入力!$M$7,IF($F$5=2,IF(ISERROR(VLOOKUP(B9,入力AA1!$B$8:$GU$58,オフセット番号A!$M$5+1))=TRUE,\"\",VLOOKUP(B9,入力AA1!$B$8:$GU$58,オフセット番号A!$M$5+1)),\"*\"))","v":"内容1,11"},{"$f":"IF($F$5=1,項目表示入力!$N$7,IF($F$5=2,IF(ISERROR(VLOOKUP(B9,入力AA1!$B$8:$GU$58,オフセット番号A!$N$5+1))=TRUE,\"\",VLOOKUP(B9,入力AA1!$B$8:$GU$58,オフセット番号A!$N$5+1)),\"*\"))","v":"内容1,12"},{"$f":"IF($F$5=1,項目表示入力!$O$7,IF($F$5=2,IF(ISERROR(VLOOKUP(B9,入力AA1!$B$8:$GU$58,オフセット番号A!$O$5+1))=TRUE,\"\",VLOOKUP(B9,入力AA1!$B$8:$GU$58,オフセット番号A!$O$5+1)),\"*\"))","v":"内容1,13"},{"$f":"IF($F$5=1,項目表示入力!$P$7,IF($F$5=2,IF(ISERROR(VLOOKUP(B9,入力AA1!$B$8:$GU$58,オフセット番号A!$P$5+1))=TRUE,\"\",VLOOKUP(B9,入力AA1!$B$8:$GU$58,オフセット番号A!$P$5+1)),\"*\"))","v":"内容1,14"},{"$f":"IF($F$5=1,項目表示入力!$Q$7,IF($F$5=2,IF(ISERROR(VLOOKUP(B9,入力AA1!$B$8:$GU$58,オフセット番号A!$Q$5+1))=TRUE,\"\",VLOOKUP(B9,入力AA1!$B$8:$GU$58,オフセット番号A!$Q$5+1)),\"*\"))","v":"内容1,15"},{"$f":"IF($F$5=1,項目表示入力!$R$7,IF($F$5=2,IF(ISERROR(VLOOKUP(B9,入力AA1!$B$8:$GU$58,オフセット番号A!$R$5+1))=TRUE,\"\",VLOOKUP(B9,入力AA1!$B$8:$GU$58,オフセット番号A!$R$5+1)),\"*\"))","v":"内容1,16"},{"$f":"IF($F$5=1,項目表示入力!$S$7,IF($F$5=2,IF(ISERROR(VLOOKUP(B9,入力AA1!$B$8:$GU$58,オフセット番号A!$S$5+1))=TRUE,\"\",VLOOKUP(B9,入力AA1!$B$8:$GU$58,オフセット番号A!$S$5+1)),\"*\"))","v":"内容1,17"},{"$f":"IF($F$5=1,項目表示入力!$T$7,IF($F$5=2,IF(ISERROR(VLOOKUP(B9,入力AA1!$B$8:$GU$58,オフセット番号A!$T$5+1))=TRUE,\"\",VLOOKUP(B9,入力AA1!$B$8:$GU$58,オフセット番号A!$T$5+1)),\"*\"))","v":"内容1,18"},{"$f":"IF($F$5=1,項目表示入力!$U$7,IF($F$5=2,IF(ISERROR(VLOOKUP(B9,入力AA1!$B$8:$GU$58,オフセット番号A!$U$5+1))=TRUE,\"\",VLOOKUP(B9,入力AA1!$B$8:$GU$58,オフセット番号A!$U$5+1)),\"*\"))","v":"内容1,19"},{"$f":"IF($F$5=1,項目表示入力!$V$7,IF($F$5=2,IF(ISERROR(VLOOKUP(B9,入力AA1!$B$8:$GU$58,オフセット番号A!$V$5+1))=TRUE,\"\",VLOOKUP(B9,入力AA1!$B$8:$GU$58,オフセット番号A!$V$5+1)),\"*\"))","v":"内容1,20"}]
[null,{"$f":"IF(行列入力項目!$C$6=\"\",\"\",行列入力項目!$C$6)","v":"行2"},{"$f":"IF($F$5=1,項目表示入力!$C$8,IF($F$5=2,IF(ISERROR(VLOOKUP(B9,入力AA1!$B$8:$GU$58,オフセット番号A!$C$6+1))=TRUE,\"\",VLOOKUP(B9,入力AA1!$B$8:$GU$58,オフセット番号A!$C$6+1)),\"*\"))","v":"内容2,1"},{"$f":"IF($F$5=1,項目表示入力!$D$8,IF($F$5=2,IF(ISERROR(VLOOKUP(B9,入力AA1!$B$8:$GU$58,オフセット番号A!$D$6+1))=TRUE,\"\",VLOOKUP(B9,入力AA1!$B$8:$GU$58,オフセット番号A!$D$6+1)),\"*\"))","v":"内容2,2"},{"$f":"IF($F$5=1,項目表示入力!$E$8,IF($F$5=2,IF(ISERROR(VLOOKUP(B9,入力AA1!$B$8:$GU$58,オフセット番号A!$E$6+1))=TRUE,\"\",VLOOKUP(B9,入力AA1!$B$8:$GU$58,オフセット番号A!$E$6+1)),\"*\"))","v":"内容2,3"},{"$f":"IF($F$5=1,項目表示入力!$F$8,IF($F$5=2,IF(ISERROR(VLOOKUP(B9,入力AA1!$B$8:$GU$58,オフセット番号A!$F$6+1))=TRUE,\"\",VLOOKUP(B9,入力AA1!$B$8:$GU$58,オフセット番号A!$F$6+1)),\"*\"))","v":"内容2,4"},{"$f":"IF($F$5=1,項目表示入力!$G$8,IF($F$5=2,IF(ISERROR(VLOOKUP(B9,入力AA1!$B$8:$GU$58,オフセット番号A!$G$6+1))=TRUE,\"\",VLOOKUP(B9,入力AA1!$B$8:$GU$58,オフセット番号A!$G$6+1)),\"*\"))","v":"内容2,5"},{"$f":"IF($F$5=1,項目表示入力!$H$8,IF($F$5=2,IF(ISERROR(VLOOKUP(B9,入力AA1!$B$8:$GU$58,オフセット番号A!$H$6+1))=TRUE,\"\",VLOOKUP(B9,入力AA1!$B$8:$GU$58,オフセット番号A!$H$6+1)),\"*\"))","v":"内容2,6"},{"$f":"IF($F$5=1,項目表示入力!$I$8,IF($F$5=2,IF(ISERROR(VLOOKUP(B9,入力AA1!$B$8:$GU$58,オフセット番号A!$I$6+1))=TRUE,\"\",VLOOKUP(B9,入力AA1!$B$8:$GU$58,オフセット番号A!$I$6+1)),\"*\"))","v":"内容2,7"},{"$f":"IF($F$5=1,項目表示入力!$J$8,IF($F$5=2,IF(ISERROR(VLOOKUP(B9,入力AA1!$B$8:$GU$58,オフセット番号A!$J$6+1))=TRUE,\"\",VLOOKUP(B9,入力AA1!$B$8:$GU$58,オフセット番号A!$J$6+1)),\"*\"))","v":"内容2,8"},{"$f":"IF($F$5=1,項目表示入力!$K$8,IF($F$5=2,IF(ISERROR(VLOOKUP(B9,入力AA1!$B$8:$GU$58,オフセット番号A!$K$6+1))=TRUE,\"\",VLOOKUP(B9,入力AA1!$B$8:$GU$58,オフセット番号A!$K$6+1)),\"*\"))","v":"内容2,9"},{"$f":"IF($F$5=1,項目表示入力!$L$8,IF($F$5=2,IF(ISERROR(VLOOKUP(B9,入力AA1!$B$8:$GU$58,オフセット番号A!$L$6+1))=TRUE,\"\",VLOOKUP(B9,入力AA1!$B$8:$GU$58,オフセット番号A!$L$6+1)),\"*\"))","v":"内容2,10"},{"$f":"IF($F$5=1,項目表示入力!$M$8,IF($F$5=2,IF(ISERROR(VLOOKUP(B9,入力AA1!$B$8:$GU$58,オフセット番号A!$M$6+1))=TRUE,\"\",VLOOKUP(B9,入力AA1!$B$8:$GU$58,オフセット番号A!$M$6+1)),\"*\"))","v":"内容2,11"},{"$f":"IF($F$5=1,項目表示入力!$N$8,IF($F$5=2,IF(ISERROR(VLOOKUP(B9,入力AA1!$B$8:$GU$58,オフセット番号A!$N$6+1))=TRUE,\"\",VLOOKUP(B9,入力AA1!$B$8:$GU$58,オフセット番号A!$N$6+1)),\"*\"))","v":"内容2,12"},{"$f":"IF($F$5=1,項目表示入力!$O$8,IF($F$5=2,IF(ISERROR(VLOOKUP(B9,入力AA1!$B$8:$GU$58,オフセット番号A!$O$6+1))=TRUE,\"\",VLOOKUP(B9,入力AA1!$B$8:$GU$58,オフセット番号A!$O$6+1)),\"*\"))","v":"内容2,13"},{"$f":"IF($F$5=1,項目表示入力!$P$8,IF($F$5=2,IF(ISERROR(VLOOKUP(B9,入力AA1!$B$8:$GU$58,オフセット番号A!$P$6+1))=TRUE,\"\",VLOOKUP(B9,入力AA1!$B$8:$GU$58,オフセット番号A!$P$6+1)),\"*\"))","v":"内容2,14"},{"$f":"IF($F$5=1,項目表示入力!$Q$8,IF($F$5=2,IF(ISERROR(VLOOKUP(B9,入力AA1!$B$8:$GU$58,オフセット番号A!$Q$6+1))=TRUE,\"\",VLOOKUP(B9,入力AA1!$B$8:$GU$58,オフセット番号A!$Q$6+1)),\"*\"))","v":"内容2,15"},{"$f":"IF($F$5=1,項目表示入力!$R$8,IF($F$5=2,IF(ISERROR(VLOOKUP(B9,入力AA1!$B$8:$GU$58,オフセット番号A!$R$6+1))=TRUE,\"\",VLOOKUP(B9,入力AA1!$B$8:$GU$58,オフセット番号A!$R$6+1)),\"*\"))","v":"内容2,16"},{"$f":"IF($F$5=1,項目表示入力!$S$8,IF($F$5=2,IF(ISERROR(VLOOKUP(B9,入力AA1!$B$8:$GU$58,オフセット番号A!$S$6+1))=TRUE,\"\",VLOOKUP(B9,入力AA1!$B$8:$GU$58,オフセット番号A!$S$6+1)),\"*\"))","v":"内容2,17"},{"$f":"IF($F$5=1,項目表示入力!$T$8,IF($F$5=2,IF(ISERROR(VLOOKUP(B9,入力AA1!$B$8:$GU$58,オフセット番号A!$T$6+1))=TRUE,\"\",VLOOKUP(B9,入力AA1!$B$8:$GU$58,オフセット番号A!$T$6+1)),\"*\"))","v":"内容2,18"},{"$f":"IF($F$5=1,項目表示入力!$U$8,IF($F$5=2,IF(ISERROR(VLOOKUP(B9,入力AA1!$B$8:$GU$58,オフセット番号A!$U$6+1))=TRUE,\"\",VLOOKUP(B9,入力AA1!$B$8:$GU$58,オフセット番号A!$U$6+1)),\"*\"))","v":"内容2,19"},{"$f":"IF($F$5=1,項目表示入力!$V$8,IF($F$5=2,IF(ISERROR(VLOOKUP(B9,入力AA1!$B$8:$GU$58,オフセット番号A!$V$6+1))=TRUE,\"\",VLOOKUP(B9,入力AA1!$B$8:$GU$58,オフセット番号A!$V$6+1)),\"*\"))","v":"内容2,20"}]
[null,{"$f":"IF(行列入力項目!$C$7=\"\",\"\",行列入力項目!$C$7)","v":"行3"},{"$f":"IF($F$5=1,項目表示入力!$C$9,IF($F$5=2,IF(ISERROR(VLOOKUP(B9,入力AA1!$B$8:$GU$58,オフセット番号A!$C$7+1))=TRUE,\"\",VLOOKUP(B9,入力AA1!$B$8:$GU$58,オフセット番号A!$C$7+1)),\"*\"))","v":"内容3,1"},{"$f":"IF($F$5=1,項目表示入力!$D$9,IF($F$5=2,IF(ISERROR(VLOOKUP(B9,入力AA1!$B$8:$GU$58,オフセット番号A!$D$7+1))=TRUE,\"\",VLOOKUP(B9,入力AA1!$B$8:$GU$58,オフセット番号A!$D$7+1)),\"*\"))","v":"内容3,2"},{"$f":"IF($F$5=1,項目表示入力!$E$9,IF($F$5=2,IF(ISERROR(VLOOKUP(B9,入力AA1!$B$8:$GU$58,オフセット番号A!$E$7+1))=TRUE,\"\",VLOOKUP(B9,入力AA1!$B$8:$GU$58,オフセット番号A!$E$7+1)),\"*\"))","v":"内容3,3"},{"$f":"IF($F$5=1,項目表示入力!$F$9,IF($F$5=2,IF(ISERROR(VLOOKUP(B9,入力AA1!$B$8:$GU$58,オフセット番号A!$F$7+1))=TRUE,\"\",VLOOKUP(B9,入力AA1!$B$8:$GU$58,オフセット番号A!$F$7+1)),\"*\"))","v":"内容3,4"},{"$f":"IF($F$5=1,項目表示入力!$G$9,IF($F$5=2,IF(ISERROR(VLOOKUP(B9,入力AA1!$B$8:$GU$58,オフセット番号A!$G$7+1))=TRUE,\"\",VLOOKUP(B9,入力AA1!$B$8:$GU$58,オフセット番号A!$G$7+1)),\"*\"))","v":"内容3,5"},{"$f":"IF($F$5=1,項目表示入力!$H$9,IF($F$5=2,IF(ISERROR(VLOOKUP(B9,入力AA1!$B$8:$GU$58,オフセット番号A!$H$7+1))=TRUE,\"\",VLOOKUP(B9,入力AA1!$B$8:$GU$58,オフセット番号A!$H$7+1)),\"*\"))","v":"内容3,6"},{"$f":"IF($F$5=1,項目表示入力!$I$9,IF($F$5=2,IF(ISERROR(VLOOKUP(B9,入力AA1!$B$8:$GU$58,オフセット番号A!$I$7+1))=TRUE,\"\",VLOOKUP(B9,入力AA1!$B$8:$GU$58,オフセット番号A!$I$7+1)),\"*\"))","v":"内容3,7"},{"$f":"IF($F$5=1,項目表示入力!$J$9,IF($F$5=2,IF(ISERROR(VLOOKUP(B9,入力AA1!$B$8:$GU$58,オフセット番号A!$J$7+1))=TRUE,\"\",VLOOKUP(B9,入力AA1!$B$8:$GU$58,オフセット番号A!$J$7+1)),\"*\"))","v":"内容3,8"},{"$f":"IF($F$5=1,項目表示入力!$K$9,IF($F$5=2,IF(ISERROR(VLOOKUP(B9,入力AA1!$B$8:$GU$58,オフセット番号A!$K$7+1))=TRUE,\"\",VLOOKUP(B9,入力AA1!$B$8:$GU$58,オフセット番号A!$K$7+1)),\"*\"))","v":"内容3,9"},{"$f":"IF($F$5=1,項目表示入力!$L$9,IF($F$5=2,IF(ISERROR(VLOOKUP(B9,入力AA1!$B$8:$GU$58,オフセット番号A!$L$7+1))=TRUE,\"\",VLOOKUP(B9,入力AA1!$B$8:$GU$58,オフセット番号A!$L$7+1)),\"*\"))","v":"内容3,10"},{"$f":"IF($F$5=1,項目表示入力!$M$9,IF($F$5=2,IF(ISERROR(VLOOKUP(B9,入力AA1!$B$8:$GU$58,オフセット番号A!$M$7+1))=TRUE,\"\",VLOOKUP(B9,入力AA1!$B$8:$GU$58,オフセット番号A!$M$7+1)),\"*\"))","v":"内容3,11"},{"$f":"IF($F$5=1,項目表示入力!$N$9,IF($F$5=2,IF(ISERROR(VLOOKUP(B9,入力AA1!$B$8:$GU$58,オフセット番号A!$N$7+1))=TRUE,\"\",VLOOKUP(B9,入力AA1!$B$8:$GU$58,オフセット番号A!$N$7+1)),\"*\"))","v":"内容3,12"},{"$f":"IF($F$5=1,項目表示入力!$O$9,IF($F$5=2,IF(ISERROR(VLOOKUP(B9,入力AA1!$B$8:$GU$58,オフセット番号A!$O$7+1))=TRUE,\"\",VLOOKUP(B9,入力AA1!$B$8:$GU$58,オフセット番号A!$O$7+1)),\"*\"))","v":"内容3,13"},{"$f":"IF($F$5=1,項目表示入力!$P$9,IF($F$5=2,IF(ISERROR(VLOOKUP(B9,入力AA1!$B$8:$GU$58,オフセット番号A!$P$7+1))=TRUE,\"\",VLOOKUP(B9,入力AA1!$B$8:$GU$58,オフセット番号A!$P$7+1)),\"*\"))","v":"内容3,14"},{"$f":"IF($F$5=1,項目表示入力!$Q$9,IF($F$5=2,IF(ISERROR(VLOOKUP(B9,入力AA1!$B$8:$GU$58,オフセット番号A!$Q$7+1))=TRUE,\"\",VLOOKUP(B9,入力AA1!$B$8:$GU$58,オフセット番号A!$Q$7+1)),\"*\"))","v":"内容3,15"},{"$f":"IF($F$5=1,項目表示入力!$R$9,IF($F$5=2,IF(ISERROR(VLOOKUP(B9,入力AA1!$B$8:$GU$58,オフセット番号A!$R$7+1))=TRUE,\"\",VLOOKUP(B9,入力AA1!$B$8:$GU$58,オフセット番号A!$R$7+1)),\"*\"))","v":"内容3,16"},{"$f":"IF($F$5=1,項目表示入力!$S$9,IF($F$5=2,IF(ISERROR(VLOOKUP(B9,入力AA1!$B$8:$GU$58,オフセット番号A!$S$7+1))=TRUE,\"\",VLOOKUP(B9,入力AA1!$B$8:$GU$58,オフセット番号A!$S$7+1)),\"*\"))","v":"内容3,17"},{"$f":"IF($F$5=1,項目表示入力!$T$9,IF($F$5=2,IF(ISERROR(VLOOKUP(B9,入力AA1!$B$8:$GU$58,オフセット番号A!$T$7+1))=TRUE,\"\",VLOOKUP(B9,入力AA1!$B$8:$GU$58,オフセット番号A!$T$7+1)),\"*\"))","v":"内容3,18"},{"$f":"IF($F$5=1,項目表示入力!$U$9,IF($F$5=2,IF(ISERROR(VLOOKUP(B9,入力AA1!$B$8:$GU$58,オフセット番号A!$U$7+1))=TRUE,\"\",VLOOKUP(B9,入力AA1!$B$8:$GU$58,オフセット番号A!$U$7+1)),\"*\"))","v":"内容3,19"},{"$f":"IF($F$5=1,項目表示入力!$V$9,IF($F$5=2,IF(ISERROR(VLOOKUP(B9,入力AA1!$B$8:$GU$58,オフセット番号A!$V$7+1))=TRUE,\"\",VLOOKUP(B9,入力AA1!$B$8:$GU$58,オフセット番号A!$V$7+1)),\"*\"))","v":"内容3,20"}]
[null,{"$f":"IF(行列入力項目!$C$8=\"\",\"\",行列入力項目!$C$8)","v":"行4"},{"$f":"IF($F$5=1,項目表示入力!$C$10,IF($F$5=2,IF(ISERROR(VLOOKUP(B9,入力AA1!$B$8:$GU$58,オフセット番号A!$C$8+1))=TRUE,\"\",VLOOKUP(B9,入力AA1!$B$8:$GU$58,オフセット番号A!$C$8+1)),\"*\"))","v":"内容4,1"},{"$f":"IF($F$5=1,項目表示入力!$D$10,IF($F$5=2,IF(ISERROR(VLOOKUP(B9,入力AA1!$B$8:$GU$58,オフセット番号A!$D$8+1))=TRUE,\"\",VLOOKUP(B9,入力AA1!$B$8:$GU$58,オフセット番号A!$D$8+1)),\"*\"))","v":"内容4,2"},{"$f":"IF($F$5=1,項目表示入力!$E$10,IF($F$5=2,IF(ISERROR(VLOOKUP(B9,入力AA1!$B$8:$GU$58,オフセット番号A!$E$8+1))=TRUE,\"\",VLOOKUP(B9,入力AA1!$B$8:$GU$58,オフセット番号A!$E$8+1)),\"*\"))","v":"内容4,3"},{"$f":"IF($F$5=1,項目表示入力!$F$10,IF($F$5=2,IF(ISERROR(VLOOKUP(B9,入力AA1!$B$8:$GU$58,オフセット番号A!$F$8+1))=TRUE,\"\",VLOOKUP(B9,入力AA1!$B$8:$GU$58,オフセット番号A!$F$8+1)),\"*\"))","v":"内容4,4"},{"$f":"IF($F$5=1,項目表示入力!$G$10,IF($F$5=2,IF(ISERROR(VLOOKUP(B9,入力AA1!$B$8:$GU$58,オフセット番号A!$G$8+1))=TRUE,\"\",VLOOKUP(B9,入力AA1!$B$8:$GU$58,オフセット番号A!$G$8+1)),\"*\"))","v":"内容4,5"},{"$f":"IF($F$5=1,項目表示入力!$H$10,IF($F$5=2,IF(ISERROR(VLOOKUP(B9,入力AA1!$B$8:$GU$58,オフセット番号A!$H$8+1))=TRUE,\"\",VLOOKUP(B9,入力AA1!$B$8:$GU$58,オフセット番号A!$H$8+1)),\"*\"))","v":"内容4,6"},{"$f":"IF($F$5=1,項目表示入力!$I$10,IF($F$5=2,IF(ISERROR(VLOOKUP(B9,入力AA1!$B$8:$GU$58,オフセット番号A!$I$8+1))=TRUE,\"\",VLOOKUP(B9,入力AA1!$B$8:$GU$58,オフセット番号A!$I$8+1)),\"*\"))","v":"内容4,7"},{"$f":"IF($F$5=1,項目表示入力!$J$10,IF($F$5=2,IF(ISERROR(VLOOKUP(B9,入力AA1!$B$8:$GU$58,オフセット番号A!$J$8+1))=TRUE,\"\",VLOOKUP(B9,入力AA1!$B$8:$GU$58,オフセット番号A!$J$8+1)),\"*\"))","v":"内容4,8"},{"$f":"IF($F$5=1,項目表示入力!$K$10,IF($F$5=2,IF(ISERROR(VLOOKUP(B9,入力AA1!$B$8:$GU$58,オフセット番号A!$K$8+1))=TRUE,\"\",VLOOKUP(B9,入力AA1!$B$8:$GU$58,オフセット番号A!$K$8+1)),\"*\"))","v":"内容4,9"},{"$f":"IF($F$5=1,項目表示入力!$L$10,IF($F$5=2,IF(ISERROR(VLOOKUP(B9,入力AA1!$B$8:$GU$58,オフセット番号A!$L$8+1))=TRUE,\"\",VLOOKUP(B9,入力AA1!$B$8:$GU$58,オフセット番号A!$L$8+1)),\"*\"))","v":"内容4,10"},{"$f":"IF($F$5=1,項目表示入力!$M$10,IF($F$5=2,IF(ISERROR(VLOOKUP(B9,入力AA1!$B$8:$GU$58,オフセット番号A!$M$8+1))=TRUE,\"\",VLOOKUP(B9,入力AA1!$B$8:$GU$58,オフセット番号A!$M$8+1)),\"*\"))","v":"内容4,11"},{"$f":"IF($F$5=1,項目表示入力!$N$10,IF($F$5=2,IF(ISERROR(VLOOKUP(B9,入力AA1!$B$8:$GU$58,オフセット番号A!$N$8+1))=TRUE,\"\",VLOOKUP(B9,入力AA1!$B$8:$GU$58,オフセット番号A!$N$8+1)),\"*\"))","v":"内容4,12"},{"$f":"IF($F$5=1,項目表示入力!$O$10,IF($F$5=2,IF(ISERROR(VLOOKUP(B9,入力AA1!$B$8:$GU$58,オフセット番号A!$O$8+1))=TRUE,\"\",VLOOKUP(B9,入力AA1!$B$8:$GU$58,オフセット番号A!$O$8+1)),\"*\"))","v":"内容4,13"},{"$f":"IF($F$5=1,項目表示入力!$P$10,IF($F$5=2,IF(ISERROR(VLOOKUP(B9,入力AA1!$B$8:$GU$58,オフセット番号A!$P$8+1))=TRUE,\"\",VLOOKUP(B9,入力AA1!$B$8:$GU$58,オフセット番号A!$P$8+1)),\"*\"))","v":"内容4,14"},{"$f":"IF($F$5=1,項目表示入力!$Q$10,IF($F$5=2,IF(ISERROR(VLOOKUP(B9,入力AA1!$B$8:$GU$58,オフセット番号A!$Q$8+1))=TRUE,\"\",VLOOKUP(B9,入力AA1!$B$8:$GU$58,オフセット番号A!$Q$8+1)),\"*\"))","v":"内容4,15"},{"$f":"IF($F$5=1,項目表示入力!$R$10,IF($F$5=2,IF(ISERROR(VLOOKUP(B9,入力AA1!$B$8:$GU$58,オフセット番号A!$R$8+1))=TRUE,\"\",VLOOKUP(B9,入力AA1!$B$8:$GU$58,オフセット番号A!$R$8+1)),\"*\"))","v":"内容4,16"},{"$f":"IF($F$5=1,項目表示入力!$S$10,IF($F$5=2,IF(ISERROR(VLOOKUP(B9,入力AA1!$B$8:$GU$58,オフセット番号A!$S$8+1))=TRUE,\"\",VLOOKUP(B9,入力AA1!$B$8:$GU$58,オフセット番号A!$S$8+1)),\"*\"))","v":"内容4,17"},{"$f":"IF($F$5=1,項目表示入力!$T$10,IF($F$5=2,IF(ISERROR(VLOOKUP(B9,入力AA1!$B$8:$GU$58,オフセット番号A!$T$8+1))=TRUE,\"\",VLOOKUP(B9,入力AA1!$B$8:$GU$58,オフセット番号A!$T$8+1)),\"*\"))","v":"内容4,18"},{"$f":"IF($F$5=1,項目表示入力!$U$10,IF($F$5=2,IF(ISERROR(VLOOKUP(B9,入力AA1!$B$8:$GU$58,オフセット番号A!$U$8+1))=TRUE,\"\",VLOOKUP(B9,入力AA1!$B$8:$GU$58,オフセット番号A!$U$8+1)),\"*\"))","v":"内容4,19"},{"$f":"IF($F$5=1,項目表示入力!$V$10,IF($F$5=2,IF(ISERROR(VLOOKUP(B9,入力AA1!$B$8:$GU$58,オフセット番号A!$V$8+1))=TRUE,\"\",VLOOKUP(B9,入力AA1!$B$8:$GU$58,オフセット番号A!$V$8+1)),\"*\"))","v":"内容4,20"}]
[null,{"$f":"IF(行列入力項目!$C$9=\"\",\"\",行列入力項目!$C$9)","v":"行5"},{"$f":"IF($F$5=1,項目表示入力!$C$11,IF($F$5=2,IF(ISERROR(VLOOKUP(B9,入力AA1!$B$8:$GU$58,オフセット番号A!$C$9+1))=TRUE,\"\",VLOOKUP(B9,入力AA1!$B$8:$GU$58,オフセット番号A!$C$9+1)),\"*\"))","v":"内容5,1"},{"$f":"IF($F$5=1,項目表示入力!$D$11,IF($F$5=2,IF(ISERROR(VLOOKUP(B9,入力AA1!$B$8:$GU$58,オフセット番号A!$D$9+1))=TRUE,\"\",VLOOKUP(B9,入力AA1!$B$8:$GU$58,オフセット番号A!$D$9+1)),\"*\"))","v":"内容5,2"},{"$f":"IF($F$5=1,項目表示入力!$E$11,IF($F$5=2,IF(ISERROR(VLOOKUP(B9,入力AA1!$B$8:$GU$58,オフセット番号A!$E$9+1))=TRUE,\"\",VLOOKUP(B9,入力AA1!$B$8:$GU$58,オフセット番号A!$E$9+1)),\"*\"))","v":"内容5,3"},{"$f":"IF($F$5=1,項目表示入力!$F$11,IF($F$5=2,IF(ISERROR(VLOOKUP(B9,入力AA1!$B$8:$GU$58,オフセット番号A!$F$9+1))=TRUE,\"\",VLOOKUP(B9,入力AA1!$B$8:$GU$58,オフセット番号A!$F$9+1)),\"*\"))","v":"内容5,4"},{"$f":"IF($F$5=1,項目表示入力!$G$11,IF($F$5=2,IF(ISERROR(VLOOKUP(B9,入力AA1!$B$8:$GU$58,オフセット番号A!$G$9+1))=TRUE,\"\",VLOOKUP(B9,入力AA1!$B$8:$GU$58,オフセット番号A!$G$9+1)),\"*\"))","v":"内容5,5"},{"$f":"IF($F$5=1,項目表示入力!$H$11,IF($F$5=2,IF(ISERROR(VLOOKUP(B9,入力AA1!$B$8:$GU$58,オフセット番号A!$H$9+1))=TRUE,\"\",VLOOKUP(B9,入力AA1!$B$8:$GU$58,オフセット番号A!$H$9+1)),\"*\"))","v":"内容5,6"},{"$f":"IF($F$5=1,項目表示入力!$I$11,IF($F$5=2,IF(ISERROR(VLOOKUP(B9,入力AA1!$B$8:$GU$58,オフセット番号A!$I$9+1))=TRUE,\"\",VLOOKUP(B9,入力AA1!$B$8:$GU$58,オフセット番号A!$I$9+1)),\"*\"))","v":"内容5,7"},{"$f":"IF($F$5=1,項目表示入力!$J$11,IF($F$5=2,IF(ISERROR(VLOOKUP(B9,入力AA1!$B$8:$GU$58,オフセット番号A!$J$9+1))=TRUE,\"\",VLOOKUP(B9,入力AA1!$B$8:$GU$58,オフセット番号A!$J$9+1)),\"*\"))","v":"内容5,8"},{"$f":"IF($F$5=1,項目表示入力!$K$11,IF($F$5=2,IF(ISERROR(VLOOKUP(B9,入力AA1!$B$8:$GU$58,オフセット番号A!$K$9+1))=TRUE,\"\",VLOOKUP(B9,入力AA1!$B$8:$GU$58,オフセット番号A!$K$9+1)),\"*\"))","v":"内容5,9"},{"$f":"IF($F$5=1,項目表示入力!$L$11,IF($F$5=2,IF(ISERROR(VLOOKUP(B9,入力AA1!$B$8:$GU$58,オフセット番号A!$L$9+1))=TRUE,\"\",VLOOKUP(B9,入力AA1!$B$8:$GU$58,オフセット番号A!$L$9+1)),\"*\"))","v":"内容5,10"},{"$f":"IF($F$5=1,項目表示入力!$M$11,IF($F$5=2,IF(ISERROR(VLOOKUP(B9,入力AA1!$B$8:$GU$58,オフセット番号A!$M$9+1))=TRUE,\"\",VLOOKUP(B9,入力AA1!$B$8:$GU$58,オフセット番号A!$M$9+1)),\"*\"))","v":"内容5,11"},{"$f":"IF($F$5=1,項目表示入力!$N$11,IF($F$5=2,IF(ISERROR(VLOOKUP(B9,入力AA1!$B$8:$GU$58,オフセット番号A!$N$9+1))=TRUE,\"\",VLOOKUP(B9,入力AA1!$B$8:$GU$58,オフセット番号A!$N$9+1)),\"*\"))","v":"内容5,12"},{"$f":"IF($F$5=1,項目表示入力!$O$11,IF($F$5=2,IF(ISERROR(VLOOKUP(B9,入力AA1!$B$8:$GU$58,オフセット番号A!$O$9+1))=TRUE,\"\",VLOOKUP(B9,入力AA1!$B$8:$GU$58,オフセット番号A!$O$9+1)),\"*\"))","v":"内容5,13"},{"$f":"IF($F$5=1,項目表示入力!$P$11,IF($F$5=2,IF(ISERROR(VLOOKUP(B9,入力AA1!$B$8:$GU$58,オフセット番号A!$P$9+1))=TRUE,\"\",VLOOKUP(B9,入力AA1!$B$8:$GU$58,オフセット番号A!$P$9+1)),\"*\"))","v":"内容5,14"},{"$f":"IF($F$5=1,項目表示入力!$Q$11,IF($F$5=2,IF(ISERROR(VLOOKUP(B9,入力AA1!$B$8:$GU$58,オフセット番号A!$Q$9+1))=TRUE,\"\",VLOOKUP(B9,入力AA1!$B$8:$GU$58,オフセット番号A!$Q$9+1)),\"*\"))","v":"内容5,15"},{"$f":"IF($F$5=1,項目表示入力!$R$11,IF($F$5=2,IF(ISERROR(VLOOKUP(B9,入力AA1!$B$8:$GU$58,オフセット番号A!$R$9+1))=TRUE,\"\",VLOOKUP(B9,入力AA1!$B$8:$GU$58,オフセット番号A!$R$9+1)),\"*\"))","v":"内容5,16"},{"$f":"IF($F$5=1,項目表示入力!$S$11,IF($F$5=2,IF(ISERROR(VLOOKUP(B9,入力AA1!$B$8:$GU$58,オフセット番号A!$S$9+1))=TRUE,\"\",VLOOKUP(B9,入力AA1!$B$8:$GU$58,オフセット番号A!$S$9+1)),\"*\"))","v":"内容5,17"},{"$f":"IF($F$5=1,項目表示入力!$T$11,IF($F$5=2,IF(ISERROR(VLOOKUP(B9,入力AA1!$B$8:$GU$58,オフセット番号A!$T$9+1))=TRUE,\"\",VLOOKUP(B9,入力AA1!$B$8:$GU$58,オフセット番号A!$T$9+1)),\"*\"))","v":"内容5,18"},{"$f":"IF($F$5=1,項目表示入力!$U$11,IF($F$5=2,IF(ISERROR(VLOOKUP(B9,入力AA1!$B$8:$GU$58,オフセット番号A!$U$9+1))=TRUE,\"\",VLOOKUP(B9,入力AA1!$B$8:$GU$58,オフセット番号A!$U$9+1)),\"*\"))","v":"内容5,19"},{"$f":"IF($F$5=1,項目表示入力!$V$11,IF($F$5=2,IF(ISERROR(VLOOKUP(B9,入力AA1!$B$8:$GU$58,オフセット番号A!$V$9+1))=TRUE,\"\",VLOOKUP(B9,入力AA1!$B$8:$GU$58,オフセット番号A!$V$9+1)),\"*\"))","v":"内容5,20"}]
[null,{"$f":"IF(行列入力項目!$C$10=\"\",\"\",行列入力項目!$C$10)","v":"行6"},{"$f":"IF($F$5=1,項目表示入力!$C$12,IF($F$5=2,IF(ISERROR(VLOOKUP(B9,入力AA1!$B$8:$GU$58,オフセット番号A!$C$10+1))=TRUE,\"\",VLOOKUP(B9,入力AA1!$B$8:$GU$58,オフセット番号A!$C$10+1)),\"*\"))","v":"内容6,1"},{"$f":"IF($F$5=1,項目表示入力!$D$12,IF($F$5=2,IF(ISERROR(VLOOKUP(B9,入力AA1!$B$8:$GU$58,オフセット番号A!$D$10+1))=TRUE,\"\",VLOOKUP(B9,入力AA1!$B$8:$GU$58,オフセット番号A!$D$10+1)),\"*\"))","v":"内容6,2"},{"$f":"IF($F$5=1,項目表示入力!$E$12,IF($F$5=2,IF(ISERROR(VLOOKUP(B9,入力AA1!$B$8:$GU$58,オフセット番号A!$E$10+1))=TRUE,\"\",VLOOKUP(B9,入力AA1!$B$8:$GU$58,オフセット番号A!$E$10+1)),\"*\"))","v":"内容6,3"},{"$f":"IF($F$5=1,項目表示入力!$F$12,IF($F$5=2,IF(ISERROR(VLOOKUP(B9,入力AA1!$B$8:$GU$58,オフセット番号A!$F$10+1))=TRUE,\"\",VLOOKUP(B9,入力AA1!$B$8:$GU$58,オフセット番号A!$F$10+1)),\"*\"))","v":"内容6,4"},{"$f":"IF($F$5=1,項目表示入力!$G$12,IF($F$5=2,IF(ISERROR(VLOOKUP(B9,入力AA1!$B$8:$GU$58,オフセット番号A!$G$10+1))=TRUE,\"\",VLOOKUP(B9,入力AA1!$B$8:$GU$58,オフセット番号A!$G$10+1)),\"*\"))","v":"内容6,5"},{"$f":"IF($F$5=1,項目表示入力!$H$12,IF($F$5=2,IF(ISERROR(VLOOKUP(B9,入力AA1!$B$8:$GU$58,オフセット番号A!$H$10+1))=TRUE,\"\",VLOOKUP(B9,入力AA1!$B$8:$GU$58,オフセット番号A!$H$10+1)),\"*\"))","v":"内容6,6"},{"$f":"IF($F$5=1,項目表示入力!$I$12,IF($F$5=2,IF(ISERROR(VLOOKUP(B9,入力AA1!$B$8:$GU$58,オフセット番号A!$I$10+1))=TRUE,\"\",VLOOKUP(B9,入力AA1!$B$8:$GU$58,オフセット番号A!$I$10+1)),\"*\"))","v":"内容6,7"},{"$f":"IF($F$5=1,項目表示入力!$J$12,IF($F$5=2,IF(ISERROR(VLOOKUP(B9,入力AA1!$B$8:$GU$58,オフセット番号A!$J$10+1))=TRUE,\"\",VLOOKUP(B9,入力AA1!$B$8:$GU$58,オフセット番号A!$J$10+1)),\"*\"))","v":"内容6,8"},{"$f":"IF($F$5=1,項目表示入力!$K$12,IF($F$5=2,IF(ISERROR(VLOOKUP(B9,入力AA1!$B$8:$GU$58,オフセット番号A!$K$10+1))=TRUE,\"\",VLOOKUP(B9,入力AA1!$B$8:$GU$58,オフセット番号A!$K$10+1)),\"*\"))","v":"内容6,9"},{"$f":"IF($F$5=1,項目表示入力!$L$12,IF($F$5=2,IF(ISERROR(VLOOKUP(B9,入力AA1!$B$8:$GU$58,オフセット番号A!$L$10+1))=TRUE,\"\",VLOOKUP(B9,入力AA1!$B$8:$GU$58,オフセット番号A!$L$10+1)),\"*\"))","v":"内容6,10"},{"$f":"IF($F$5=1,項目表示入力!$M$12,IF($F$5=2,IF(ISERROR(VLOOKUP(B9,入力AA1!$B$8:$GU$58,オフセット番号A!$M$10+1))=TRUE,\"\",VLOOKUP(B9,入力AA1!$B$8:$GU$58,オフセット番号A!$M$10+1)),\"*\"))","v":"内容6,11"},{"$f":"IF($F$5=1,項目表示入力!$N$12,IF($F$5=2,IF(ISERROR(VLOOKUP(B9,入力AA1!$B$8:$GU$58,オフセット番号A!$N$10+1))=TRUE,\"\",VLOOKUP(B9,入力AA1!$B$8:$GU$58,オフセット番号A!$N$10+1)),\"*\"))","v":"内容6,12"},{"$f":"IF($F$5=1,項目表示入力!$O$12,IF($F$5=2,IF(ISERROR(VLOOKUP(B9,入力AA1!$B$8:$GU$58,オフセット番号A!$O$10+1))=TRUE,\"\",VLOOKUP(B9,入力AA1!$B$8:$GU$58,オフセット番号A!$O$10+1)),\"*\"))","v":"内容6,13"},{"$f":"IF($F$5=1,項目表示入力!$P$12,IF($F$5=2,IF(ISERROR(VLOOKUP(B9,入力AA1!$B$8:$GU$58,オフセット番号A!$P$10+1))=TRUE,\"\",VLOOKUP(B9,入力AA1!$B$8:$GU$58,オフセット番号A!$P$10+1)),\"*\"))","v":"内容6,14"},{"$f":"IF($F$5=1,項目表示入力!$Q$12,IF($F$5=2,IF(ISERROR(VLOOKUP(B9,入力AA1!$B$8:$GU$58,オフセット番号A!$Q$10+1))=TRUE,\"\",VLOOKUP(B9,入力AA1!$B$8:$GU$58,オフセット番号A!$Q$10+1)),\"*\"))","v":"内容6,15"},{"$f":"IF($F$5=1,項目表示入力!$R$12,IF($F$5=2,IF(ISERROR(VLOOKUP(B9,入力AA1!$B$8:$GU$58,オフセット番号A!$R$10+1))=TRUE,\"\",VLOOKUP(B9,入力AA1!$B$8:$GU$58,オフセット番号A!$R$10+1)),\"*\"))","v":"内容6,16"},{"$f":"IF($F$5=1,項目表示入力!$S$12,IF($F$5=2,IF(ISERROR(VLOOKUP(B9,入力AA1!$B$8:$GU$58,オフセット番号A!$S$10+1))=TRUE,\"\",VLOOKUP(B9,入力AA1!$B$8:$GU$58,オフセット番号A!$S$10+1)),\"*\"))","v":"内容6,17"},{"$f":"IF($F$5=1,項目表示入力!$T$12,IF($F$5=2,IF(ISERROR(VLOOKUP(B9,入力AA1!$B$8:$GU$58,オフセット番号A!$T$10+1))=TRUE,\"\",VLOOKUP(B9,入力AA1!$B$8:$GU$58,オフセット番号A!$T$10+1)),\"*\"))","v":"内容6,18"},{"$f":"IF($F$5=1,項目表示入力!$U$12,IF($F$5=2,IF(ISERROR(VLOOKUP(B9,入力AA1!$B$8:$GU$58,オフセット番号A!$U$10+1))=TRUE,\"\",VLOOKUP(B9,入力AA1!$B$8:$GU$58,オフセット番号A!$U$10+1)),\"*\"))","v":"内容6,19"},{"$f":"IF($F$5=1,項目表示入力!$V$12,IF($F$5=2,IF(ISERROR(VLOOKUP(B9,入力AA1!$B$8:$GU$58,オフセット番号A!$V$10+1))=TRUE,\"\",VLOOKUP(B9,入力AA1!$B$8:$GU$58,オフセット番号A!$V$10+1)),\"*\"))","v":"内容6,20"}]
[null,{"$f":"IF(行列入力項目!$C$11=\"\",\"\",行列入力項目!$C$11)","v":"行7"},{"$f":"IF($F$5=1,項目表示入力!$C$13,IF($F$5=2,IF(ISERROR(VLOOKUP(B9,入力AA1!$B$8:$GU$58,オフセット番号A!$C$11+1))=TRUE,\"\",VLOOKUP(B9,入力AA1!$B$8:$GU$58,オフセット番号A!$C$11+1)),\"*\"))","v":"内容7,1"},{"$f":"IF($F$5=1,項目表示入力!$D$13,IF($F$5=2,IF(ISERROR(VLOOKUP(B9,入力AA1!$B$8:$GU$58,オフセット番号A!$D$11+1))=TRUE,\"\",VLOOKUP(B9,入力AA1!$B$8:$GU$58,オフセット番号A!$D$11+1)),\"*\"))","v":"内容7,2"},{"$f":"IF($F$5=1,項目表示入力!$E$13,IF($F$5=2,IF(ISERROR(VLOOKUP(B9,入力AA1!$B$8:$GU$58,オフセット番号A!$E$11+1))=TRUE,\"\",VLOOKUP(B9,入力AA1!$B$8:$GU$58,オフセット番号A!$E$11+1)),\"*\"))","v":"内容7,3"},{"$f":"IF($F$5=1,項目表示入力!$F$13,IF($F$5=2,IF(ISERROR(VLOOKUP(B9,入力AA1!$B$8:$GU$58,オフセット番号A!$F$11+1))=TRUE,\"\",VLOOKUP(B9,入力AA1!$B$8:$GU$58,オフセット番号A!$F$11+1)),\"*\"))","v":"内容7,4"},{"$f":"IF($F$5=1,項目表示入力!$G$13,IF($F$5=2,IF(ISERROR(VLOOKUP(B9,入力AA1!$B$8:$GU$58,オフセット番号A!$G$11+1))=TRUE,\"\",VLOOKUP(B9,入力AA1!$B$8:$GU$58,オフセット番号A!$G$11+1)),\"*\"))","v":"内容7,5"},{"$f":"IF($F$5=1,項目表示入力!$H$13,IF($F$5=2,IF(ISERROR(VLOOKUP(B9,入力AA1!$B$8:$GU$58,オフセット番号A!$H$11+1))=TRUE,\"\",VLOOKUP(B9,入力AA1!$B$8:$GU$58,オフセット番号A!$H$11+1)),\"*\"))","v":"内容7,6"},{"$f":"IF($F$5=1,項目表示入力!$I$13,IF($F$5=2,IF(ISERROR(VLOOKUP(B9,入力AA1!$B$8:$GU$58,オフセット番号A!$I$11+1))=TRUE,\"\",VLOOKUP(B9,入力AA1!$B$8:$GU$58,オフセット番号A!$I$11+1)),\"*\"))","v":"内容7,7"},{"$f":"IF($F$5=1,項目表示入力!$J$13,IF($F$5=2,IF(ISERROR(VLOOKUP(B9,入力AA1!$B$8:$GU$58,オフセット番号A!$J$11+1))=TRUE,\"\",VLOOKUP(B9,入力AA1!$B$8:$GU$58,オフセット番号A!$J$11+1)),\"*\"))","v":"内容7,8"},{"$f":"IF($F$5=1,項目表示入力!$K$13,IF($F$5=2,IF(ISERROR(VLOOKUP(B9,入力AA1!$B$8:$GU$58,オフセット番号A!$K$11+1))=TRUE,\"\",VLOOKUP(B9,入力AA1!$B$8:$GU$58,オフセット番号A!$K$11+1)),\"*\"))","v":"内容7,9"},{"$f":"IF($F$5=1,項目表示入力!$L$13,IF($F$5=2,IF(ISERROR(VLOOKUP(B9,入力AA1!$B$8:$GU$58,オフセット番号A!$L$11+1))=TRUE,\"\",VLOOKUP(B9,入力AA1!$B$8:$GU$58,オフセット番号A!$L$11+1)),\"*\"))","v":"内容7,10"},{"$f":"IF($F$5=1,項目表示入力!$M$13,IF($F$5=2,IF(ISERROR(VLOOKUP(B9,入力AA1!$B$8:$GU$58,オフセット番号A!$M$11+1))=TRUE,\"\",VLOOKUP(B9,入力AA1!$B$8:$GU$58,オフセット番号A!$M$11+1)),\"*\"))","v":"内容7,11"},{"$f":"IF($F$5=1,項目表示入力!$N$13,IF($F$5=2,IF(ISERROR(VLOOKUP(B9,入力AA1!$B$8:$GU$58,オフセット番号A!$N$11+1))=TRUE,\"\",VLOOKUP(B9,入力AA1!$B$8:$GU$58,オフセット番号A!$N$11+1)),\"*\"))","v":"内容7,12"},{"$f":"IF($F$5=1,項目表示入力!$O$13,IF($F$5=2,IF(ISERROR(VLOOKUP(B9,入力AA1!$B$8:$GU$58,オフセット番号A!$O$11+1))=TRUE,\"\",VLOOKUP(B9,入力AA1!$B$8:$GU$58,オフセット番号A!$O$11+1)),\"*\"))","v":"内容7,13"},{"$f":"IF($F$5=1,項目表示入力!$P$13,IF($F$5=2,IF(ISERROR(VLOOKUP(B9,入力AA1!$B$8:$GU$58,オフセット番号A!$P$11+1))=TRUE,\"\",VLOOKUP(B9,入力AA1!$B$8:$GU$58,オフセット番号A!$P$11+1)),\"*\"))","v":"内容7,14"},{"$f":"IF($F$5=1,項目表示入力!$Q$13,IF($F$5=2,IF(ISERROR(VLOOKUP(B9,入力AA1!$B$8:$GU$58,オフセット番号A!$Q$11+1))=TRUE,\"\",VLOOKUP(B9,入力AA1!$B$8:$GU$58,オフセット番号A!$Q$11+1)),\"*\"))","v":"内容7,15"},{"$f":"IF($F$5=1,項目表示入力!$R$13,IF($F$5=2,IF(ISERROR(VLOOKUP(B9,入力AA1!$B$8:$GU$58,オフセット番号A!$R$11+1))=TRUE,\"\",VLOOKUP(B9,入力AA1!$B$8:$GU$58,オフセット番号A!$R$11+1)),\"*\"))","v":"内容7,16"},{"$f":"IF($F$5=1,項目表示入力!$S$13,IF($F$5=2,IF(ISERROR(VLOOKUP(B9,入力AA1!$B$8:$GU$58,オフセット番号A!$S$11+1))=TRUE,\"\",VLOOKUP(B9,入力AA1!$B$8:$GU$58,オフセット番号A!$S$11+1)),\"*\"))","v":"内容7,17"},{"$f":"IF($F$5=1,項目表示入力!$T$13,IF($F$5=2,IF(ISERROR(VLOOKUP(B9,入力AA1!$B$8:$GU$58,オフセット番号A!$T$11+1))=TRUE,\"\",VLOOKUP(B9,入力AA1!$B$8:$GU$58,オフセット番号A!$T$11+1)),\"*\"))","v":"内容7,18"},{"$f":"IF($F$5=1,項目表示入力!$U$13,IF($F$5=2,IF(ISERROR(VLOOKUP(B9,入力AA1!$B$8:$GU$58,オフセット番号A!$U$11+1))=TRUE,\"\",VLOOKUP(B9,入力AA1!$B$8:$GU$58,オフセット番号A!$U$11+1)),\"*\"))","v":"内容7,19"},{"$f":"IF($F$5=1,項目表示入力!$V$13,IF($F$5=2,IF(ISERROR(VLOOKUP(B9,入力AA1!$B$8:$GU$58,オフセット番号A!$V$11+1))=TRUE,\"\",VLOOKUP(B9,入力AA1!$B$8:$GU$58,オフセット番号A!$V$11+1)),\"*\"))","v":"内容7,20"}]
[null,{"$f":"IF(行列入力項目!$C$12=\"\",\"\",行列入力項目!$C$12)","v":"行8"},{"$f":"IF($F$5=1,項目表示入力!$C$14,IF($F$5=2,IF(ISERROR(VLOOKUP(B9,入力AA1!$B$8:$GU$58,オフセット番号A!$C$12+1))=TRUE,\"\",VLOOKUP(B9,入力AA1!$B$8:$GU$58,オフセット番号A!$C$12+1)),\"*\"))","v":"内容8,1"},{"$f":"IF($F$5=1,項目表示入力!$D$14,IF($F$5=2,IF(ISERROR(VLOOKUP(B9,入力AA1!$B$8:$GU$58,オフセット番号A!$D$12+1))=TRUE,\"\",VLOOKUP(B9,入力AA1!$B$8:$GU$58,オフセット番号A!$D$12+1)),\"*\"))","v":"内容8,2"},{"$f":"IF($F$5=1,項目表示入力!$E$14,IF($F$5=2,IF(ISERROR(VLOOKUP(B9,入力AA1!$B$8:$GU$58,オフセット番号A!$E$12+1))=TRUE,\"\",VLOOKUP(B9,入力AA1!$B$8:$GU$58,オフセット番号A!$E$12+1)),\"*\"))","v":"内容8,3"},{"$f":"IF($F$5=1,項目表示入力!$F$14,IF($F$5=2,IF(ISERROR(VLOOKUP(B9,入力AA1!$B$8:$GU$58,オフセット番号A!$F$12+1))=TRUE,\"\",VLOOKUP(B9,入力AA1!$B$8:$GU$58,オフセット番号A!$F$12+1)),\"*\"))","v":"内容8,4"},{"$f":"IF($F$5=1,項目表示入力!$G$14,IF($F$5=2,IF(ISERROR(VLOOKUP(B9,入力AA1!$B$8:$GU$58,オフセット番号A!$G$12+1))=TRUE,\"\",VLOOKUP(B9,入力AA1!$B$8:$GU$58,オフセット番号A!$G$12+1)),\"*\"))","v":"内容8,5"},{"$f":"IF($F$5=1,項目表示入力!$H$14,IF($F$5=2,IF(ISERROR(VLOOKUP(B9,入力AA1!$B$8:$GU$58,オフセット番号A!$H$12+1))=TRUE,\"\",VLOOKUP(B9,入力AA1!$B$8:$GU$58,オフセット番号A!$H$12+1)),\"*\"))","v":"内容8,6"},{"$f":"IF($F$5=1,項目表示入力!$I$14,IF($F$5=2,IF(ISERROR(VLOOKUP(B9,入力AA1!$B$8:$GU$58,オフセット番号A!$I$12+1))=TRUE,\"\",VLOOKUP(B9,入力AA1!$B$8:$GU$58,オフセット番号A!$I$12+1)),\"*\"))","v":"内容8,7"},{"$f":"IF($F$5=1,項目表示入力!$J$14,IF($F$5=2,IF(ISERROR(VLOOKUP(B9,入力AA1!$B$8:$GU$58,オフセット番号A!$J$12+1))=TRUE,\"\",VLOOKUP(B9,入力AA1!$B$8:$GU$58,オフセット番号A!$J$12+1)),\"*\"))","v":"内容8,8"},{"$f":"IF($F$5=1,項目表示入力!$K$14,IF($F$5=2,IF(ISERROR(VLOOKUP(B9,入力AA1!$B$8:$GU$58,オフセット番号A!$K$12+1))=TRUE,\"\",VLOOKUP(B9,入力AA1!$B$8:$GU$58,オフセット番号A!$K$12+1)),\"*\"))","v":"内容8,9"},{"$f":"IF($F$5=1,項目表示入力!$L$14,IF($F$5=2,IF(ISERROR(VLOOKUP(B9,入力AA1!$B$8:$GU$58,オフセット番号A!$L$12+1))=TRUE,\"\",VLOOKUP(B9,入力AA1!$B$8:$GU$58,オフセット番号A!$L$12+1)),\"*\"))","v":"内容8,10"},{"$f":"IF($F$5=1,項目表示入力!$M$14,IF($F$5=2,IF(ISERROR(VLOOKUP(B9,入力AA1!$B$8:$GU$58,オフセット番号A!$M$12+1))=TRUE,\"\",VLOOKUP(B9,入力AA1!$B$8:$GU$58,オフセット番号A!$M$12+1)),\"*\"))","v":"内容8,11"},{"$f":"IF($F$5=1,項目表示入力!$N$14,IF($F$5=2,IF(ISERROR(VLOOKUP(B9,入力AA1!$B$8:$GU$58,オフセット番号A!$N$12+1))=TRUE,\"\",VLOOKUP(B9,入力AA1!$B$8:$GU$58,オフセット番号A!$N$12+1)),\"*\"))","v":"内容8,12"},{"$f":"IF($F$5=1,項目表示入力!$O$14,IF($F$5=2,IF(ISERROR(VLOOKUP(B9,入力AA1!$B$8:$GU$58,オフセット番号A!$O$12+1))=TRUE,\"\",VLOOKUP(B9,入力AA1!$B$8:$GU$58,オフセット番号A!$O$12+1)),\"*\"))","v":"内容8,13"},{"$f":"IF($F$5=1,項目表示入力!$P$14,IF($F$5=2,IF(ISERROR(VLOOKUP(B9,入力AA1!$B$8:$GU$58,オフセット番号A!$P$12+1))=TRUE,\"\",VLOOKUP(B9,入力AA1!$B$8:$GU$58,オフセット番号A!$P$12+1)),\"*\"))","v":"内容8,14"},{"$f":"IF($F$5=1,項目表示入力!$Q$14,IF($F$5=2,IF(ISERROR(VLOOKUP(B9,入力AA1!$B$8:$GU$58,オフセット番号A!$Q$12+1))=TRUE,\"\",VLOOKUP(B9,入力AA1!$B$8:$GU$58,オフセット番号A!$Q$12+1)),\"*\"))","v":"内容8,15"},{"$f":"IF($F$5=1,項目表示入力!$R$14,IF($F$5=2,IF(ISERROR(VLOOKUP(B9,入力AA1!$B$8:$GU$58,オフセット番号A!$R$12+1))=TRUE,\"\",VLOOKUP(B9,入力AA1!$B$8:$GU$58,オフセット番号A!$R$12+1)),\"*\"))","v":"内容8,16"},{"$f":"IF($F$5=1,項目表示入力!$S$14,IF($F$5=2,IF(ISERROR(VLOOKUP(B9,入力AA1!$B$8:$GU$58,オフセット番号A!$S$12+1))=TRUE,\"\",VLOOKUP(B9,入力AA1!$B$8:$GU$58,オフセット番号A!$S$12+1)),\"*\"))","v":"内容8,17"},{"$f":"IF($F$5=1,項目表示入力!$T$14,IF($F$5=2,IF(ISERROR(VLOOKUP(B9,入力AA1!$B$8:$GU$58,オフセット番号A!$T$12+1))=TRUE,\"\",VLOOKUP(B9,入力AA1!$B$8:$GU$58,オフセット番号A!$T$12+1)),\"*\"))","v":"内容8,18"},{"$f":"IF($F$5=1,項目表示入力!$U$14,IF($F$5=2,IF(ISERROR(VLOOKUP(B9,入力AA1!$B$8:$GU$58,オフセット番号A!$U$12+1))=TRUE,\"\",VLOOKUP(B9,入力AA1!$B$8:$GU$58,オフセット番号A!$U$12+1)),\"*\"))","v":"内容8,19"},{"$f":"IF($F$5=1,項目表示入力!$V$14,IF($F$5=2,IF(ISERROR(VLOOKUP(B9,入力AA1!$B$8:$GU$58,オフセット番号A!$V$12+1))=TRUE,\"\",VLOOKUP(B9,入力AA1!$B$8:$GU$58,オフセット番号A!$V$12+1)),\"*\"))","v":"内容8,20"}]
[null,{"$f":"IF(行列入力項目!$C$13=\"\",\"\",行列入力項目!$C$13)","v":"行9"},{"$f":"IF($F$5=1,項目表示入力!$C$15,IF($F$5=2,IF(ISERROR(VLOOKUP(B9,入力AA1!$B$8:$GU$58,オフセット番号A!$C$13+1))=TRUE,\"\",VLOOKUP(B9,入力AA1!$B$8:$GU$58,オフセット番号A!$C$13+1)),\"*\"))","v":"内容9,1"},{"$f":"IF($F$5=1,項目表示入力!$D$15,IF($F$5=2,IF(ISERROR(VLOOKUP(B9,入力AA1!$B$8:$GU$58,オフセット番号A!$D$13+1))=TRUE,\"\",VLOOKUP(B9,入力AA1!$B$8:$GU$58,オフセット番号A!$D$13+1)),\"*\"))","v":"内容9,2"},{"$f":"IF($F$5=1,項目表示入力!$E$15,IF($F$5=2,IF(ISERROR(VLOOKUP(B9,入力AA1!$B$8:$GU$58,オフセット番号A!$E$13+1))=TRUE,\"\",VLOOKUP(B9,入力AA1!$B$8:$GU$58,オフセット番号A!$E$13+1)),\"*\"))","v":"内容9,3"},{"$f":"IF($F$5=1,項目表示入力!$F$15,IF($F$5=2,IF(ISERROR(VLOOKUP(B9,入力AA1!$B$8:$GU$58,オフセット番号A!$F$13+1))=TRUE,\"\",VLOOKUP(B9,入力AA1!$B$8:$GU$58,オフセット番号A!$F$13+1)),\"*\"))","v":"内容9,4"},{"$f":"IF($F$5=1,項目表示入力!$G$15,IF($F$5=2,IF(ISERROR(VLOOKUP(B9,入力AA1!$B$8:$GU$58,オフセット番号A!$G$13+1))=TRUE,\"\",VLOOKUP(B9,入力AA1!$B$8:$GU$58,オフセット番号A!$G$13+1)),\"*\"))","v":"内容9,5"},{"$f":"IF($F$5=1,項目表示入力!$H$15,IF($F$5=2,IF(ISERROR(VLOOKUP(B9,入力AA1!$B$8:$GU$58,オフセット番号A!$H$13+1))=TRUE,\"\",VLOOKUP(B9,入力AA1!$B$8:$GU$58,オフセット番号A!$H$13+1)),\"*\"))","v":"内容9,6"},{"$f":"IF($F$5=1,項目表示入力!$I$15,IF($F$5=2,IF(ISERROR(VLOOKUP(B9,入力AA1!$B$8:$GU$58,オフセット番号A!$I$13+1))=TRUE,\"\",VLOOKUP(B9,入力AA1!$B$8:$GU$58,オフセット番号A!$I$13+1)),\"*\"))","v":"内容9,7"},{"$f":"IF($F$5=1,項目表示入力!$J$15,IF($F$5=2,IF(ISERROR(VLOOKUP(B9,入力AA1!$B$8:$GU$58,オフセット番号A!$J$13+1))=TRUE,\"\",VLOOKUP(B9,入力AA1!$B$8:$GU$58,オフセット番号A!$J$13+1)),\"*\"))","v":"内容9,8"},{"$f":"IF($F$5=1,項目表示入力!$K$15,IF($F$5=2,IF(ISERROR(VLOOKUP(B9,入力AA1!$B$8:$GU$58,オフセット番号A!$K$13+1))=TRUE,\"\",VLOOKUP(B9,入力AA1!$B$8:$GU$58,オフセット番号A!$K$13+1)),\"*\"))","v":"内容9,9"},{"$f":"IF($F$5=1,項目表示入力!$L$15,IF($F$5=2,IF(ISERROR(VLOOKUP(B9,入力AA1!$B$8:$GU$58,オフセット番号A!$L$13+1))=TRUE,\"\",VLOOKUP(B9,入力AA1!$B$8:$GU$58,オフセット番号A!$L$13+1)),\"*\"))","v":"内容9,10"},{"$f":"IF($F$5=1,項目表示入力!$M$15,IF($F$5=2,IF(ISERROR(VLOOKUP(B9,入力AA1!$B$8:$GU$58,オフセット番号A!$M$13+1))=TRUE,\"\",VLOOKUP(B9,入力AA1!$B$8:$GU$58,オフセット番号A!$M$13+1)),\"*\"))","v":"内容9,11"},{"$f":"IF($F$5=1,項目表示入力!$N$15,IF($F$5=2,IF(ISERROR(VLOOKUP(B9,入力AA1!$B$8:$GU$58,オフセット番号A!$N$13+1))=TRUE,\"\",VLOOKUP(B9,入力AA1!$B$8:$GU$58,オフセット番号A!$N$13+1)),\"*\"))","v":"内容9,12"},{"$f":"IF($F$5=1,項目表示入力!$O$15,IF($F$5=2,IF(ISERROR(VLOOKUP(B9,入力AA1!$B$8:$GU$58,オフセット番号A!$O$13+1))=TRUE,\"\",VLOOKUP(B9,入力AA1!$B$8:$GU$58,オフセット番号A!$O$13+1)),\"*\"))","v":"内容9,13"},{"$f":"IF($F$5=1,項目表示入力!$P$15,IF($F$5=2,IF(ISERROR(VLOOKUP(B9,入力AA1!$B$8:$GU$58,オフセット番号A!$P$13+1))=TRUE,\"\",VLOOKUP(B9,入力AA1!$B$8:$GU$58,オフセット番号A!$P$13+1)),\"*\"))","v":"内容9,14"},{"$f":"IF($F$5=1,項目表示入力!$Q$15,IF($F$5=2,IF(ISERROR(VLOOKUP(B9,入力AA1!$B$8:$GU$58,オフセット番号A!$Q$13+1))=TRUE,\"\",VLOOKUP(B9,入力AA1!$B$8:$GU$58,オフセット番号A!$Q$13+1)),\"*\"))","v":"内容9,15"},{"$f":"IF($F$5=1,項目表示入力!$R$15,IF($F$5=2,IF(ISERROR(VLOOKUP(B9,入力AA1!$B$8:$GU$58,オフセット番号A!$R$13+1))=TRUE,\"\",VLOOKUP(B9,入力AA1!$B$8:$GU$58,オフセット番号A!$R$13+1)),\"*\"))","v":"内容9,16"},{"$f":"IF($F$5=1,項目表示入力!$S$15,IF($F$5=2,IF(ISERROR(VLOOKUP(B9,入力AA1!$B$8:$GU$58,オフセット番号A!$S$13+1))=TRUE,\"\",VLOOKUP(B9,入力AA1!$B$8:$GU$58,オフセット番号A!$S$13+1)),\"*\"))","v":"内容9,17"},{"$f":"IF($F$5=1,項目表示入力!$T$15,IF($F$5=2,IF(ISERROR(VLOOKUP(B9,入力AA1!$B$8:$GU$58,オフセット番号A!$T$13+1))=TRUE,\"\",VLOOKUP(B9,入力AA1!$B$8:$GU$58,オフセット番号A!$T$13+1)),\"*\"))","v":"内容9,18"},{"$f":"IF($F$5=1,項目表示入力!$U$15,IF($F$5=2,IF(ISERROR(VLOOKUP(B9,入力AA1!$B$8:$GU$58,オフセット番号A!$U$13+1))=TRUE,\"\",VLOOKUP(B9,入力AA1!$B$8:$GU$58,オフセット番号A!$U$13+1)),\"*\"))","v":"内容9,19"},{"$f":"IF($F$5=1,項目表示入力!$V$15,IF($F$5=2,IF(ISERROR(VLOOKUP($B$9,入力AA1!$B$8:$GU$58,オフセット番号A!$V$13+1))=TRUE,\"\",VLOOKUP(B9,入力AA1!$B$8:$GU$58,オフセット番号A!$V$13+1)),\"*\"))","v":"内容9,20"}]
[null,{"$f":"IF(行列入力項目!$C$14=\"\",\"\",行列入力項目!$C$14)","v":"行10"},{"$f":"IF($F$5=1,項目表示入力!$C$16,IF($F$5=2,IF(ISERROR(VLOOKUP(B9,入力AA1!$B$8:$GU$58,オフセット番号A!$C$14+1))=TRUE,\"\",VLOOKUP(B9,入力AA1!$B$8:$GU$58,オフセット番号A!$C$14+1)),\"*\"))","v":"内容10,1"},{"$f":"IF($F$5=1,項目表示入力!$D$16,IF($F$5=2,IF(ISERROR(VLOOKUP(B9,入力AA1!$B$8:$GU$58,オフセット番号A!$D$14+1))=TRUE,\"\",VLOOKUP(B9,入力AA1!$B$8:$GU$58,オフセット番号A!$D$14+1)),\"*\"))","v":"内容10,2"},{"$f":"IF($F$5=1,項目表示入力!$E$16,IF($F$5=2,IF(ISERROR(VLOOKUP(B9,入力AA1!$B$8:$GU$58,オフセット番号A!$E$14+1))=TRUE,\"\",VLOOKUP(B9,入力AA1!$B$8:$GU$58,オフセット番号A!$E$14+1)),\"*\"))","v":"内容10,3"},{"$f":"IF($F$5=1,項目表示入力!$F$16,IF($F$5=2,IF(ISERROR(VLOOKUP(B9,入力AA1!$B$8:$GU$58,オフセット番号A!$F$14+1))=TRUE,\"\",VLOOKUP(B9,入力AA1!$B$8:$GU$58,オフセット番号A!$F$14+1)),\"*\"))","v":"内容10,4"},{"$f":"IF($F$5=1,項目表示入力!$G$16,IF($F$5=2,IF(ISERROR(VLOOKUP(B9,入力AA1!$B$8:$GU$58,オフセット番号A!$G$14+1))=TRUE,\"\",VLOOKUP(B9,入力AA1!$B$8:$GU$58,オフセット番号A!$G$14+1)),\"*\"))","v":"内容10,5"},{"$f":"IF($F$5=1,項目表示入力!$H$16,IF($F$5=2,IF(ISERROR(VLOOKUP(B9,入力AA1!$B$8:$GU$58,オフセット番号A!$H$14+1))=TRUE,\"\",VLOOKUP(B9,入力AA1!$B$8:$GU$58,オフセット番号A!$H$14+1)),\"*\"))","v":"内容10,6"},{"$f":"IF($F$5=1,項目表示入力!$I$16,IF($F$5=2,IF(ISERROR(VLOOKUP(B9,入力AA1!$B$8:$GU$58,オフセット番号A!$I$14+1))=TRUE,\"\",VLOOKUP(B9,入力AA1!$B$8:$GU$58,オフセット番号A!$I$14+1)),\"*\"))","v":"内容10,7"},{"$f":"IF($F$5=1,項目表示入力!$J$16,IF($F$5=2,IF(ISERROR(VLOOKUP(B9,入力AA1!$B$8:$GU$58,オフセット番号A!$J$14+1))=TRUE,\"\",VLOOKUP(B9,入力AA1!$B$8:$GU$58,オフセット番号A!$J$14+1)),\"*\"))","v":"内容10,8"},{"$f":"IF($F$5=1,項目表示入力!$K$16,IF($F$5=2,IF(ISERROR(VLOOKUP(B9,入力AA1!$B$8:$GU$58,オフセット番号A!$K$14+1))=TRUE,\"\",VLOOKUP(B9,入力AA1!$B$8:$GU$58,オフセット番号A!$K$14+1)),\"*\"))","v":"内容10,9"},{"$f":"IF($F$5=1,項目表示入力!$L$16,IF($F$5=2,IF(ISERROR(VLOOKUP(B9,入力AA1!$B$8:$GU$58,オフセット番号A!$L$14+1))=TRUE,\"\",VLOOKUP(B9,入力AA1!$B$8:$GU$58,オフセット番号A!$L$14+1)),\"*\"))","v":"内容10,10"},{"$f":"IF($F$5=1,項目表示入力!$M$16,IF($F$5=2,IF(ISERROR(VLOOKUP(B9,入力AA1!$B$8:$GU$58,オフセット番号A!$M$14+1))=TRUE,\"\",VLOOKUP(B9,入力AA1!$B$8:$GU$58,オフセット番号A!$M$14+1)),\"*\"))","v":"内容10,11"},{"$f":"IF($F$5=1,項目表示入力!$N$16,IF($F$5=2,IF(ISERROR(VLOOKUP(B9,入力AA1!$B$8:$GU$58,オフセット番号A!$N$14+1))=TRUE,\"\",VLOOKUP(B9,入力AA1!$B$8:$GU$58,オフセット番号A!$N$14+1)),\"*\"))","v":"内容10,12"},{"$f":"IF($F$5=1,項目表示入力!$O$16,IF($F$5=2,IF(ISERROR(VLOOKUP(B9,入力AA1!$B$8:$GU$58,オフセット番号A!$O$14+1))=TRUE,\"\",VLOOKUP(B9,入力AA1!$B$8:$GU$58,オフセット番号A!$O$14+1)),\"*\"))","v":"内容10,13"},{"$f":"IF($F$5=1,項目表示入力!$P$16,IF($F$5=2,IF(ISERROR(VLOOKUP(B9,入力AA1!$B$8:$GU$58,オフセット番号A!$P$14+1))=TRUE,\"\",VLOOKUP(B9,入力AA1!$B$8:$GU$58,オフセット番号A!$P$14+1)),\"*\"))","v":"内容10,14"},{"$f":"IF($F$5=1,項目表示入力!$Q$16,IF($F$5=2,IF(ISERROR(VLOOKUP(B9,入力AA1!$B$8:$GU$58,オフセット番号A!$Q$14+1))=TRUE,\"\",VLOOKUP(B9,入力AA1!$B$8:$GU$58,オフセット番号A!$Q$14+1)),\"*\"))","v":"内容10,15"},{"$f":"IF($F$5=1,項目表示入力!$R$16,IF($F$5=2,IF(ISERROR(VLOOKUP(B9,入力AA1!$B$8:$GU$58,オフセット番号A!$R$14+1))=TRUE,\"\",VLOOKUP(B9,入力AA1!$B$8:$GU$58,オフセット番号A!$R$14+1)),\"*\"))","v":"内容10,16"},{"$f":"IF($F$5=1,項目表示入力!$S$16,IF($F$5=2,IF(ISERROR(VLOOKUP(B9,入力AA1!$B$8:$GU$58,オフセット番号A!$S$14+1))=TRUE,\"\",VLOOKUP(B9,入力AA1!$B$8:$GU$58,オフセット番号A!$S$14+1)),\"*\"))","v":"内容10,17"},{"$f":"IF($F$5=1,項目表示入力!$T$16,IF($F$5=2,IF(ISERROR(VLOOKUP(B9,入力AA1!$B$8:$GU$58,オフセット番号A!$T$14+1))=TRUE,\"\",VLOOKUP(B9,入力AA1!$B$8:$GU$58,オフセット番号A!$T$14+1)),\"*\"))","v":"内容10,18"},{"$f":"IF($F$5=1,項目表示入力!$U$16,IF($F$5=2,IF(ISERROR(VLOOKUP(B9,入力AA1!$B$8:$GU$58,オフセット番号A!$U$14+1))=TRUE,\"\",VLOOKUP(B9,入力AA1!$B$8:$GU$58,オフセット番号A!$U$14+1)),\"*\"))","v":"内容10,19"},{"$f":"IF($F$5=1,項目表示入力!$V$16,IF($F$5=2,IF(ISERROR(VLOOKUP(B9,入力AA1!$B$8:$GU$58,オフセット番号A!$V$14+1))=TRUE,\"\",VLOOKUP(B9,入力AA1!$B$8:$GU$58,オフセット番号A!$V$14+1)),\"*\"))","v":"内容10,20"}]
[null,{"$f":"IF(行列入力項目!$C$15=\"\",\"\",行列入力項目!$C$15)","v":"行11"},{"$f":"IF($F$5=1,項目表示入力!$C$17,IF($F$5=2,IF(ISERROR(VLOOKUP(B9,入力AA2!$B$8:$GU$58,オフセット番号A!$C$15+1))=TRUE,\"\",VLOOKUP(B9,入力AA2!$B$8:$GU$58,オフセット番号A!$C$15+1)),\"*\"))","v":"内容11,1"},{"$f":"IF($F$5=1,項目表示入力!$D$17,IF($F$5=2,IF(ISERROR(VLOOKUP(B9,入力AA2!$B$8:$GU$58,オフセット番号A!$D$15+1))=TRUE,\"\",VLOOKUP(B9,入力AA2!$B$8:$GU$58,オフセット番号A!$D$15+1)),\"*\"))","v":"内容11,2"},{"$f":"IF($F$5=1,項目表示入力!$E$17,IF($F$5=2,IF(ISERROR(VLOOKUP(B9,入力AA2!$B$8:$GU$58,オフセット番号A!$E$15+1))=TRUE,\"\",VLOOKUP(B9,入力AA2!$B$8:$GU$58,オフセット番号A!$E$15+1)),\"*\"))","v":"内容11,3"},{"$f":"IF($F$5=1,項目表示入力!$F$17,IF($F$5=2,IF(ISERROR(VLOOKUP(B9,入力AA2!$B$8:$GU$58,オフセット番号A!$F$15+1))=TRUE,\"\",VLOOKUP(B9,入力AA2!$B$8:$GU$58,オフセット番号A!$F$15+1)),\"*\"))","v":"内容11,4"},{"$f":"IF($F$5=1,項目表示入力!$G$17,IF($F$5=2,IF(ISERROR(VLOOKUP(B9,入力AA2!$B$8:$GU$58,オフセット番号A!$G$15+1))=TRUE,\"\",VLOOKUP(B9,入力AA2!$B$8:$GU$58,オフセット番号A!$G$15+1)),\"*\"))","v":"内容11,5"},{"$f":"IF($F$5=1,項目表示入力!$H$17,IF($F$5=2,IF(ISERROR(VLOOKUP(B9,入力AA2!$B$8:$GU$58,オフセット番号A!$H$15+1))=TRUE,\"\",VLOOKUP(B9,入力AA2!$B$8:$GU$58,オフセット番号A!$H$15+1)),\"*\"))","v":"内容11,6"},{"$f":"IF($F$5=1,項目表示入力!$I$17,IF($F$5=2,IF(ISERROR(VLOOKUP(B9,入力AA2!$B$8:$GU$58,オフセット番号A!$I$15+1))=TRUE,\"\",VLOOKUP(B9,入力AA2!$B$8:$GU$58,オフセット番号A!$I$15+1)),\"*\"))","v":"内容11,7"},{"$f":"IF($F$5=1,項目表示入力!$J$17,IF($F$5=2,IF(ISERROR(VLOOKUP(B9,入力AA2!$B$8:$GU$58,オフセット番号A!$J$15+1))=TRUE,\"\",VLOOKUP(B9,入力AA2!$B$8:$GU$58,オフセット番号A!$J$15+1)),\"*\"))","v":"内容11,8"},{"$f":"IF($F$5=1,項目表示入力!$K$17,IF($F$5=2,IF(ISERROR(VLOOKUP(B9,入力AA2!$B$8:$GU$58,オフセット番号A!$K$15+1))=TRUE,\"\",VLOOKUP(B9,入力AA2!$B$8:$GU$58,オフセット番号A!$K$15+1)),\"*\"))","v":"内容11,9"},{"$f":"IF($F$5=1,項目表示入力!$L$17,IF($F$5=2,IF(ISERROR(VLOOKUP(B9,入力AA2!$B$8:$GU$58,オフセット番号A!$L$15+1))=TRUE,\"\",VLOOKUP(B9,入力AA2!$B$8:$GU$58,オフセット番号A!$L$15+1)),\"*\"))","v":"内容11,10"},{"$f":"IF($F$5=1,項目表示入力!$M$17,IF($F$5=2,IF(ISERROR(VLOOKUP(B9,入力AA2!$B$8:$GU$58,オフセット番号A!$M$15+1))=TRUE,\"\",VLOOKUP(B9,入力AA2!$B$8:$GU$58,オフセット番号A!$M$15+1)),\"*\"))","v":"内容11,11"},{"$f":"IF($F$5=1,項目表示入力!$N$17,IF($F$5=2,IF(ISERROR(VLOOKUP(B9,入力AA2!$B$8:$GU$58,オフセット番号A!$N$15+1))=TRUE,\"\",VLOOKUP(B9,入力AA2!$B$8:$GU$58,オフセット番号A!$N$15+1)),\"*\"))","v":"内容11,12"},{"$f":"IF($F$5=1,項目表示入力!$O$17,IF($F$5=2,IF(ISERROR(VLOOKUP(B9,入力AA2!$B$8:$GU$58,オフセット番号A!$O$15+1))=TRUE,\"\",VLOOKUP(B9,入力AA2!$B$8:$GU$58,オフセット番号A!$O$15+1)),\"*\"))","v":"内容11,13"},{"$f":"IF($F$5=1,項目表示入力!$P$17,IF($F$5=2,IF(ISERROR(VLOOKUP(B9,入力AA2!$B$8:$GU$58,オフセット番号A!$P$15+1))=TRUE,\"\",VLOOKUP(B9,入力AA2!$B$8:$GU$58,オフセット番号A!$P$15+1)),\"*\"))","v":"内容11,14"},{"$f":"IF($F$5=1,項目表示入力!$Q$17,IF($F$5=2,IF(ISERROR(VLOOKUP(B9,入力AA2!$B$8:$GU$58,オフセット番号A!$Q$15+1))=TRUE,\"\",VLOOKUP(B9,入力AA2!$B$8:$GU$58,オフセット番号A!$Q$15+1)),\"*\"))","v":"内容11,15"},{"$f":"IF($F$5=1,項目表示入力!$R$17,IF($F$5=2,IF(ISERROR(VLOOKUP(B9,入力AA2!$B$8:$GU$58,オフセット番号A!$R$15+1))=TRUE,\"\",VLOOKUP(B9,入力AA2!$B$8:$GU$58,オフセット番号A!$R$15+1)),\"*\"))","v":"内容11,16"},{"$f":"IF($F$5=1,項目表示入力!$S$17,IF($F$5=2,IF(ISERROR(VLOOKUP(B9,入力AA2!$B$8:$GU$58,オフセット番号A!$S$15+1))=TRUE,\"\",VLOOKUP(B9,入力AA2!$B$8:$GU$58,オフセット番号A!$S$15+1)),\"*\"))","v":"内容11,17"},{"$f":"IF($F$5=1,項目表示入力!$T$17,IF($F$5=2,IF(ISERROR(VLOOKUP(B9,入力AA2!$B$8:$GU$58,オフセット番号A!$T$15+1))=TRUE,\"\",VLOOKUP(B9,入力AA2!$B$8:$GU$58,オフセット番号A!$T$15+1)),\"*\"))","v":"内容11,18"},{"$f":"IF($F$5=1,項目表示入力!$U$17,IF($F$5=2,IF(ISERROR(VLOOKUP(B9,入力AA2!$B$8:$GU$58,オフセット番号A!$U$15+1))=TRUE,\"\",VLOOKUP(B9,入力AA2!$B$8:$GU$58,オフセット番号A!$U$15+1)),\"*\"))","v":"内容11,19"},{"$f":"IF($F$5=1,項目表示入力!$V$17,IF($F$5=2,IF(ISERROR(VLOOKUP(B9,入力AA2!$B$8:$GU$58,オフセット番号A!$V$15+1))=TRUE,\"\",VLOOKUP(B9,入力AA2!$B$8:$GU$58,オフセット番号A!$V$15+1)),\"*\"))","v":"内容11,20"}]
[null,{"$f":"IF(行列入力項目!$C$16=\"\",\"\",行列入力項目!$C$16)","v":"行12"},{"$f":"IF($F$5=1,項目表示入力!$C$18,IF($F$5=2,IF(ISERROR(VLOOKUP(B9,入力AA2!$B$8:$GU$58,オフセット番号A!$C$16+1))=TRUE,\"\",VLOOKUP(B9,入力AA2!$B$8:$GU$58,オフセット番号A!$C$16+1)),\"*\"))","v":"内容12,1"},{"$f":"IF($F$5=1,項目表示入力!$D$18,IF($F$5=2,IF(ISERROR(VLOOKUP(B9,入力AA2!$B$8:$GU$58,オフセット番号A!$D$16+1))=TRUE,\"\",VLOOKUP(B9,入力AA2!$B$8:$GU$58,オフセット番号A!$D$16+1)),\"*\"))","v":"内容12,2"},{"$f":"IF($F$5=1,項目表示入力!$E$18,IF($F$5=2,IF(ISERROR(VLOOKUP(B9,入力AA2!$B$8:$GU$58,オフセット番号A!$E$16+1))=TRUE,\"\",VLOOKUP(B9,入力AA2!$B$8:$GU$58,オフセット番号A!$E$16+1)),\"*\"))","v":"内容12,3"},{"$f":"IF($F$5=1,項目表示入力!$F$18,IF($F$5=2,IF(ISERROR(VLOOKUP(B9,入力AA2!$B$8:$GU$58,オフセット番号A!$F$16+1))=TRUE,\"\",VLOOKUP(B9,入力AA2!$B$8:$GU$58,オフセット番号A!$F$16+1)),\"*\"))","v":"内容12,4"},{"$f":"IF($F$5=1,項目表示入力!$G$18,IF($F$5=2,IF(ISERROR(VLOOKUP(B9,入力AA2!$B$8:$GU$58,オフセット番号A!$G$16+1))=TRUE,\"\",VLOOKUP(B9,入力AA2!$B$8:$GU$58,オフセット番号A!$G$16+1)),\"*\"))","v":"内容12,5"},{"$f":"IF($F$5=1,項目表示入力!$H$18,IF($F$5=2,IF(ISERROR(VLOOKUP(B9,入力AA2!$B$8:$GU$58,オフセット番号A!$H$16+1))=TRUE,\"\",VLOOKUP(B9,入力AA2!$B$8:$GU$58,オフセット番号A!$H$16+1)),\"*\"))","v":"内容12,6"},{"$f":"IF($F$5=1,項目表示入力!$I$18,IF($F$5=2,IF(ISERROR(VLOOKUP(B9,入力AA2!$B$8:$GU$58,オフセット番号A!$I$16+1))=TRUE,\"\",VLOOKUP(B9,入力AA2!$B$8:$GU$58,オフセット番号A!$I$16+1)),\"*\"))","v":"内容12,7"},{"$f":"IF($F$5=1,項目表示入力!$J$18,IF($F$5=2,IF(ISERROR(VLOOKUP(B9,入力AA2!$B$8:$GU$58,オフセット番号A!$J$16+1))=TRUE,\"\",VLOOKUP(B9,入力AA2!$B$8:$GU$58,オフセット番号A!$J$16+1)),\"*\"))","v":"内容12,8"},{"$f":"IF($F$5=1,項目表示入力!$K$18,IF($F$5=2,IF(ISERROR(VLOOKUP(B9,入力AA2!$B$8:$GU$58,オフセット番号A!$K$16+1))=TRUE,\"\",VLOOKUP(B9,入力AA2!$B$8:$GU$58,オフセット番号A!$K$16+1)),\"*\"))","v":"内容12,9"},{"$f":"IF($F$5=1,項目表示入力!$L$18,IF($F$5=2,IF(ISERROR(VLOOKUP(B9,入力AA2!$B$8:$GU$58,オフセット番号A!$L$16+1))=TRUE,\"\",VLOOKUP(B9,入力AA2!$B$8:$GU$58,オフセット番号A!$L$16+1)),\"*\"))","v":"内容12,10"},{"$f":"IF($F$5=1,項目表示入力!$M$18,IF($F$5=2,IF(ISERROR(VLOOKUP(B9,入力AA2!$B$8:$GU$58,オフセット番号A!$M$16+1))=TRUE,\"\",VLOOKUP(B9,入力AA2!$B$8:$GU$58,オフセット番号A!$M$16+1)),\"*\"))","v":"内容12,11"},{"$f":"IF($F$5=1,項目表示入力!$N$18,IF($F$5=2,IF(ISERROR(VLOOKUP(B9,入力AA2!$B$8:$GU$58,オフセット番号A!$N$16+1))=TRUE,\"\",VLOOKUP(B9,入力AA2!$B$8:$GU$58,オフセット番号A!$N$16+1)),\"*\"))","v":"内容12,12"},{"$f":"IF($F$5=1,項目表示入力!$O$18,IF($F$5=2,IF(ISERROR(VLOOKUP(B9,入力AA2!$B$8:$GU$58,オフセット番号A!$O$16+1))=TRUE,\"\",VLOOKUP(B9,入力AA2!$B$8:$GU$58,オフセット番号A!$O$16+1)),\"*\"))","v":"内容12,13"},{"$f":"IF($F$5=1,項目表示入力!$P$18,IF($F$5=2,IF(ISERROR(VLOOKUP(B9,入力AA2!$B$8:$GU$58,オフセット番号A!$P$16+1))=TRUE,\"\",VLOOKUP(B9,入力AA2!$B$8:$GU$58,オフセット番号A!$P$16+1)),\"*\"))","v":"内容12,14"},{"$f":"IF($F$5=1,項目表示入力!$Q$18,IF($F$5=2,IF(ISERROR(VLOOKUP(B9,入力AA2!$B$8:$GU$58,オフセット番号A!$Q$16+1))=TRUE,\"\",VLOOKUP(B9,入力AA2!$B$8:$GU$58,オフセット番号A!$Q$16+1)),\"*\"))","v":"内容12,15"},{"$f":"IF($F$5=1,項目表示入力!$R$18,IF($F$5=2,IF(ISERROR(VLOOKUP(B9,入力AA2!$B$8:$GU$58,オフセット番号A!$R$16+1))=TRUE,\"\",VLOOKUP(B9,入力AA2!$B$8:$GU$58,オフセット番号A!$R$16+1)),\"*\"))","v":"内容12,16"},{"$f":"IF($F$5=1,項目表示入力!$S$18,IF($F$5=2,IF(ISERROR(VLOOKUP(B9,入力AA2!$B$8:$GU$58,オフセット番号A!$S$16+1))=TRUE,\"\",VLOOKUP(B9,入力AA2!$B$8:$GU$58,オフセット番号A!$S$16+1)),\"*\"))","v":"内容12,17"},{"$f":"IF($F$5=1,項目表示入力!$T$18,IF($F$5=2,IF(ISERROR(VLOOKUP(B9,入力AA2!$B$8:$GU$58,オフセット番号A!$T$16+1))=TRUE,\"\",VLOOKUP(B9,入力AA2!$B$8:$GU$58,オフセット番号A!$T$16+1)),\"*\"))","v":"内容12,18"},{"$f":"IF($F$5=1,項目表示入力!$U$18,IF($F$5=2,IF(ISERROR(VLOOKUP(B9,入力AA2!$B$8:$GU$58,オフセット番号A!$U$16+1))=TRUE,\"\",VLOOKUP(B9,入力AA2!$B$8:$GU$58,オフセット番号A!$U$16+1)),\"*\"))","v":"内容12,19"},{"$f":"IF($F$5=1,項目表示入力!$V$18,IF($F$5=2,IF(ISERROR(VLOOKUP(B9,入力AA2!$B$8:$GU$58,オフセット番号A!$V$16+1))=TRUE,\"\",VLOOKUP(B9,入力AA2!$B$8:$GU$58,オフセット番号A!$V$16+1)),\"*\"))","v":"内容12,20"}]
[null,{"$f":"IF(行列入力項目!$C$17=\"\",\"\",行列入力項目!$C$17)","v":"行13"},{"$f":"IF($F$5=1,項目表示入力!$C$19,IF($F$5=2,IF(ISERROR(VLOOKUP(B9,入力AA2!$B$8:$GU$58,オフセット番号A!$C$17+1))=TRUE,\"\",VLOOKUP(B9,入力AA2!$B$8:$GU$58,オフセット番号A!$C$17+1)),\"*\"))","v":"内容13,1"},{"$f":"IF($F$5=1,項目表示入力!$D$19,IF($F$5=2,IF(ISERROR(VLOOKUP(B9,入力AA2!$B$8:$GU$58,オフセット番号A!$D$17+1))=TRUE,\"\",VLOOKUP(B9,入力AA2!$B$8:$GU$58,オフセット番号A!$D$17+1)),\"*\"))","v":"内容13,2"},{"$f":"IF($F$5=1,項目表示入力!$E$19,IF($F$5=2,IF(ISERROR(VLOOKUP(B9,入力AA2!$B$8:$GU$58,オフセット番号A!$E$17+1))=TRUE,\"\",VLOOKUP(B9,入力AA2!$B$8:$GU$58,オフセット番号A!$E$17+1)),\"*\"))","v":"内容13,3"},{"$f":"IF($F$5=1,項目表示入力!$F$19,IF($F$5=2,IF(ISERROR(VLOOKUP(B9,入力AA2!$B$8:$GU$58,オフセット番号A!$F$17+1))=TRUE,\"\",VLOOKUP(B9,入力AA2!$B$8:$GU$58,オフセット番号A!$F$17+1)),\"*\"))","v":"内容13,4"},{"$f":"IF($F$5=1,項目表示入力!$G$19,IF($F$5=2,IF(ISERROR(VLOOKUP(B9,入力AA2!$B$8:$GU$58,オフセット番号A!$G$17+1))=TRUE,\"\",VLOOKUP(B9,入力AA2!$B$8:$GU$58,オフセット番号A!$G$17+1)),\"*\"))","v":"内容13,5"},{"$f":"IF($F$5=1,項目表示入力!$H$19,IF($F$5=2,IF(ISERROR(VLOOKUP(B9,入力AA2!$B$8:$GU$58,オフセット番号A!$H$17+1))=TRUE,\"\",VLOOKUP(B9,入力AA2!$B$8:$GU$58,オフセット番号A!$H$17+1)),\"*\"))","v":"内容13,6"},{"$f":"IF($F$5=1,項目表示入力!$I$19,IF($F$5=2,IF(ISERROR(VLOOKUP(B9,入力AA2!$B$8:$GU$58,オフセット番号A!$I$17+1))=TRUE,\"\",VLOOKUP(B9,入力AA2!$B$8:$GU$58,オフセット番号A!$I$17+1)),\"*\"))","v":"内容13,7"},{"$f":"IF($F$5=1,項目表示入力!$J$19,IF($F$5=2,IF(ISERROR(VLOOKUP(B9,入力AA2!$B$8:$GU$58,オフセット番号A!$J$17+1))=TRUE,\"\",VLOOKUP(B9,入力AA2!$B$8:$GU$58,オフセット番号A!$J$17+1)),\"*\"))","v":"内容13,8"},{"$f":"IF($F$5=1,項目表示入力!$K$19,IF($F$5=2,IF(ISERROR(VLOOKUP(B9,入力AA2!$B$8:$GU$58,オフセット番号A!$K$17+1))=TRUE,\"\",VLOOKUP(B9,入力AA2!$B$8:$GU$58,オフセット番号A!$K$17+1)),\"*\"))","v":"内容13,9"},{"$f":"IF($F$5=1,項目表示入力!$L$19,IF($F$5=2,IF(ISERROR(VLOOKUP(B9,入力AA2!$B$8:$GU$58,オフセット番号A!$L$17+1))=TRUE,\"\",VLOOKUP(B9,入力AA2!$B$8:$GU$58,オフセット番号A!$L$17+1)),\"*\"))","v":"内容13,10"},{"$f":"IF($F$5=1,項目表示入力!$M$19,IF($F$5=2,IF(ISERROR(VLOOKUP(B9,入力AA2!$B$8:$GU$58,オフセット番号A!$M$17+1))=TRUE,\"\",VLOOKUP(B9,入力AA2!$B$8:$GU$58,オフセット番号A!$M$17+1)),\"*\"))","v":"内容13,11"},{"$f":"IF($F$5=1,項目表示入力!$N$19,IF($F$5=2,IF(ISERROR(VLOOKUP(B9,入力AA2!$B$8:$GU$58,オフセット番号A!$N$17+1))=TRUE,\"\",VLOOKUP(B9,入力AA2!$B$8:$GU$58,オフセット番号A!$N$17+1)),\"*\"))","v":"内容13,12"},{"$f":"IF($F$5=1,項目表示入力!$O$19,IF($F$5=2,IF(ISERROR(VLOOKUP(B9,入力AA2!$B$8:$GU$58,オフセット番号A!$O$17+1))=TRUE,\"\",VLOOKUP(B9,入力AA2!$B$8:$GU$58,オフセット番号A!$O$17+1)),\"*\"))","v":"内容13,13"},{"$f":"IF($F$5=1,項目表示入力!$P$19,IF($F$5=2,IF(ISERROR(VLOOKUP(B9,入力AA2!$B$8:$GU$58,オフセット番号A!$P$17+1))=TRUE,\"\",VLOOKUP(B9,入力AA2!$B$8:$GU$58,オフセット番号A!$P$17+1)),\"*\"))","v":"内容13,14"},{"$f":"IF($F$5=1,項目表示入力!$Q$19,IF($F$5=2,IF(ISERROR(VLOOKUP(B9,入力AA2!$B$8:$GU$58,オフセット番号A!$Q$17+1))=TRUE,\"\",VLOOKUP(B9,入力AA2!$B$8:$GU$58,オフセット番号A!$Q$17+1)),\"*\"))","v":"内容13,15"},{"$f":"IF($F$5=1,項目表示入力!$R$19,IF($F$5=2,IF(ISERROR(VLOOKUP(B9,入力AA2!$B$8:$GU$58,オフセット番号A!$R$17+1))=TRUE,\"\",VLOOKUP(B9,入力AA2!$B$8:$GU$58,オフセット番号A!$R$17+1)),\"*\"))","v":"内容13,16"},{"$f":"IF($F$5=1,項目表示入力!$S$19,IF($F$5=2,IF(ISERROR(VLOOKUP(B9,入力AA2!$B$8:$GU$58,オフセット番号A!$S$17+1))=TRUE,\"\",VLOOKUP(B9,入力AA2!$B$8:$GU$58,オフセット番号A!$S$17+1)),\"*\"))","v":"内容13,17"},{"$f":"IF($F$5=1,項目表示入力!$T$19,IF($F$5=2,IF(ISERROR(VLOOKUP(B9,入力AA2!$B$8:$GU$58,オフセット番号A!$T$17+1))=TRUE,\"\",VLOOKUP(B9,入力AA2!$B$8:$GU$58,オフセット番号A!$T$17+1)),\"*\"))","v":"内容13,18"},{"$f":"IF($F$5=1,項目表示入力!$U$19,IF($F$5=2,IF(ISERROR(VLOOKUP(B9,入力AA2!$B$8:$GU$58,オフセット番号A!$U$17+1))=TRUE,\"\",VLOOKUP(B9,入力AA2!$B$8:$GU$58,オフセット番号A!$U$17+1)),\"*\"))","v":"内容13,19"},{"$f":"IF($F$5=1,項目表示入力!$V$19,IF($F$5=2,IF(ISERROR(VLOOKUP(B9,入力AA2!$B$8:$GU$58,オフセット番号A!$V$17+1))=TRUE,\"\",VLOOKUP(B9,入力AA2!$B$8:$GU$58,オフセット番号A!$V$17+1)),\"*\"))","v":"内容13,20"}]
[null,{"$f":"IF(行列入力項目!$C$18=\"\",\"\",行列入力項目!$C$18)","v":"行14"},{"$f":"IF($F$5=1,項目表示入力!$C$20,IF($F$5=2,IF(ISERROR(VLOOKUP(B9,入力AA2!$B$8:$GU$58,オフセット番号A!$C$18+1))=TRUE,\"\",VLOOKUP(B9,入力AA2!$B$8:$GU$58,オフセット番号A!$C$18+1)),\"*\"))","v":"内容14,1"},{"$f":"IF($F$5=1,項目表示入力!$D$20,IF($F$5=2,IF(ISERROR(VLOOKUP(B9,入力AA2!$B$8:$GU$58,オフセット番号A!$D$18+1))=TRUE,\"\",VLOOKUP(B9,入力AA2!$B$8:$GU$58,オフセット番号A!$D$18+1)),\"*\"))","v":"内容14,2"},{"$f":"IF($F$5=1,項目表示入力!$E$20,IF($F$5=2,IF(ISERROR(VLOOKUP(B9,入力AA2!$B$8:$GU$58,オフセット番号A!$E$18+1))=TRUE,\"\",VLOOKUP(B9,入力AA2!$B$8:$GU$58,オフセット番号A!$E$18+1)),\"*\"))","v":"内容14,3"},{"$f":"IF($F$5=1,項目表示入力!$F$20,IF($F$5=2,IF(ISERROR(VLOOKUP(B9,入力AA2!$B$8:$GU$58,オフセット番号A!$F$18+1))=TRUE,\"\",VLOOKUP(B9,入力AA2!$B$8:$GU$58,オフセット番号A!$F$18+1)),\"*\"))","v":"内容14,4"},{"$f":"IF($F$5=1,項目表示入力!$G$20,IF($F$5=2,IF(ISERROR(VLOOKUP(B9,入力AA2!$B$8:$GU$58,オフセット番号A!$G$18+1))=TRUE,\"\",VLOOKUP(B9,入力AA2!$B$8:$GU$58,オフセット番号A!$G$18+1)),\"*\"))","v":"内容14,5"},{"$f":"IF($F$5=1,項目表示入力!$H$20,IF($F$5=2,IF(ISERROR(VLOOKUP(B9,入力AA2!$B$8:$GU$58,オフセット番号A!$H$18+1))=TRUE,\"\",VLOOKUP(B9,入力AA2!$B$8:$GU$58,オフセット番号A!$H$18+1)),\"*\"))","v":"内容14,6"},{"$f":"IF($F$5=1,項目表示入力!$I$20,IF($F$5=2,IF(ISERROR(VLOOKUP(B9,入力AA2!$B$8:$GU$58,オフセット番号A!$I$18+1))=TRUE,\"\",VLOOKUP(B9,入力AA2!$B$8:$GU$58,オフセット番号A!$I$18+1)),\"*\"))","v":"内容14,7"},{"$f":"IF($F$5=1,項目表示入力!$J$20,IF($F$5=2,IF(ISERROR(VLOOKUP(B9,入力AA2!$B$8:$GU$58,オフセット番号A!$J$18+1))=TRUE,\"\",VLOOKUP(B9,入力AA2!$B$8:$GU$58,オフセット番号A!$J$18+1)),\"*\"))","v":"内容14,8"},{"$f":"IF($F$5=1,項目表示入力!$K$20,IF($F$5=2,IF(ISERROR(VLOOKUP(B9,入力AA2!$B$8:$GU$58,オフセット番号A!$K$18+1))=TRUE,\"\",VLOOKUP(B9,入力AA2!$B$8:$GU$58,オフセット番号A!$K$18+1)),\"*\"))","v":"内容14,9"},{"$f":"IF($F$5=1,項目表示入力!$L$20,IF($F$5=2,IF(ISERROR(VLOOKUP(B9,入力AA2!$B$8:$GU$58,オフセット番号A!$L$18+1))=TRUE,\"\",VLOOKUP(B9,入力AA2!$B$8:$GU$58,オフセット番号A!$L$18+1)),\"*\"))","v":"内容14,10"},{"$f":"IF($F$5=1,項目表示入力!$M$20,IF($F$5=2,IF(ISERROR(VLOOKUP(B9,入力AA2!$B$8:$GU$58,オフセット番号A!$M$18+1))=TRUE,\"\",VLOOKUP(B9,入力AA2!$B$8:$GU$58,オフセット番号A!$M$18+1)),\"*\"))","v":"内容14,11"},{"$f":"IF($F$5=1,項目表示入力!$N$20,IF($F$5=2,IF(ISERROR(VLOOKUP(B9,入力AA2!$B$8:$GU$58,オフセット番号A!$N$18+1))=TRUE,\"\",VLOOKUP(B9,入力AA2!$B$8:$GU$58,オフセット番号A!$N$18+1)),\"*\"))","v":"内容14,12"},{"$f":"IF($F$5=1,項目表示入力!$O$20,IF($F$5=2,IF(ISERROR(VLOOKUP(B9,入力AA2!$B$8:$GU$58,オフセット番号A!$O$18+1))=TRUE,\"\",VLOOKUP(B9,入力AA2!$B$8:$GU$58,オフセット番号A!$O$18+1)),\"*\"))","v":"内容14,13"},{"$f":"IF($F$5=1,項目表示入力!$P$20,IF($F$5=2,IF(ISERROR(VLOOKUP(B9,入力AA2!$B$8:$GU$58,オフセット番号A!$P$18+1))=TRUE,\"\",VLOOKUP(B9,入力AA2!$B$8:$GU$58,オフセット番号A!$P$18+1)),\"*\"))","v":"内容14,14"},{"$f":"IF($F$5=1,項目表示入力!$Q$20,IF($F$5=2,IF(ISERROR(VLOOKUP(B9,入力AA2!$B$8:$GU$58,オフセット番号A!$Q$18+1))=TRUE,\"\",VLOOKUP(B9,入力AA2!$B$8:$GU$58,オフセット番号A!$Q$18+1)),\"*\"))","v":"内容14,15"},{"$f":"IF($F$5=1,項目表示入力!$R$20,IF($F$5=2,IF(ISERROR(VLOOKUP(B9,入力AA2!$B$8:$GU$58,オフセット番号A!$R$18+1))=TRUE,\"\",VLOOKUP(B9,入力AA2!$B$8:$GU$58,オフセット番号A!$R$18+1)),\"*\"))","v":"内容14,16"},{"$f":"IF($F$5=1,項目表示入力!$S$20,IF($F$5=2,IF(ISERROR(VLOOKUP(B9,入力AA2!$B$8:$GU$58,オフセット番号A!$S$18+1))=TRUE,\"\",VLOOKUP(B9,入力AA2!$B$8:$GU$58,オフセット番号A!$S$18+1)),\"*\"))","v":"内容14,17"},{"$f":"IF($F$5=1,項目表示入力!$T$20,IF($F$5=2,IF(ISERROR(VLOOKUP(B9,入力AA2!$B$8:$GU$58,オフセット番号A!$T$18+1))=TRUE,\"\",VLOOKUP(B9,入力AA2!$B$8:$GU$58,オフセット番号A!$T$18+1)),\"*\"))","v":"内容14,18"},{"$f":"IF($F$5=1,項目表示入力!$U$20,IF($F$5=2,IF(ISERROR(VLOOKUP(B9,入力AA2!$B$8:$GU$58,オフセット番号A!$U$18+1))=TRUE,\"\",VLOOKUP(B9,入力AA2!$B$8:$GU$58,オフセット番号A!$U$18+1)),\"*\"))","v":"内容14,19"},{"$f":"IF($F$5=1,項目表示入力!$V$20,IF($F$5=2,IF(ISERROR(VLOOKUP(B9,入力AA2!$B$8:$GU$58,オフセット番号A!$V$18+1))=TRUE,\"\",VLOOKUP(B9,入力AA2!$B$8:$GU$58,オフセット番号A!$V$18+1)),\"*\"))","v":"内容14,20"}]
[null,{"$f":"IF(行列入力項目!$C$19=\"\",\"\",行列入力項目!$C$19)","v":"行15"},{"$f":"IF($F$5=1,項目表示入力!$C$21,IF($F$5=2,IF(ISERROR(VLOOKUP(B9,入力AA2!$B$8:$GU$58,オフセット番号A!$C$19+1))=TRUE,\"\",VLOOKUP(B9,入力AA2!$B$8:$GU$58,オフセット番号A!$C$19+1)),\"*\"))","v":"内容15,1"},{"$f":"IF($F$5=1,項目表示入力!$D$21,IF($F$5=2,IF(ISERROR(VLOOKUP(B9,入力AA2!$B$8:$GU$58,オフセット番号A!$D$19+1))=TRUE,\"\",VLOOKUP(B9,入力AA2!$B$8:$GU$58,オフセット番号A!$D$19+1)),\"*\"))","v":"内容15,2"},{"$f":"IF($F$5=1,項目表示入力!$E$21,IF($F$5=2,IF(ISERROR(VLOOKUP(B9,入力AA2!$B$8:$GU$58,オフセット番号A!$E$19+1))=TRUE,\"\",VLOOKUP(B9,入力AA2!$B$8:$GU$58,オフセット番号A!$E$19+1)),\"*\"))","v":"内容15,3"},{"$f":"IF($F$5=1,項目表示入力!$F$21,IF($F$5=2,IF(ISERROR(VLOOKUP(B9,入力AA2!$B$8:$GU$58,オフセット番号A!$F$19+1))=TRUE,\"\",VLOOKUP(B9,入力AA2!$B$8:$GU$58,オフセット番号A!$F$19+1)),\"*\"))","v":"内容15,4"},{"$f":"IF($F$5=1,項目表示入力!$G$21,IF($F$5=2,IF(ISERROR(VLOOKUP(B9,入力AA2!$B$8:$GU$58,オフセット番号A!$G$19+1))=TRUE,\"\",VLOOKUP(B9,入力AA2!$B$8:$GU$58,オフセット番号A!$G$19+1)),\"*\"))","v":"内容15,5"},{"$f":"IF($F$5=1,項目表示入力!$H$21,IF($F$5=2,IF(ISERROR(VLOOKUP(B9,入力AA2!$B$8:$GU$58,オフセット番号A!$H$19+1))=TRUE,\"\",VLOOKUP(B9,入力AA2!$B$8:$GU$58,オフセット番号A!$H$19+1)),\"*\"))","v":"内容15,6"},{"$f":"IF($F$5=1,項目表示入力!$I$21,IF($F$5=2,IF(ISERROR(VLOOKUP(B9,入力AA2!$B$8:$GU$58,オフセット番号A!$I$19+1))=TRUE,\"\",VLOOKUP(B9,入力AA2!$B$8:$GU$58,オフセット番号A!$I$19+1)),\"*\"))","v":"内容15,7"},{"$f":"IF($F$5=1,項目表示入力!$J$21,IF($F$5=2,IF(ISERROR(VLOOKUP(B9,入力AA2!$B$8:$GU$58,オフセット番号A!$J$19+1))=TRUE,\"\",VLOOKUP(B9,入力AA2!$B$8:$GU$58,オフセット番号A!$J$19+1)),\"*\"))","v":"内容15,8"},{"$f":"IF($F$5=1,項目表示入力!$K$21,IF($F$5=2,IF(ISERROR(VLOOKUP(B9,入力AA2!$B$8:$GU$58,オフセット番号A!$K$19+1))=TRUE,\"\",VLOOKUP(B9,入力AA2!$B$8:$GU$58,オフセット番号A!$K$19+1)),\"*\"))","v":"内容15,9"},{"$f":"IF($F$5=1,項目表示入力!$L$21,IF($F$5=2,IF(ISERROR(VLOOKUP(B9,入力AA2!$B$8:$GU$58,オフセット番号A!$L$19+1))=TRUE,\"\",VLOOKUP(B9,入力AA2!$B$8:$GU$58,オフセット番号A!$L$19+1)),\"*\"))","v":"内容15,10"},{"$f":"IF($F$5=1,項目表示入力!$M$21,IF($F$5=2,IF(ISERROR(VLOOKUP(B9,入力AA2!$B$8:$GU$58,オフセット番号A!$M$19+1))=TRUE,\"\",VLOOKUP(B9,入力AA2!$B$8:$GU$58,オフセット番号A!$M$19+1)),\"*\"))","v":"内容15,11"},{"$f":"IF($F$5=1,項目表示入力!$N$21,IF($F$5=2,IF(ISERROR(VLOOKUP(B9,入力AA2!$B$8:$GU$58,オフセット番号A!$N$19+1))=TRUE,\"\",VLOOKUP(B9,入力AA2!$B$8:$GU$58,オフセット番号A!$N$19+1)),\"*\"))","v":"内容15,12"},{"$f":"IF($F$5=1,項目表示入力!$O$21,IF($F$5=2,IF(ISERROR(VLOOKUP(B9,入力AA2!$B$8:$GU$58,オフセット番号A!$O$19+1))=TRUE,\"\",VLOOKUP(B9,入力AA2!$B$8:$GU$58,オフセット番号A!$O$19+1)),\"*\"))","v":"内容15,13"},{"$f":"IF($F$5=1,項目表示入力!$P$21,IF($F$5=2,IF(ISERROR(VLOOKUP(B9,入力AA2!$B$8:$GU$58,オフセット番号A!$P$19+1))=TRUE,\"\",VLOOKUP(B9,入力AA2!$B$8:$GU$58,オフセット番号A!$P$19+1)),\"*\"))","v":"内容15,14"},{"$f":"IF($F$5=1,項目表示入力!$Q$21,IF($F$5=2,IF(ISERROR(VLOOKUP(B9,入力AA2!$B$8:$GU$58,オフセット番号A!$Q$19+1))=TRUE,\"\",VLOOKUP(B9,入力AA2!$B$8:$GU$58,オフセット番号A!$Q$19+1)),\"*\"))","v":"内容15,15"},{"$f":"IF($F$5=1,項目表示入力!$R$21,IF($F$5=2,IF(ISERROR(VLOOKUP(B9,入力AA2!$B$8:$GU$58,オフセット番号A!$R$19+1))=TRUE,\"\",VLOOKUP(B9,入力AA2!$B$8:$GU$58,オフセット番号A!$R$19+1)),\"*\"))","v":"内容15,16"},{"$f":"IF($F$5=1,項目表示入力!$S$21,IF($F$5=2,IF(ISERROR(VLOOKUP(B9,入力AA2!$B$8:$GU$58,オフセット番号A!$S$19+1))=TRUE,\"\",VLOOKUP(B9,入力AA2!$B$8:$GU$58,オフセット番号A!$S$19+1)),\"*\"))","v":"内容15,17"},{"$f":"IF($F$5=1,項目表示入力!$T$21,IF($F$5=2,IF(ISERROR(VLOOKUP(B9,入力AA2!$B$8:$GU$58,オフセット番号A!$T$19+1))=TRUE,\"\",VLOOKUP(B9,入力AA2!$B$8:$GU$58,オフセット番号A!$T$19+1)),\"*\"))","v":"内容15,18"},{"$f":"IF($F$5=1,項目表示入力!$U$21,IF($F$5=2,IF(ISERROR(VLOOKUP(B9,入力AA2!$B$8:$GU$58,オフセット番号A!$U$19+1))=TRUE,\"\",VLOOKUP(B9,入力AA2!$B$8:$GU$58,オフセット番号A!$U$19+1)),\"*\"))","v":"内容15,19"},{"$f":"IF($F$5=1,項目表示入力!$V$21,IF($F$5=2,IF(ISERROR(VLOOKUP(B9,入力AA2!$B$8:$GU$58,オフセット番号A!$V$19+1))=TRUE,\"\",VLOOKUP(B9,入力AA2!$B$8:$GU$58,オフセット番号A!$V$19+1)),\"*\"))","v":"内容15,20"}]
[null,{"$f":"IF(行列入力項目!$C$20=\"\",\"\",行列入力項目!$C$20)","v":"行16"},{"$f":"IF($F$5=1,項目表示入力!$C$22,IF($F$5=2,IF(ISERROR(VLOOKUP(B9,入力AA2!$B$8:$GU$58,オフセット番号A!$C$20+1))=TRUE,\"\",VLOOKUP(B9,入力AA2!$B$8:$GU$58,オフセット番号A!$C$20+1)),\"*\"))","v":"内容16,1"},{"$f":"IF($F$5=1,項目表示入力!$D$22,IF($F$5=2,IF(ISERROR(VLOOKUP(B9,入力AA2!$B$8:$GU$58,オフセット番号A!$D$20+1))=TRUE,\"\",VLOOKUP(B9,入力AA2!$B$8:$GU$58,オフセット番号A!$D$20+1)),\"*\"))","v":"内容16,2"},{"$f":"IF($F$5=1,項目表示入力!$E$22,IF($F$5=2,IF(ISERROR(VLOOKUP(B9,入力AA2!$B$8:$GU$58,オフセット番号A!$E$20+1))=TRUE,\"\",VLOOKUP(B9,入力AA2!$B$8:$GU$58,オフセット番号A!$E$20+1)),\"*\"))","v":"内容16,3"},{"$f":"IF($F$5=1,項目表示入力!$F$22,IF($F$5=2,IF(ISERROR(VLOOKUP(B9,入力AA2!$B$8:$GU$58,オフセット番号A!$F$20+1))=TRUE,\"\",VLOOKUP(B9,入力AA2!$B$8:$GU$58,オフセット番号A!$F$20+1)),\"*\"))","v":"内容16,4"},{"$f":"IF($F$5=1,項目表示入力!$G$22,IF($F$5=2,IF(ISERROR(VLOOKUP(B9,入力AA2!$B$8:$GU$58,オフセット番号A!$G$20+1))=TRUE,\"\",VLOOKUP(B9,入力AA2!$B$8:$GU$58,オフセット番号A!$G$20+1)),\"*\"))","v":"内容16,5"},{"$f":"IF($F$5=1,項目表示入力!$H$22,IF($F$5=2,IF(ISERROR(VLOOKUP(B9,入力AA2!$B$8:$GU$58,オフセット番号A!$H$20+1))=TRUE,\"\",VLOOKUP(B9,入力AA2!$B$8:$GU$58,オフセット番号A!$H$20+1)),\"*\"))","v":"内容16,6"},{"$f":"IF($F$5=1,項目表示入力!$I$22,IF($F$5=2,IF(ISERROR(VLOOKUP(B9,入力AA2!$B$8:$GU$58,オフセット番号A!$I$20+1))=TRUE,\"\",VLOOKUP(B9,入力AA2!$B$8:$GU$58,オフセット番号A!$I$20+1)),\"*\"))","v":"内容16,7"},{"$f":"IF($F$5=1,項目表示入力!$J$22,IF($F$5=2,IF(ISERROR(VLOOKUP(B9,入力AA2!$B$8:$GU$58,オフセット番号A!$J$20+1))=TRUE,\"\",VLOOKUP(B9,入力AA2!$B$8:$GU$58,オフセット番号A!$J$20+1)),\"*\"))","v":"内容16,8"},{"$f":"IF($F$5=1,項目表示入力!$K$22,IF($F$5=2,IF(ISERROR(VLOOKUP(B9,入力AA2!$B$8:$GU$58,オフセット番号A!$K$20+1))=TRUE,\"\",VLOOKUP(B9,入力AA2!$B$8:$GU$58,オフセット番号A!$K$20+1)),\"*\"))","v":"内容16,9"},{"$f":"IF($F$5=1,項目表示入力!$L$22,IF($F$5=2,IF(ISERROR(VLOOKUP(B9,入力AA2!$B$8:$GU$58,オフセット番号A!$L$20+1))=TRUE,\"\",VLOOKUP(B9,入力AA2!$B$8:$GU$58,オフセット番号A!$L$20+1)),\"*\"))","v":"内容16,10"},{"$f":"IF($F$5=1,項目表示入力!$M$22,IF($F$5=2,IF(ISERROR(VLOOKUP(B9,入力AA2!$B$8:$GU$58,オフセット番号A!$M$20+1))=TRUE,\"\",VLOOKUP(B9,入力AA2!$B$8:$GU$58,オフセット番号A!$M$20+1)),\"*\"))","v":"内容16,11"},{"$f":"IF($F$5=1,項目表示入力!$N$22,IF($F$5=2,IF(ISERROR(VLOOKUP(B9,入力AA2!$B$8:$GU$58,オフセット番号A!$N$20+1))=TRUE,\"\",VLOOKUP(B9,入力AA2!$B$8:$GU$58,オフセット番号A!$N$20+1)),\"*\"))","v":"内容16,12"},{"$f":"IF($F$5=1,項目表示入力!$O$22,IF($F$5=2,IF(ISERROR(VLOOKUP(B9,入力AA2!$B$8:$GU$58,オフセット番号A!$O$20+1))=TRUE,\"\",VLOOKUP(B9,入力AA2!$B$8:$GU$58,オフセット番号A!$O$20+1)),\"*\"))","v":"内容16,13"},{"$f":"IF($F$5=1,項目表示入力!$P$22,IF($F$5=2,IF(ISERROR(VLOOKUP(B9,入力AA2!$B$8:$GU$58,オフセット番号A!$P$20+1))=TRUE,\"\",VLOOKUP(B9,入力AA2!$B$8:$GU$58,オフセット番号A!$P$20+1)),\"*\"))","v":"内容16,14"},{"$f":"IF($F$5=1,項目表示入力!$Q$22,IF($F$5=2,IF(ISERROR(VLOOKUP(B9,入力AA2!$B$8:$GU$58,オフセット番号A!$Q$20+1))=TRUE,\"\",VLOOKUP(B9,入力AA2!$B$8:$GU$58,オフセット番号A!$Q$20+1)),\"*\"))","v":"内容16,15"},{"$f":"IF($F$5=1,項目表示入力!$R$22,IF($F$5=2,IF(ISERROR(VLOOKUP(B9,入力AA2!$B$8:$GU$58,オフセット番号A!$R$20+1))=TRUE,\"\",VLOOKUP(B9,入力AA2!$B$8:$GU$58,オフセット番号A!$R$20+1)),\"*\"))","v":"内容16,16"},{"$f":"IF($F$5=1,項目表示入力!$S$22,IF($F$5=2,IF(ISERROR(VLOOKUP(B9,入力AA2!$B$8:$GU$58,オフセット番号A!$S$20+1))=TRUE,\"\",VLOOKUP(B9,入力AA2!$B$8:$GU$58,オフセット番号A!$S$20+1)),\"*\"))","v":"内容16,17"},{"$f":"IF($F$5=1,項目表示入力!$T$22,IF($F$5=2,IF(ISERROR(VLOOKUP(B9,入力AA2!$B$8:$GU$58,オフセット番号A!$T$20+1))=TRUE,\"\",VLOOKUP(B9,入力AA2!$B$8:$GU$58,オフセット番号A!$T$20+1)),\"*\"))","v":"内容16,18"},{"$f":"IF($F$5=1,項目表示入力!$U$22,IF($F$5=2,IF(ISERROR(VLOOKUP(B9,入力AA2!$B$8:$GU$58,オフセット番号A!$U$20+1))=TRUE,\"\",VLOOKUP(B9,入力AA2!$B$8:$GU$58,オフセット番号A!$U$20+1)),\"*\"))","v":"内容16,19"},{"$f":"IF($F$5=1,項目表示入力!$V$22,IF($F$5=2,IF(ISERROR(VLOOKUP(B9,入力AA2!$B$8:$GU$58,オフセット番号A!$V$20+1))=TRUE,\"\",VLOOKUP(B9,入力AA2!$B$8:$GU$58,オフセット番号A!$V$20+1)),\"*\"))","v":"内容16,20"}]
[null,{"$f":"IF(行列入力項目!$C$21=\"\",\"\",行列入力項目!$C$21)","v":"行17"},{"$f":"IF($F$5=1,項目表示入力!$C$23,IF($F$5=2,IF(ISERROR(VLOOKUP(B9,入力AA2!$B$8:$GU$58,オフセット番号A!$C$21+1))=TRUE,\"\",VLOOKUP(B9,入力AA2!$B$8:$GU$58,オフセット番号A!$C$21+1)),\"*\"))","v":"内容17,1"},{"$f":"IF($F$5=1,項目表示入力!$D$23,IF($F$5=2,IF(ISERROR(VLOOKUP(B9,入力AA2!$B$8:$GU$58,オフセット番号A!$D$21+1))=TRUE,\"\",VLOOKUP(B9,入力AA2!$B$8:$GU$58,オフセット番号A!$D$21+1)),\"*\"))","v":"内容17,2"},{"$f":"IF($F$5=1,項目表示入力!$E$23,IF($F$5=2,IF(ISERROR(VLOOKUP(B9,入力AA2!$B$8:$GU$58,オフセット番号A!$E$21+1))=TRUE,\"\",VLOOKUP(B9,入力AA2!$B$8:$GU$58,オフセット番号A!$E$21+1)),\"*\"))","v":"内容17,3"},{"$f":"IF($F$5=1,項目表示入力!$F$23,IF($F$5=2,IF(ISERROR(VLOOKUP(B9,入力AA2!$B$8:$GU$58,オフセット番号A!$F$21+1))=TRUE,\"\",VLOOKUP(B9,入力AA2!$B$8:$GU$58,オフセット番号A!$F$21+1)),\"*\"))","v":"内容17,4"},{"$f":"IF($F$5=1,項目表示入力!$G$23,IF($F$5=2,IF(ISERROR(VLOOKUP(B9,入力AA2!$B$8:$GU$58,オフセット番号A!$G$21+1))=TRUE,\"\",VLOOKUP(B9,入力AA2!$B$8:$GU$58,オフセット番号A!$G$21+1)),\"*\"))","v":"内容17,5"},{"$f":"IF($F$5=1,項目表示入力!$H$23,IF($F$5=2,IF(ISERROR(VLOOKUP(B9,入力AA2!$B$8:$GU$58,オフセット番号A!$H$21+1))=TRUE,\"\",VLOOKUP(B9,入力AA2!$B$8:$GU$58,オフセット番号A!$H$21+1)),\"*\"))","v":"内容17,6"},{"$f":"IF($F$5=1,項目表示入力!$I$23,IF($F$5=2,IF(ISERROR(VLOOKUP(B9,入力AA2!$B$8:$GU$58,オフセット番号A!$I$21+1))=TRUE,\"\",VLOOKUP(B9,入力AA2!$B$8:$GU$58,オフセット番号A!$I$21+1)),\"*\"))","v":"内容17,7"},{"$f":"IF($F$5=1,項目表示入力!$J$23,IF($F$5=2,IF(ISERROR(VLOOKUP(B9,入力AA2!$B$8:$GU$58,オフセット番号A!$J$21+1))=TRUE,\"\",VLOOKUP(B9,入力AA2!$B$8:$GU$58,オフセット番号A!$J$21+1)),\"*\"))","v":"内容17,8"},{"$f":"IF($F$5=1,項目表示入力!$K$23,IF($F$5=2,IF(ISERROR(VLOOKUP(B9,入力AA2!$B$8:$GU$58,オフセット番号A!$K$21+1))=TRUE,\"\",VLOOKUP(B9,入力AA2!$B$8:$GU$58,オフセット番号A!$K$21+1)),\"*\"))","v":"内容17,9"},{"$f":"IF($F$5=1,項目表示入力!$L$23,IF($F$5=2,IF(ISERROR(VLOOKUP(B9,入力AA2!$B$8:$GU$58,オフセット番号A!$L$21+1))=TRUE,\"\",VLOOKUP(B9,入力AA2!$B$8:$GU$58,オフセット番号A!$L$21+1)),\"*\"))","v":"内容17,10"},{"$f":"IF($F$5=1,項目表示入力!$M$23,IF($F$5=2,IF(ISERROR(VLOOKUP(B9,入力AA2!$B$8:$GU$58,オフセット番号A!$M$21+1))=TRUE,\"\",VLOOKUP(B9,入力AA2!$B$8:$GU$58,オフセット番号A!$M$21+1)),\"*\"))","v":"内容17,11"},{"$f":"IF($F$5=1,項目表示入力!$N$23,IF($F$5=2,IF(ISERROR(VLOOKUP(B9,入力AA2!$B$8:$GU$58,オフセット番号A!$N$21+1))=TRUE,\"\",VLOOKUP(B9,入力AA2!$B$8:$GU$58,オフセット番号A!$N$21+1)),\"*\"))","v":"内容17,12"},{"$f":"IF($F$5=1,項目表示入力!$O$23,IF($F$5=2,IF(ISERROR(VLOOKUP(B9,入力AA2!$B$8:$GU$58,オフセット番号A!$O$21+1))=TRUE,\"\",VLOOKUP(B9,入力AA2!$B$8:$GU$58,オフセット番号A!$O$21+1)),\"*\"))","v":"内容17,13"},{"$f":"IF($F$5=1,項目表示入力!$P$23,IF($F$5=2,IF(ISERROR(VLOOKUP(B9,入力AA2!$B$8:$GU$58,オフセット番号A!$P$21+1))=TRUE,\"\",VLOOKUP(B9,入力AA2!$B$8:$GU$58,オフセット番号A!$P$21+1)),\"*\"))","v":"内容17,14"},{"$f":"IF($F$5=1,項目表示入力!$Q$23,IF($F$5=2,IF(ISERROR(VLOOKUP(B9,入力AA2!$B$8:$GU$58,オフセット番号A!$Q$21+1))=TRUE,\"\",VLOOKUP(B9,入力AA2!$B$8:$GU$58,オフセット番号A!$Q$21+1)),\"*\"))","v":"内容17,15"},{"$f":"IF($F$5=1,項目表示入力!$R$23,IF($F$5=2,IF(ISERROR(VLOOKUP(B9,入力AA2!$B$8:$GU$58,オフセット番号A!$R$21+1))=TRUE,\"\",VLOOKUP(B9,入力AA2!$B$8:$GU$58,オフセット番号A!$R$21+1)),\"*\"))","v":"内容17,16"},{"$f":"IF($F$5=1,項目表示入力!$S$23,IF($F$5=2,IF(ISERROR(VLOOKUP(B9,入力AA2!$B$8:$GU$58,オフセット番号A!$S$21+1))=TRUE,\"\",VLOOKUP(B9,入力AA2!$B$8:$GU$58,オフセット番号A!$S$21+1)),\"*\"))","v":"内容17,17"},{"$f":"IF($F$5=1,項目表示入力!$T$23,IF($F$5=2,IF(ISERROR(VLOOKUP(B9,入力AA2!$B$8:$GU$58,オフセット番号A!$T$21+1))=TRUE,\"\",VLOOKUP(B9,入力AA2!$B$8:$GU$58,オフセット番号A!$T$21+1)),\"*\"))","v":"内容17,18"},{"$f":"IF($F$5=1,項目表示入力!$U$23,IF($F$5=2,IF(ISERROR(VLOOKUP(B9,入力AA2!$B$8:$GU$58,オフセット番号A!$U$21+1))=TRUE,\"\",VLOOKUP(B9,入力AA2!$B$8:$GU$58,オフセット番号A!$U$21+1)),\"*\"))","v":"内容17,19"},{"$f":"IF($F$5=1,項目表示入力!$V$23,IF($F$5=2,IF(ISERROR(VLOOKUP(B9,入力AA2!$B$8:$GU$58,オフセット番号A!$V$21+1))=TRUE,\"\",VLOOKUP(B9,入力AA2!$B$8:$GU$58,オフセット番号A!$V$21+1)),\"*\"))","v":"内容17,20"}]
[null,{"$f":"IF(行列入力項目!$C$22=\"\",\"\",行列入力項目!$C$22)","v":"行18"},{"$f":"IF($F$5=1,項目表示入力!$C$24,IF($F$5=2,IF(ISERROR(VLOOKUP(B9,入力AA2!$B$8:$GU$58,オフセット番号A!$C$22+1))=TRUE,\"\",VLOOKUP(B9,入力AA2!$B$8:$GU$58,オフセット番号A!$C$22+1)),\"*\"))","v":"内容18,1"},{"$f":"IF($F$5=1,項目表示入力!$D$24,IF($F$5=2,IF(ISERROR(VLOOKUP(B9,入力AA2!$B$8:$GU$58,オフセット番号A!$D$22+1))=TRUE,\"\",VLOOKUP(B9,入力AA2!$B$8:$GU$58,オフセット番号A!$D$22+1)),\"*\"))","v":"内容18,2"},{"$f":"IF($F$5=1,項目表示入力!$E$24,IF($F$5=2,IF(ISERROR(VLOOKUP(B9,入力AA2!$B$8:$GU$58,オフセット番号A!$E$22+1))=TRUE,\"\",VLOOKUP(B9,入力AA2!$B$8:$GU$58,オフセット番号A!$E$22+1)),\"*\"))","v":"内容18,3"},{"$f":"IF($F$5=1,項目表示入力!$F$24,IF($F$5=2,IF(ISERROR(VLOOKUP(B9,入力AA2!$B$8:$GU$58,オフセット番号A!$F$22+1))=TRUE,\"\",VLOOKUP(B9,入力AA2!$B$8:$GU$58,オフセット番号A!$F$22+1)),\"*\"))","v":"内容18,4"},{"$f":"IF($F$5=1,項目表示入力!$G$24,IF($F$5=2,IF(ISERROR(VLOOKUP(B9,入力AA2!$B$8:$GU$58,オフセット番号A!$G$22+1))=TRUE,\"\",VLOOKUP(B9,入力AA2!$B$8:$GU$58,オフセット番号A!$G$22+1)),\"*\"))","v":"内容18,5"},{"$f":"IF($F$5=1,項目表示入力!$H$24,IF($F$5=2,IF(ISERROR(VLOOKUP(B9,入力AA2!$B$8:$GU$58,オフセット番号A!$H$22+1))=TRUE,\"\",VLOOKUP(B9,入力AA2!$B$8:$GU$58,オフセット番号A!$H$22+1)),\"*\"))","v":"内容18,6"},{"$f":"IF($F$5=1,項目表示入力!$I$24,IF($F$5=2,IF(ISERROR(VLOOKUP(B9,入力AA2!$B$8:$GU$58,オフセット番号A!$I$22+1))=TRUE,\"\",VLOOKUP(B9,入力AA2!$B$8:$GU$58,オフセット番号A!$I$22+1)),\"*\"))","v":"内容18,7"},{"$f":"IF($F$5=1,項目表示入力!$J$24,IF($F$5=2,IF(ISERROR(VLOOKUP(B9,入力AA2!$B$8:$GU$58,オフセット番号A!$J$22+1))=TRUE,\"\",VLOOKUP(B9,入力AA2!$B$8:$GU$58,オフセット番号A!$J$22+1)),\"*\"))","v":"内容18,8"},{"$f":"IF($F$5=1,項目表示入力!$K$24,IF($F$5=2,IF(ISERROR(VLOOKUP(B9,入力AA2!$B$8:$GU$58,オフセット番号A!$K$22+1))=TRUE,\"\",VLOOKUP(B9,入力AA2!$B$8:$GU$58,オフセット番号A!$K$22+1)),\"*\"))","v":"内容18,9"},{"$f":"IF($F$5=1,項目表示入力!$L$24,IF($F$5=2,IF(ISERROR(VLOOKUP(B9,入力AA2!$B$8:$GU$58,オフセット番号A!$L$22+1))=TRUE,\"\",VLOOKUP(B9,入力AA2!$B$8:$GU$58,オフセット番号A!$L$22+1)),\"*\"))","v":"内容18,10"},{"$f":"IF($F$5=1,項目表示入力!$M$24,IF($F$5=2,IF(ISERROR(VLOOKUP(B9,入力AA2!$B$8:$GU$58,オフセット番号A!$M$22+1))=TRUE,\"\",VLOOKUP(B9,入力AA2!$B$8:$GU$58,オフセット番号A!$M$22+1)),\"*\"))","v":"内容18,11"},{"$f":"IF($F$5=1,項目表示入力!$N$24,IF($F$5=2,IF(ISERROR(VLOOKUP(B9,入力AA2!$B$8:$GU$58,オフセット番号A!$N$22+1))=TRUE,\"\",VLOOKUP(B9,入力AA2!$B$8:$GU$58,オフセット番号A!$N$22+1)),\"*\"))","v":"内容18,12"},{"$f":"IF($F$5=1,項目表示入力!$O$24,IF($F$5=2,IF(ISERROR(VLOOKUP(B9,入力AA2!$B$8:$GU$58,オフセット番号A!$O$22+1))=TRUE,\"\",VLOOKUP(B9,入力AA2!$B$8:$GU$58,オフセット番号A!$O$22+1)),\"*\"))","v":"内容18,13"},{"$f":"IF($F$5=1,項目表示入力!$P$24,IF($F$5=2,IF(ISERROR(VLOOKUP(B9,入力AA2!$B$8:$GU$58,オフセット番号A!$P$22+1))=TRUE,\"\",VLOOKUP(B9,入力AA2!$B$8:$GU$58,オフセット番号A!$P$22+1)),\"*\"))","v":"内容18,14"},{"$f":"IF($F$5=1,項目表示入力!$Q$24,IF($F$5=2,IF(ISERROR(VLOOKUP(B9,入力AA2!$B$8:$GU$58,オフセット番号A!$Q$22+1))=TRUE,\"\",VLOOKUP(B9,入力AA2!$B$8:$GU$58,オフセット番号A!$Q$22+1)),\"*\"))","v":"内容18,15"},{"$f":"IF($F$5=1,項目表示入力!$R$24,IF($F$5=2,IF(ISERROR(VLOOKUP(B9,入力AA2!$B$8:$GU$58,オフセット番号A!$R$22+1))=TRUE,\"\",VLOOKUP(B9,入力AA2!$B$8:$GU$58,オフセット番号A!$R$22+1)),\"*\"))","v":"内容18,16"},{"$f":"IF($F$5=1,項目表示入力!$S$24,IF($F$5=2,IF(ISERROR(VLOOKUP(B9,入力AA2!$B$8:$GU$58,オフセット番号A!$S$22+1))=TRUE,\"\",VLOOKUP(B9,入力AA2!$B$8:$GU$58,オフセット番号A!$S$22+1)),\"*\"))","v":"内容18,17"},{"$f":"IF($F$5=1,項目表示入力!$T$24,IF($F$5=2,IF(ISERROR(VLOOKUP(B9,入力AA2!$B$8:$GU$58,オフセット番号A!$T$22+1))=TRUE,\"\",VLOOKUP(B9,入力AA2!$B$8:$GU$58,オフセット番号A!$T$22+1)),\"*\"))","v":"内容18,18"},{"$f":"IF($F$5=1,項目表示入力!$U$24,IF($F$5=2,IF(ISERROR(VLOOKUP(B9,入力AA2!$B$8:$GU$58,オフセット番号A!$U$22+1))=TRUE,\"\",VLOOKUP(B9,入力AA2!$B$8:$GU$58,オフセット番号A!$U$22+1)),\"*\"))","v":"内容18,19"},{"$f":"IF($F$5=1,項目表示入力!$V$24,IF($F$5=2,IF(ISERROR(VLOOKUP(B9,入力AA2!$B$8:$GU$58,オフセット番号A!$V$22+1))=TRUE,\"\",VLOOKUP(B9,入力AA2!$B$8:$GU$58,オフセット番号A!$V$22+1)),\"*\"))","v":"内容18,20"}]
[null,{"$f":"IF(行列入力項目!$C$23=\"\",\"\",行列入力項目!$C$23)","v":"行19"},{"$f":"IF($F$5=1,項目表示入力!$C$25,IF($F$5=2,IF(ISERROR(VLOOKUP(B9,入力AA2!$B$8:$GU$58,オフセット番号A!$C$23+1))=TRUE,\"\",VLOOKUP(B9,入力AA2!$B$8:$GU$58,オフセット番号A!$C$23+1)),\"*\"))","v":"内容19,1"},{"$f":"IF($F$5=1,項目表示入力!$D$25,IF($F$5=2,IF(ISERROR(VLOOKUP(B9,入力AA2!$B$8:$GU$58,オフセット番号A!$D$23+1))=TRUE,\"\",VLOOKUP(B9,入力AA2!$B$8:$GU$58,オフセット番号A!$D$23+1)),\"*\"))","v":"内容19,2"},{"$f":"IF($F$5=1,項目表示入力!$E$25,IF($F$5=2,IF(ISERROR(VLOOKUP(B9,入力AA2!$B$8:$GU$58,オフセット番号A!$E$23+1))=TRUE,\"\",VLOOKUP(B9,入力AA2!$B$8:$GU$58,オフセット番号A!$E$23+1)),\"*\"))","v":"内容19,3"},{"$f":"IF($F$5=1,項目表示入力!$F$25,IF($F$5=2,IF(ISERROR(VLOOKUP(B9,入力AA2!$B$8:$GU$58,オフセット番号A!$F$23+1))=TRUE,\"\",VLOOKUP(B9,入力AA2!$B$8:$GU$58,オフセット番号A!$F$23+1)),\"*\"))","v":"内容19,4"},{"$f":"IF($F$5=1,項目表示入力!$G$25,IF($F$5=2,IF(ISERROR(VLOOKUP(B9,入力AA2!$B$8:$GU$58,オフセット番号A!$G$23+1))=TRUE,\"\",VLOOKUP(B9,入力AA2!$B$8:$GU$58,オフセット番号A!$G$23+1)),\"*\"))","v":"内容19,5"},{"$f":"IF($F$5=1,項目表示入力!$H$25,IF($F$5=2,IF(ISERROR(VLOOKUP(B9,入力AA2!$B$8:$GU$58,オフセット番号A!$H$23+1))=TRUE,\"\",VLOOKUP(B9,入力AA2!$B$8:$GU$58,オフセット番号A!$H$23+1)),\"*\"))","v":"内容19,6"},{"$f":"IF($F$5=1,項目表示入力!$I$25,IF($F$5=2,IF(ISERROR(VLOOKUP(B9,入力AA2!$B$8:$GU$58,オフセット番号A!$I$23+1))=TRUE,\"\",VLOOKUP(B9,入力AA2!$B$8:$GU$58,オフセット番号A!$I$23+1)),\"*\"))","v":"内容19,7"},{"$f":"IF($F$5=1,項目表示入力!$J$25,IF($F$5=2,IF(ISERROR(VLOOKUP(B9,入力AA2!$B$8:$GU$58,オフセット番号A!$J$23+1))=TRUE,\"\",VLOOKUP(B9,入力AA2!$B$8:$GU$58,オフセット番号A!$J$23+1)),\"*\"))","v":"内容19,8"},{"$f":"IF($F$5=1,項目表示入力!$K$25,IF($F$5=2,IF(ISERROR(VLOOKUP(B9,入力AA2!$B$8:$GU$58,オフセット番号A!$K$23+1))=TRUE,\"\",VLOOKUP(B9,入力AA2!$B$8:$GU$58,オフセット番号A!$K$23+1)),\"*\"))","v":"内容19,9"},{"$f":"IF($F$5=1,項目表示入力!$L$25,IF($F$5=2,IF(ISERROR(VLOOKUP(B9,入力AA2!$B$8:$GU$58,オフセット番号A!$L$23+1))=TRUE,\"\",VLOOKUP(B9,入力AA2!$B$8:$GU$58,オフセット番号A!$L$23+1)),\"*\"))","v":"内容19,10"},{"$f":"IF($F$5=1,項目表示入力!$M$25,IF($F$5=2,IF(ISERROR(VLOOKUP(B9,入力AA2!$B$8:$GU$58,オフセット番号A!$M$23+1))=TRUE,\"\",VLOOKUP(B9,入力AA2!$B$8:$GU$58,オフセット番号A!$M$23+1)),\"*\"))","v":"内容19,11"},{"$f":"IF($F$5=1,項目表示入力!$N$25,IF($F$5=2,IF(ISERROR(VLOOKUP(B9,入力AA2!$B$8:$GU$58,オフセット番号A!$N$23+1))=TRUE,\"\",VLOOKUP(B9,入力AA2!$B$8:$GU$58,オフセット番号A!$N$23+1)),\"*\"))","v":"内容19,12"},{"$f":"IF($F$5=1,項目表示入力!$O$25,IF($F$5=2,IF(ISERROR(VLOOKUP(B9,入力AA2!$B$8:$GU$58,オフセット番号A!$O$23+1))=TRUE,\"\",VLOOKUP(B9,入力AA2!$B$8:$GU$58,オフセット番号A!$O$23+1)),\"*\"))","v":"内容19,13"},{"$f":"IF($F$5=1,項目表示入力!$P$25,IF($F$5=2,IF(ISERROR(VLOOKUP(B9,入力AA2!$B$8:$GU$58,オフセット番号A!$P$23+1))=TRUE,\"\",VLOOKUP(B9,入力AA2!$B$8:$GU$58,オフセット番号A!$P$23+1)),\"*\"))","v":"内容19,14"},{"$f":"IF($F$5=1,項目表示入力!$Q$25,IF($F$5=2,IF(ISERROR(VLOOKUP(B9,入力AA2!$B$8:$GU$58,オフセット番号A!$Q$23+1))=TRUE,\"\",VLOOKUP(B9,入力AA2!$B$8:$GU$58,オフセット番号A!$Q$23+1)),\"*\"))","v":"内容19,15"},{"$f":"IF($F$5=1,項目表示入力!$R$25,IF($F$5=2,IF(ISERROR(VLOOKUP(B9,入力AA2!$B$8:$GU$58,オフセット番号A!$R$23+1))=TRUE,\"\",VLOOKUP(B9,入力AA2!$B$8:$GU$58,オフセット番号A!$R$23+1)),\"*\"))","v":"内容19,16"},{"$f":"IF($F$5=1,項目表示入力!$S$25,IF($F$5=2,IF(ISERROR(VLOOKUP(B9,入力AA2!$B$8:$GU$58,オフセット番号A!$S$23+1))=TRUE,\"\",VLOOKUP(B9,入力AA2!$B$8:$GU$58,オフセット番号A!$S$23+1)),\"*\"))","v":"内容19,17"},{"$f":"IF($F$5=1,項目表示入力!$T$25,IF($F$5=2,IF(ISERROR(VLOOKUP(B9,入力AA2!$B$8:$GU$58,オフセット番号A!$T$23+1))=TRUE,\"\",VLOOKUP(B9,入力AA2!$B$8:$GU$58,オフセット番号A!$T$23+1)),\"*\"))","v":"内容19,18"},{"$f":"IF($F$5=1,項目表示入力!$U$25,IF($F$5=2,IF(ISERROR(VLOOKUP(B9,入力AA2!$B$8:$GU$58,オフセット番号A!$U$23+1))=TRUE,\"\",VLOOKUP(B9,入力AA2!$B$8:$GU$58,オフセット番号A!$U$23+1)),\"*\"))","v":"内容19,19"},{"$f":"IF($F$5=1,項目表示入力!$V$25,IF($F$5=2,IF(ISERROR(VLOOKUP(B9,入力AA2!$B$8:$GU$58,オフセット番号A!$V$23+1))=TRUE,\"\",VLOOKUP(B9,入力AA2!$B$8:$GU$58,オフセット番号A!$V$23+1)),\"*\"))","v":"内容19,20"}]
[null,{"$f":"IF(行列入力項目!$C$24=\"\",\"\",行列入力項目!$C$24)","v":"行20"},{"$f":"IF($F$5=1,項目表示入力!$C$26,IF($F$5=2,IF(ISERROR(VLOOKUP(B9,入力AA2!$B$8:$GU$58,オフセット番号A!$C$24+1))=TRUE,\"\",VLOOKUP(B9,入力AA2!$B$8:$GU$58,オフセット番号A!$C$24+1)),\"*\"))","v":"内容20,1"},{"$f":"IF($F$5=1,項目表示入力!$D$26,IF($F$5=2,IF(ISERROR(VLOOKUP(B9,入力AA2!$B$8:$GU$58,オフセット番号A!$D$24+1))=TRUE,\"\",VLOOKUP(B9,入力AA2!$B$8:$GU$58,オフセット番号A!$D$24+1)),\"*\"))","v":"内容20,2"},{"$f":"IF($F$5=1,項目表示入力!$E$26,IF($F$5=2,IF(ISERROR(VLOOKUP(B9,入力AA2!$B$8:$GU$58,オフセット番号A!$E$24+1))=TRUE,\"\",VLOOKUP(B9,入力AA2!$B$8:$GU$58,オフセット番号A!$E$24+1)),\"*\"))","v":"内容20,3"},{"$f":"IF($F$5=1,項目表示入力!$F$26,IF($F$5=2,IF(ISERROR(VLOOKUP(B9,入力AA2!$B$8:$GU$58,オフセット番号A!$F$24+1))=TRUE,\"\",VLOOKUP(B9,入力AA2!$B$8:$GU$58,オフセット番号A!$F$24+1)),\"*\"))","v":"内容20,4"},{"$f":"IF($F$5=1,項目表示入力!$G$26,IF($F$5=2,IF(ISERROR(VLOOKUP(B9,入力AA2!$B$8:$GU$58,オフセット番号A!$G$24+1))=TRUE,\"\",VLOOKUP(B9,入力AA2!$B$8:$GU$58,オフセット番号A!$G$24+1)),\"*\"))","v":"内容20,5"},{"$f":"IF($F$5=1,項目表示入力!$H$26,IF($F$5=2,IF(ISERROR(VLOOKUP(B9,入力AA2!$B$8:$GU$58,オフセット番号A!$H$24+1))=TRUE,\"\",VLOOKUP(B9,入力AA2!$B$8:$GU$58,オフセット番号A!$H$24+1)),\"*\"))","v":"内容20,6"},{"$f":"IF($F$5=1,項目表示入力!$I$26,IF($F$5=2,IF(ISERROR(VLOOKUP(B9,入力AA2!$B$8:$GU$58,オフセット番号A!$I$24+1))=TRUE,\"\",VLOOKUP(B9,入力AA2!$B$8:$GU$58,オフセット番号A!$I$24+1)),\"*\"))","v":"内容20,7"},{"$f":"IF($F$5=1,項目表示入力!$J$26,IF($F$5=2,IF(ISERROR(VLOOKUP(B9,入力AA2!$B$8:$GU$58,オフセット番号A!$J$24+1))=TRUE,\"\",VLOOKUP(B9,入力AA2!$B$8:$GU$58,オフセット番号A!$J$24+1)),\"*\"))","v":"内容20,8"},{"$f":"IF($F$5=1,項目表示入力!$K$26,IF($F$5=2,IF(ISERROR(VLOOKUP(B9,入力AA2!$B$8:$GU$58,オフセット番号A!$K$24+1))=TRUE,\"\",VLOOKUP(B9,入力AA2!$B$8:$GU$58,オフセット番号A!$K$24+1)),\"*\"))","v":"内容20,9"},{"$f":"IF($F$5=1,項目表示入力!$L$26,IF($F$5=2,IF(ISERROR(VLOOKUP(B9,入力AA2!$B$8:$GU$58,オフセット番号A!$L$24+1))=TRUE,\"\",VLOOKUP(B9,入力AA2!$B$8:$GU$58,オフセット番号A!$L$24+1)),\"*\"))","v":"内容20,10"},{"$f":"IF($F$5=1,項目表示入力!$M$26,IF($F$5=2,IF(ISERROR(VLOOKUP(B9,入力AA2!$B$8:$GU$58,オフセット番号A!$M$24+1))=TRUE,\"\",VLOOKUP(B9,入力AA2!$B$8:$GU$58,オフセット番号A!$M$24+1)),\"*\"))","v":"内容20,11"},{"$f":"IF($F$5=1,項目表示入力!$N$26,IF($F$5=2,IF(ISERROR(VLOOKUP(B9,入力AA2!$B$8:$GU$58,オフセット番号A!$N$24+1))=TRUE,\"\",VLOOKUP(B9,入力AA2!$B$8:$GU$58,オフセット番号A!$N$24+1)),\"*\"))","v":"内容20,12"},{"$f":"IF($F$5=1,項目表示入力!$O$26,IF($F$5=2,IF(ISERROR(VLOOKUP(B9,入力AA2!$B$8:$GU$58,オフセット番号A!$O$24+1))=TRUE,\"\",VLOOKUP(B9,入力AA2!$B$8:$GU$58,オフセット番号A!$O$24+1)),\"*\"))","v":"内容20,13"},{"$f":"IF($F$5=1,項目表示入力!$P$26,IF($F$5=2,IF(ISERROR(VLOOKUP(B9,入力AA2!$B$8:$GU$58,オフセット番号A!$P$24+1))=TRUE,\"\",VLOOKUP(B9,入力AA2!$B$8:$GU$58,オフセット番号A!$P$24+1)),\"*\"))","v":"内容20,14"},{"$f":"IF($F$5=1,項目表示入力!$Q$26,IF($F$5=2,IF(ISERROR(VLOOKUP(B9,入力AA2!$B$8:$GU$58,オフセット番号A!$Q$24+1))=TRUE,\"\",VLOOKUP(B9,入力AA2!$B$8:$GU$58,オフセット番号A!$Q$24+1)),\"*\"))","v":"内容20,15"},{"$f":"IF($F$5=1,項目表示入力!$R$26,IF($F$5=2,IF(ISERROR(VLOOKUP(B9,入力AA2!$B$8:$GU$58,オフセット番号A!$R$24+1))=TRUE,\"\",VLOOKUP(B9,入力AA2!$B$8:$GU$58,オフセット番号A!$R$24+1)),\"*\"))","v":"内容20,16"},{"$f":"IF($F$5=1,項目表示入力!$S$26,IF($F$5=2,IF(ISERROR(VLOOKUP(B9,入力AA2!$B$8:$GU$58,オフセット番号A!$S$24+1))=TRUE,\"\",VLOOKUP(B9,入力AA2!$B$8:$GU$58,オフセット番号A!$S$24+1)),\"*\"))","v":"内容20,17"},{"$f":"IF($F$5=1,項目表示入力!$T$26,IF($F$5=2,IF(ISERROR(VLOOKUP(B9,入力AA2!$B$8:$GU$58,オフセット番号A!$T$24+1))=TRUE,\"\",VLOOKUP(B9,入力AA2!$B$8:$GU$58,オフセット番号A!$T$24+1)),\"*\"))","v":"内容20,18"},{"$f":"IF($F$5=1,項目表示入力!$U$26,IF($F$5=2,IF(ISERROR(VLOOKUP(B9,入力AA2!$B$8:$GU$58,オフセット番号A!$U$24+1))=TRUE,\"\",VLOOKUP(B9,入力AA2!$B$8:$GU$58,オフセット番号A!$U$24+1)),\"*\"))","v":"内容20,19"},{"$f":"IF($F$5=1,項目表示入力!$V$26,IF($F$5=2,IF(ISERROR(VLOOKUP(B9,入力AA2!$B$8:$GU$58,オフセット番号A!$V$24+1))=TRUE,\"\",VLOOKUP(B9,入力AA2!$B$8:$GU$58,オフセット番号A!$V$24+1)),\"*\"))","v":"内容20,20"}]
[null,{"$f":"IF(行列入力項目!$C$25=\"\",\"\",行列入力項目!$C$25)","v":"行21"},{"$f":"IF($F$5=1,項目表示入力!$C$27,IF($F$5=2,IF(ISERROR(VLOOKUP(B9,入力AA3!$B$8:$GU$58,オフセット番号A!$C$25+1))=TRUE,\"\",VLOOKUP(B9,入力AA3!$B$8:$GU$58,オフセット番号A!$C$25+1)),\"*\"))","v":"内容21,1"},{"$f":"IF($F$5=1,項目表示入力!$D$27,IF($F$5=2,IF(ISERROR(VLOOKUP(B9,入力AA3!$B$8:$GU$58,オフセット番号A!$D$25+1))=TRUE,\"\",VLOOKUP(B9,入力AA3!$B$8:$GU$58,オフセット番号A!$D$25+1)),\"*\"))","v":"内容21,2"},{"$f":"IF($F$5=1,項目表示入力!$E$27,IF($F$5=2,IF(ISERROR(VLOOKUP(B9,入力AA3!$B$8:$GU$58,オフセット番号A!$E$25+1))=TRUE,\"\",VLOOKUP(B9,入力AA3!$B$8:$GU$58,オフセット番号A!$E$25+1)),\"*\"))","v":"内容21,3"},{"$f":"IF($F$5=1,項目表示入力!$F$27,IF($F$5=2,IF(ISERROR(VLOOKUP(B9,入力AA3!$B$8:$GU$58,オフセット番号A!$F$25+1))=TRUE,\"\",VLOOKUP(B9,入力AA3!$B$8:$GU$58,オフセット番号A!$F$25+1)),\"*\"))","v":"内容21,4"},{"$f":"IF($F$5=1,項目表示入力!$G$27,IF($F$5=2,IF(ISERROR(VLOOKUP(B9,入力AA3!$B$8:$GU$58,オフセット番号A!$G$25+1))=TRUE,\"\",VLOOKUP(B9,入力AA3!$B$8:$GU$58,オフセット番号A!$G$25+1)),\"*\"))","v":"内容21,5"},{"$f":"IF($F$5=1,項目表示入力!$H$27,IF($F$5=2,IF(ISERROR(VLOOKUP(B9,入力AA3!$B$8:$GU$58,オフセット番号A!$H$25+1))=TRUE,\"\",VLOOKUP(B9,入力AA3!$B$8:$GU$58,オフセット番号A!$H$25+1)),\"*\"))","v":"内容21,6"},{"$f":"IF($F$5=1,項目表示入力!$I$27,IF($F$5=2,IF(ISERROR(VLOOKUP(B9,入力AA3!$B$8:$GU$58,オフセット番号A!$I$25+1))=TRUE,\"\",VLOOKUP(B9,入力AA3!$B$8:$GU$58,オフセット番号A!$I$25+1)),\"*\"))","v":"内容21,7"},{"$f":"IF($F$5=1,項目表示入力!$J$27,IF($F$5=2,IF(ISERROR(VLOOKUP(B9,入力AA3!$B$8:$GU$58,オフセット番号A!$J$25+1))=TRUE,\"\",VLOOKUP(B9,入力AA3!$B$8:$GU$58,オフセット番号A!$J$25+1)),\"*\"))","v":"内容21,8"},{"$f":"IF($F$5=1,項目表示入力!$K$27,IF($F$5=2,IF(ISERROR(VLOOKUP(B9,入力AA3!$B$8:$GU$58,オフセット番号A!$K$25+1))=TRUE,\"\",VLOOKUP(B9,入力AA3!$B$8:$GU$58,オフセット番号A!$K$25+1)),\"*\"))","v":"内容21,9"},{"$f":"IF($F$5=1,項目表示入力!$L$27,IF($F$5=2,IF(ISERROR(VLOOKUP(B9,入力AA3!$B$8:$GU$58,オフセット番号A!$L$25+1))=TRUE,\"\",VLOOKUP(B9,入力AA3!$B$8:$GU$58,オフセット番号A!$L$25+1)),\"*\"))","v":"内容21,10"},{"$f":"IF($F$5=1,項目表示入力!$M$27,IF($F$5=2,IF(ISERROR(VLOOKUP(B9,入力AA3!$B$8:$GU$58,オフセット番号A!$M$25+1))=TRUE,\"\",VLOOKUP(B9,入力AA3!$B$8:$GU$58,オフセット番号A!$M$25+1)),\"*\"))","v":"内容21,11"},{"$f":"IF($F$5=1,項目表示入力!$N$27,IF($F$5=2,IF(ISERROR(VLOOKUP(B9,入力AA3!$B$8:$GU$58,オフセット番号A!$N$25+1))=TRUE,\"\",VLOOKUP(B9,入力AA3!$B$8:$GU$58,オフセット番号A!$N$25+1)),\"*\"))","v":"内容21,12"},{"$f":"IF($F$5=1,項目表示入力!$O$27,IF($F$5=2,IF(ISERROR(VLOOKUP(B9,入力AA3!$B$8:$GU$58,オフセット番号A!$O$25+1))=TRUE,\"\",VLOOKUP(B9,入力AA3!$B$8:$GU$58,オフセット番号A!$O$25+1)),\"*\"))","v":"内容21,13"},{"$f":"IF($F$5=1,項目表示入力!$P$27,IF($F$5=2,IF(ISERROR(VLOOKUP(B9,入力AA3!$B$8:$GU$58,オフセット番号A!$P$25+1))=TRUE,\"\",VLOOKUP(B9,入力AA3!$B$8:$GU$58,オフセット番号A!$P$25+1)),\"*\"))","v":"内容21,14"},{"$f":"IF($F$5=1,項目表示入力!$Q$27,IF($F$5=2,IF(ISERROR(VLOOKUP(B9,入力AA3!$B$8:$GU$58,オフセット番号A!$Q$25+1))=TRUE,\"\",VLOOKUP(B9,入力AA3!$B$8:$GU$58,オフセット番号A!$Q$25+1)),\"*\"))","v":"内容21,15"},{"$f":"IF($F$5=1,項目表示入力!$R$27,IF($F$5=2,IF(ISERROR(VLOOKUP(B9,入力AA3!$B$8:$GU$58,オフセット番号A!$R$25+1))=TRUE,\"\",VLOOKUP(B9,入力AA3!$B$8:$GU$58,オフセット番号A!$R$25+1)),\"*\"))","v":"内容21,16"},{"$f":"IF($F$5=1,項目表示入力!$S$27,IF($F$5=2,IF(ISERROR(VLOOKUP(B9,入力AA3!$B$8:$GU$58,オフセット番号A!$S$25+1))=TRUE,\"\",VLOOKUP(B9,入力AA3!$B$8:$GU$58,オフセット番号A!$S$25+1)),\"*\"))","v":"内容21,17"},{"$f":"IF($F$5=1,項目表示入力!$T$27,IF($F$5=2,IF(ISERROR(VLOOKUP(B9,入力AA3!$B$8:$GU$58,オフセット番号A!$T$25+1))=TRUE,\"\",VLOOKUP(B9,入力AA3!$B$8:$GU$58,オフセット番号A!$T$25+1)),\"*\"))","v":"内容21,18"},{"$f":"IF($F$5=1,項目表示入力!$U$27,IF($F$5=2,IF(ISERROR(VLOOKUP(B9,入力AA3!$B$8:$GU$58,オフセット番号A!$U$25+1))=TRUE,\"\",VLOOKUP(B9,入力AA3!$B$8:$GU$58,オフセット番号A!$U$25+1)),\"*\"))","v":"内容21,19"},{"$f":"IF($F$5=1,項目表示入力!$V$27,IF($F$5=2,IF(ISERROR(VLOOKUP(B9,入力AA3!$B$8:$GU$58,オフセット番号A!$V$25+1))=TRUE,\"\",VLOOKUP(B9,入力AA3!$B$8:$GU$58,オフセット番号A!$V$25+1)),\"*\"))","v":"内容21,20"}]
[null,{"$f":"IF(行列入力項目!$C$26=\"\",\"\",行列入力項目!$C$26)","v":"行22"},{"$f":"IF($F$5=1,項目表示入力!$C$28,IF($F$5=2,IF(ISERROR(VLOOKUP(B9,入力AA3!$B$8:$GU$58,オフセット番号A!$C$26+1))=TRUE,\"\",VLOOKUP(B9,入力AA3!$B$8:$GU$58,オフセット番号A!$C$26+1)),\"*\"))","v":"内容22,1"},{"$f":"IF($F$5=1,項目表示入力!$D$28,IF($F$5=2,IF(ISERROR(VLOOKUP(B9,入力AA3!$B$8:$GU$58,オフセット番号A!$D$26+1))=TRUE,\"\",VLOOKUP(B9,入力AA3!$B$8:$GU$58,オフセット番号A!$D$26+1)),\"*\"))","v":"内容22,2"},{"$f":"IF($F$5=1,項目表示入力!$E$28,IF($F$5=2,IF(ISERROR(VLOOKUP(B9,入力AA3!$B$8:$GU$58,オフセット番号A!$E$26+1))=TRUE,\"\",VLOOKUP(B9,入力AA3!$B$8:$GU$58,オフセット番号A!$E$26+1)),\"*\"))","v":"内容22,3"},{"$f":"IF($F$5=1,項目表示入力!$F$28,IF($F$5=2,IF(ISERROR(VLOOKUP(B9,入力AA3!$B$8:$GU$58,オフセット番号A!$F$26+1))=TRUE,\"\",VLOOKUP(B9,入力AA3!$B$8:$GU$58,オフセット番号A!$F$26+1)),\"*\"))","v":"内容22,4"},{"$f":"IF($F$5=1,項目表示入力!$G$28,IF($F$5=2,IF(ISERROR(VLOOKUP(B9,入力AA3!$B$8:$GU$58,オフセット番号A!$G$26+1))=TRUE,\"\",VLOOKUP(B9,入力AA3!$B$8:$GU$58,オフセット番号A!$G$26+1)),\"*\"))","v":"内容22,5"},{"$f":"IF($F$5=1,項目表示入力!$H$28,IF($F$5=2,IF(ISERROR(VLOOKUP(B9,入力AA3!$B$8:$GU$58,オフセット番号A!$H$26+1))=TRUE,\"\",VLOOKUP(B9,入力AA3!$B$8:$GU$58,オフセット番号A!$H$26+1)),\"*\"))","v":"内容22,6"},{"$f":"IF($F$5=1,項目表示入力!$I$28,IF($F$5=2,IF(ISERROR(VLOOKUP(B9,入力AA3!$B$8:$GU$58,オフセット番号A!$I$26+1))=TRUE,\"\",VLOOKUP(B9,入力AA3!$B$8:$GU$58,オフセット番号A!$I$26+1)),\"*\"))","v":"内容22,7"},{"$f":"IF($F$5=1,項目表示入力!$J$28,IF($F$5=2,IF(ISERROR(VLOOKUP(B9,入力AA3!$B$8:$GU$58,オフセット番号A!$J$26+1))=TRUE,\"\",VLOOKUP(B9,入力AA3!$B$8:$GU$58,オフセット番号A!$J$26+1)),\"*\"))","v":"内容22,8"},{"$f":"IF($F$5=1,項目表示入力!$K$28,IF($F$5=2,IF(ISERROR(VLOOKUP(B9,入力AA3!$B$8:$GU$58,オフセット番号A!$K$26+1))=TRUE,\"\",VLOOKUP(B9,入力AA3!$B$8:$GU$58,オフセット番号A!$K$26+1)),\"*\"))","v":"内容22,9"},{"$f":"IF($F$5=1,項目表示入力!$L$28,IF($F$5=2,IF(ISERROR(VLOOKUP(B9,入力AA3!$B$8:$GU$58,オフセット番号A!$L$26+1))=TRUE,\"\",VLOOKUP(B9,入力AA3!$B$8:$GU$58,オフセット番号A!$L$26+1)),\"*\"))","v":"内容22,10"},{"$f":"IF($F$5=1,項目表示入力!$M$28,IF($F$5=2,IF(ISERROR(VLOOKUP(B9,入力AA3!$B$8:$GU$58,オフセット番号A!$M$26+1))=TRUE,\"\",VLOOKUP(B9,入力AA3!$B$8:$GU$58,オフセット番号A!$M$26+1)),\"*\"))","v":"内容22,11"},{"$f":"IF($F$5=1,項目表示入力!$N$28,IF($F$5=2,IF(ISERROR(VLOOKUP(B9,入力AA3!$B$8:$GU$58,オフセット番号A!$N$26+1))=TRUE,\"\",VLOOKUP(B9,入力AA3!$B$8:$GU$58,オフセット番号A!$N$26+1)),\"*\"))","v":"内容22,12"},{"$f":"IF($F$5=1,項目表示入力!$O$28,IF($F$5=2,IF(ISERROR(VLOOKUP(B9,入力AA3!$B$8:$GU$58,オフセット番号A!$O$26+1))=TRUE,\"\",VLOOKUP(B9,入力AA3!$B$8:$GU$58,オフセット番号A!$O$26+1)),\"*\"))","v":"内容22,13"},{"$f":"IF($F$5=1,項目表示入力!$P$28,IF($F$5=2,IF(ISERROR(VLOOKUP(B9,入力AA3!$B$8:$GU$58,オフセット番号A!$P$26+1))=TRUE,\"\",VLOOKUP(B9,入力AA3!$B$8:$GU$58,オフセット番号A!$P$26+1)),\"*\"))","v":"内容22,14"},{"$f":"IF($F$5=1,項目表示入力!$Q$28,IF($F$5=2,IF(ISERROR(VLOOKUP(B9,入力AA3!$B$8:$GU$58,オフセット番号A!$Q$26+1))=TRUE,\"\",VLOOKUP(B9,入力AA3!$B$8:$GU$58,オフセット番号A!$Q$26+1)),\"*\"))","v":"内容22,15"},{"$f":"IF($F$5=1,項目表示入力!$R$28,IF($F$5=2,IF(ISERROR(VLOOKUP(B9,入力AA3!$B$8:$GU$58,オフセット番号A!$R$26+1))=TRUE,\"\",VLOOKUP(B9,入力AA3!$B$8:$GU$58,オフセット番号A!$R$26+1)),\"*\"))","v":"内容22,16"},{"$f":"IF($F$5=1,項目表示入力!$S$28,IF($F$5=2,IF(ISERROR(VLOOKUP(B9,入力AA3!$B$8:$GU$58,オフセット番号A!$S$26+1))=TRUE,\"\",VLOOKUP(B9,入力AA3!$B$8:$GU$58,オフセット番号A!$S$26+1)),\"*\"))","v":"内容22,17"},{"$f":"IF($F$5=1,項目表示入力!$T$28,IF($F$5=2,IF(ISERROR(VLOOKUP(B9,入力AA3!$B$8:$GU$58,オフセット番号A!$T$26+1))=TRUE,\"\",VLOOKUP(B9,入力AA3!$B$8:$GU$58,オフセット番号A!$T$26+1)),\"*\"))","v":"内容22,18"},{"$f":"IF($F$5=1,項目表示入力!$U$28,IF($F$5=2,IF(ISERROR(VLOOKUP(B9,入力AA3!$B$8:$GU$58,オフセット番号A!$U$26+1))=TRUE,\"\",VLOOKUP(B9,入力AA3!$B$8:$GU$58,オフセット番号A!$U$26+1)),\"*\"))","v":"内容22,19"},{"$f":"IF($F$5=1,項目表示入力!$V$28,IF($F$5=2,IF(ISERROR(VLOOKUP(B9,入力AA3!$B$8:$GU$58,オフセット番号A!$V$26+1))=TRUE,\"\",VLOOKUP(B9,入力AA3!$B$8:$GU$58,オフセット番号A!$V$26+1)),\"*\"))","v":"内容22,20"}]
[null,{"$f":"IF(行列入力項目!$C$27=\"\",\"\",行列入力項目!$C$27)","v":"行23"},{"$f":"IF($F$5=1,項目表示入力!$C$29,IF($F$5=2,IF(ISERROR(VLOOKUP(B9,入力AA3!$B$8:$GU$58,オフセット番号A!$C$27+1))=TRUE,\"\",VLOOKUP(B9,入力AA3!$B$8:$GU$58,オフセット番号A!$C$27+1)),\"*\"))","v":"内容23,1"},{"$f":"IF($F$5=1,項目表示入力!$D$29,IF($F$5=2,IF(ISERROR(VLOOKUP(B9,入力AA3!$B$8:$GU$58,オフセット番号A!$D$27+1))=TRUE,\"\",VLOOKUP(B9,入力AA3!$B$8:$GU$58,オフセット番号A!$D$27+1)),\"*\"))","v":"内容23,2"},{"$f":"IF($F$5=1,項目表示入力!$E$29,IF($F$5=2,IF(ISERROR(VLOOKUP(B9,入力AA3!$B$8:$GU$58,オフセット番号A!$E$27+1))=TRUE,\"\",VLOOKUP(B9,入力AA3!$B$8:$GU$58,オフセット番号A!$E$27+1)),\"*\"))","v":"内容23,3"},{"$f":"IF($F$5=1,項目表示入力!$F$29,IF($F$5=2,IF(ISERROR(VLOOKUP(B9,入力AA3!$B$8:$GU$58,オフセット番号A!$F$27+1))=TRUE,\"\",VLOOKUP(B9,入力AA3!$B$8:$GU$58,オフセット番号A!$F$27+1)),\"*\"))","v":"内容23,4"},{"$f":"IF($F$5=1,項目表示入力!$G$29,IF($F$5=2,IF(ISERROR(VLOOKUP(B9,入力AA3!$B$8:$GU$58,オフセット番号A!$G$27+1))=TRUE,\"\",VLOOKUP(B9,入力AA3!$B$8:$GU$58,オフセット番号A!$G$27+1)),\"*\"))","v":"内容23,5"},{"$f":"IF($F$5=1,項目表示入力!$H$29,IF($F$5=2,IF(ISERROR(VLOOKUP(B9,入力AA3!$B$8:$GU$58,オフセット番号A!$H$27+1))=TRUE,\"\",VLOOKUP(B9,入力AA3!$B$8:$GU$58,オフセット番号A!$H$27+1)),\"*\"))","v":"内容23,6"},{"$f":"IF($F$5=1,項目表示入力!$I$29,IF($F$5=2,IF(ISERROR(VLOOKUP(B9,入力AA3!$B$8:$GU$58,オフセット番号A!$I$27+1))=TRUE,\"\",VLOOKUP(B9,入力AA3!$B$8:$GU$58,オフセット番号A!$I$27+1)),\"*\"))","v":"内容23,7"},{"$f":"IF($F$5=1,項目表示入力!$J$29,IF($F$5=2,IF(ISERROR(VLOOKUP(B9,入力AA3!$B$8:$GU$58,オフセット番号A!$J$27+1))=TRUE,\"\",VLOOKUP(B9,入力AA3!$B$8:$GU$58,オフセット番号A!$J$27+1)),\"*\"))","v":"内容23,8"},{"$f":"IF($F$5=1,項目表示入力!$K$29,IF($F$5=2,IF(ISERROR(VLOOKUP(B9,入力AA3!$B$8:$GU$58,オフセット番号A!$K$27+1))=TRUE,\"\",VLOOKUP(B9,入力AA3!$B$8:$GU$58,オフセット番号A!$K$27+1)),\"*\"))","v":"内容23,9"},{"$f":"IF($F$5=1,項目表示入力!$L$29,IF($F$5=2,IF(ISERROR(VLOOKUP(B9,入力AA3!$B$8:$GU$58,オフセット番号A!$L$27+1))=TRUE,\"\",VLOOKUP(B9,入力AA3!$B$8:$GU$58,オフセット番号A!$L$27+1)),\"*\"))","v":"内容23,10"},{"$f":"IF($F$5=1,項目表示入力!$M$29,IF($F$5=2,IF(ISERROR(VLOOKUP(B9,入力AA3!$B$8:$GU$58,オフセット番号A!$M$27+1))=TRUE,\"\",VLOOKUP(B9,入力AA3!$B$8:$GU$58,オフセット番号A!$M$27+1)),\"*\"))","v":"内容23,11"},{"$f":"IF($F$5=1,項目表示入力!$N$29,IF($F$5=2,IF(ISERROR(VLOOKUP(B9,入力AA3!$B$8:$GU$58,オフセット番号A!$N$27+1))=TRUE,\"\",VLOOKUP(B9,入力AA3!$B$8:$GU$58,オフセット番号A!$N$27+1)),\"*\"))","v":"内容23,12"},{"$f":"IF($F$5=1,項目表示入力!$O$29,IF($F$5=2,IF(ISERROR(VLOOKUP(B9,入力AA3!$B$8:$GU$58,オフセット番号A!$O$27+1))=TRUE,\"\",VLOOKUP(B9,入力AA3!$B$8:$GU$58,オフセット番号A!$O$27+1)),\"*\"))","v":"内容23,13"},{"$f":"IF($F$5=1,項目表示入力!$P$29,IF($F$5=2,IF(ISERROR(VLOOKUP(B9,入力AA3!$B$8:$GU$58,オフセット番号A!$P$27+1))=TRUE,\"\",VLOOKUP(B9,入力AA3!$B$8:$GU$58,オフセット番号A!$P$27+1)),\"*\"))","v":"内容23,14"},{"$f":"IF($F$5=1,項目表示入力!$Q$29,IF($F$5=2,IF(ISERROR(VLOOKUP(B9,入力AA3!$B$8:$GU$58,オフセット番号A!$Q$27+1))=TRUE,\"\",VLOOKUP(B9,入力AA3!$B$8:$GU$58,オフセット番号A!$Q$27+1)),\"*\"))","v":"内容23,15"},{"$f":"IF($F$5=1,項目表示入力!$R$29,IF($F$5=2,IF(ISERROR(VLOOKUP(B9,入力AA3!$B$8:$GU$58,オフセット番号A!$R$27+1))=TRUE,\"\",VLOOKUP(B9,入力AA3!$B$8:$GU$58,オフセット番号A!$R$27+1)),\"*\"))","v":"内容23,16"},{"$f":"IF($F$5=1,項目表示入力!$S$29,IF($F$5=2,IF(ISERROR(VLOOKUP(B9,入力AA3!$B$8:$GU$58,オフセット番号A!$S$27+1))=TRUE,\"\",VLOOKUP(B9,入力AA3!$B$8:$GU$58,オフセット番号A!$S$27+1)),\"*\"))","v":"内容23,17"},{"$f":"IF($F$5=1,項目表示入力!$T$29,IF($F$5=2,IF(ISERROR(VLOOKUP(B9,入力AA3!$B$8:$GU$58,オフセット番号A!$T$27+1))=TRUE,\"\",VLOOKUP(B9,入力AA3!$B$8:$GU$58,オフセット番号A!$T$27+1)),\"*\"))","v":"内容23,18"},{"$f":"IF($F$5=1,項目表示入力!$U$29,IF($F$5=2,IF(ISERROR(VLOOKUP(B9,入力AA3!$B$8:$GU$58,オフセット番号A!$U$27+1))=TRUE,\"\",VLOOKUP(B9,入力AA3!$B$8:$GU$58,オフセット番号A!$U$27+1)),\"*\"))","v":"内容23,19"},{"$f":"IF($F$5=1,項目表示入力!$V$29,IF($F$5=2,IF(ISERROR(VLOOKUP(B9,入力AA3!$B$8:$GU$58,オフセット番号A!$V$27+1))=TRUE,\"\",VLOOKUP(B9,入力AA3!$B$8:$GU$58,オフセット番号A!$V$27+1)),\"*\"))","v":"内容23,20"}]
[null,{"$f":"IF(行列入力項目!$C$28=\"\",\"\",行列入力項目!$C$28)","v":"行24"},{"$f":"IF($F$5=1,項目表示入力!$C$30,IF($F$5=2,IF(ISERROR(VLOOKUP(B9,入力AA3!$B$8:$GU$58,オフセット番号A!$C$28+1))=TRUE,\"\",VLOOKUP(B9,入力AA3!$B$8:$GU$58,オフセット番号A!$C$28+1)),\"*\"))","v":"内容24,1"},{"$f":"IF($F$5=1,項目表示入力!$D$30,IF($F$5=2,IF(ISERROR(VLOOKUP(B9,入力AA3!$B$8:$GU$58,オフセット番号A!$D$28+1))=TRUE,\"\",VLOOKUP(B9,入力AA3!$B$8:$GU$58,オフセット番号A!$D$28+1)),\"*\"))","v":"内容24,2"},{"$f":"IF($F$5=1,項目表示入力!$E$30,IF($F$5=2,IF(ISERROR(VLOOKUP(B9,入力AA3!$B$8:$GU$58,オフセット番号A!$E$28+1))=TRUE,\"\",VLOOKUP(B9,入力AA3!$B$8:$GU$58,オフセット番号A!$E$28+1)),\"*\"))","v":"内容24,3"},{"$f":"IF($F$5=1,項目表示入力!$F$30,IF($F$5=2,IF(ISERROR(VLOOKUP(B9,入力AA3!$B$8:$GU$58,オフセット番号A!$F$28+1))=TRUE,\"\",VLOOKUP(B9,入力AA3!$B$8:$GU$58,オフセット番号A!$F$28+1)),\"*\"))","v":"内容24,4"},{"$f":"IF($F$5=1,項目表示入力!$G$30,IF($F$5=2,IF(ISERROR(VLOOKUP(B9,入力AA3!$B$8:$GU$58,オフセット番号A!$G$28+1))=TRUE,\"\",VLOOKUP(B9,入力AA3!$B$8:$GU$58,オフセット番号A!$G$28+1)),\"*\"))","v":"内容24,5"},{"$f":"IF($F$5=1,項目表示入力!$H$30,IF($F$5=2,IF(ISERROR(VLOOKUP(B9,入力AA3!$B$8:$GU$58,オフセット番号A!$H$28+1))=TRUE,\"\",VLOOKUP(B9,入力AA3!$B$8:$GU$58,オフセット番号A!$H$28+1)),\"*\"))","v":"内容24,6"},{"$f":"IF($F$5=1,項目表示入力!$I$30,IF($F$5=2,IF(ISERROR(VLOOKUP(B9,入力AA3!$B$8:$GU$58,オフセット番号A!$I$28+1))=TRUE,\"\",VLOOKUP(B9,入力AA3!$B$8:$GU$58,オフセット番号A!$I$28+1)),\"*\"))","v":"内容24,7"},{"$f":"IF($F$5=1,項目表示入力!$J$30,IF($F$5=2,IF(ISERROR(VLOOKUP(B9,入力AA3!$B$8:$GU$58,オフセット番号A!$J$28+1))=TRUE,\"\",VLOOKUP(B9,入力AA3!$B$8:$GU$58,オフセット番号A!$J$28+1)),\"*\"))","v":"内容24,8"},{"$f":"IF($F$5=1,項目表示入力!$K$30,IF($F$5=2,IF(ISERROR(VLOOKUP($B$9,入力AA3!$B$8:$GU$58,オフセット番号A!$K$28+1))=TRUE,\"\",VLOOKUP(B9,入力AA3!$B$8:$GU$58,オフセット番号A!$K$28+1)),\"*\"))","v":"内容24,9"},{"$f":"IF($F$5=1,項目表示入力!$L$30,IF($F$5=2,IF(ISERROR(VLOOKUP(B9,入力AA3!$B$8:$GU$58,オフセット番号A!$L$28+1))=TRUE,\"\",VLOOKUP(B9,入力AA3!$B$8:$GU$58,オフセット番号A!$L$28+1)),\"*\"))","v":"内容24,10"},{"$f":"IF($F$5=1,項目表示入力!$M$30,IF($F$5=2,IF(ISERROR(VLOOKUP(B9,入力AA3!$B$8:$GU$58,オフセット番号A!$M$28+1))=TRUE,\"\",VLOOKUP(B9,入力AA3!$B$8:$GU$58,オフセット番号A!$M$28+1)),\"*\"))","v":"内容24,11"},{"$f":"IF($F$5=1,項目表示入力!$N$30,IF($F$5=2,IF(ISERROR(VLOOKUP($B$9,入力AA3!$B$8:$GU$58,オフセット番号A!$N$28+1))=TRUE,\"\",VLOOKUP(B9,入力AA3!$B$8:$GU$58,オフセット番号A!$N$28+1)),\"*\"))","v":"内容24,12"},{"$f":"IF($F$5=1,項目表示入力!$O$30,IF($F$5=2,IF(ISERROR(VLOOKUP(B9,入力AA3!$B$8:$GU$58,オフセット番号A!$O$28+1))=TRUE,\"\",VLOOKUP(B9,入力AA3!$B$8:$GU$58,オフセット番号A!$O$28+1)),\"*\"))","v":"内容24,13"},{"$f":"IF($F$5=1,項目表示入力!$P$30,IF($F$5=2,IF(ISERROR(VLOOKUP(B9,入力AA3!$B$8:$GU$58,オフセット番号A!$P$28+1))=TRUE,\"\",VLOOKUP(B9,入力AA3!$B$8:$GU$58,オフセット番号A!$P$28+1)),\"*\"))","v":"内容24,14"},{"$f":"IF($F$5=1,項目表示入力!$Q$30,IF($F$5=2,IF(ISERROR(VLOOKUP(B9,入力AA3!$B$8:$GU$58,オフセット番号A!$Q$28+1))=TRUE,\"\",VLOOKUP(B9,入力AA3!$B$8:$GU$58,オフセット番号A!$Q$28+1)),\"*\"))","v":"内容24,15"},{"$f":"IF($F$5=1,項目表示入力!$R$30,IF($F$5=2,IF(ISERROR(VLOOKUP(B9,入力AA3!$B$8:$GU$58,オフセット番号A!$R$28+1))=TRUE,\"\",VLOOKUP(B9,入力AA3!$B$8:$GU$58,オフセット番号A!$R$28+1)),\"*\"))","v":"内容24,16"},{"$f":"IF($F$5=1,項目表示入力!$S$30,IF($F$5=2,IF(ISERROR(VLOOKUP(B9,入力AA3!$B$8:$GU$58,オフセット番号A!$S$28+1))=TRUE,\"\",VLOOKUP(B9,入力AA3!$B$8:$GU$58,オフセット番号A!$S$28+1)),\"*\"))","v":"内容24,17"},{"$f":"IF($F$5=1,項目表示入力!$T$30,IF($F$5=2,IF(ISERROR(VLOOKUP(B9,入力AA3!$B$8:$GU$58,オフセット番号A!$T$28+1))=TRUE,\"\",VLOOKUP(B9,入力AA3!$B$8:$GU$58,オフセット番号A!$T$28+1)),\"*\"))","v":"内容24,18"},{"$f":"IF($F$5=1,項目表示入力!$U$30,IF($F$5=2,IF(ISERROR(VLOOKUP(B9,入力AA3!$B$8:$GU$58,オフセット番号A!$U$28+1))=TRUE,\"\",VLOOKUP(B9,入力AA3!$B$8:$GU$58,オフセット番号A!$U$28+1)),\"*\"))","v":"内容24,19"},{"$f":"IF($F$5=1,項目表示入力!$V$30,IF($F$5=2,IF(ISERROR(VLOOKUP(B9,入力AA3!$B$8:$GU$58,オフセット番号A!$V$28+1))=TRUE,\"\",VLOOKUP(B9,入力AA3!$B$8:$GU$58,オフセット番号A!$V$28+1)),\"*\"))","v":"内容24,20"}]
[null,{"$f":"IF(行列入力項目!$C$29=\"\",\"\",行列入力項目!$C$29)","v":"行25"},{"$f":"IF($F$5=1,項目表示入力!$C$31,IF($F$5=2,IF(ISERROR(VLOOKUP(B9,入力AA3!$B$8:$GU$58,オフセット番号A!$C$29+1))=TRUE,\"\",VLOOKUP(B9,入力AA3!$B$8:$GU$58,オフセット番号A!$C$29+1)),\"*\"))","v":"内容25,1"},{"$f":"IF($F$5=1,項目表示入力!$D$31,IF($F$5=2,IF(ISERROR(VLOOKUP(B9,入力AA3!$B$8:$GU$58,オフセット番号A!$D$29+1))=TRUE,\"\",VLOOKUP(B9,入力AA3!$B$8:$GU$58,オフセット番号A!$D$29+1)),\"*\"))","v":"内容25,2"},{"$f":"IF($F$5=1,項目表示入力!$E$31,IF($F$5=2,IF(ISERROR(VLOOKUP(B9,入力AA3!$B$8:$GU$58,オフセット番号A!$E$29+1))=TRUE,\"\",VLOOKUP(B9,入力AA3!$B$8:$GU$58,オフセット番号A!$E$29+1)),\"*\"))","v":"内容25,3"},{"$f":"IF($F$5=1,項目表示入力!$F$31,IF($F$5=2,IF(ISERROR(VLOOKUP(B9,入力AA3!$B$8:$GU$58,オフセット番号A!$F$29+1))=TRUE,\"\",VLOOKUP(B9,入力AA3!$B$8:$GU$58,オフセット番号A!$F$29+1)),\"*\"))","v":"内容25,4"},{"$f":"IF($F$5=1,項目表示入力!$G$31,IF($F$5=2,IF(ISERROR(VLOOKUP(B9,入力AA3!$B$8:$GU$58,オフセット番号A!$G$29+1))=TRUE,\"\",VLOOKUP(B9,入力AA3!$B$8:$GU$58,オフセット番号A!$G$29+1)),\"*\"))","v":"内容25,5"},{"$f":"IF($F$5=1,項目表示入力!$H$31,IF($F$5=2,IF(ISERROR(VLOOKUP(B9,入力AA3!$B$8:$GU$58,オフセット番号A!$H$29+1))=TRUE,\"\",VLOOKUP(B9,入力AA3!$B$8:$GU$58,オフセット番号A!$H$29+1)),\"*\"))","v":"内容25,6"},{"$f":"IF($F$5=1,項目表示入力!$I$31,IF($F$5=2,IF(ISERROR(VLOOKUP(B9,入力AA3!$B$8:$GU$58,オフセット番号A!$I$29+1))=TRUE,\"\",VLOOKUP(B9,入力AA3!$B$8:$GU$58,オフセット番号A!$I$29+1)),\"*\"))","v":"内容25,7"},{"$f":"IF($F$5=1,項目表示入力!$J$31,IF($F$5=2,IF(ISERROR(VLOOKUP(B9,入力AA3!$B$8:$GU$58,オフセット番号A!$J$29+1))=TRUE,\"\",VLOOKUP(B9,入力AA3!$B$8:$GU$58,オフセット番号A!$J$29+1)),\"*\"))","v":"内容25,8"},{"$f":"IF($F$5=1,項目表示入力!$K$31,IF($F$5=2,IF(ISERROR(VLOOKUP(B9,入力AA3!$B$8:$GU$58,オフセット番号A!$K$29+1))=TRUE,\"\",VLOOKUP(B9,入力AA3!$B$8:$GU$58,オフセット番号A!$K$29+1)),\"*\"))","v":"内容25,9"},{"$f":"IF($F$5=1,項目表示入力!$L$31,IF($F$5=2,IF(ISERROR(VLOOKUP(B9,入力AA3!$B$8:$GU$58,オフセット番号A!$L$29+1))=TRUE,\"\",VLOOKUP(B9,入力AA3!$B$8:$GU$58,オフセット番号A!$L$29+1)),\"*\"))","v":"内容25,10"},{"$f":"IF($F$5=1,項目表示入力!$M$31,IF($F$5=2,IF(ISERROR(VLOOKUP(B9,入力AA3!$B$8:$GU$58,オフセット番号A!$M$29+1))=TRUE,\"\",VLOOKUP(B9,入力AA3!$B$8:$GU$58,オフセット番号A!$M$29+1)),\"*\"))","v":"内容25,11"},{"$f":"IF($F$5=1,項目表示入力!$N$31,IF($F$5=2,IF(ISERROR(VLOOKUP(B9,入力AA3!$B$8:$GU$58,オフセット番号A!$N$29+1))=TRUE,\"\",VLOOKUP(B9,入力AA3!$B$8:$GU$58,オフセット番号A!$N$29+1)),\"*\"))","v":"内容25,12"},{"$f":"IF($F$5=1,項目表示入力!$O$31,IF($F$5=2,IF(ISERROR(VLOOKUP(B9,入力AA3!$B$8:$GU$58,オフセット番号A!$O$29+1))=TRUE,\"\",VLOOKUP(B9,入力AA3!$B$8:$GU$58,オフセット番号A!$O$29+1)),\"*\"))","v":"内容25,13"},{"$f":"IF($F$5=1,項目表示入力!$P$31,IF($F$5=2,IF(ISERROR(VLOOKUP(B9,入力AA3!$B$8:$GU$58,オフセット番号A!$P$29+1))=TRUE,\"\",VLOOKUP(B9,入力AA3!$B$8:$GU$58,オフセット番号A!$P$29+1)),\"*\"))","v":"内容25,14"},{"$f":"IF($F$5=1,項目表示入力!$Q$31,IF($F$5=2,IF(ISERROR(VLOOKUP(B9,入力AA3!$B$8:$GU$58,オフセット番号A!$Q$29+1))=TRUE,\"\",VLOOKUP(B9,入力AA3!$B$8:$GU$58,オフセット番号A!$Q$29+1)),\"*\"))","v":"内容25,15"},{"$f":"IF($F$5=1,項目表示入力!$R$31,IF($F$5=2,IF(ISERROR(VLOOKUP(B9,入力AA3!$B$8:$GU$58,オフセット番号A!$R$29+1))=TRUE,\"\",VLOOKUP(B9,入力AA3!$B$8:$GU$58,オフセット番号A!$R$29+1)),\"*\"))","v":"内容25,16"},{"$f":"IF($F$5=1,項目表示入力!$S$31,IF($F$5=2,IF(ISERROR(VLOOKUP(B9,入力AA3!$B$8:$GU$58,オフセット番号A!$S$29+1))=TRUE,\"\",VLOOKUP(B9,入力AA3!$B$8:$GU$58,オフセット番号A!$S$29+1)),\"*\"))","v":"内容25,17"},{"$f":"IF($F$5=1,項目表示入力!$T$31,IF($F$5=2,IF(ISERROR(VLOOKUP(B9,入力AA3!$B$8:$GU$58,オフセット番号A!$T$29+1))=TRUE,\"\",VLOOKUP(B9,入力AA3!$B$8:$GU$58,オフセット番号A!$T$29+1)),\"*\"))","v":"内容25,18"},{"$f":"IF($F$5=1,項目表示入力!$U$31,IF($F$5=2,IF(ISERROR(VLOOKUP(B9,入力AA3!$B$8:$GU$58,オフセット番号A!$U$29+1))=TRUE,\"\",VLOOKUP(B9,入力AA3!$B$8:$GU$58,オフセット番号A!$U$29+1)),\"*\"))","v":"内容25,19"},{"$f":"IF($F$5=1,項目表示入力!$V$31,IF($F$5=2,IF(ISERROR(VLOOKUP(B9,入力AA3!$B$8:$GU$58,オフセット番号A!$V$29+1))=TRUE,\"\",VLOOKUP(B9,入力AA3!$B$8:$GU$58,オフセット番号A!$V$29+1)),\"*\"))","v":"内容25,20"}]
[null,{"$f":"IF(行列入力項目!$C$30=\"\",\"\",行列入力項目!$C$30)","v":"行26"},{"$f":"IF($F$5=1,項目表示入力!$C$32,IF($F$5=2,IF(ISERROR(VLOOKUP(B9,入力AA3!$B$8:$GU$58,オフセット番号A!$C$30+1))=TRUE,\"\",VLOOKUP(B9,入力AA3!$B$8:$GU$58,オフセット番号A!$C$30+1)),\"*\"))","v":"内容26,1"},{"$f":"IF($F$5=1,項目表示入力!$D$32,IF($F$5=2,IF(ISERROR(VLOOKUP(B9,入力AA3!$B$8:$GU$58,オフセット番号A!$D$30+1))=TRUE,\"\",VLOOKUP(B9,入力AA3!$B$8:$GU$58,オフセット番号A!$D$30+1)),\"*\"))","v":"内容26,2"},{"$f":"IF($F$5=1,項目表示入力!$E$32,IF($F$5=2,IF(ISERROR(VLOOKUP(B9,入力AA3!$B$8:$GU$58,オフセット番号A!$E$30+1))=TRUE,\"\",VLOOKUP(B9,入力AA3!$B$8:$GU$58,オフセット番号A!$E$30+1)),\"*\"))","v":"内容26,3"},{"$f":"IF($F$5=1,項目表示入力!$F$32,IF($F$5=2,IF(ISERROR(VLOOKUP(B9,入力AA3!$B$8:$GU$58,オフセット番号A!$F$30+1))=TRUE,\"\",VLOOKUP(B9,入力AA3!$B$8:$GU$58,オフセット番号A!$F$30+1)),\"*\"))","v":"内容26,4"},{"$f":"IF($F$5=1,項目表示入力!$G$32,IF($F$5=2,IF(ISERROR(VLOOKUP(B9,入力AA3!$B$8:$GU$58,オフセット番号A!$G$30+1))=TRUE,\"\",VLOOKUP(B9,入力AA3!$B$8:$GU$58,オフセット番号A!$G$30+1)),\"*\"))","v":"内容26,5"},{"$f":"IF($F$5=1,項目表示入力!$H$32,IF($F$5=2,IF(ISERROR(VLOOKUP(B9,入力AA3!$B$8:$GU$58,オフセット番号A!$H$30+1))=TRUE,\"\",VLOOKUP(B9,入力AA3!$B$8:$GU$58,オフセット番号A!$H$30+1)),\"*\"))","v":"内容26,6"},{"$f":"IF($F$5=1,項目表示入力!$I$32,IF($F$5=2,IF(ISERROR(VLOOKUP(B9,入力AA3!$B$8:$GU$58,オフセット番号A!$I$30+1))=TRUE,\"\",VLOOKUP(B9,入力AA3!$B$8:$GU$58,オフセット番号A!$I$30+1)),\"*\"))","v":"内容26,7"},{"$f":"IF($F$5=1,項目表示入力!$J$32,IF($F$5=2,IF(ISERROR(VLOOKUP(B9,入力AA3!$B$8:$GU$58,オフセット番号A!$J$30+1))=TRUE,\"\",VLOOKUP(B9,入力AA3!$B$8:$GU$58,オフセット番号A!$J$30+1)),\"*\"))","v":"内容26,8"},{"$f":"IF($F$5=1,項目表示入力!$K$32,IF($F$5=2,IF(ISERROR(VLOOKUP(B9,入力AA3!$B$8:$GU$58,オフセット番号A!$K$30+1))=TRUE,\"\",VLOOKUP(B9,入力AA3!$B$8:$GU$58,オフセット番号A!$K$30+1)),\"*\"))","v":"内容26,9"},{"$f":"IF($F$5=1,項目表示入力!$L$32,IF($F$5=2,IF(ISERROR(VLOOKUP(B9,入力AA3!$B$8:$GU$58,オフセット番号A!$L$30+1))=TRUE,\"\",VLOOKUP(B9,入力AA3!$B$8:$GU$58,オフセット番号A!$L$30+1)),\"*\"))","v":"内容26,10"},{"$f":"IF($F$5=1,項目表示入力!$M$32,IF($F$5=2,IF(ISERROR(VLOOKUP(B9,入力AA3!$B$8:$GU$58,オフセット番号A!$M$30+1))=TRUE,\"\",VLOOKUP(B9,入力AA3!$B$8:$GU$58,オフセット番号A!$M$30+1)),\"*\"))","v":"内容26,11"},{"$f":"IF($F$5=1,項目表示入力!$N$32,IF($F$5=2,IF(ISERROR(VLOOKUP(B9,入力AA3!$B$8:$GU$58,オフセット番号A!$N$30+1))=TRUE,\"\",VLOOKUP(B9,入力AA3!$B$8:$GU$58,オフセット番号A!$N$30+1)),\"*\"))","v":"内容26,12"},{"$f":"IF($F$5=1,項目表示入力!$O$32,IF($F$5=2,IF(ISERROR(VLOOKUP(B9,入力AA3!$B$8:$GU$58,オフセット番号A!$O$30+1))=TRUE,\"\",VLOOKUP(B9,入力AA3!$B$8:$GU$58,オフセット番号A!$O$30+1)),\"*\"))","v":"内容26,13"},{"$f":"IF($F$5=1,項目表示入力!$P$32,IF($F$5=2,IF(ISERROR(VLOOKUP(B9,入力AA3!$B$8:$GU$58,オフセット番号A!$P$30+1))=TRUE,\"\",VLOOKUP(B9,入力AA3!$B$8:$GU$58,オフセット番号A!$P$30+1)),\"*\"))","v":"内容26,14"},{"$f":"IF($F$5=1,項目表示入力!$Q$32,IF($F$5=2,IF(ISERROR(VLOOKUP(B9,入力AA3!$B$8:$GU$58,オフセット番号A!$Q$30+1))=TRUE,\"\",VLOOKUP(B9,入力AA3!$B$8:$GU$58,オフセット番号A!$Q$30+1)),\"*\"))","v":"内容26,15"},{"$f":"IF($F$5=1,項目表示入力!$R$32,IF($F$5=2,IF(ISERROR(VLOOKUP(B9,入力AA3!$B$8:$GU$58,オフセット番号A!$R$30+1))=TRUE,\"\",VLOOKUP(B9,入力AA3!$B$8:$GU$58,オフセット番号A!$R$30+1)),\"*\"))","v":"内容26,16"},{"$f":"IF($F$5=1,項目表示入力!$S$32,IF($F$5=2,IF(ISERROR(VLOOKUP(B9,入力AA3!$B$8:$GU$58,オフセット番号A!$S$30+1))=TRUE,\"\",VLOOKUP(B9,入力AA3!$B$8:$GU$58,オフセット番号A!$S$30+1)),\"*\"))","v":"内容26,17"},{"$f":"IF($F$5=1,項目表示入力!$T$32,IF($F$5=2,IF(ISERROR(VLOOKUP(B9,入力AA3!$B$8:$GU$58,オフセット番号A!$T$30+1))=TRUE,\"\",VLOOKUP(B9,入力AA3!$B$8:$GU$58,オフセット番号A!$T$30+1)),\"*\"))","v":"内容26,18"},{"$f":"IF($F$5=1,項目表示入力!$U$32,IF($F$5=2,IF(ISERROR(VLOOKUP(B9,入力AA3!$B$8:$GU$58,オフセット番号A!$U$30+1))=TRUE,\"\",VLOOKUP(B9,入力AA3!$B$8:$GU$58,オフセット番号A!$U$30+1)),\"*\"))","v":"内容26,19"},{"$f":"IF($F$5=1,項目表示入力!$V$32,IF($F$5=2,IF(ISERROR(VLOOKUP(B9,入力AA3!$B$8:$GU$58,オフセット番号A!$V$30+1))=TRUE,\"\",VLOOKUP(B9,入力AA3!$B$8:$GU$58,オフセット番号A!$V$30+1)),\"*\"))","v":"内容26,20"}]
[null,{"$f":"IF(行列入力項目!$C$31=\"\",\"\",行列入力項目!$C$31)","v":"行27"},{"$f":"IF($F$5=1,項目表示入力!$C$33,IF($F$5=2,IF(ISERROR(VLOOKUP(B9,入力AA3!$B$8:$GU$58,オフセット番号A!$C$31+1))=TRUE,\"\",VLOOKUP(B9,入力AA3!$B$8:$GU$58,オフセット番号A!$C$31+1)),\"*\"))","v":"内容27,1"},{"$f":"IF($F$5=1,項目表示入力!$D$33,IF($F$5=2,IF(ISERROR(VLOOKUP(B9,入力AA3!$B$8:$GU$58,オフセット番号A!$D$31+1))=TRUE,\"\",VLOOKUP(B9,入力AA3!$B$8:$GU$58,オフセット番号A!$D$31+1)),\"*\"))","v":"内容27,2"},{"$f":"IF($F$5=1,項目表示入力!$E$33,IF($F$5=2,IF(ISERROR(VLOOKUP(B9,入力AA3!$B$8:$GU$58,オフセット番号A!$E$31+1))=TRUE,\"\",VLOOKUP(B9,入力AA3!$B$8:$GU$58,オフセット番号A!$E$31+1)),\"*\"))","v":"内容27,3"},{"$f":"IF($F$5=1,項目表示入力!$F$33,IF($F$5=2,IF(ISERROR(VLOOKUP(B9,入力AA3!$B$8:$GU$58,オフセット番号A!$F$31+1))=TRUE,\"\",VLOOKUP(B9,入力AA3!$B$8:$GU$58,オフセット番号A!$F$31+1)),\"*\"))","v":"内容27,4"},{"$f":"IF($F$5=1,項目表示入力!$G$33,IF($F$5=2,IF(ISERROR(VLOOKUP(B9,入力AA3!$B$8:$GU$58,オフセット番号A!$G$31+1))=TRUE,\"\",VLOOKUP(B9,入力AA3!$B$8:$GU$58,オフセット番号A!$G$31+1)),\"*\"))","v":"内容27,5"},{"$f":"IF($F$5=1,項目表示入力!$H$33,IF($F$5=2,IF(ISERROR(VLOOKUP(B9,入力AA3!$B$8:$GU$58,オフセット番号A!$H$31+1))=TRUE,\"\",VLOOKUP(B9,入力AA3!$B$8:$GU$58,オフセット番号A!$H$31+1)),\"*\"))","v":"内容27,6"},{"$f":"IF($F$5=1,項目表示入力!$I$33,IF($F$5=2,IF(ISERROR(VLOOKUP(B9,入力AA3!$B$8:$GU$58,オフセット番号A!$I$31+1))=TRUE,\"\",VLOOKUP(B9,入力AA3!$B$8:$GU$58,オフセット番号A!$I$31+1)),\"*\"))","v":"内容27,7"},{"$f":"IF($F$5=1,項目表示入力!$J$33,IF($F$5=2,IF(ISERROR(VLOOKUP(B9,入力AA3!$B$8:$GU$58,オフセット番号A!$J$31+1))=TRUE,\"\",VLOOKUP(B9,入力AA3!$B$8:$GU$58,オフセット番号A!$J$31+1)),\"*\"))","v":"内容27,8"},{"$f":"IF($F$5=1,項目表示入力!$K$33,IF($F$5=2,IF(ISERROR(VLOOKUP(B9,入力AA3!$B$8:$GU$58,オフセット番号A!$K$31+1))=TRUE,\"\",VLOOKUP(B9,入力AA3!$B$8:$GU$58,オフセット番号A!$K$31+1)),\"*\"))","v":"内容27,9"},{"$f":"IF($F$5=1,項目表示入力!$L$33,IF($F$5=2,IF(ISERROR(VLOOKUP(B9,入力AA3!$B$8:$GU$58,オフセット番号A!$L$31+1))=TRUE,\"\",VLOOKUP(B9,入力AA3!$B$8:$GU$58,オフセット番号A!$L$31+1)),\"*\"))","v":"内容27,10"},{"$f":"IF($F$5=1,項目表示入力!$M$33,IF($F$5=2,IF(ISERROR(VLOOKUP(B9,入力AA3!$B$8:$GU$58,オフセット番号A!$M$31+1))=TRUE,\"\",VLOOKUP(B9,入力AA3!$B$8:$GU$58,オフセット番号A!$M$31+1)),\"*\"))","v":"内容27,11"},{"$f":"IF($F$5=1,項目表示入力!$N$33,IF($F$5=2,IF(ISERROR(VLOOKUP(B9,入力AA3!$B$8:$GU$58,オフセット番号A!$N$31+1))=TRUE,\"\",VLOOKUP(B9,入力AA3!$B$8:$GU$58,オフセット番号A!$N$31+1)),\"*\"))","v":"内容27,12"},{"$f":"IF($F$5=1,項目表示入力!$O$33,IF($F$5=2,IF(ISERROR(VLOOKUP(B9,入力AA3!$B$8:$GU$58,オフセット番号A!$O$31+1))=TRUE,\"\",VLOOKUP(B9,入力AA3!$B$8:$GU$58,オフセット番号A!$O$31+1)),\"*\"))","v":"内容27,13"},{"$f":"IF($F$5=1,項目表示入力!$P$33,IF($F$5=2,IF(ISERROR(VLOOKUP(B9,入力AA3!$B$8:$GU$58,オフセット番号A!$P$31+1))=TRUE,\"\",VLOOKUP(B9,入力AA3!$B$8:$GU$58,オフセット番号A!$P$31+1)),\"*\"))","v":"内容27,14"},{"$f":"IF($F$5=1,項目表示入力!$Q$33,IF($F$5=2,IF(ISERROR(VLOOKUP(B9,入力AA3!$B$8:$GU$58,オフセット番号A!$Q$31+1))=TRUE,\"\",VLOOKUP(B9,入力AA3!$B$8:$GU$58,オフセット番号A!$Q$31+1)),\"*\"))","v":"内容27,15"},{"$f":"IF($F$5=1,項目表示入力!$R$33,IF($F$5=2,IF(ISERROR(VLOOKUP(B9,入力AA3!$B$8:$GU$58,オフセット番号A!$R$31+1))=TRUE,\"\",VLOOKUP(B9,入力AA3!$B$8:$GU$58,オフセット番号A!$R$31+1)),\"*\"))","v":"内容27,16"},{"$f":"IF($F$5=1,項目表示入力!$S$33,IF($F$5=2,IF(ISERROR(VLOOKUP(B9,入力AA3!$B$8:$GU$58,オフセット番号A!$S$31+1))=TRUE,\"\",VLOOKUP(B9,入力AA3!$B$8:$GU$58,オフセット番号A!$S$31+1)),\"*\"))","v":"内容27,17"},{"$f":"IF($F$5=1,項目表示入力!$T$33,IF($F$5=2,IF(ISERROR(VLOOKUP(B9,入力AA3!$B$8:$GU$58,オフセット番号A!$T$31+1))=TRUE,\"\",VLOOKUP(B9,入力AA3!$B$8:$GU$58,オフセット番号A!$T$31+1)),\"*\"))","v":"内容27,18"},{"$f":"IF($F$5=1,項目表示入力!$U$33,IF($F$5=2,IF(ISERROR(VLOOKUP(B9,入力AA3!$B$8:$GU$58,オフセット番号A!$U$31+1))=TRUE,\"\",VLOOKUP(B9,入力AA3!$B$8:$GU$58,オフセット番号A!$U$31+1)),\"*\"))","v":"内容27,19"},{"$f":"IF($F$5=1,項目表示入力!$V$33,IF($F$5=2,IF(ISERROR(VLOOKUP(B9,入力AA3!$B$8:$GU$58,オフセット番号A!$V$31+1))=TRUE,\"\",VLOOKUP(B9,入力AA3!$B$8:$GU$58,オフセット番号A!$V$31+1)),\"*\"))","v":"内容27,20"}]
[null,{"$f":"IF(行列入力項目!$C$32=\"\",\"\",行列入力項目!$C$32)","v":"行28"},{"$f":"IF($F$5=1,項目表示入力!$C$34,IF($F$5=2,IF(ISERROR(VLOOKUP(B9,入力AA3!$B$8:$GU$58,オフセット番号A!$C$32+1))=TRUE,\"\",VLOOKUP(B9,入力AA3!$B$8:$GU$58,オフセット番号A!$C$32+1)),\"*\"))","v":"内容28,1"},{"$f":"IF($F$5=1,項目表示入力!$D$34,IF($F$5=2,IF(ISERROR(VLOOKUP(B9,入力AA3!$B$8:$GU$58,オフセット番号A!$D$32+1))=TRUE,\"\",VLOOKUP(B9,入力AA3!$B$8:$GU$58,オフセット番号A!$D$32+1)),\"*\"))","v":"内容28,2"},{"$f":"IF($F$5=1,項目表示入力!$E$34,IF($F$5=2,IF(ISERROR(VLOOKUP(B9,入力AA3!$B$8:$GU$58,オフセット番号A!$E$32+1))=TRUE,\"\",VLOOKUP(B9,入力AA3!$B$8:$GU$58,オフセット番号A!$E$32+1)),\"*\"))","v":"内容28,3"},{"$f":"IF($F$5=1,項目表示入力!$F$34,IF($F$5=2,IF(ISERROR(VLOOKUP(B9,入力AA3!$B$8:$GU$58,オフセット番号A!$F$32+1))=TRUE,\"\",VLOOKUP(B9,入力AA3!$B$8:$GU$58,オフセット番号A!$F$32+1)),\"*\"))","v":"内容28,4"},{"$f":"IF($F$5=1,項目表示入力!$G$34,IF($F$5=2,IF(ISERROR(VLOOKUP(B9,入力AA3!$B$8:$GU$58,オフセット番号A!$G$32+1))=TRUE,\"\",VLOOKUP(B9,入力AA3!$B$8:$GU$58,オフセット番号A!$G$32+1)),\"*\"))","v":"内容28,5"},{"$f":"IF($F$5=1,項目表示入力!$H$34,IF($F$5=2,IF(ISERROR(VLOOKUP(B9,入力AA3!$B$8:$GU$58,オフセット番号A!$H$32+1))=TRUE,\"\",VLOOKUP(B9,入力AA3!$B$8:$GU$58,オフセット番号A!$H$32+1)),\"*\"))","v":"内容28,6"},{"$f":"IF($F$5=1,項目表示入力!$I$34,IF($F$5=2,IF(ISERROR(VLOOKUP(B9,入力AA3!$B$8:$GU$58,オフセット番号A!$I$32+1))=TRUE,\"\",VLOOKUP(B9,入力AA3!$B$8:$GU$58,オフセット番号A!$I$32+1)),\"*\"))","v":"内容28,7"},{"$f":"IF($F$5=1,項目表示入力!$J$34,IF($F$5=2,IF(ISERROR(VLOOKUP(B9,入力AA3!$B$8:$GU$58,オフセット番号A!$J$32+1))=TRUE,\"\",VLOOKUP(B9,入力AA3!$B$8:$GU$58,オフセット番号A!$J$32+1)),\"*\"))","v":"内容28,8"},{"$f":"IF($F$5=1,項目表示入力!$K$34,IF($F$5=2,IF(ISERROR(VLOOKUP(B9,入力AA3!$B$8:$GU$58,オフセット番号A!$K$32+1))=TRUE,\"\",VLOOKUP(B9,入力AA3!$B$8:$GU$58,オフセット番号A!$K$32+1)),\"*\"))","v":"内容28,9"},{"$f":"IF($F$5=1,項目表示入力!$L$34,IF($F$5=2,IF(ISERROR(VLOOKUP(B9,入力AA3!$B$8:$GU$58,オフセット番号A!$L$32+1))=TRUE,\"\",VLOOKUP(B9,入力AA3!$B$8:$GU$58,オフセット番号A!$L$32+1)),\"*\"))","v":"内容28,10"},{"$f":"IF($F$5=1,項目表示入力!$M$34,IF($F$5=2,IF(ISERROR(VLOOKUP(B9,入力AA3!$B$8:$GU$58,オフセット番号A!$M$32+1))=TRUE,\"\",VLOOKUP(B9,入力AA3!$B$8:$GU$58,オフセット番号A!$M$32+1)),\"*\"))","v":"内容28,11"},{"$f":"IF($F$5=1,項目表示入力!$N$34,IF($F$5=2,IF(ISERROR(VLOOKUP(B9,入力AA3!$B$8:$GU$58,オフセット番号A!$N$32+1))=TRUE,\"\",VLOOKUP(B9,入力AA3!$B$8:$GU$58,オフセット番号A!$N$32+1)),\"*\"))","v":"内容28,12"},{"$f":"IF($F$5=1,項目表示入力!$O$34,IF($F$5=2,IF(ISERROR(VLOOKUP(B9,入力AA3!$B$8:$GU$58,オフセット番号A!$O$32+1))=TRUE,\"\",VLOOKUP(B9,入力AA3!$B$8:$GU$58,オフセット番号A!$O$32+1)),\"*\"))","v":"内容28,13"},{"$f":"IF($F$5=1,項目表示入力!$P$34,IF($F$5=2,IF(ISERROR(VLOOKUP(B9,入力AA3!$B$8:$GU$58,オフセット番号A!$P$32+1))=TRUE,\"\",VLOOKUP(B9,入力AA3!$B$8:$GU$58,オフセット番号A!$P$32+1)),\"*\"))","v":"内容28,14"},{"$f":"IF($F$5=1,項目表示入力!$Q$34,IF($F$5=2,IF(ISERROR(VLOOKUP(B9,入力AA3!$B$8:$GU$58,オフセット番号A!$Q$32+1))=TRUE,\"\",VLOOKUP(B9,入力AA3!$B$8:$GU$58,オフセット番号A!$Q$32+1)),\"*\"))","v":"内容28,15"},{"$f":"IF($F$5=1,項目表示入力!$R$34,IF($F$5=2,IF(ISERROR(VLOOKUP(B9,入力AA3!$B$8:$GU$58,オフセット番号A!$R$32+1))=TRUE,\"\",VLOOKUP(B9,入力AA3!$B$8:$GU$58,オフセット番号A!$R$32+1)),\"*\"))","v":"内容28,16"},{"$f":"IF($F$5=1,項目表示入力!$S$34,IF($F$5=2,IF(ISERROR(VLOOKUP(B9,入力AA3!$B$8:$GU$58,オフセット番号A!$S$32+1))=TRUE,\"\",VLOOKUP(B9,入力AA3!$B$8:$GU$58,オフセット番号A!$S$32+1)),\"*\"))","v":"内容28,17"},{"$f":"IF($F$5=1,項目表示入力!$T$34,IF($F$5=2,IF(ISERROR(VLOOKUP(B9,入力AA3!$B$8:$GU$58,オフセット番号A!$T$32+1))=TRUE,\"\",VLOOKUP(B9,入力AA3!$B$8:$GU$58,オフセット番号A!$T$32+1)),\"*\"))","v":"内容28,18"},{"$f":"IF($F$5=1,項目表示入力!$U$34,IF($F$5=2,IF(ISERROR(VLOOKUP(B9,入力AA3!$B$8:$GU$58,オフセット番号A!$U$32+1))=TRUE,\"\",VLOOKUP(B9,入力AA3!$B$8:$GU$58,オフセット番号A!$U$32+1)),\"*\"))","v":"内容28,19"},{"$f":"IF($F$5=1,項目表示入力!$V$34,IF($F$5=2,IF(ISERROR(VLOOKUP(B9,入力AA3!$B$8:$GU$58,オフセット番号A!$V$32+1))=TRUE,\"\",VLOOKUP(B9,入力AA3!$B$8:$GU$58,オフセット番号A!$V$32+1)),\"*\"))","v":"内容28,20"}]
[null,{"$f":"IF(行列入力項目!$C$33=\"\",\"\",行列入力項目!$C$33)","v":"行29"},{"$f":"IF($F$5=1,項目表示入力!$C$35,IF($F$5=2,IF(ISERROR(VLOOKUP(B9,入力AA3!$B$8:$GU$58,オフセット番号A!$C$33+1))=TRUE,\"\",VLOOKUP(B9,入力AA3!$B$8:$GU$58,オフセット番号A!$C$33+1)),\"*\"))","v":"内容29,1"},{"$f":"IF($F$5=1,項目表示入力!$D$35,IF($F$5=2,IF(ISERROR(VLOOKUP(B9,入力AA3!$B$8:$GU$58,オフセット番号A!$D$33+1))=TRUE,\"\",VLOOKUP(B9,入力AA3!$B$8:$GU$58,オフセット番号A!$D$33+1)),\"*\"))","v":"内容29,2"},{"$f":"IF($F$5=1,項目表示入力!$E$35,IF($F$5=2,IF(ISERROR(VLOOKUP(B9,入力AA3!$B$8:$GU$58,オフセット番号A!$E$33+1))=TRUE,\"\",VLOOKUP(B9,入力AA3!$B$8:$GU$58,オフセット番号A!$E$33+1)),\"*\"))","v":"内容29,3"},{"$f":"IF($F$5=1,項目表示入力!$F$35,IF($F$5=2,IF(ISERROR(VLOOKUP(B9,入力AA3!$B$8:$GU$58,オフセット番号A!$F$33+1))=TRUE,\"\",VLOOKUP(B9,入力AA3!$B$8:$GU$58,オフセット番号A!$F$33+1)),\"*\"))","v":"内容29,4"},{"$f":"IF($F$5=1,項目表示入力!$G$35,IF($F$5=2,IF(ISERROR(VLOOKUP(B9,入力AA3!$B$8:$GU$58,オフセット番号A!$G$33+1))=TRUE,\"\",VLOOKUP(B9,入力AA3!$B$8:$GU$58,オフセット番号A!$G$33+1)),\"*\"))","v":"内容29,5"},{"$f":"IF($F$5=1,項目表示入力!$H$35,IF($F$5=2,IF(ISERROR(VLOOKUP(B9,入力AA3!$B$8:$GU$58,オフセット番号A!$H$33+1))=TRUE,\"\",VLOOKUP(B9,入力AA3!$B$8:$GU$58,オフセット番号A!$H$33+1)),\"*\"))","v":"内容29,6"},{"$f":"IF($F$5=1,項目表示入力!$I$35,IF($F$5=2,IF(ISERROR(VLOOKUP(B9,入力AA3!$B$8:$GU$58,オフセット番号A!$I$33+1))=TRUE,\"\",VLOOKUP(B9,入力AA3!$B$8:$GU$58,オフセット番号A!$I$33+1)),\"*\"))","v":"内容29,7"},{"$f":"IF($F$5=1,項目表示入力!$J$35,IF($F$5=2,IF(ISERROR(VLOOKUP(B9,入力AA3!$B$8:$GU$58,オフセット番号A!$J$33+1))=TRUE,\"\",VLOOKUP(B9,入力AA3!$B$8:$GU$58,オフセット番号A!$J$33+1)),\"*\"))","v":"内容29,8"},{"$f":"IF($F$5=1,項目表示入力!$K$35,IF($F$5=2,IF(ISERROR(VLOOKUP(B9,入力AA3!$B$8:$GU$58,オフセット番号A!$K$33+1))=TRUE,\"\",VLOOKUP(B9,入力AA3!$B$8:$GU$58,オフセット番号A!$K$33+1)),\"*\"))","v":"内容29,9"},{"$f":"IF($F$5=1,項目表示入力!$L$35,IF($F$5=2,IF(ISERROR(VLOOKUP(B9,入力AA3!$B$8:$GU$58,オフセット番号A!$L$33+1))=TRUE,\"\",VLOOKUP(B9,入力AA3!$B$8:$GU$58,オフセット番号A!$L$33+1)),\"*\"))","v":"内容29,10"},{"$f":"IF($F$5=1,項目表示入力!$M$35,IF($F$5=2,IF(ISERROR(VLOOKUP(B9,入力AA3!$B$8:$GU$58,オフセット番号A!$M$33+1))=TRUE,\"\",VLOOKUP(B9,入力AA3!$B$8:$GU$58,オフセット番号A!$M$33+1)),\"*\"))","v":"内容29,11"},{"$f":"IF($F$5=1,項目表示入力!$N$35,IF($F$5=2,IF(ISERROR(VLOOKUP(B9,入力AA3!$B$8:$GU$58,オフセット番号A!$N$33+1))=TRUE,\"\",VLOOKUP(B9,入力AA3!$B$8:$GU$58,オフセット番号A!$N$33+1)),\"*\"))","v":"内容29,12"},{"$f":"IF($F$5=1,項目表示入力!$O$35,IF($F$5=2,IF(ISERROR(VLOOKUP(B9,入力AA3!$B$8:$GU$58,オフセット番号A!$O$33+1))=TRUE,\"\",VLOOKUP(B9,入力AA3!$B$8:$GU$58,オフセット番号A!$O$33+1)),\"*\"))","v":"内容29,13"},{"$f":"IF($F$5=1,項目表示入力!$P$35,IF($F$5=2,IF(ISERROR(VLOOKUP(B9,入力AA3!$B$8:$GU$58,オフセット番号A!$P$33+1))=TRUE,\"\",VLOOKUP(B9,入力AA3!$B$8:$GU$58,オフセット番号A!$P$33+1)),\"*\"))","v":"内容29,14"},{"$f":"IF($F$5=1,項目表示入力!$Q$35,IF($F$5=2,IF(ISERROR(VLOOKUP(B9,入力AA3!$B$8:$GU$58,オフセット番号A!$Q$33+1))=TRUE,\"\",VLOOKUP(B9,入力AA3!$B$8:$GU$58,オフセット番号A!$Q$33+1)),\"*\"))","v":"内容29,15"},{"$f":"IF($F$5=1,項目表示入力!$R$35,IF($F$5=2,IF(ISERROR(VLOOKUP(B9,入力AA3!$B$8:$GU$58,オフセット番号A!$R$33+1))=TRUE,\"\",VLOOKUP(B9,入力AA3!$B$8:$GU$58,オフセット番号A!$R$33+1)),\"*\"))","v":"内容29,16"},{"$f":"IF($F$5=1,項目表示入力!$S$35,IF($F$5=2,IF(ISERROR(VLOOKUP(B9,入力AA3!$B$8:$GU$58,オフセット番号A!$S$33+1))=TRUE,\"\",VLOOKUP(B9,入力AA3!$B$8:$GU$58,オフセット番号A!$S$33+1)),\"*\"))","v":"内容29,17"},{"$f":"IF($F$5=1,項目表示入力!$T$35,IF($F$5=2,IF(ISERROR(VLOOKUP(B9,入力AA3!$B$8:$GU$58,オフセット番号A!$T$33+1))=TRUE,\"\",VLOOKUP(B9,入力AA3!$B$8:$GU$58,オフセット番号A!$T$33+1)),\"*\"))","v":"内容29,18"},{"$f":"IF($F$5=1,項目表示入力!$U$35,IF($F$5=2,IF(ISERROR(VLOOKUP(B9,入力AA3!$B$8:$GU$58,オフセット番号A!$U$33+1))=TRUE,\"\",VLOOKUP(B9,入力AA3!$B$8:$GU$58,オフセット番号A!$U$33+1)),\"*\"))","v":"内容29,19"},{"$f":"IF($F$5=1,項目表示入力!$V$35,IF($F$5=2,IF(ISERROR(VLOOKUP(B9,入力AA3!$B$8:$GU$58,オフセット番号A!$V$33+1))=TRUE,\"\",VLOOKUP(B9,入力AA3!$B$8:$GU$58,オフセット番号A!$V$33+1)),\"*\"))","v":"内容29,20"}]
[null,{"$f":"IF(行列入力項目!$C$34=\"\",\"\",行列入力項目!$C$34)","v":"行30"},{"$f":"IF($F$5=1,項目表示入力!$C$36,IF($F$5=2,IF(ISERROR(VLOOKUP(B9,入力AA3!$B$8:$GU$58,オフセット番号A!$C$34+1))=TRUE,\"\",VLOOKUP(B9,入力AA3!$B$8:$GU$58,オフセット番号A!$C$34+1)),\"*\"))","v":"内容30,1"},{"$f":"IF($F$5=1,項目表示入力!$D$36,IF($F$5=2,IF(ISERROR(VLOOKUP(B9,入力AA3!$B$8:$GU$58,オフセット番号A!$D$34+1))=TRUE,\"\",VLOOKUP(B9,入力AA3!$B$8:$GU$58,オフセット番号A!$D$34+1)),\"*\"))","v":"内容30,2"},{"$f":"IF($F$5=1,項目表示入力!$E$36,IF($F$5=2,IF(ISERROR(VLOOKUP(B9,入力AA3!$B$8:$GU$58,オフセット番号A!$E$34+1))=TRUE,\"\",VLOOKUP(B9,入力AA3!$B$8:$GU$58,オフセット番号A!$E$34+1)),\"*\"))","v":"内容30,3"},{"$f":"IF($F$5=1,項目表示入力!$F$36,IF($F$5=2,IF(ISERROR(VLOOKUP(B9,入力AA3!$B$8:$GU$58,オフセット番号A!$F$34+1))=TRUE,\"\",VLOOKUP(B9,入力AA3!$B$8:$GU$58,オフセット番号A!$F$34+1)),\"*\"))","v":"内容30,4"},{"$f":"IF($F$5=1,項目表示入力!$G$36,IF($F$5=2,IF(ISERROR(VLOOKUP(B9,入力AA3!$B$8:$GU$58,オフセット番号A!$G$34+1))=TRUE,\"\",VLOOKUP(B9,入力AA3!$B$8:$GU$58,オフセット番号A!$G$34+1)),\"*\"))","v":"内容30,5"},{"$f":"IF($F$5=1,項目表示入力!$H$36,IF($F$5=2,IF(ISERROR(VLOOKUP(B9,入力AA3!$B$8:$GU$58,オフセット番号A!$H$34+1))=TRUE,\"\",VLOOKUP(B9,入力AA3!$B$8:$GU$58,オフセット番号A!$H$34+1)),\"*\"))","v":"内容30,6"},{"$f":"IF($F$5=1,項目表示入力!$I$36,IF($F$5=2,IF(ISERROR(VLOOKUP(B9,入力AA3!$B$8:$GU$58,オフセット番号A!$I$34+1))=TRUE,\"\",VLOOKUP(B9,入力AA3!$B$8:$GU$58,オフセット番号A!$I$34+1)),\"*\"))","v":"内容30,7"},{"$f":"IF($F$5=1,項目表示入力!$J$36,IF($F$5=2,IF(ISERROR(VLOOKUP(B9,入力AA3!$B$8:$GU$58,オフセット番号A!$J$34+1))=TRUE,\"\",VLOOKUP(B9,入力AA3!$B$8:$GU$58,オフセット番号A!$J$34+1)),\"*\"))","v":"内容30,8"},{"$f":"IF($F$5=1,項目表示入力!$K$36,IF($F$5=2,IF(ISERROR(VLOOKUP(B9,入力AA3!$B$8:$GU$58,オフセット番号A!$K$34+1))=TRUE,\"\",VLOOKUP(B9,入力AA3!$B$8:$GU$58,オフセット番号A!$K$34+1)),\"*\"))","v":"内容30,9"},{"$f":"IF($F$5=1,項目表示入力!$L$36,IF($F$5=2,IF(ISERROR(VLOOKUP(B9,入力AA3!$B$8:$GU$58,オフセット番号A!$L$34+1))=TRUE,\"\",VLOOKUP(B9,入力AA3!$B$8:$GU$58,オフセット番号A!$L$34+1)),\"*\"))","v":"内容30,10"},{"$f":"IF($F$5=1,項目表示入力!$M$36,IF($F$5=2,IF(ISERROR(VLOOKUP(B9,入力AA3!$B$8:$GU$58,オフセット番号A!$M$34+1))=TRUE,\"\",VLOOKUP(B9,入力AA3!$B$8:$GU$58,オフセット番号A!$M$34+1)),\"*\"))","v":"内容30,11"},{"$f":"IF($F$5=1,項目表示入力!$N$36,IF($F$5=2,IF(ISERROR(VLOOKUP(B9,入力AA3!$B$8:$GU$58,オフセット番号A!$N$34+1))=TRUE,\"\",VLOOKUP(B9,入力AA3!$B$8:$GU$58,オフセット番号A!$N$34+1)),\"*\"))","v":"内容30,12"},{"$f":"IF($F$5=1,項目表示入力!$O$36,IF($F$5=2,IF(ISERROR(VLOOKUP(B9,入力AA3!$B$8:$GU$58,オフセット番号A!$O$34+1))=TRUE,\"\",VLOOKUP(B9,入力AA3!$B$8:$GU$58,オフセット番号A!$O$34+1)),\"*\"))","v":"内容30,13"},{"$f":"IF($F$5=1,項目表示入力!$P$36,IF($F$5=2,IF(ISERROR(VLOOKUP(B9,入力AA3!$B$8:$GU$58,オフセット番号A!$P$34+1))=TRUE,\"\",VLOOKUP(B9,入力AA3!$B$8:$GU$58,オフセット番号A!$P$34+1)),\"*\"))","v":"内容30,14"},{"$f":"IF($F$5=1,項目表示入力!$Q$36,IF($F$5=2,IF(ISERROR(VLOOKUP(B9,入力AA3!$B$8:$GU$58,オフセット番号A!$Q$34+1))=TRUE,\"\",VLOOKUP(B9,入力AA3!$B$8:$GU$58,オフセット番号A!$Q$34+1)),\"*\"))","v":"内容30,15"},{"$f":"IF($F$5=1,項目表示入力!$R$36,IF($F$5=2,IF(ISERROR(VLOOKUP(B9,入力AA3!$B$8:$GU$58,オフセット番号A!$R$34+1))=TRUE,\"\",VLOOKUP(B9,入力AA3!$B$8:$GU$58,オフセット番号A!$R$34+1)),\"*\"))","v":"内容30,16"},{"$f":"IF($F$5=1,項目表示入力!$S$36,IF($F$5=2,IF(ISERROR(VLOOKUP(B9,入力AA3!$B$8:$GU$58,オフセット番号A!$S$34+1))=TRUE,\"\",VLOOKUP(B9,入力AA3!$B$8:$GU$58,オフセット番号A!$S$34+1)),\"*\"))","v":"内容30,17"},{"$f":"IF($F$5=1,項目表示入力!$T$36,IF($F$5=2,IF(ISERROR(VLOOKUP(B9,入力AA3!$B$8:$GU$58,オフセット番号A!$T$34+1))=TRUE,\"\",VLOOKUP(B9,入力AA3!$B$8:$GU$58,オフセット番号A!$T$34+1)),\"*\"))","v":"内容30,18"},{"$f":"IF($F$5=1,項目表示入力!$U$36,IF($F$5=2,IF(ISERROR(VLOOKUP(B9,入力AA3!$B$8:$GU$58,オフセット番号A!$U$34+1))=TRUE,\"\",VLOOKUP(B9,入力AA3!$B$8:$GU$58,オフセット番号A!$U$34+1)),\"*\"))","v":"内容30,19"},{"$f":"IF($F$5=1,項目表示入力!$V$36,IF($F$5=2,IF(ISERROR(VLOOKUP(B9,入力AA3!$B$8:$GU$58,オフセット番号A!$V$34+1))=TRUE,\"\",VLOOKUP(B9,入力AA3!$B$8:$GU$58,オフセット番号A!$V$34+1)),\"*\"))","v":"内容30,20"}]
[null,{"$f":"IF(行列入力項目!$C$35=\"\",\"\",行列入力項目!$C$35)","v":"行31"},{"$f":"IF($F$5=1,項目表示入力!$C$37,IF($F$5=2,IF(ISERROR(VLOOKUP(B9,入力AA4!$B$8:$GU$58,オフセット番号A!$C$35+1))=TRUE,\"\",VLOOKUP(B9,入力AA4!$B$8:$GU$58,オフセット番号A!$C$35+1)),\"*\"))","v":"内容31,1"},{"$f":"IF($F$5=1,項目表示入力!$D$37,IF($F$5=2,IF(ISERROR(VLOOKUP(B9,入力AA4!$B$8:$GU$58,オフセット番号A!$D$35+1))=TRUE,\"\",VLOOKUP(B9,入力AA4!$B$8:$GU$58,オフセット番号A!$D$35+1)),\"*\"))","v":"内容31,2"},{"$f":"IF($F$5=1,項目表示入力!$E$37,IF($F$5=2,IF(ISERROR(VLOOKUP(B9,入力AA4!$B$8:$GU$58,オフセット番号A!$E$35+1))=TRUE,\"\",VLOOKUP(B9,入力AA4!$B$8:$GU$58,オフセット番号A!$E$35+1)),\"*\"))","v":"内容31,3"},{"$f":"IF($F$5=1,項目表示入力!$F$37,IF($F$5=2,IF(ISERROR(VLOOKUP(B9,入力AA4!$B$8:$GU$58,オフセット番号A!$F$35+1))=TRUE,\"\",VLOOKUP(B9,入力AA4!$B$8:$GU$58,オフセット番号A!$F$35+1)),\"*\"))","v":"内容31,4"},{"$f":"IF($F$5=1,項目表示入力!$G$37,IF($F$5=2,IF(ISERROR(VLOOKUP(B9,入力AA4!$B$8:$GU$58,オフセット番号A!$G$35+1))=TRUE,\"\",VLOOKUP(B9,入力AA4!$B$8:$GU$58,オフセット番号A!$G$35+1)),\"*\"))","v":"内容31,5"},{"$f":"IF($F$5=1,項目表示入力!$H$37,IF($F$5=2,IF(ISERROR(VLOOKUP(B9,入力AA4!$B$8:$GU$58,オフセット番号A!$H$35+1))=TRUE,\"\",VLOOKUP(B9,入力AA4!$B$8:$GU$58,オフセット番号A!$H$35+1)),\"*\"))","v":"内容31,6"},{"$f":"IF($F$5=1,項目表示入力!$I$37,IF($F$5=2,IF(ISERROR(VLOOKUP(B9,入力AA4!$B$8:$GU$58,オフセット番号A!$I$35+1))=TRUE,\"\",VLOOKUP(B9,入力AA4!$B$8:$GU$58,オフセット番号A!$I$35+1)),\"*\"))","v":"内容31,7"},{"$f":"IF($F$5=1,項目表示入力!$J$37,IF($F$5=2,IF(ISERROR(VLOOKUP(B9,入力AA4!$B$8:$GU$58,オフセット番号A!$J$35+1))=TRUE,\"\",VLOOKUP(B9,入力AA4!$B$8:$GU$58,オフセット番号A!$J$35+1)),\"*\"))","v":"内容31,8"},{"$f":"IF($F$5=1,項目表示入力!$K$37,IF($F$5=2,IF(ISERROR(VLOOKUP(B9,入力AA4!$B$8:$GU$58,オフセット番号A!$K$35+1))=TRUE,\"\",VLOOKUP(B9,入力AA4!$B$8:$GU$58,オフセット番号A!$K$35+1)),\"*\"))","v":"内容31,9"},{"$f":"IF($F$5=1,項目表示入力!$L$37,IF($F$5=2,IF(ISERROR(VLOOKUP(B9,入力AA4!$B$8:$GU$58,オフセット番号A!$L$35+1))=TRUE,\"\",VLOOKUP(B9,入力AA4!$B$8:$GU$58,オフセット番号A!$L$35+1)),\"*\"))","v":"内容31,10"},{"$f":"IF($F$5=1,項目表示入力!$M$37,IF($F$5=2,IF(ISERROR(VLOOKUP(B9,入力AA4!$B$8:$GU$58,オフセット番号A!$M$35+1))=TRUE,\"\",VLOOKUP(B9,入力AA4!$B$8:$GU$58,オフセット番号A!$M$35+1)),\"*\"))","v":"内容31,11"},{"$f":"IF($F$5=1,項目表示入力!$N$37,IF($F$5=2,IF(ISERROR(VLOOKUP(B9,入力AA4!$B$8:$GU$58,オフセット番号A!$N$35+1))=TRUE,\"\",VLOOKUP(B9,入力AA4!$B$8:$GU$58,オフセット番号A!$N$35+1)),\"*\"))","v":"内容31,12"},{"$f":"IF($F$5=1,項目表示入力!$O$37,IF($F$5=2,IF(ISERROR(VLOOKUP(B9,入力AA4!$B$8:$GU$58,オフセット番号A!$O$35+1))=TRUE,\"\",VLOOKUP(B9,入力AA4!$B$8:$GU$58,オフセット番号A!$O$35+1)),\"*\"))","v":"内容31,13"},{"$f":"IF($F$5=1,項目表示入力!$P$37,IF($F$5=2,IF(ISERROR(VLOOKUP(B9,入力AA4!$B$8:$GU$58,オフセット番号A!$P$35+1))=TRUE,\"\",VLOOKUP(B9,入力AA4!$B$8:$GU$58,オフセット番号A!$P$35+1)),\"*\"))","v":"内容31,14"},{"$f":"IF($F$5=1,項目表示入力!$Q$37,IF($F$5=2,IF(ISERROR(VLOOKUP(B9,入力AA4!$B$8:$GU$58,オフセット番号A!$Q$35+1))=TRUE,\"\",VLOOKUP(B9,入力AA4!$B$8:$GU$58,オフセット番号A!$Q$35+1)),\"*\"))","v":"内容31,15"},{"$f":"IF($F$5=1,項目表示入力!$R$37,IF($F$5=2,IF(ISERROR(VLOOKUP(B9,入力AA4!$B$8:$GU$58,オフセット番号A!$R$35+1))=TRUE,\"\",VLOOKUP(B9,入力AA4!$B$8:$GU$58,オフセット番号A!$R$35+1)),\"*\"))","v":"内容31,16"},{"$f":"IF($F$5=1,項目表示入力!$S$37,IF($F$5=2,IF(ISERROR(VLOOKUP(B9,入力AA4!$B$8:$GU$58,オフセット番号A!$S$35+1))=TRUE,\"\",VLOOKUP(B9,入力AA4!$B$8:$GU$58,オフセット番号A!$S$35+1)),\"*\"))","v":"内容31,17"},{"$f":"IF($F$5=1,項目表示入力!$T$37,IF($F$5=2,IF(ISERROR(VLOOKUP(B9,入力AA4!$B$8:$GU$58,オフセット番号A!$T$35+1))=TRUE,\"\",VLOOKUP(B9,入力AA4!$B$8:$GU$58,オフセット番号A!$T$35+1)),\"*\"))","v":"内容31,18"},{"$f":"IF($F$5=1,項目表示入力!$U$37,IF($F$5=2,IF(ISERROR(VLOOKUP(B9,入力AA4!$B$8:$GU$58,オフセット番号A!$U$35+1))=TRUE,\"\",VLOOKUP(B9,入力AA4!$B$8:$GU$58,オフセット番号A!$U$35+1)),\"*\"))","v":"内容31,19"},{"$f":"IF($F$5=1,項目表示入力!$V$37,IF($F$5=2,IF(ISERROR(VLOOKUP(B9,入力AA4!$B$8:$GU$58,オフセット番号A!$V$35+1))=TRUE,\"\",VLOOKUP(B9,入力AA4!$B$8:$GU$58,オフセット番号A!$V$35+1)),\"*\"))","v":"内容31,20"}]
[null,{"$f":"IF(行列入力項目!$C$36=\"\",\"\",行列入力項目!$C$36)","v":"行32"},{"$f":"IF($F$5=1,項目表示入力!$C$38,IF($F$5=2,IF(ISERROR(VLOOKUP(B9,入力AA4!$B$8:$GU$58,オフセット番号A!$C$36+1))=TRUE,\"\",VLOOKUP(B9,入力AA4!$B$8:$GU$58,オフセット番号A!$C$36+1)),\"*\"))","v":"内容32,1"},{"$f":"IF($F$5=1,項目表示入力!$D$38,IF($F$5=2,IF(ISERROR(VLOOKUP(B9,入力AA4!$B$8:$GU$58,オフセット番号A!$D$36+1))=TRUE,\"\",VLOOKUP(B9,入力AA4!$B$8:$GU$58,オフセット番号A!$D$36+1)),\"*\"))","v":"内容32,2"},{"$f":"IF($F$5=1,項目表示入力!$E$38,IF($F$5=2,IF(ISERROR(VLOOKUP(B9,入力AA4!$B$8:$GU$58,オフセット番号A!$E$36+1))=TRUE,\"\",VLOOKUP(B9,入力AA4!$B$8:$GU$58,オフセット番号A!$E$36+1)),\"*\"))","v":"内容32,3"},{"$f":"IF($F$5=1,項目表示入力!$F$38,IF($F$5=2,IF(ISERROR(VLOOKUP(B9,入力AA4!$B$8:$GU$58,オフセット番号A!$F$36+1))=TRUE,\"\",VLOOKUP(B9,入力AA4!$B$8:$GU$58,オフセット番号A!$F$36+1)),\"*\"))","v":"内容32,4"},{"$f":"IF($F$5=1,項目表示入力!$G$38,IF($F$5=2,IF(ISERROR(VLOOKUP(B9,入力AA4!$B$8:$GU$58,オフセット番号A!$G$36+1))=TRUE,\"\",VLOOKUP(B9,入力AA4!$B$8:$GU$58,オフセット番号A!$G$36+1)),\"*\"))","v":"内容32,5"},{"$f":"IF($F$5=1,項目表示入力!$H$38,IF($F$5=2,IF(ISERROR(VLOOKUP(B9,入力AA4!$B$8:$GU$58,オフセット番号A!$H$36+1))=TRUE,\"\",VLOOKUP(B9,入力AA4!$B$8:$GU$58,オフセット番号A!$H$36+1)),\"*\"))","v":"内容32,6"},{"$f":"IF($F$5=1,項目表示入力!$I$38,IF($F$5=2,IF(ISERROR(VLOOKUP(B9,入力AA4!$B$8:$GU$58,オフセット番号A!$I$36+1))=TRUE,\"\",VLOOKUP(B9,入力AA4!$B$8:$GU$58,オフセット番号A!$I$36+1)),\"*\"))","v":"内容32,7"},{"$f":"IF($F$5=1,項目表示入力!$J$38,IF($F$5=2,IF(ISERROR(VLOOKUP(B9,入力AA4!$B$8:$GU$58,オフセット番号A!$J$36+1))=TRUE,\"\",VLOOKUP(B9,入力AA4!$B$8:$GU$58,オフセット番号A!$J$36+1)),\"*\"))","v":"内容32,8"},{"$f":"IF($F$5=1,項目表示入力!$K$38,IF($F$5=2,IF(ISERROR(VLOOKUP(B9,入力AA4!$B$8:$GU$58,オフセット番号A!$K$36+1))=TRUE,\"\",VLOOKUP(B9,入力AA4!$B$8:$GU$58,オフセット番号A!$K$36+1)),\"*\"))","v":"内容32,9"},{"$f":"IF($F$5=1,項目表示入力!$L$38,IF($F$5=2,IF(ISERROR(VLOOKUP(B9,入力AA4!$B$8:$GU$58,オフセット番号A!$L$36+1))=TRUE,\"\",VLOOKUP(B9,入力AA4!$B$8:$GU$58,オフセット番号A!$L$36+1)),\"*\"))","v":"内容32,10"},{"$f":"IF($F$5=1,項目表示入力!$M$38,IF($F$5=2,IF(ISERROR(VLOOKUP(B9,入力AA4!$B$8:$GU$58,オフセット番号A!$M$36+1))=TRUE,\"\",VLOOKUP(B9,入力AA4!$B$8:$GU$58,オフセット番号A!$M$36+1)),\"*\"))","v":"内容32,11"},{"$f":"IF($F$5=1,項目表示入力!$N$38,IF($F$5=2,IF(ISERROR(VLOOKUP(B9,入力AA4!$B$8:$GU$58,オフセット番号A!$N$36+1))=TRUE,\"\",VLOOKUP(B9,入力AA4!$B$8:$GU$58,オフセット番号A!$N$36+1)),\"*\"))","v":"内容32,12"},{"$f":"IF($F$5=1,項目表示入力!$O$38,IF($F$5=2,IF(ISERROR(VLOOKUP(B9,入力AA4!$B$8:$GU$58,オフセット番号A!$O$36+1))=TRUE,\"\",VLOOKUP(B9,入力AA4!$B$8:$GU$58,オフセット番号A!$O$36+1)),\"*\"))","v":"内容32,13"},{"$f":"IF($F$5=1,項目表示入力!$P$38,IF($F$5=2,IF(ISERROR(VLOOKUP(B9,入力AA4!$B$8:$GU$58,オフセット番号A!$P$36+1))=TRUE,\"\",VLOOKUP(B9,入力AA4!$B$8:$GU$58,オフセット番号A!$P$36+1)),\"*\"))","v":"内容32,14"},{"$f":"IF($F$5=1,項目表示入力!$Q$38,IF($F$5=2,IF(ISERROR(VLOOKUP(B9,入力AA4!$B$8:$GU$58,オフセット番号A!$Q$36+1))=TRUE,\"\",VLOOKUP(B9,入力AA4!$B$8:$GU$58,オフセット番号A!$Q$36+1)),\"*\"))","v":"内容32,15"},{"$f":"IF($F$5=1,項目表示入力!$R$38,IF($F$5=2,IF(ISERROR(VLOOKUP(B9,入力AA4!$B$8:$GU$58,オフセット番号A!$R$36+1))=TRUE,\"\",VLOOKUP(B9,入力AA4!$B$8:$GU$58,オフセット番号A!$R$36+1)),\"*\"))","v":"内容32,16"},{"$f":"IF($F$5=1,項目表示入力!$S$38,IF($F$5=2,IF(ISERROR(VLOOKUP(B9,入力AA4!$B$8:$GU$58,オフセット番号A!$S$36+1))=TRUE,\"\",VLOOKUP(B9,入力AA4!$B$8:$GU$58,オフセット番号A!$S$36+1)),\"*\"))","v":"内容32,17"},{"$f":"IF($F$5=1,項目表示入力!$T$38,IF($F$5=2,IF(ISERROR(VLOOKUP(B9,入力AA4!$B$8:$GU$58,オフセット番号A!$T$36+1))=TRUE,\"\",VLOOKUP(B9,入力AA4!$B$8:$GU$58,オフセット番号A!$T$36+1)),\"*\"))","v":"内容32,18"},{"$f":"IF($F$5=1,項目表示入力!$U$38,IF($F$5=2,IF(ISERROR(VLOOKUP(B9,入力AA4!$B$8:$GU$58,オフセット番号A!$U$36+1))=TRUE,\"\",VLOOKUP(B9,入力AA4!$B$8:$GU$58,オフセット番号A!$U$36+1)),\"*\"))","v":"内容32,19"},{"$f":"IF($F$5=1,項目表示入力!$V$38,IF($F$5=2,IF(ISERROR(VLOOKUP(B9,入力AA4!$B$8:$GU$58,オフセット番号A!$V$36+1))=TRUE,\"\",VLOOKUP(B9,入力AA4!$B$8:$GU$58,オフセット番号A!$V$36+1)),\"*\"))","v":"内容32,20"}]
[null,{"$f":"IF(行列入力項目!$C$37=\"\",\"\",行列入力項目!$C$37)","v":"行33"},{"$f":"IF($F$5=1,項目表示入力!$C$39,IF($F$5=2,IF(ISERROR(VLOOKUP(B9,入力AA4!$B$8:$GU$58,オフセット番号A!$C$37+1))=TRUE,\"\",VLOOKUP(B9,入力AA4!$B$8:$GU$58,オフセット番号A!$C$37+1)),\"*\"))","v":"内容33,1"},{"$f":"IF($F$5=1,項目表示入力!$D$39,IF($F$5=2,IF(ISERROR(VLOOKUP(B9,入力AA4!$B$8:$GU$58,オフセット番号A!$D$37+1))=TRUE,\"\",VLOOKUP(B9,入力AA4!$B$8:$GU$58,オフセット番号A!$D$37+1)),\"*\"))","v":"内容33,2"},{"$f":"IF($F$5=1,項目表示入力!$E$39,IF($F$5=2,IF(ISERROR(VLOOKUP(B9,入力AA4!$B$8:$GU$58,オフセット番号A!$E$37+1))=TRUE,\"\",VLOOKUP(B9,入力AA4!$B$8:$GU$58,オフセット番号A!$E$37+1)),\"*\"))","v":"内容33,3"},{"$f":"IF($F$5=1,項目表示入力!$F$39,IF($F$5=2,IF(ISERROR(VLOOKUP(B9,入力AA4!$B$8:$GU$58,オフセット番号A!$F$37+1))=TRUE,\"\",VLOOKUP(B9,入力AA4!$B$8:$GU$58,オフセット番号A!$F$37+1)),\"*\"))","v":"内容33,4"},{"$f":"IF($F$5=1,項目表示入力!$G$39,IF($F$5=2,IF(ISERROR(VLOOKUP(B9,入力AA4!$B$8:$GU$58,オフセット番号A!$G$37+1))=TRUE,\"\",VLOOKUP(B9,入力AA4!$B$8:$GU$58,オフセット番号A!$G$37+1)),\"*\"))","v":"内容33,5"},{"$f":"IF($F$5=1,項目表示入力!$H$39,IF($F$5=2,IF(ISERROR(VLOOKUP(B9,入力AA4!$B$8:$GU$58,オフセット番号A!$H$37+1))=TRUE,\"\",VLOOKUP(B9,入力AA4!$B$8:$GU$58,オフセット番号A!$H$37+1)),\"*\"))","v":"内容33,6"},{"$f":"IF($F$5=1,項目表示入力!$I$39,IF($F$5=2,IF(ISERROR(VLOOKUP(B9,入力AA4!$B$8:$GU$58,オフセット番号A!$I$37+1))=TRUE,\"\",VLOOKUP(B9,入力AA4!$B$8:$GU$58,オフセット番号A!$I$37+1)),\"*\"))","v":"内容33,7"},{"$f":"IF($F$5=1,項目表示入力!$J$39,IF($F$5=2,IF(ISERROR(VLOOKUP(B9,入力AA4!$B$8:$GU$58,オフセット番号A!$J$37+1))=TRUE,\"\",VLOOKUP(B9,入力AA4!$B$8:$GU$58,オフセット番号A!$J$37+1)),\"*\"))","v":"内容33,8"},{"$f":"IF($F$5=1,項目表示入力!$K$39,IF($F$5=2,IF(ISERROR(VLOOKUP(B9,入力AA4!$B$8:$GU$58,オフセット番号A!$K$37+1))=TRUE,\"\",VLOOKUP(B9,入力AA4!$B$8:$GU$58,オフセット番号A!$K$37+1)),\"*\"))","v":"内容33,9"},{"$f":"IF($F$5=1,項目表示入力!$L$39,IF($F$5=2,IF(ISERROR(VLOOKUP(B9,入力AA4!$B$8:$GU$58,オフセット番号A!$L$37+1))=TRUE,\"\",VLOOKUP(B9,入力AA4!$B$8:$GU$58,オフセット番号A!$L$37+1)),\"*\"))","v":"内容33,10"},{"$f":"IF($F$5=1,項目表示入力!$M$39,IF($F$5=2,IF(ISERROR(VLOOKUP(B9,入力AA4!$B$8:$GU$58,オフセット番号A!$M$37+1))=TRUE,\"\",VLOOKUP(B9,入力AA4!$B$8:$GU$58,オフセット番号A!$M$37+1)),\"*\"))","v":"内容33,11"},{"$f":"IF($F$5=1,項目表示入力!$N$39,IF($F$5=2,IF(ISERROR(VLOOKUP(B9,入力AA4!$B$8:$GU$58,オフセット番号A!$N$37+1))=TRUE,\"\",VLOOKUP(B9,入力AA4!$B$8:$GU$58,オフセット番号A!$N$37+1)),\"*\"))","v":"内容33,12"},{"$f":"IF($F$5=1,項目表示入力!$O$39,IF($F$5=2,IF(ISERROR(VLOOKUP(B9,入力AA4!$B$8:$GU$58,オフセット番号A!$O$37+1))=TRUE,\"\",VLOOKUP(B9,入力AA4!$B$8:$GU$58,オフセット番号A!$O$37+1)),\"*\"))","v":"内容33,13"},{"$f":"IF($F$5=1,項目表示入力!$P$39,IF($F$5=2,IF(ISERROR(VLOOKUP(B9,入力AA4!$B$8:$GU$58,オフセット番号A!$P$37+1))=TRUE,\"\",VLOOKUP(B9,入力AA4!$B$8:$GU$58,オフセット番号A!$P$37+1)),\"*\"))","v":"内容33,14"},{"$f":"IF($F$5=1,項目表示入力!$Q$39,IF($F$5=2,IF(ISERROR(VLOOKUP(B9,入力AA4!$B$8:$GU$58,オフセット番号A!$Q$37+1))=TRUE,\"\",VLOOKUP(B9,入力AA4!$B$8:$GU$58,オフセット番号A!$Q$37+1)),\"*\"))","v":"内容33,15"},{"$f":"IF($F$5=1,項目表示入力!$R$39,IF($F$5=2,IF(ISERROR(VLOOKUP(B9,入力AA4!$B$8:$GU$58,オフセット番号A!$R$37+1))=TRUE,\"\",VLOOKUP(B9,入力AA4!$B$8:$GU$58,オフセット番号A!$R$37+1)),\"*\"))","v":"内容33,16"},{"$f":"IF($F$5=1,項目表示入力!$S$39,IF($F$5=2,IF(ISERROR(VLOOKUP(B9,入力AA4!$B$8:$GU$58,オフセット番号A!$S$37+1))=TRUE,\"\",VLOOKUP(B9,入力AA4!$B$8:$GU$58,オフセット番号A!$S$37+1)),\"*\"))","v":"内容33,17"},{"$f":"IF($F$5=1,項目表示入力!$T$39,IF($F$5=2,IF(ISERROR(VLOOKUP(B9,入力AA4!$B$8:$GU$58,オフセット番号A!$T$37+1))=TRUE,\"\",VLOOKUP(B9,入力AA4!$B$8:$GU$58,オフセット番号A!$T$37+1)),\"*\"))","v":"内容33,18"},{"$f":"IF($F$5=1,項目表示入力!$U$39,IF($F$5=2,IF(ISERROR(VLOOKUP(B9,入力AA4!$B$8:$GU$58,オフセット番号A!$U$37+1))=TRUE,\"\",VLOOKUP(B9,入力AA4!$B$8:$GU$58,オフセット番号A!$U$37+1)),\"*\"))","v":"内容33,19"},{"$f":"IF($F$5=1,項目表示入力!$V$39,IF($F$5=2,IF(ISERROR(VLOOKUP(B9,入力AA4!$B$8:$GU$58,オフセット番号A!$V$37+1))=TRUE,\"\",VLOOKUP(B9,入力AA4!$B$8:$GU$58,オフセット番号A!$V$37+1)),\"*\"))","v":"内容33,20"}]
[null,{"$f":"IF(行列入力項目!$C$38=\"\",\"\",行列入力項目!$C$38)","v":"行34"},{"$f":"IF($F$5=1,項目表示入力!$C$40,IF($F$5=2,IF(ISERROR(VLOOKUP(B9,入力AA4!$B$8:$GU$58,オフセット番号A!$C$38+1))=TRUE,\"\",VLOOKUP(B9,入力AA4!$B$8:$GU$58,オフセット番号A!$C$38+1)),\"*\"))","v":"内容34,1"},{"$f":"IF($F$5=1,項目表示入力!$D$40,IF($F$5=2,IF(ISERROR(VLOOKUP(B9,入力AA4!$B$8:$GU$58,オフセット番号A!$D$38+1))=TRUE,\"\",VLOOKUP(B9,入力AA4!$B$8:$GU$58,オフセット番号A!$D$38+1)),\"*\"))","v":"内容34,2"},{"$f":"IF($F$5=1,項目表示入力!$E$40,IF($F$5=2,IF(ISERROR(VLOOKUP(B9,入力AA4!$B$8:$GU$58,オフセット番号A!$E$38+1))=TRUE,\"\",VLOOKUP(B9,入力AA4!$B$8:$GU$58,オフセット番号A!$E$38+1)),\"*\"))","v":"内容34,3"},{"$f":"IF($F$5=1,項目表示入力!$F$40,IF($F$5=2,IF(ISERROR(VLOOKUP(B9,入力AA4!$B$8:$GU$58,オフセット番号A!$F$38+1))=TRUE,\"\",VLOOKUP(B9,入力AA4!$B$8:$GU$58,オフセット番号A!$F$38+1)),\"*\"))","v":"内容34,4"},{"$f":"IF($F$5=1,項目表示入力!$G$40,IF($F$5=2,IF(ISERROR(VLOOKUP(B9,入力AA4!$B$8:$GU$58,オフセット番号A!$G$38+1))=TRUE,\"\",VLOOKUP(B9,入力AA4!$B$8:$GU$58,オフセット番号A!$G$38+1)),\"*\"))","v":"内容34,5"},{"$f":"IF($F$5=1,項目表示入力!$H$40,IF($F$5=2,IF(ISERROR(VLOOKUP(B9,入力AA4!$B$8:$GU$58,オフセット番号A!$H$38+1))=TRUE,\"\",VLOOKUP(B9,入力AA4!$B$8:$GU$58,オフセット番号A!$H$38+1)),\"*\"))","v":"内容34,6"},{"$f":"IF($F$5=1,項目表示入力!$I$40,IF($F$5=2,IF(ISERROR(VLOOKUP(B9,入力AA4!$B$8:$GU$58,オフセット番号A!$I$38+1))=TRUE,\"\",VLOOKUP(B9,入力AA4!$B$8:$GU$58,オフセット番号A!$I$38+1)),\"*\"))","v":"内容34,7"},{"$f":"IF($F$5=1,項目表示入力!$J$40,IF($F$5=2,IF(ISERROR(VLOOKUP(B9,入力AA4!$B$8:$GU$58,オフセット番号A!$J$38+1))=TRUE,\"\",VLOOKUP(B9,入力AA4!$B$8:$GU$58,オフセット番号A!$J$38+1)),\"*\"))","v":"内容34,8"},{"$f":"IF($F$5=1,項目表示入力!$K$40,IF($F$5=2,IF(ISERROR(VLOOKUP(B9,入力AA4!$B$8:$GU$58,オフセット番号A!$K$38+1))=TRUE,\"\",VLOOKUP(B9,入力AA4!$B$8:$GU$58,オフセット番号A!$K$38+1)),\"*\"))","v":"内容34,9"},{"$f":"IF($F$5=1,項目表示入力!$L$40,IF($F$5=2,IF(ISERROR(VLOOKUP(B9,入力AA4!$B$8:$GU$58,オフセット番号A!$L$38+1))=TRUE,\"\",VLOOKUP(B9,入力AA4!$B$8:$GU$58,オフセット番号A!$L$38+1)),\"*\"))","v":"内容34,10"},{"$f":"IF($F$5=1,項目表示入力!$M$40,IF($F$5=2,IF(ISERROR(VLOOKUP(B9,入力AA4!$B$8:$GU$58,オフセット番号A!$M$38+1))=TRUE,\"\",VLOOKUP(B9,入力AA4!$B$8:$GU$58,オフセット番号A!$M$38+1)),\"*\"))","v":"内容34,11"},{"$f":"IF($F$5=1,項目表示入力!$N$40,IF($F$5=2,IF(ISERROR(VLOOKUP(B9,入力AA4!$B$8:$GU$58,オフセット番号A!$N$38+1))=TRUE,\"\",VLOOKUP(B9,入力AA4!$B$8:$GU$58,オフセット番号A!$N$38+1)),\"*\"))","v":"内容34,12"},{"$f":"IF($F$5=1,項目表示入力!$O$40,IF($F$5=2,IF(ISERROR(VLOOKUP(B9,入力AA4!$B$8:$GU$58,オフセット番号A!$O$38+1))=TRUE,\"\",VLOOKUP(B9,入力AA4!$B$8:$GU$58,オフセット番号A!$O$38+1)),\"*\"))","v":"内容34,13"},{"$f":"IF($F$5=1,項目表示入力!$P$40,IF($F$5=2,IF(ISERROR(VLOOKUP(B9,入力AA4!$B$8:$GU$58,オフセット番号A!$P$38+1))=TRUE,\"\",VLOOKUP(B9,入力AA4!$B$8:$GU$58,オフセット番号A!$P$38+1)),\"*\"))","v":"内容34,14"},{"$f":"IF($F$5=1,項目表示入力!$Q$40,IF($F$5=2,IF(ISERROR(VLOOKUP(B9,入力AA4!$B$8:$GU$58,オフセット番号A!$Q$38+1))=TRUE,\"\",VLOOKUP(B9,入力AA4!$B$8:$GU$58,オフセット番号A!$Q$38+1)),\"*\"))","v":"内容34,15"},{"$f":"IF($F$5=1,項目表示入力!$R$40,IF($F$5=2,IF(ISERROR(VLOOKUP(B9,入力AA4!$B$8:$GU$58,オフセット番号A!$R$38+1))=TRUE,\"\",VLOOKUP(B9,入力AA4!$B$8:$GU$58,オフセット番号A!$R$38+1)),\"*\"))","v":"内容34,16"},{"$f":"IF($F$5=1,項目表示入力!$S$40,IF($F$5=2,IF(ISERROR(VLOOKUP(B9,入力AA4!$B$8:$GU$58,オフセット番号A!$S$38+1))=TRUE,\"\",VLOOKUP(B9,入力AA4!$B$8:$GU$58,オフセット番号A!$S$38+1)),\"*\"))","v":"内容34,17"},{"$f":"IF($F$5=1,項目表示入力!$T$40,IF($F$5=2,IF(ISERROR(VLOOKUP(B9,入力AA4!$B$8:$GU$58,オフセット番号A!$T$38+1))=TRUE,\"\",VLOOKUP(B9,入力AA4!$B$8:$GU$58,オフセット番号A!$T$38+1)),\"*\"))","v":"内容34,18"},{"$f":"IF($F$5=1,項目表示入力!$U$40,IF($F$5=2,IF(ISERROR(VLOOKUP(B9,入力AA4!$B$8:$GU$58,オフセット番号A!$U$38+1))=TRUE,\"\",VLOOKUP(B9,入力AA4!$B$8:$GU$58,オフセット番号A!$U$38+1)),\"*\"))","v":"内容34,19"},{"$f":"IF($F$5=1,項目表示入力!$V$40,IF($F$5=2,IF(ISERROR(VLOOKUP(B9,入力AA4!$B$8:$GU$58,オフセット番号A!$V$38+1))=TRUE,\"\",VLOOKUP(B9,入力AA4!$B$8:$GU$58,オフセット番号A!$V$38+1)),\"*\"))","v":"内容34,20"}]
[null,{"$f":"IF(行列入力項目!$C$39=\"\",\"\",行列入力項目!$C$39)","v":"行35"},{"$f":"IF($F$5=1,項目表示入力!$C$41,IF($F$5=2,IF(ISERROR(VLOOKUP(B9,入力AA4!$B$8:$GU$58,オフセット番号A!$C$39+1))=TRUE,\"\",VLOOKUP(B9,入力AA4!$B$8:$GU$58,オフセット番号A!$C$39+1)),\"*\"))","v":"内容35,1"},{"$f":"IF($F$5=1,項目表示入力!$D$41,IF($F$5=2,IF(ISERROR(VLOOKUP(B9,入力AA4!$B$8:$GU$58,オフセット番号A!$D$39+1))=TRUE,\"\",VLOOKUP(B9,入力AA4!$B$8:$GU$58,オフセット番号A!$D$39+1)),\"*\"))","v":"内容35,2"},{"$f":"IF($F$5=1,項目表示入力!$E$41,IF($F$5=2,IF(ISERROR(VLOOKUP(B9,入力AA4!$B$8:$GU$58,オフセット番号A!$E$39+1))=TRUE,\"\",VLOOKUP(B9,入力AA4!$B$8:$GU$58,オフセット番号A!$E$39+1)),\"*\"))","v":"内容35,3"},{"$f":"IF($F$5=1,項目表示入力!$F$41,IF($F$5=2,IF(ISERROR(VLOOKUP(B9,入力AA4!$B$8:$GU$58,オフセット番号A!$F$39+1))=TRUE,\"\",VLOOKUP(B9,入力AA4!$B$8:$GU$58,オフセット番号A!$F$39+1)),\"*\"))","v":"内容35,4"},{"$f":"IF($F$5=1,項目表示入力!$G$41,IF($F$5=2,IF(ISERROR(VLOOKUP(B9,入力AA4!$B$8:$GU$58,オフセット番号A!$G$39+1))=TRUE,\"\",VLOOKUP(B9,入力AA4!$B$8:$GU$58,オフセット番号A!$G$39+1)),\"*\"))","v":"内容35,5"},{"$f":"IF($F$5=1,項目表示入力!$H$41,IF($F$5=2,IF(ISERROR(VLOOKUP(B9,入力AA4!$B$8:$GU$58,オフセット番号A!$H$39+1))=TRUE,\"\",VLOOKUP(B9,入力AA4!$B$8:$GU$58,オフセット番号A!$H$39+1)),\"*\"))","v":"内容35,6"},{"$f":"IF($F$5=1,項目表示入力!$I$41,IF($F$5=2,IF(ISERROR(VLOOKUP(B9,入力AA4!$B$8:$GU$58,オフセット番号A!$I$39+1))=TRUE,\"\",VLOOKUP(B9,入力AA4!$B$8:$GU$58,オフセット番号A!$I$39+1)),\"*\"))","v":"内容35,7"},{"$f":"IF($F$5=1,項目表示入力!$J$41,IF($F$5=2,IF(ISERROR(VLOOKUP(B9,入力AA4!$B$8:$GU$58,オフセット番号A!$J$39+1))=TRUE,\"\",VLOOKUP(B9,入力AA4!$B$8:$GU$58,オフセット番号A!$J$39+1)),\"*\"))","v":"内容35,8"},{"$f":"IF($F$5=1,項目表示入力!$K$41,IF($F$5=2,IF(ISERROR(VLOOKUP(B9,入力AA4!$B$8:$GU$58,オフセット番号A!$K$39+1))=TRUE,\"\",VLOOKUP(B9,入力AA4!$B$8:$GU$58,オフセット番号A!$K$39+1)),\"*\"))","v":"内容35,9"},{"$f":"IF($F$5=1,項目表示入力!$L$41,IF($F$5=2,IF(ISERROR(VLOOKUP(B9,入力AA4!$B$8:$GU$58,オフセット番号A!$L$39+1))=TRUE,\"\",VLOOKUP(B9,入力AA4!$B$8:$GU$58,オフセット番号A!$L$39+1)),\"*\"))","v":"内容35,10"},{"$f":"IF($F$5=1,項目表示入力!$M$41,IF($F$5=2,IF(ISERROR(VLOOKUP(B9,入力AA4!$B$8:$GU$58,オフセット番号A!$M$39+1))=TRUE,\"\",VLOOKUP(B9,入力AA4!$B$8:$GU$58,オフセット番号A!$M$39+1)),\"*\"))","v":"内容35,11"},{"$f":"IF($F$5=1,項目表示入力!$N$41,IF($F$5=2,IF(ISERROR(VLOOKUP(B9,入力AA4!$B$8:$GU$58,オフセット番号A!$N$39+1))=TRUE,\"\",VLOOKUP(B9,入力AA4!$B$8:$GU$58,オフセット番号A!$N$39+1)),\"*\"))","v":"内容35,12"},{"$f":"IF($F$5=1,項目表示入力!$O$41,IF($F$5=2,IF(ISERROR(VLOOKUP(B9,入力AA4!$B$8:$GU$58,オフセット番号A!$O$39+1))=TRUE,\"\",VLOOKUP(B9,入力AA4!$B$8:$GU$58,オフセット番号A!$O$39+1)),\"*\"))","v":"内容35,13"},{"$f":"IF($F$5=1,項目表示入力!$P$41,IF($F$5=2,IF(ISERROR(VLOOKUP(B9,入力AA4!$B$8:$GU$58,オフセット番号A!$P$39+1))=TRUE,\"\",VLOOKUP(B9,入力AA4!$B$8:$GU$58,オフセット番号A!$P$39+1)),\"*\"))","v":"内容35,14"},{"$f":"IF($F$5=1,項目表示入力!$Q$41,IF($F$5=2,IF(ISERROR(VLOOKUP(B9,入力AA4!$B$8:$GU$58,オフセット番号A!$Q$39+1))=TRUE,\"\",VLOOKUP(B9,入力AA4!$B$8:$GU$58,オフセット番号A!$Q$39+1)),\"*\"))","v":"内容35,15"},{"$f":"IF($F$5=1,項目表示入力!$R$41,IF($F$5=2,IF(ISERROR(VLOOKUP(B9,入力AA4!$B$8:$GU$58,オフセット番号A!$R$39+1))=TRUE,\"\",VLOOKUP(B9,入力AA4!$B$8:$GU$58,オフセット番号A!$R$39+1)),\"*\"))","v":"内容35,16"},{"$f":"IF($F$5=1,項目表示入力!$S$41,IF($F$5=2,IF(ISERROR(VLOOKUP(B9,入力AA4!$B$8:$GU$58,オフセット番号A!$S$39+1))=TRUE,\"\",VLOOKUP(B9,入力AA4!$B$8:$GU$58,オフセット番号A!$S$39+1)),\"*\"))","v":"内容35,17"},{"$f":"IF($F$5=1,項目表示入力!$T$41,IF($F$5=2,IF(ISERROR(VLOOKUP(B9,入力AA4!$B$8:$GU$58,オフセット番号A!$T$39+1))=TRUE,\"\",VLOOKUP(B9,入力AA4!$B$8:$GU$58,オフセット番号A!$T$39+1)),\"*\"))","v":"内容35,18"},{"$f":"IF($F$5=1,項目表示入力!$U$41,IF($F$5=2,IF(ISERROR(VLOOKUP(B9,入力AA4!$B$8:$GU$58,オフセット番号A!$U$39+1))=TRUE,\"\",VLOOKUP(B9,入力AA4!$B$8:$GU$58,オフセット番号A!$U$39+1)),\"*\"))","v":"内容35,19"},{"$f":"IF($F$5=1,項目表示入力!$V$41,IF($F$5=2,IF(ISERROR(VLOOKUP(B9,入力AA4!$B$8:$GU$58,オフセット番号A!$V$39+1))=TRUE,\"\",VLOOKUP(B9,入力AA4!$B$8:$GU$58,オフセット番号A!$V$39+1)),\"*\"))","v":"内容35,20"}]
[null,{"$f":"IF(行列入力項目!$C$40=\"\",\"\",行列入力項目!$C$40)","v":"行36"},{"$f":"IF($F$5=1,項目表示入力!$C$42,IF($F$5=2,IF(ISERROR(VLOOKUP(B9,入力AA4!$B$8:$GU$58,オフセット番号A!$C$40+1))=TRUE,\"\",VLOOKUP(B9,入力AA4!$B$8:$GU$58,オフセット番号A!$C$40+1)),\"*\"))","v":"内容36,1"},{"$f":"IF($F$5=1,項目表示入力!$D$42,IF($F$5=2,IF(ISERROR(VLOOKUP(B9,入力AA4!$B$8:$GU$58,オフセット番号A!$D$40+1))=TRUE,\"\",VLOOKUP(B9,入力AA4!$B$8:$GU$58,オフセット番号A!$D$40+1)),\"*\"))","v":"内容36,2"},{"$f":"IF($F$5=1,項目表示入力!$E$42,IF($F$5=2,IF(ISERROR(VLOOKUP(B9,入力AA4!$B$8:$GU$58,オフセット番号A!$E$40+1))=TRUE,\"\",VLOOKUP(B9,入力AA4!$B$8:$GU$58,オフセット番号A!$E$40+1)),\"*\"))","v":"内容36,3"},{"$f":"IF($F$5=1,項目表示入力!$F$42,IF($F$5=2,IF(ISERROR(VLOOKUP(B9,入力AA4!$B$8:$GU$58,オフセット番号A!$F$40+1))=TRUE,\"\",VLOOKUP(B9,入力AA4!$B$8:$GU$58,オフセット番号A!$F$40+1)),\"*\"))","v":"内容36,4"},{"$f":"IF($F$5=1,項目表示入力!$G$42,IF($F$5=2,IF(ISERROR(VLOOKUP(B9,入力AA4!$B$8:$GU$58,オフセット番号A!$G$40+1))=TRUE,\"\",VLOOKUP(B9,入力AA4!$B$8:$GU$58,オフセット番号A!$G$40+1)),\"*\"))","v":"内容36,5"},{"$f":"IF($F$5=1,項目表示入力!$H$42,IF($F$5=2,IF(ISERROR(VLOOKUP(B9,入力AA4!$B$8:$GU$58,オフセット番号A!$H$40+1))=TRUE,\"\",VLOOKUP(B9,入力AA4!$B$8:$GU$58,オフセット番号A!$H$40+1)),\"*\"))","v":"内容36,6"},{"$f":"IF($F$5=1,項目表示入力!$I$42,IF($F$5=2,IF(ISERROR(VLOOKUP(B9,入力AA4!$B$8:$GU$58,オフセット番号A!$I$40+1))=TRUE,\"\",VLOOKUP(B9,入力AA4!$B$8:$GU$58,オフセット番号A!$I$40+1)),\"*\"))","v":"内容36,7"},{"$f":"IF($F$5=1,項目表示入力!$J$42,IF($F$5=2,IF(ISERROR(VLOOKUP(B9,入力AA4!$B$8:$GU$58,オフセット番号A!$J$40+1))=TRUE,\"\",VLOOKUP(B9,入力AA4!$B$8:$GU$58,オフセット番号A!$J$40+1)),\"*\"))","v":"内容36,8"},{"$f":"IF($F$5=1,項目表示入力!$K$42,IF($F$5=2,IF(ISERROR(VLOOKUP(B9,入力AA4!$B$8:$GU$58,オフセット番号A!$K$40+1))=TRUE,\"\",VLOOKUP(B9,入力AA4!$B$8:$GU$58,オフセット番号A!$K$40+1)),\"*\"))","v":"内容36,9"},{"$f":"IF($F$5=1,項目表示入力!$L$42,IF($F$5=2,IF(ISERROR(VLOOKUP(B9,入力AA4!$B$8:$GU$58,オフセット番号A!$L$40+1))=TRUE,\"\",VLOOKUP(B9,入力AA4!$B$8:$GU$58,オフセット番号A!$L$40+1)),\"*\"))","v":"内容36,10"},{"$f":"IF($F$5=1,項目表示入力!$M$42,IF($F$5=2,IF(ISERROR(VLOOKUP(B9,入力AA4!$B$8:$GU$58,オフセット番号A!$M$40+1))=TRUE,\"\",VLOOKUP(B9,入力AA4!$B$8:$GU$58,オフセット番号A!$M$40+1)),\"*\"))","v":"内容36,11"},{"$f":"IF($F$5=1,項目表示入力!$N$42,IF($F$5=2,IF(ISERROR(VLOOKUP(B9,入力AA4!$B$8:$GU$58,オフセット番号A!$N$40+1))=TRUE,\"\",VLOOKUP(B9,入力AA4!$B$8:$GU$58,オフセット番号A!$N$40+1)),\"*\"))","v":"内容36,12"},{"$f":"IF($F$5=1,項目表示入力!$O$42,IF($F$5=2,IF(ISERROR(VLOOKUP(B9,入力AA4!$B$8:$GU$58,オフセット番号A!$O$40+1))=TRUE,\"\",VLOOKUP(B9,入力AA4!$B$8:$GU$58,オフセット番号A!$O$40+1)),\"*\"))","v":"内容36,13"},{"$f":"IF($F$5=1,項目表示入力!$P$42,IF($F$5=2,IF(ISERROR(VLOOKUP(B9,入力AA4!$B$8:$GU$58,オフセット番号A!$P$40+1))=TRUE,\"\",VLOOKUP(B9,入力AA4!$B$8:$GU$58,オフセット番号A!$P$40+1)),\"*\"))","v":"内容36,14"},{"$f":"IF($F$5=1,項目表示入力!$Q$42,IF($F$5=2,IF(ISERROR(VLOOKUP(B9,入力AA4!$B$8:$GU$58,オフセット番号A!$Q$40+1))=TRUE,\"\",VLOOKUP(B9,入力AA4!$B$8:$GU$58,オフセット番号A!$Q$40+1)),\"*\"))","v":"内容36,15"},{"$f":"IF($F$5=1,項目表示入力!$R$42,IF($F$5=2,IF(ISERROR(VLOOKUP(B9,入力AA4!$B$8:$GU$58,オフセット番号A!$R$40+1))=TRUE,\"\",VLOOKUP(B9,入力AA4!$B$8:$GU$58,オフセット番号A!$R$40+1)),\"*\"))","v":"内容36,16"},{"$f":"IF($F$5=1,項目表示入力!$S$42,IF($F$5=2,IF(ISERROR(VLOOKUP(B9,入力AA4!$B$8:$GU$58,オフセット番号A!$S$40+1))=TRUE,\"\",VLOOKUP(B9,入力AA4!$B$8:$GU$58,オフセット番号A!$S$40+1)),\"*\"))","v":"内容36,17"},{"$f":"IF($F$5=1,項目表示入力!$T$42,IF($F$5=2,IF(ISERROR(VLOOKUP(B9,入力AA4!$B$8:$GU$58,オフセット番号A!$T$40+1))=TRUE,\"\",VLOOKUP(B9,入力AA4!$B$8:$GU$58,オフセット番号A!$T$40+1)),\"*\"))","v":"内容36,18"},{"$f":"IF($F$5=1,項目表示入力!$U$42,IF($F$5=2,IF(ISERROR(VLOOKUP(B9,入力AA4!$B$8:$GU$58,オフセット番号A!$U$40+1))=TRUE,\"\",VLOOKUP(B9,入力AA4!$B$8:$GU$58,オフセット番号A!$U$40+1)),\"*\"))","v":"内容36,19"},{"$f":"IF($F$5=1,項目表示入力!$V$42,IF($F$5=2,IF(ISERROR(VLOOKUP(B9,入力AA4!$B$8:$GU$58,オフセット番号A!$V$40+1))=TRUE,\"\",VLOOKUP(B9,入力AA4!$B$8:$GU$58,オフセット番号A!$V$40+1)),\"*\"))","v":"内容36,20"}]
[null,{"$f":"IF(行列入力項目!$C$41=\"\",\"\",行列入力項目!$C$41)","v":"行37"},{"$f":"IF($F$5=1,項目表示入力!$C$43,IF($F$5=2,IF(ISERROR(VLOOKUP(B9,入力AA4!$B$8:$GU$58,オフセット番号A!$C$41+1))=TRUE,\"\",VLOOKUP(B9,入力AA4!$B$8:$GU$58,オフセット番号A!$C$41+1)),\"*\"))","v":"内容37,1"},{"$f":"IF($F$5=1,項目表示入力!$D$43,IF($F$5=2,IF(ISERROR(VLOOKUP(B9,入力AA4!$B$8:$GU$58,オフセット番号A!$D$41+1))=TRUE,\"\",VLOOKUP(B9,入力AA4!$B$8:$GU$58,オフセット番号A!$D$41+1)),\"*\"))","v":"内容37,2"},{"$f":"IF($F$5=1,項目表示入力!$E$43,IF($F$5=2,IF(ISERROR(VLOOKUP(B9,入力AA4!$B$8:$GU$58,オフセット番号A!$E$41+1))=TRUE,\"\",VLOOKUP(B9,入力AA4!$B$8:$GU$58,オフセット番号A!$E$41+1)),\"*\"))","v":"内容37,3"},{"$f":"IF($F$5=1,項目表示入力!$F$43,IF($F$5=2,IF(ISERROR(VLOOKUP(B9,入力AA4!$B$8:$GU$58,オフセット番号A!$F$41+1))=TRUE,\"\",VLOOKUP(B9,入力AA4!$B$8:$GU$58,オフセット番号A!$F$41+1)),\"*\"))","v":"内容37,4"},{"$f":"IF($F$5=1,項目表示入力!$G$43,IF($F$5=2,IF(ISERROR(VLOOKUP(B9,入力AA4!$B$8:$GU$58,オフセット番号A!$G$41+1))=TRUE,\"\",VLOOKUP(B9,入力AA4!$B$8:$GU$58,オフセット番号A!$G$41+1)),\"*\"))","v":"内容37,5"},{"$f":"IF($F$5=1,項目表示入力!$H$43,IF($F$5=2,IF(ISERROR(VLOOKUP(B9,入力AA4!$B$8:$GU$58,オフセット番号A!$H$41+1))=TRUE,\"\",VLOOKUP(B9,入力AA4!$B$8:$GU$58,オフセット番号A!$H$41+1)),\"*\"))","v":"内容37,6"},{"$f":"IF($F$5=1,項目表示入力!$I$43,IF($F$5=2,IF(ISERROR(VLOOKUP(B9,入力AA4!$B$8:$GU$58,オフセット番号A!$I$41+1))=TRUE,\"\",VLOOKUP(B9,入力AA4!$B$8:$GU$58,オフセット番号A!$I$41+1)),\"*\"))","v":"内容37,7"},{"$f":"IF($F$5=1,項目表示入力!$J$43,IF($F$5=2,IF(ISERROR(VLOOKUP(B9,入力AA4!$B$8:$GU$58,オフセット番号A!$J$41+1))=TRUE,\"\",VLOOKUP(B9,入力AA4!$B$8:$GU$58,オフセット番号A!$J$41+1)),\"*\"))","v":"内容37,8"},{"$f":"IF($F$5=1,項目表示入力!$K$43,IF($F$5=2,IF(ISERROR(VLOOKUP(B9,入力AA4!$B$8:$GU$58,オフセット番号A!$K$41+1))=TRUE,\"\",VLOOKUP(B9,入力AA4!$B$8:$GU$58,オフセット番号A!$K$41+1)),\"*\"))","v":"内容37,9"},{"$f":"IF($F$5=1,項目表示入力!$L$43,IF($F$5=2,IF(ISERROR(VLOOKUP(B9,入力AA4!$B$8:$GU$58,オフセット番号A!$L$41+1))=TRUE,\"\",VLOOKUP(B9,入力AA4!$B$8:$GU$58,オフセット番号A!$L$41+1)),\"*\"))","v":"内容37,10"},{"$f":"IF($F$5=1,項目表示入力!$M$43,IF($F$5=2,IF(ISERROR(VLOOKUP(B9,入力AA4!$B$8:$GU$58,オフセット番号A!$M$41+1))=TRUE,\"\",VLOOKUP(B9,入力AA4!$B$8:$GU$58,オフセット番号A!$M$41+1)),\"*\"))","v":"内容37,11"},{"$f":"IF($F$5=1,項目表示入力!$N$43,IF($F$5=2,IF(ISERROR(VLOOKUP(B9,入力AA4!$B$8:$GU$58,オフセット番号A!$N$41+1))=TRUE,\"\",VLOOKUP(B9,入力AA4!$B$8:$GU$58,オフセット番号A!$N$41+1)),\"*\"))","v":"内容37,12"},{"$f":"IF($F$5=1,項目表示入力!$O$43,IF($F$5=2,IF(ISERROR(VLOOKUP(B9,入力AA4!$B$8:$GU$58,オフセット番号A!$O$41+1))=TRUE,\"\",VLOOKUP(B9,入力AA4!$B$8:$GU$58,オフセット番号A!$O$41+1)),\"*\"))","v":"内容37,13"},{"$f":"IF($F$5=1,項目表示入力!$P$43,IF($F$5=2,IF(ISERROR(VLOOKUP(B9,入力AA4!$B$8:$GU$58,オフセット番号A!$P$41+1))=TRUE,\"\",VLOOKUP(B9,入力AA4!$B$8:$GU$58,オフセット番号A!$P$41+1)),\"*\"))","v":"内容37,14"},{"$f":"IF($F$5=1,項目表示入力!$Q$43,IF($F$5=2,IF(ISERROR(VLOOKUP(B9,入力AA4!$B$8:$GU$58,オフセット番号A!$Q$41+1))=TRUE,\"\",VLOOKUP(B9,入力AA4!$B$8:$GU$58,オフセット番号A!$Q$41+1)),\"*\"))","v":"内容37,15"},{"$f":"IF($F$5=1,項目表示入力!$R$43,IF($F$5=2,IF(ISERROR(VLOOKUP(B9,入力AA4!$B$8:$GU$58,オフセット番号A!$R$41+1))=TRUE,\"\",VLOOKUP(B9,入力AA4!$B$8:$GU$58,オフセット番号A!$R$41+1)),\"*\"))","v":"内容37,16"},{"$f":"IF($F$5=1,項目表示入力!$S$43,IF($F$5=2,IF(ISERROR(VLOOKUP(B9,入力AA4!$B$8:$GU$58,オフセット番号A!$S$41+1))=TRUE,\"\",VLOOKUP(B9,入力AA4!$B$8:$GU$58,オフセット番号A!$S$41+1)),\"*\"))","v":"内容37,17"},{"$f":"IF($F$5=1,項目表示入力!$T$43,IF($F$5=2,IF(ISERROR(VLOOKUP(B9,入力AA4!$B$8:$GU$58,オフセット番号A!$T$41+1))=TRUE,\"\",VLOOKUP(B9,入力AA4!$B$8:$GU$58,オフセット番号A!$T$41+1)),\"*\"))","v":"内容37,18"},{"$f":"IF($F$5=1,項目表示入力!$U$43,IF($F$5=2,IF(ISERROR(VLOOKUP(B9,入力AA4!$B$8:$GU$58,オフセット番号A!$U$41+1))=TRUE,\"\",VLOOKUP(B9,入力AA4!$B$8:$GU$58,オフセット番号A!$U$41+1)),\"*\"))","v":"内容37,19"},{"$f":"IF($F$5=1,項目表示入力!$V$43,IF($F$5=2,IF(ISERROR(VLOOKUP(B9,入力AA4!$B$8:$GU$58,オフセット番号A!$V$41+1))=TRUE,\"\",VLOOKUP(B9,入力AA4!$B$8:$GU$58,オフセット番号A!$V$41+1)),\"*\"))","v":"内容37,20"}]
[null,{"$f":"IF(行列入力項目!$C$42=\"\",\"\",行列入力項目!$C$42)","v":"行38"},{"$f":"IF($F$5=1,項目表示入力!$C$44,IF($F$5=2,IF(ISERROR(VLOOKUP(B9,入力AA4!$B$8:$GU$58,オフセット番号A!$C$42+1))=TRUE,\"\",VLOOKUP(B9,入力AA4!$B$8:$GU$58,オフセット番号A!$C$42+1)),\"*\"))","v":"内容38,1"},{"$f":"IF($F$5=1,項目表示入力!$D$44,IF($F$5=2,IF(ISERROR(VLOOKUP(B9,入力AA4!$B$8:$GU$58,オフセット番号A!$D$42+1))=TRUE,\"\",VLOOKUP(B9,入力AA4!$B$8:$GU$58,オフセット番号A!$D$42+1)),\"*\"))","v":"内容38,2"},{"$f":"IF($F$5=1,項目表示入力!$E$44,IF($F$5=2,IF(ISERROR(VLOOKUP(B9,入力AA4!$B$8:$GU$58,オフセット番号A!$E$42+1))=TRUE,\"\",VLOOKUP(B9,入力AA4!$B$8:$GU$58,オフセット番号A!$E$42+1)),\"*\"))","v":"内容38,3"},{"$f":"IF($F$5=1,項目表示入力!$F$44,IF($F$5=2,IF(ISERROR(VLOOKUP(B9,入力AA4!$B$8:$GU$58,オフセット番号A!$F$42+1))=TRUE,\"\",VLOOKUP(B9,入力AA4!$B$8:$GU$58,オフセット番号A!$F$42+1)),\"*\"))","v":"内容38,4"},{"$f":"IF($F$5=1,項目表示入力!$G$44,IF($F$5=2,IF(ISERROR(VLOOKUP(B9,入力AA4!$B$8:$GU$58,オフセット番号A!$G$42+1))=TRUE,\"\",VLOOKUP(B9,入力AA4!$B$8:$GU$58,オフセット番号A!$G$42+1)),\"*\"))","v":"内容38,5"},{"$f":"IF($F$5=1,項目表示入力!$H$44,IF($F$5=2,IF(ISERROR(VLOOKUP(B9,入力AA4!$B$8:$GU$58,オフセット番号A!$H$42+1))=TRUE,\"\",VLOOKUP(B9,入力AA4!$B$8:$GU$58,オフセット番号A!$H$42+1)),\"*\"))","v":"内容38,6"},{"$f":"IF($F$5=1,項目表示入力!$I$44,IF($F$5=2,IF(ISERROR(VLOOKUP(B9,入力AA4!$B$8:$GU$58,オフセット番号A!$I$42+1))=TRUE,\"\",VLOOKUP(B9,入力AA4!$B$8:$GU$58,オフセット番号A!$I$42+1)),\"*\"))","v":"内容38,7"},{"$f":"IF($F$5=1,項目表示入力!$J$44,IF($F$5=2,IF(ISERROR(VLOOKUP(B9,入力AA4!$B$8:$GU$58,オフセット番号A!$J$42+1))=TRUE,\"\",VLOOKUP(B9,入力AA4!$B$8:$GU$58,オフセット番号A!$J$42+1)),\"*\"))","v":"内容38,8"},{"$f":"IF($F$5=1,項目表示入力!$K$44,IF($F$5=2,IF(ISERROR(VLOOKUP(B9,入力AA4!$B$8:$GU$58,オフセット番号A!$K$42+1))=TRUE,\"\",VLOOKUP(B9,入力AA4!$B$8:$GU$58,オフセット番号A!$K$42+1)),\"*\"))","v":"内容38,9"},{"$f":"IF($F$5=1,項目表示入力!$L$44,IF($F$5=2,IF(ISERROR(VLOOKUP(B9,入力AA4!$B$8:$GU$58,オフセット番号A!$L$42+1))=TRUE,\"\",VLOOKUP(B9,入力AA4!$B$8:$GU$58,オフセット番号A!$L$42+1)),\"*\"))","v":"内容38,10"},{"$f":"IF($F$5=1,項目表示入力!$M$44,IF($F$5=2,IF(ISERROR(VLOOKUP(B9,入力AA4!$B$8:$GU$58,オフセット番号A!$M$42+1))=TRUE,\"\",VLOOKUP(B9,入力AA4!$B$8:$GU$58,オフセット番号A!$M$42+1)),\"*\"))","v":"内容38,11"},{"$f":"IF($F$5=1,項目表示入力!$N$44,IF($F$5=2,IF(ISERROR(VLOOKUP(B9,入力AA4!$B$8:$GU$58,オフセット番号A!$N$42+1))=TRUE,\"\",VLOOKUP(B9,入力AA4!$B$8:$GU$58,オフセット番号A!$N$42+1)),\"*\"))","v":"内容38,12"},{"$f":"IF($F$5=1,項目表示入力!$O$44,IF($F$5=2,IF(ISERROR(VLOOKUP(B9,入力AA4!$B$8:$GU$58,オフセット番号A!$O$42+1))=TRUE,\"\",VLOOKUP(B9,入力AA4!$B$8:$GU$58,オフセット番号A!$O$42+1)),\"*\"))","v":"内容38,13"},{"$f":"IF($F$5=1,項目表示入力!$P$44,IF($F$5=2,IF(ISERROR(VLOOKUP(B9,入力AA4!$B$8:$GU$58,オフセット番号A!$P$42+1))=TRUE,\"\",VLOOKUP(B9,入力AA4!$B$8:$GU$58,オフセット番号A!$P$42+1)),\"*\"))","v":"内容38,14"},{"$f":"IF($F$5=1,項目表示入力!$Q$44,IF($F$5=2,IF(ISERROR(VLOOKUP(B9,入力AA4!$B$8:$GU$58,オフセット番号A!$Q$42+1))=TRUE,\"\",VLOOKUP(B9,入力AA4!$B$8:$GU$58,オフセット番号A!$Q$42+1)),\"*\"))","v":"内容38,15"},{"$f":"IF($F$5=1,項目表示入力!$R$44,IF($F$5=2,IF(ISERROR(VLOOKUP(B9,入力AA4!$B$8:$GU$58,オフセット番号A!$R$42+1))=TRUE,\"\",VLOOKUP(B9,入力AA4!$B$8:$GU$58,オフセット番号A!$R$42+1)),\"*\"))","v":"内容38,16"},{"$f":"IF($F$5=1,項目表示入力!$S$44,IF($F$5=2,IF(ISERROR(VLOOKUP(B9,入力AA4!$B$8:$GU$58,オフセット番号A!$S$42+1))=TRUE,\"\",VLOOKUP(B9,入力AA4!$B$8:$GU$58,オフセット番号A!$S$42+1)),\"*\"))","v":"内容38,17"},{"$f":"IF($F$5=1,項目表示入力!$T$44,IF($F$5=2,IF(ISERROR(VLOOKUP(B9,入力AA4!$B$8:$GU$58,オフセット番号A!$T$42+1))=TRUE,\"\",VLOOKUP(B9,入力AA4!$B$8:$GU$58,オフセット番号A!$T$42+1)),\"*\"))","v":"内容38,18"},{"$f":"IF($F$5=1,項目表示入力!$U$44,IF($F$5=2,IF(ISERROR(VLOOKUP(B9,入力AA4!$B$8:$GU$58,オフセット番号A!$U$42+1))=TRUE,\"\",VLOOKUP(B9,入力AA4!$B$8:$GU$58,オフセット番号A!$U$42+1)),\"*\"))","v":"内容38,19"},{"$f":"IF($F$5=1,項目表示入力!$V$44,IF($F$5=2,IF(ISERROR(VLOOKUP(B9,入力AA4!$B$8:$GU$58,オフセット番号A!$V$42+1))=TRUE,\"\",VLOOKUP(B9,入力AA4!$B$8:$GU$58,オフセット番号A!$V$42+1)),\"*\"))","v":"内容38,20"}]
[null,{"$f":"IF(行列入力項目!$C$43=\"\",\"\",行列入力項目!$C$43)","v":"行39"},{"$f":"IF($F$5=1,項目表示入力!$C$45,IF($F$5=2,IF(ISERROR(VLOOKUP(B9,入力AA4!$B$8:$GU$58,オフセット番号A!$C$43+1))=TRUE,\"\",VLOOKUP(B9,入力AA4!$B$8:$GU$58,オフセット番号A!$C$43+1)),\"*\"))","v":"内容39,1"},{"$f":"IF($F$5=1,項目表示入力!$D$45,IF($F$5=2,IF(ISERROR(VLOOKUP(B9,入力AA4!$B$8:$GU$58,オフセット番号A!$D$43+1))=TRUE,\"\",VLOOKUP(B9,入力AA4!$B$8:$GU$58,オフセット番号A!$D$43+1)),\"*\"))","v":"内容39,2"},{"$f":"IF($F$5=1,項目表示入力!$E$45,IF($F$5=2,IF(ISERROR(VLOOKUP(B9,入力AA4!$B$8:$GU$58,オフセット番号A!$E$43+1))=TRUE,\"\",VLOOKUP(B9,入力AA4!$B$8:$GU$58,オフセット番号A!$E$43+1)),\"*\"))","v":"内容39,3"},{"$f":"IF($F$5=1,項目表示入力!$F$45,IF($F$5=2,IF(ISERROR(VLOOKUP(B9,入力AA4!$B$8:$GU$58,オフセット番号A!$F$43+1))=TRUE,\"\",VLOOKUP(B9,入力AA4!$B$8:$GU$58,オフセット番号A!$F$43+1)),\"*\"))","v":"内容39,4"},{"$f":"IF($F$5=1,項目表示入力!$G$45,IF($F$5=2,IF(ISERROR(VLOOKUP(B9,入力AA4!$B$8:$GU$58,オフセット番号A!$G$43+1))=TRUE,\"\",VLOOKUP(B9,入力AA4!$B$8:$GU$58,オフセット番号A!$G$43+1)),\"*\"))","v":"内容39,5"},{"$f":"IF($F$5=1,項目表示入力!$H$45,IF($F$5=2,IF(ISERROR(VLOOKUP(B9,入力AA4!$B$8:$GU$58,オフセット番号A!$H$43+1))=TRUE,\"\",VLOOKUP(B9,入力AA4!$B$8:$GU$58,オフセット番号A!$H$43+1)),\"*\"))","v":"内容39,6"},{"$f":"IF($F$5=1,項目表示入力!$I$45,IF($F$5=2,IF(ISERROR(VLOOKUP(B9,入力AA4!$B$8:$GU$58,オフセット番号A!$I$43+1))=TRUE,\"\",VLOOKUP(B9,入力AA4!$B$8:$GU$58,オフセット番号A!$I$43+1)),\"*\"))","v":"内容39,7"},{"$f":"IF($F$5=1,項目表示入力!$J$45,IF($F$5=2,IF(ISERROR(VLOOKUP(B9,入力AA4!$B$8:$GU$58,オフセット番号A!$J$43+1))=TRUE,\"\",VLOOKUP(B9,入力AA4!$B$8:$GU$58,オフセット番号A!$J$43+1)),\"*\"))","v":"内容39,8"},{"$f":"IF($F$5=1,項目表示入力!$K$45,IF($F$5=2,IF(ISERROR(VLOOKUP(B9,入力AA4!$B$8:$GU$58,オフセット番号A!$K$43+1))=TRUE,\"\",VLOOKUP(B9,入力AA4!$B$8:$GU$58,オフセット番号A!$K$43+1)),\"*\"))","v":"内容39,9"},{"$f":"IF($F$5=1,項目表示入力!$L$45,IF($F$5=2,IF(ISERROR(VLOOKUP(B9,入力AA4!$B$8:$GU$58,オフセット番号A!$L$43+1))=TRUE,\"\",VLOOKUP(B9,入力AA4!$B$8:$GU$58,オフセット番号A!$L$43+1)),\"*\"))","v":"内容39,10"},{"$f":"IF($F$5=1,項目表示入力!$M$45,IF($F$5=2,IF(ISERROR(VLOOKUP(B9,入力AA4!$B$8:$GU$58,オフセット番号A!$M$43+1))=TRUE,\"\",VLOOKUP(B9,入力AA4!$B$8:$GU$58,オフセット番号A!$M$43+1)),\"*\"))","v":"内容39,11"},{"$f":"IF($F$5=1,項目表示入力!$N$45,IF($F$5=2,IF(ISERROR(VLOOKUP(B9,入力AA4!$B$8:$GU$58,オフセット番号A!$N$43+1))=TRUE,\"\",VLOOKUP(B9,入力AA4!$B$8:$GU$58,オフセット番号A!$N$43+1)),\"*\"))","v":"内容39,12"},{"$f":"IF($F$5=1,項目表示入力!$O$45,IF($F$5=2,IF(ISERROR(VLOOKUP(B9,入力AA4!$B$8:$GU$58,オフセット番号A!$O$43+1))=TRUE,\"\",VLOOKUP(B9,入力AA4!$B$8:$GU$58,オフセット番号A!$O$43+1)),\"*\"))","v":"内容39,13"},{"$f":"IF($F$5=1,項目表示入力!$P$45,IF($F$5=2,IF(ISERROR(VLOOKUP(B9,入力AA4!$B$8:$GU$58,オフセット番号A!$P$43+1))=TRUE,\"\",VLOOKUP(B9,入力AA4!$B$8:$GU$58,オフセット番号A!$P$43+1)),\"*\"))","v":"内容39,14"},{"$f":"IF($F$5=1,項目表示入力!$Q$45,IF($F$5=2,IF(ISERROR(VLOOKUP(B9,入力AA4!$B$8:$GU$58,オフセット番号A!$Q$43+1))=TRUE,\"\",VLOOKUP(B9,入力AA4!$B$8:$GU$58,オフセット番号A!$Q$43+1)),\"*\"))","v":"内容39,15"},{"$f":"IF($F$5=1,項目表示入力!$R$45,IF($F$5=2,IF(ISERROR(VLOOKUP(B9,入力AA4!$B$8:$GU$58,オフセット番号A!$R$43+1))=TRUE,\"\",VLOOKUP(B9,入力AA4!$B$8:$GU$58,オフセット番号A!$R$43+1)),\"*\"))","v":"内容39,16"},{"$f":"IF($F$5=1,項目表示入力!$S$45,IF($F$5=2,IF(ISERROR(VLOOKUP(B9,入力AA4!$B$8:$GU$58,オフセット番号A!$S$43+1))=TRUE,\"\",VLOOKUP(B9,入力AA4!$B$8:$GU$58,オフセット番号A!$S$43+1)),\"*\"))","v":"内容39,17"},{"$f":"IF($F$5=1,項目表示入力!$T$45,IF($F$5=2,IF(ISERROR(VLOOKUP(B9,入力AA4!$B$8:$GU$58,オフセット番号A!$T$43+1))=TRUE,\"\",VLOOKUP(B9,入力AA4!$B$8:$GU$58,オフセット番号A!$T$43+1)),\"*\"))","v":"内容39,18"},{"$f":"IF($F$5=1,項目表示入力!$U$45,IF($F$5=2,IF(ISERROR(VLOOKUP(B9,入力AA4!$B$8:$GU$58,オフセット番号A!$U$43+1))=TRUE,\"\",VLOOKUP(B9,入力AA4!$B$8:$GU$58,オフセット番号A!$U$43+1)),\"*\"))","v":"内容39,19"},{"$f":"IF($F$5=1,項目表示入力!$V$45,IF($F$5=2,IF(ISERROR(VLOOKUP(B9,入力AA4!$B$8:$GU$58,オフセット番号A!$V$43+1))=TRUE,\"\",VLOOKUP(B9,入力AA4!$B$8:$GU$58,オフセット番号A!$V$43+1)),\"*\"))","v":"内容39,20"}]
[null,{"$f":"IF(行列入力項目!$C$44=\"\",\"\",行列入力項目!$C$44)","v":"行40"},{"$f":"IF($F$5=1,項目表示入力!$C$46,IF($F$5=2,IF(ISERROR(VLOOKUP(B9,入力AA4!$B$8:$GU$58,オフセット番号A!$C$44+1))=TRUE,\"\",VLOOKUP(B9,入力AA4!$B$8:$GU$58,オフセット番号A!$C$44+1)),\"*\"))","v":"内容40,1"},{"$f":"IF($F$5=1,項目表示入力!$D$46,IF($F$5=2,IF(ISERROR(VLOOKUP(B9,入力AA4!$B$8:$GU$58,オフセット番号A!$D$44+1))=TRUE,\"\",VLOOKUP(B9,入力AA4!$B$8:$GU$58,オフセット番号A!$D$44+1)),\"*\"))","v":"内容40,2"},{"$f":"IF($F$5=1,項目表示入力!$E$46,IF($F$5=2,IF(ISERROR(VLOOKUP(B9,入力AA4!$B$8:$GU$58,オフセット番号A!$E$44+1))=TRUE,\"\",VLOOKUP(B9,入力AA4!$B$8:$GU$58,オフセット番号A!$E$44+1)),\"*\"))","v":"内容40,3"},{"$f":"IF($F$5=1,項目表示入力!$F$46,IF($F$5=2,IF(ISERROR(VLOOKUP(B9,入力AA4!$B$8:$GU$58,オフセット番号A!$F$44+1))=TRUE,\"\",VLOOKUP(B9,入力AA4!$B$8:$GU$58,オフセット番号A!$F$44+1)),\"*\"))","v":"内容40,4"},{"$f":"IF($F$5=1,項目表示入力!$G$46,IF($F$5=2,IF(ISERROR(VLOOKUP(B9,入力AA4!$B$8:$GU$58,オフセット番号A!$G$44+1))=TRUE,\"\",VLOOKUP(B9,入力AA4!$B$8:$GU$58,オフセット番号A!$G$44+1)),\"*\"))","v":"内容40,5"},{"$f":"IF($F$5=1,項目表示入力!$H$46,IF($F$5=2,IF(ISERROR(VLOOKUP(B9,入力AA4!$B$8:$GU$58,オフセット番号A!$H$44+1))=TRUE,\"\",VLOOKUP(B9,入力AA4!$B$8:$GU$58,オフセット番号A!$H$44+1)),\"*\"))","v":"内容40,6"},{"$f":"IF($F$5=1,項目表示入力!$I$46,IF($F$5=2,IF(ISERROR(VLOOKUP(B9,入力AA4!$B$8:$GU$58,オフセット番号A!$I$44+1))=TRUE,\"\",VLOOKUP(B9,入力AA4!$B$8:$GU$58,オフセット番号A!$I$44+1)),\"*\"))","v":"内容40,7"},{"$f":"IF($F$5=1,項目表示入力!$J$46,IF($F$5=2,IF(ISERROR(VLOOKUP(B9,入力AA4!$B$8:$GU$58,オフセット番号A!$J$44+1))=TRUE,\"\",VLOOKUP(B9,入力AA4!$B$8:$GU$58,オフセット番号A!$J$44+1)),\"*\"))","v":"内容40,8"},{"$f":"IF($F$5=1,項目表示入力!$K$46,IF($F$5=2,IF(ISERROR(VLOOKUP(B9,入力AA4!$B$8:$GU$58,オフセット番号A!$K$44+1))=TRUE,\"\",VLOOKUP(B9,入力AA4!$B$8:$GU$58,オフセット番号A!$K$44+1)),\"*\"))","v":"内容40,9"},{"$f":"IF($F$5=1,項目表示入力!$L$46,IF($F$5=2,IF(ISERROR(VLOOKUP(B9,入力AA4!$B$8:$GU$58,オフセット番号A!$L$44+1))=TRUE,\"\",VLOOKUP(B9,入力AA4!$B$8:$GU$58,オフセット番号A!$L$44+1)),\"*\"))","v":"内容40,10"},{"$f":"IF($F$5=1,項目表示入力!$M$46,IF($F$5=2,IF(ISERROR(VLOOKUP(B9,入力AA4!$B$8:$GU$58,オフセット番号A!$M$44+1))=TRUE,\"\",VLOOKUP(B9,入力AA4!$B$8:$GU$58,オフセット番号A!$M$44+1)),\"*\"))","v":"内容40,11"},{"$f":"IF($F$5=1,項目表示入力!$N$46,IF($F$5=2,IF(ISERROR(VLOOKUP(B9,入力AA4!$B$8:$GU$58,オフセット番号A!$N$44+1))=TRUE,\"\",VLOOKUP(B9,入力AA4!$B$8:$GU$58,オフセット番号A!$N$44+1)),\"*\"))","v":"内容40,12"},{"$f":"IF($F$5=1,項目表示入力!$O$46,IF($F$5=2,IF(ISERROR(VLOOKUP(B9,入力AA4!$B$8:$GU$58,オフセット番号A!$O$44+1))=TRUE,\"\",VLOOKUP(B9,入力AA4!$B$8:$GU$58,オフセット番号A!$O$44+1)),\"*\"))","v":"内容40,13"},{"$f":"IF($F$5=1,項目表示入力!$P$46,IF($F$5=2,IF(ISERROR(VLOOKUP(B9,入力AA4!$B$8:$GU$58,オフセット番号A!$P$44+1))=TRUE,\"\",VLOOKUP(B9,入力AA4!$B$8:$GU$58,オフセット番号A!$P$44+1)),\"*\"))","v":"内容40,14"},{"$f":"IF($F$5=1,項目表示入力!$Q$46,IF($F$5=2,IF(ISERROR(VLOOKUP(B9,入力AA4!$B$8:$GU$58,オフセット番号A!$Q$44+1))=TRUE,\"\",VLOOKUP(B9,入力AA4!$B$8:$GU$58,オフセット番号A!$Q$44+1)),\"*\"))","v":"内容40,15"},{"$f":"IF($F$5=1,項目表示入力!$R$46,IF($F$5=2,IF(ISERROR(VLOOKUP(B9,入力AA4!$B$8:$GU$58,オフセット番号A!$R$44+1))=TRUE,\"\",VLOOKUP(B9,入力AA4!$B$8:$GU$58,オフセット番号A!$R$44+1)),\"*\"))","v":"内容40,16"},{"$f":"IF($F$5=1,項目表示入力!$S$46,IF($F$5=2,IF(ISERROR(VLOOKUP(B9,入力AA4!$B$8:$GU$58,オフセット番号A!$S$44+1))=TRUE,\"\",VLOOKUP(B9,入力AA4!$B$8:$GU$58,オフセット番号A!$S$44+1)),\"*\"))","v":"内容40,17"},{"$f":"IF($F$5=1,項目表示入力!$T$46,IF($F$5=2,IF(ISERROR(VLOOKUP(B9,入力AA4!$B$8:$GU$58,オフセット番号A!$T$44+1))=TRUE,\"\",VLOOKUP(B9,入力AA4!$B$8:$GU$58,オフセット番号A!$T$44+1)),\"*\"))","v":"内容40,18"},{"$f":"IF($F$5=1,項目表示入力!$U$46,IF($F$5=2,IF(ISERROR(VLOOKUP(B9,入力AA4!$B$8:$GU$58,オフセット番号A!$U$44+1))=TRUE,\"\",VLOOKUP(B9,入力AA4!$B$8:$GU$58,オフセット番号A!$U$44+1)),\"*\"))","v":"内容40,19"},{"$f":"IF($F$5=1,項目表示入力!$V$46,IF($F$5=2,IF(ISERROR(VLOOKUP(B9,入力AA4!$B$8:$GU$58,オフセット番号A!$V$44+1))=TRUE,\"\",VLOOKUP(B9,入力AA4!$B$8:$GU$58,オフセット番号A!$V$44+1)),\"*\"))","v":"内容40,20"}]
[null,{"$f":"IF(行列入力項目!$C$45=\"\",\"\",行列入力項目!$C$45)","v":"行41"},{"$f":"IF($F$5=1,項目表示入力!$C$47,IF($F$5=2,IF(ISERROR(VLOOKUP(B9,入力AA5!$B$8:$GU$58,オフセット番号A!$C$45+1))=TRUE,\"\",VLOOKUP(B9,入力AA5!$B$8:$GU$58,オフセット番号A!$C$45+1)),\"*\"))","v":"内容41,1"},{"$f":"IF($F$5=1,項目表示入力!$D$47,IF($F$5=2,IF(ISERROR(VLOOKUP(B9,入力AA5!$B$8:$GU$58,オフセット番号A!$D$45+1))=TRUE,\"\",VLOOKUP(B9,入力AA5!$B$8:$GU$58,オフセット番号A!$D$45+1)),\"*\"))","v":"内容41,2"},{"$f":"IF($F$5=1,項目表示入力!$E$47,IF($F$5=2,IF(ISERROR(VLOOKUP(B9,入力AA5!$B$8:$GU$58,オフセット番号A!$E$45+1))=TRUE,\"\",VLOOKUP(B9,入力AA5!$B$8:$GU$58,オフセット番号A!$E$45+1)),\"*\"))","v":"内容41,3"},{"$f":"IF($F$5=1,項目表示入力!$F$47,IF($F$5=2,IF(ISERROR(VLOOKUP(B9,入力AA5!$B$8:$GU$58,オフセット番号A!$F$45+1))=TRUE,\"\",VLOOKUP(B9,入力AA5!$B$8:$GU$58,オフセット番号A!$F$45+1)),\"*\"))","v":"内容41,4"},{"$f":"IF($F$5=1,項目表示入力!$G$47,IF($F$5=2,IF(ISERROR(VLOOKUP(B9,入力AA5!$B$8:$GU$58,オフセット番号A!$G$45+1))=TRUE,\"\",VLOOKUP(B9,入力AA5!$B$8:$GU$58,オフセット番号A!$G$45+1)),\"*\"))","v":"内容41,5"},{"$f":"IF($F$5=1,項目表示入力!$H$47,IF($F$5=2,IF(ISERROR(VLOOKUP(B9,入力AA5!$B$8:$GU$58,オフセット番号A!$H$45+1))=TRUE,\"\",VLOOKUP(B9,入力AA5!$B$8:$GU$58,オフセット番号A!$H$45+1)),\"*\"))","v":"内容41,6"},{"$f":"IF($F$5=1,項目表示入力!$I$47,IF($F$5=2,IF(ISERROR(VLOOKUP(B9,入力AA5!$B$8:$GU$58,オフセット番号A!$I$45+1))=TRUE,\"\",VLOOKUP(B9,入力AA5!$B$8:$GU$58,オフセット番号A!$I$45+1)),\"*\"))","v":"内容41,7"},{"$f":"IF($F$5=1,項目表示入力!$J$47,IF($F$5=2,IF(ISERROR(VLOOKUP(B9,入力AA5!$B$8:$GU$58,オフセット番号A!$J$45+1))=TRUE,\"\",VLOOKUP(B9,入力AA5!$B$8:$GU$58,オフセット番号A!$J$45+1)),\"*\"))","v":"内容41,8"},{"$f":"IF($F$5=1,項目表示入力!$K$47,IF($F$5=2,IF(ISERROR(VLOOKUP(B9,入力AA5!$B$8:$GU$58,オフセット番号A!$K$45+1))=TRUE,\"\",VLOOKUP(B9,入力AA5!$B$8:$GU$58,オフセット番号A!$K$45+1)),\"*\"))","v":"内容41,9"},{"$f":"IF($F$5=1,項目表示入力!$L$47,IF($F$5=2,IF(ISERROR(VLOOKUP(B9,入力AA5!$B$8:$GU$58,オフセット番号A!$L$45+1))=TRUE,\"\",VLOOKUP(B9,入力AA5!$B$8:$GU$58,オフセット番号A!$L$45+1)),\"*\"))","v":"内容41,10"},{"$f":"IF($F$5=1,項目表示入力!$M$47,IF($F$5=2,IF(ISERROR(VLOOKUP(B9,入力AA5!$B$8:$GU$58,オフセット番号A!$M$45+1))=TRUE,\"\",VLOOKUP(B9,入力AA5!$B$8:$GU$58,オフセット番号A!$M$45+1)),\"*\"))","v":"内容41,11"},{"$f":"IF($F$5=1,項目表示入力!$N$47,IF($F$5=2,IF(ISERROR(VLOOKUP(B9,入力AA5!$B$8:$GU$58,オフセット番号A!$N$45+1))=TRUE,\"\",VLOOKUP(B9,入力AA5!$B$8:$GU$58,オフセット番号A!$N$45+1)),\"*\"))","v":"内容41,12"},{"$f":"IF($F$5=1,項目表示入力!$O$47,IF($F$5=2,IF(ISERROR(VLOOKUP(B9,入力AA5!$B$8:$GU$58,オフセット番号A!$O$45+1))=TRUE,\"\",VLOOKUP(B9,入力AA5!$B$8:$GU$58,オフセット番号A!$O$45+1)),\"*\"))","v":"内容41,13"},{"$f":"IF($F$5=1,項目表示入力!$P$47,IF($F$5=2,IF(ISERROR(VLOOKUP(B9,入力AA5!$B$8:$GU$58,オフセット番号A!$P$45+1))=TRUE,\"\",VLOOKUP(B9,入力AA5!$B$8:$GU$58,オフセット番号A!$P$45+1)),\"*\"))","v":"内容41,14"},{"$f":"IF($F$5=1,項目表示入力!$Q$47,IF($F$5=2,IF(ISERROR(VLOOKUP(B9,入力AA5!$B$8:$GU$58,オフセット番号A!$Q$45+1))=TRUE,\"\",VLOOKUP(B9,入力AA5!$B$8:$GU$58,オフセット番号A!$Q$45+1)),\"*\"))","v":"内容41,15"},{"$f":"IF($F$5=1,項目表示入力!$R$47,IF($F$5=2,IF(ISERROR(VLOOKUP(B9,入力AA5!$B$8:$GU$58,オフセット番号A!$R$45+1))=TRUE,\"\",VLOOKUP(B9,入力AA5!$B$8:$GU$58,オフセット番号A!$R$45+1)),\"*\"))","v":"内容41,16"},{"$f":"IF($F$5=1,項目表示入力!$S$47,IF($F$5=2,IF(ISERROR(VLOOKUP(B9,入力AA5!$B$8:$GU$58,オフセット番号A!$S$45+1))=TRUE,\"\",VLOOKUP(B9,入力AA5!$B$8:$GU$58,オフセット番号A!$S$45+1)),\"*\"))","v":"内容41,17"},{"$f":"IF($F$5=1,項目表示入力!$T$47,IF($F$5=2,IF(ISERROR(VLOOKUP(B9,入力AA5!$B$8:$GU$58,オフセット番号A!$T$45+1))=TRUE,\"\",VLOOKUP(B9,入力AA5!$B$8:$GU$58,オフセット番号A!$T$45+1)),\"*\"))","v":"内容41,18"},{"$f":"IF($F$5=1,項目表示入力!$U$47,IF($F$5=2,IF(ISERROR(VLOOKUP(B9,入力AA5!$B$8:$GU$58,オフセット番号A!$U$45+1))=TRUE,\"\",VLOOKUP(B9,入力AA5!$B$8:$GU$58,オフセット番号A!$U$45+1)),\"*\"))","v":"内容41,19"},{"$f":"IF($F$5=1,項目表示入力!$V$47,IF($F$5=2,IF(ISERROR(VLOOKUP(B9,入力AA5!$B$8:$GU$58,オフセット番号A!$V$45+1))=TRUE,\"\",VLOOKUP(B9,入力AA5!$B$8:$GU$58,オフセット番号A!$V$45+1)),\"*\"))","v":"内容41,20"}]
[null,{"$f":"IF(行列入力項目!$C$46=\"\",\"\",行列入力項目!$C$46)","v":"行42"},{"$f":"IF($F$5=1,項目表示入力!$C$48,IF($F$5=2,IF(ISERROR(VLOOKUP(B9,入力AA5!$B$8:$GU$58,オフセット番号A!$C$46+1))=TRUE,\"\",VLOOKUP(B9,入力AA5!$B$8:$GU$58,オフセット番号A!$C$46+1)),\"*\"))","v":"内容42,1"},{"$f":"IF($F$5=1,項目表示入力!$D$48,IF($F$5=2,IF(ISERROR(VLOOKUP(B9,入力AA5!$B$8:$GU$58,オフセット番号A!$D$46+1))=TRUE,\"\",VLOOKUP(B9,入力AA5!$B$8:$GU$58,オフセット番号A!$D$46+1)),\"*\"))","v":"内容42,2"},{"$f":"IF($F$5=1,項目表示入力!$E$48,IF($F$5=2,IF(ISERROR(VLOOKUP(B9,入力AA5!$B$8:$GU$58,オフセット番号A!$E$46+1))=TRUE,\"\",VLOOKUP(B9,入力AA5!$B$8:$GU$58,オフセット番号A!$E$46+1)),\"*\"))","v":"内容42,3"},{"$f":"IF($F$5=1,項目表示入力!$F$48,IF($F$5=2,IF(ISERROR(VLOOKUP(B9,入力AA5!$B$8:$GU$58,オフセット番号A!$F$46+1))=TRUE,\"\",VLOOKUP(B9,入力AA5!$B$8:$GU$58,オフセット番号A!$F$46+1)),\"*\"))","v":"内容42,4"},{"$f":"IF($F$5=1,項目表示入力!$G$48,IF($F$5=2,IF(ISERROR(VLOOKUP(B9,入力AA5!$B$8:$GU$58,オフセット番号A!$G$46+1))=TRUE,\"\",VLOOKUP(B9,入力AA5!$B$8:$GU$58,オフセット番号A!$G$46+1)),\"*\"))","v":"内容42,5"},{"$f":"IF($F$5=1,項目表示入力!$H$48,IF($F$5=2,IF(ISERROR(VLOOKUP(B9,入力AA5!$B$8:$GU$58,オフセット番号A!$H$46+1))=TRUE,\"\",VLOOKUP(B9,入力AA5!$B$8:$GU$58,オフセット番号A!$H$46+1)),\"*\"))","v":"内容42,6"},{"$f":"IF($F$5=1,項目表示入力!$I$48,IF($F$5=2,IF(ISERROR(VLOOKUP(B9,入力AA5!$B$8:$GU$58,オフセット番号A!$I$46+1))=TRUE,\"\",VLOOKUP(B9,入力AA5!$B$8:$GU$58,オフセット番号A!$I$46+1)),\"*\"))","v":"内容42,7"},{"$f":"IF($F$5=1,項目表示入力!$J$48,IF($F$5=2,IF(ISERROR(VLOOKUP(B9,入力AA5!$B$8:$GU$58,オフセット番号A!$J$46+1))=TRUE,\"\",VLOOKUP(B9,入力AA5!$B$8:$GU$58,オフセット番号A!$J$46+1)),\"*\"))","v":"内容42,8"},{"$f":"IF($F$5=1,項目表示入力!$K$48,IF($F$5=2,IF(ISERROR(VLOOKUP(B9,入力AA5!$B$8:$GU$58,オフセット番号A!$K$46+1))=TRUE,\"\",VLOOKUP(B9,入力AA5!$B$8:$GU$58,オフセット番号A!$K$46+1)),\"*\"))","v":"内容42,9"},{"$f":"IF($F$5=1,項目表示入力!$L$48,IF($F$5=2,IF(ISERROR(VLOOKUP(B9,入力AA5!$B$8:$GU$58,オフセット番号A!$L$46+1))=TRUE,\"\",VLOOKUP(B9,入力AA5!$B$8:$GU$58,オフセット番号A!$L$46+1)),\"*\"))","v":"内容42,10"},{"$f":"IF($F$5=1,項目表示入力!$M$48,IF($F$5=2,IF(ISERROR(VLOOKUP(B9,入力AA5!$B$8:$GU$58,オフセット番号A!$M$46+1))=TRUE,\"\",VLOOKUP(B9,入力AA5!$B$8:$GU$58,オフセット番号A!$M$46+1)),\"*\"))","v":"内容42,11"},{"$f":"IF($F$5=1,項目表示入力!$N$48,IF($F$5=2,IF(ISERROR(VLOOKUP(B9,入力AA5!$B$8:$GU$58,オフセット番号A!$N$46+1))=TRUE,\"\",VLOOKUP(B9,入力AA5!$B$8:$GU$58,オフセット番号A!$N$46+1)),\"*\"))","v":"内容42,12"},{"$f":"IF($F$5=1,項目表示入力!$O$48,IF($F$5=2,IF(ISERROR(VLOOKUP(B9,入力AA5!$B$8:$GU$58,オフセット番号A!$O$46+1))=TRUE,\"\",VLOOKUP(B9,入力AA5!$B$8:$GU$58,オフセット番号A!$O$46+1)),\"*\"))","v":"内容42,13"},{"$f":"IF($F$5=1,項目表示入力!$P$48,IF($F$5=2,IF(ISERROR(VLOOKUP(B9,入力AA5!$B$8:$GU$58,オフセット番号A!$P$46+1))=TRUE,\"\",VLOOKUP(B9,入力AA5!$B$8:$GU$58,オフセット番号A!$P$46+1)),\"*\"))","v":"内容42,14"},{"$f":"IF($F$5=1,項目表示入力!$Q$48,IF($F$5=2,IF(ISERROR(VLOOKUP(B9,入力AA5!$B$8:$GU$58,オフセット番号A!$Q$46+1))=TRUE,\"\",VLOOKUP(B9,入力AA5!$B$8:$GU$58,オフセット番号A!$Q$46+1)),\"*\"))","v":"内容42,15"},{"$f":"IF($F$5=1,項目表示入力!$R$48,IF($F$5=2,IF(ISERROR(VLOOKUP(B9,入力AA5!$B$8:$GU$58,オフセット番号A!$R$46+1))=TRUE,\"\",VLOOKUP(B9,入力AA5!$B$8:$GU$58,オフセット番号A!$R$46+1)),\"*\"))","v":"内容42,16"},{"$f":"IF($F$5=1,項目表示入力!$S$48,IF($F$5=2,IF(ISERROR(VLOOKUP(B9,入力AA5!$B$8:$GU$58,オフセット番号A!$S$46+1))=TRUE,\"\",VLOOKUP(B9,入力AA5!$B$8:$GU$58,オフセット番号A!$S$46+1)),\"*\"))","v":"内容42,17"},{"$f":"IF($F$5=1,項目表示入力!$T$48,IF($F$5=2,IF(ISERROR(VLOOKUP(B9,入力AA5!$B$8:$GU$58,オフセット番号A!$T$46+1))=TRUE,\"\",VLOOKUP(B9,入力AA5!$B$8:$GU$58,オフセット番号A!$T$46+1)),\"*\"))","v":"内容42,18"},{"$f":"IF($F$5=1,項目表示入力!$U$48,IF($F$5=2,IF(ISERROR(VLOOKUP(B9,入力AA5!$B$8:$GU$58,オフセット番号A!$U$46+1))=TRUE,\"\",VLOOKUP(B9,入力AA5!$B$8:$GU$58,オフセット番号A!$U$46+1)),\"*\"))","v":"内容42,19"},{"$f":"IF($F$5=1,項目表示入力!$V$48,IF($F$5=2,IF(ISERROR(VLOOKUP(B9,入力AA5!$B$8:$GU$58,オフセット番号A!$V$46+1))=TRUE,\"\",VLOOKUP(B9,入力AA5!$B$8:$GU$58,オフセット番号A!$V$46+1)),\"*\"))","v":"内容42,20"}]
[null,{"$f":"IF(行列入力項目!$C$47=\"\",\"\",行列入力項目!$C$47)","v":"行43"},{"$f":"IF($F$5=1,項目表示入力!$C$49,IF($F$5=2,IF(ISERROR(VLOOKUP(B9,入力AA5!$B$8:$GU$58,オフセット番号A!$C$47+1))=TRUE,\"\",VLOOKUP(B9,入力AA5!$B$8:$GU$58,オフセット番号A!$C$47+1)),\"*\"))","v":"内容43,1"},{"$f":"IF($F$5=1,項目表示入力!$D$49,IF($F$5=2,IF(ISERROR(VLOOKUP(B9,入力AA5!$B$8:$GU$58,オフセット番号A!$D$47+1))=TRUE,\"\",VLOOKUP(B9,入力AA5!$B$8:$GU$58,オフセット番号A!$D$47+1)),\"*\"))","v":"内容43,2"},{"$f":"IF($F$5=1,項目表示入力!$E$49,IF($F$5=2,IF(ISERROR(VLOOKUP(B9,入力AA5!$B$8:$GU$58,オフセット番号A!$E$47+1))=TRUE,\"\",VLOOKUP(B9,入力AA5!$B$8:$GU$58,オフセット番号A!$E$47+1)),\"*\"))","v":"内容43,3"},{"$f":"IF($F$5=1,項目表示入力!$F$49,IF($F$5=2,IF(ISERROR(VLOOKUP(B9,入力AA5!$B$8:$GU$58,オフセット番号A!$F$47+1))=TRUE,\"\",VLOOKUP(B9,入力AA5!$B$8:$GU$58,オフセット番号A!$F$47+1)),\"*\"))","v":"内容43,4"},{"$f":"IF($F$5=1,項目表示入力!$G$49,IF($F$5=2,IF(ISERROR(VLOOKUP(B9,入力AA5!$B$8:$GU$58,オフセット番号A!$G$47+1))=TRUE,\"\",VLOOKUP(B9,入力AA5!$B$8:$GU$58,オフセット番号A!$G$47+1)),\"*\"))","v":"内容43,5"},{"$f":"IF($F$5=1,項目表示入力!$H$49,IF($F$5=2,IF(ISERROR(VLOOKUP(B9,入力AA5!$B$8:$GU$58,オフセット番号A!$H$47+1))=TRUE,\"\",VLOOKUP(B9,入力AA5!$B$8:$GU$58,オフセット番号A!$H$47+1)),\"*\"))","v":"内容43,6"},{"$f":"IF($F$5=1,項目表示入力!$I$49,IF($F$5=2,IF(ISERROR(VLOOKUP(B9,入力AA5!$B$8:$GU$58,オフセット番号A!$I$47+1))=TRUE,\"\",VLOOKUP(B9,入力AA5!$B$8:$GU$58,オフセット番号A!$I$47+1)),\"*\"))","v":"内容43,7"},{"$f":"IF($F$5=1,項目表示入力!$J$49,IF($F$5=2,IF(ISERROR(VLOOKUP(B9,入力AA5!$B$8:$GU$58,オフセット番号A!$J$47+1))=TRUE,\"\",VLOOKUP(B9,入力AA5!$B$8:$GU$58,オフセット番号A!$J$47+1)),\"*\"))","v":"内容43,8"},{"$f":"IF($F$5=1,項目表示入力!$K$49,IF($F$5=2,IF(ISERROR(VLOOKUP(B9,入力AA5!$B$8:$GU$58,オフセット番号A!$K$47+1))=TRUE,\"\",VLOOKUP(B9,入力AA5!$B$8:$GU$58,オフセット番号A!$K$47+1)),\"*\"))","v":"内容43,9"},{"$f":"IF($F$5=1,項目表示入力!$L$49,IF($F$5=2,IF(ISERROR(VLOOKUP(B9,入力AA5!$B$8:$GU$58,オフセット番号A!$L$47+1))=TRUE,\"\",VLOOKUP(B9,入力AA5!$B$8:$GU$58,オフセット番号A!$L$47+1)),\"*\"))","v":"内容43,10"},{"$f":"IF($F$5=1,項目表示入力!$M$49,IF($F$5=2,IF(ISERROR(VLOOKUP(B9,入力AA5!$B$8:$GU$58,オフセット番号A!$M$47+1))=TRUE,\"\",VLOOKUP(B9,入力AA5!$B$8:$GU$58,オフセット番号A!$M$47+1)),\"*\"))","v":"内容43,11"},{"$f":"IF($F$5=1,項目表示入力!$N$49,IF($F$5=2,IF(ISERROR(VLOOKUP(B9,入力AA5!$B$8:$GU$58,オフセット番号A!$N$47+1))=TRUE,\"\",VLOOKUP(B9,入力AA5!$B$8:$GU$58,オフセット番号A!$N$47+1)),\"*\"))","v":"内容43,12"},{"$f":"IF($F$5=1,項目表示入力!$O$49,IF($F$5=2,IF(ISERROR(VLOOKUP(B9,入力AA5!$B$8:$GU$58,オフセット番号A!$O$47+1))=TRUE,\"\",VLOOKUP(B9,入力AA5!$B$8:$GU$58,オフセット番号A!$O$47+1)),\"*\"))","v":"内容43,13"},{"$f":"IF($F$5=1,項目表示入力!$P$49,IF($F$5=2,IF(ISERROR(VLOOKUP(B9,入力AA5!$B$8:$GU$58,オフセット番号A!$P$47+1))=TRUE,\"\",VLOOKUP(B9,入力AA5!$B$8:$GU$58,オフセット番号A!$P$47+1)),\"*\"))","v":"内容43,14"},{"$f":"IF($F$5=1,項目表示入力!$Q$49,IF($F$5=2,IF(ISERROR(VLOOKUP(B9,入力AA5!$B$8:$GU$58,オフセット番号A!$Q$47+1))=TRUE,\"\",VLOOKUP(B9,入力AA5!$B$8:$GU$58,オフセット番号A!$Q$47+1)),\"*\"))","v":"内容43,15"},{"$f":"IF($F$5=1,項目表示入力!$R$49,IF($F$5=2,IF(ISERROR(VLOOKUP(B9,入力AA5!$B$8:$GU$58,オフセット番号A!$R$47+1))=TRUE,\"\",VLOOKUP(B9,入力AA5!$B$8:$GU$58,オフセット番号A!$R$47+1)),\"*\"))","v":"内容43,16"},{"$f":"IF($F$5=1,項目表示入力!$S$49,IF($F$5=2,IF(ISERROR(VLOOKUP(B9,入力AA5!$B$8:$GU$58,オフセット番号A!$S$47+1))=TRUE,\"\",VLOOKUP(B9,入力AA5!$B$8:$GU$58,オフセット番号A!$S$47+1)),\"*\"))","v":"内容43,17"},{"$f":"IF($F$5=1,項目表示入力!$T$49,IF($F$5=2,IF(ISERROR(VLOOKUP(B9,入力AA5!$B$8:$GU$58,オフセット番号A!$T$47+1))=TRUE,\"\",VLOOKUP(B9,入力AA5!$B$8:$GU$58,オフセット番号A!$T$47+1)),\"*\"))","v":"内容43,18"},{"$f":"IF($F$5=1,項目表示入力!$U$49,IF($F$5=2,IF(ISERROR(VLOOKUP(B9,入力AA5!$B$8:$GU$58,オフセット番号A!$U$47+1))=TRUE,\"\",VLOOKUP(B9,入力AA5!$B$8:$GU$58,オフセット番号A!$U$47+1)),\"*\"))","v":"内容43,19"},{"$f":"IF($F$5=1,項目表示入力!$V$49,IF($F$5=2,IF(ISERROR(VLOOKUP(B9,入力AA5!$B$8:$GU$58,オフセット番号A!$V$47+1))=TRUE,\"\",VLOOKUP(B9,入力AA5!$B$8:$GU$58,オフセット番号A!$V$47+1)),\"*\"))","v":"内容43,20"}]
[null,{"$f":"IF(行列入力項目!$C$48=\"\",\"\",行列入力項目!$C$48)","v":"行44"},{"$f":"IF($F$5=1,項目表示入力!$C$50,IF($F$5=2,IF(ISERROR(VLOOKUP(B9,入力AA5!$B$8:$GU$58,オフセット番号A!$C$48+1))=TRUE,\"\",VLOOKUP(B9,入力AA5!$B$8:$GU$58,オフセット番号A!$C$48+1)),\"*\"))","v":"内容44,1"},{"$f":"IF($F$5=1,項目表示入力!$D$50,IF($F$5=2,IF(ISERROR(VLOOKUP(B9,入力AA5!$B$8:$GU$58,オフセット番号A!$D$48+1))=TRUE,\"\",VLOOKUP(B9,入力AA5!$B$8:$GU$58,オフセット番号A!$D$48+1)),\"*\"))","v":"内容44,2"},{"$f":"IF($F$5=1,項目表示入力!$E$50,IF($F$5=2,IF(ISERROR(VLOOKUP(B9,入力AA5!$B$8:$GU$58,オフセット番号A!$E$48+1))=TRUE,\"\",VLOOKUP(B9,入力AA5!$B$8:$GU$58,オフセット番号A!$E$48+1)),\"*\"))","v":"内容44,3"},{"$f":"IF($F$5=1,項目表示入力!$F$50,IF($F$5=2,IF(ISERROR(VLOOKUP(B9,入力AA5!$B$8:$GU$58,オフセット番号A!$F$48+1))=TRUE,\"\",VLOOKUP(B9,入力AA5!$B$8:$GU$58,オフセット番号A!$F$48+1)),\"*\"))","v":"内容44,4"},{"$f":"IF($F$5=1,項目表示入力!$G$50,IF($F$5=2,IF(ISERROR(VLOOKUP(B9,入力AA5!$B$8:$GU$58,オフセット番号A!$G$48+1))=TRUE,\"\",VLOOKUP(B9,入力AA5!$B$8:$GU$58,オフセット番号A!$G$48+1)),\"*\"))","v":"内容44,5"},{"$f":"IF($F$5=1,項目表示入力!$H$50,IF($F$5=2,IF(ISERROR(VLOOKUP(B9,入力AA5!$B$8:$GU$58,オフセット番号A!$H$48+1))=TRUE,\"\",VLOOKUP(B9,入力AA5!$B$8:$GU$58,オフセット番号A!$H$48+1)),\"*\"))","v":"内容44,6"},{"$f":"IF($F$5=1,項目表示入力!$I$50,IF($F$5=2,IF(ISERROR(VLOOKUP(B9,入力AA5!$B$8:$GU$58,オフセット番号A!$I$48+1))=TRUE,\"\",VLOOKUP(B9,入力AA5!$B$8:$GU$58,オフセット番号A!$I$48+1)),\"*\"))","v":"内容44,7"},{"$f":"IF($F$5=1,項目表示入力!$J$50,IF($F$5=2,IF(ISERROR(VLOOKUP(B9,入力AA5!$B$8:$GU$58,オフセット番号A!$J$48+1))=TRUE,\"\",VLOOKUP(B9,入力AA5!$B$8:$GU$58,オフセット番号A!$J$48+1)),\"*\"))","v":"内容44,8"},{"$f":"IF($F$5=1,項目表示入力!$K$50,IF($F$5=2,IF(ISERROR(VLOOKUP(B9,入力AA5!$B$8:$GU$58,オフセット番号A!$K$48+1))=TRUE,\"\",VLOOKUP(B9,入力AA5!$B$8:$GU$58,オフセット番号A!$K$48+1)),\"*\"))","v":"内容44,9"},{"$f":"IF($F$5=1,項目表示入力!$L$50,IF($F$5=2,IF(ISERROR(VLOOKUP(B9,入力AA5!$B$8:$GU$58,オフセット番号A!$L$48+1))=TRUE,\"\",VLOOKUP(B9,入力AA5!$B$8:$GU$58,オフセット番号A!$L$48+1)),\"*\"))","v":"内容44,10"},{"$f":"IF($F$5=1,項目表示入力!$M$50,IF($F$5=2,IF(ISERROR(VLOOKUP(B9,入力AA5!$B$8:$GU$58,オフセット番号A!$M$48+1))=TRUE,\"\",VLOOKUP(B9,入力AA5!$B$8:$GU$58,オフセット番号A!$M$48+1)),\"*\"))","v":"内容44,11"},{"$f":"IF($F$5=1,項目表示入力!$N$50,IF($F$5=2,IF(ISERROR(VLOOKUP(B9,入力AA5!$B$8:$GU$58,オフセット番号A!$N$48+1))=TRUE,\"\",VLOOKUP(B9,入力AA5!$B$8:$GU$58,オフセット番号A!$N$48+1)),\"*\"))","v":"内容44,12"},{"$f":"IF($F$5=1,項目表示入力!$O$50,IF($F$5=2,IF(ISERROR(VLOOKUP(B9,入力AA5!$B$8:$GU$58,オフセット番号A!$O$48+1))=TRUE,\"\",VLOOKUP(B9,入力AA5!$B$8:$GU$58,オフセット番号A!$O$48+1)),\"*\"))","v":"内容44,13"},{"$f":"IF($F$5=1,項目表示入力!$P$50,IF($F$5=2,IF(ISERROR(VLOOKUP(B9,入力AA5!$B$8:$GU$58,オフセット番号A!$P$48+1))=TRUE,\"\",VLOOKUP(B9,入力AA5!$B$8:$GU$58,オフセット番号A!$P$48+1)),\"*\"))","v":"内容44,14"},{"$f":"IF($F$5=1,項目表示入力!$Q$50,IF($F$5=2,IF(ISERROR(VLOOKUP(B9,入力AA5!$B$8:$GU$58,オフセット番号A!$Q$48+1))=TRUE,\"\",VLOOKUP(B9,入力AA5!$B$8:$GU$58,オフセット番号A!$Q$48+1)),\"*\"))","v":"内容44,15"},{"$f":"IF($F$5=1,項目表示入力!$R$50,IF($F$5=2,IF(ISERROR(VLOOKUP(B9,入力AA5!$B$8:$GU$58,オフセット番号A!$R$48+1))=TRUE,\"\",VLOOKUP(B9,入力AA5!$B$8:$GU$58,オフセット番号A!$R$48+1)),\"*\"))","v":"内容44,16"},{"$f":"IF($F$5=1,項目表示入力!$S$50,IF($F$5=2,IF(ISERROR(VLOOKUP(B9,入力AA5!$B$8:$GU$58,オフセット番号A!$S$48+1))=TRUE,\"\",VLOOKUP(B9,入力AA5!$B$8:$GU$58,オフセット番号A!$S$48+1)),\"*\"))","v":"内容44,17"},{"$f":"IF($F$5=1,項目表示入力!$T$50,IF($F$5=2,IF(ISERROR(VLOOKUP(B9,入力AA5!$B$8:$GU$58,オフセット番号A!$T$48+1))=TRUE,\"\",VLOOKUP(B9,入力AA5!$B$8:$GU$58,オフセット番号A!$T$48+1)),\"*\"))","v":"内容44,18"},{"$f":"IF($F$5=1,項目表示入力!$U$50,IF($F$5=2,IF(ISERROR(VLOOKUP(B9,入力AA5!$B$8:$GU$58,オフセット番号A!$U$48+1))=TRUE,\"\",VLOOKUP(B9,入力AA5!$B$8:$GU$58,オフセット番号A!$U$48+1)),\"*\"))","v":"内容44,19"},{"$f":"IF($F$5=1,項目表示入力!$V$50,IF($F$5=2,IF(ISERROR(VLOOKUP(B9,入力AA5!$B$8:$GU$58,オフセット番号A!$V$48+1))=TRUE,\"\",VLOOKUP(B9,入力AA5!$B$8:$GU$58,オフセット番号A!$V$48+1)),\"*\"))","v":"内容44,20"}]
[null,{"$f":"IF(行列入力項目!$C$49=\"\",\"\",行列入力項目!$C$49)","v":"行45"},{"$f":"IF($F$5=1,項目表示入力!$C$51,IF($F$5=2,IF(ISERROR(VLOOKUP(B9,入力AA5!$B$8:$GU$58,オフセット番号A!$C$49+1))=TRUE,\"\",VLOOKUP(B9,入力AA5!$B$8:$GU$58,オフセット番号A!$C$49+1)),\"*\"))","v":"内容45,1"},{"$f":"IF($F$5=1,項目表示入力!$D$51,IF($F$5=2,IF(ISERROR(VLOOKUP(B9,入力AA5!$B$8:$GU$58,オフセット番号A!$D$49+1))=TRUE,\"\",VLOOKUP(B9,入力AA5!$B$8:$GU$58,オフセット番号A!$D$49+1)),\"*\"))","v":"内容45,2"},{"$f":"IF($F$5=1,項目表示入力!$E$51,IF($F$5=2,IF(ISERROR(VLOOKUP(B9,入力AA5!$B$8:$GU$58,オフセット番号A!$E$49+1))=TRUE,\"\",VLOOKUP(B9,入力AA5!$B$8:$GU$58,オフセット番号A!$E$49+1)),\"*\"))","v":"内容45,3"},{"$f":"IF($F$5=1,項目表示入力!$F$51,IF($F$5=2,IF(ISERROR(VLOOKUP(B9,入力AA5!$B$8:$GU$58,オフセット番号A!$F$49+1))=TRUE,\"\",VLOOKUP(B9,入力AA5!$B$8:$GU$58,オフセット番号A!$F$49+1)),\"*\"))","v":"内容45,4"},{"$f":"IF($F$5=1,項目表示入力!$G$51,IF($F$5=2,IF(ISERROR(VLOOKUP(B9,入力AA5!$B$8:$GU$58,オフセット番号A!$G$49+1))=TRUE,\"\",VLOOKUP(B9,入力AA5!$B$8:$GU$58,オフセット番号A!$G$49+1)),\"*\"))","v":"内容45,5"},{"$f":"IF($F$5=1,項目表示入力!$H$51,IF($F$5=2,IF(ISERROR(VLOOKUP(B9,入力AA5!$B$8:$GU$58,オフセット番号A!$H$49+1))=TRUE,\"\",VLOOKUP(B9,入力AA5!$B$8:$GU$58,オフセット番号A!$H$49+1)),\"*\"))","v":"内容45,6"},{"$f":"IF($F$5=1,項目表示入力!$I$51,IF($F$5=2,IF(ISERROR(VLOOKUP(B9,入力AA5!$B$8:$GU$58,オフセット番号A!$I$49+1))=TRUE,\"\",VLOOKUP(B9,入力AA5!$B$8:$GU$58,オフセット番号A!$I$49+1)),\"*\"))","v":"内容45,7"},{"$f":"IF($F$5=1,項目表示入力!$J$51,IF($F$5=2,IF(ISERROR(VLOOKUP(B9,入力AA5!$B$8:$GU$58,オフセット番号A!$J$49+1))=TRUE,\"\",VLOOKUP(B9,入力AA5!$B$8:$GU$58,オフセット番号A!$J$49+1)),\"*\"))","v":"内容45,8"},{"$f":"IF($F$5=1,項目表示入力!$K$51,IF($F$5=2,IF(ISERROR(VLOOKUP(B9,入力AA5!$B$8:$GU$58,オフセット番号A!$K$49+1))=TRUE,\"\",VLOOKUP(B9,入力AA5!$B$8:$GU$58,オフセット番号A!$K$49+1)),\"*\"))","v":"内容45,9"},{"$f":"IF($F$5=1,項目表示入力!$L$51,IF($F$5=2,IF(ISERROR(VLOOKUP(B9,入力AA5!$B$8:$GU$58,オフセット番号A!$L$49+1))=TRUE,\"\",VLOOKUP(B9,入力AA5!$B$8:$GU$58,オフセット番号A!$L$49+1)),\"*\"))","v":"内容45,10"},{"$f":"IF($F$5=1,項目表示入力!$M$51,IF($F$5=2,IF(ISERROR(VLOOKUP(B9,入力AA5!$B$8:$GU$58,オフセット番号A!$M$49+1))=TRUE,\"\",VLOOKUP(B9,入力AA5!$B$8:$GU$58,オフセット番号A!$M$49+1)),\"*\"))","v":"内容45,11"},{"$f":"IF($F$5=1,項目表示入力!$N$51,IF($F$5=2,IF(ISERROR(VLOOKUP(B9,入力AA5!$B$8:$GU$58,オフセット番号A!$N$49+1))=TRUE,\"\",VLOOKUP(B9,入力AA5!$B$8:$GU$58,オフセット番号A!$N$49+1)),\"*\"))","v":"内容45,12"},{"$f":"IF($F$5=1,項目表示入力!$O$51,IF($F$5=2,IF(ISERROR(VLOOKUP(B9,入力AA5!$B$8:$GU$58,オフセット番号A!$O$49+1))=TRUE,\"\",VLOOKUP(B9,入力AA5!$B$8:$GU$58,オフセット番号A!$O$49+1)),\"*\"))","v":"内容45,13"},{"$f":"IF($F$5=1,項目表示入力!$P$51,IF($F$5=2,IF(ISERROR(VLOOKUP(B9,入力AA5!$B$8:$GU$58,オフセット番号A!$P$49+1))=TRUE,\"\",VLOOKUP(B9,入力AA5!$B$8:$GU$58,オフセット番号A!$P$49+1)),\"*\"))","v":"内容45,14"},{"$f":"IF($F$5=1,項目表示入力!$Q$51,IF($F$5=2,IF(ISERROR(VLOOKUP(B9,入力AA5!$B$8:$GU$58,オフセット番号A!$Q$49+1))=TRUE,\"\",VLOOKUP(B9,入力AA5!$B$8:$GU$58,オフセット番号A!$Q$49+1)),\"*\"))","v":"内容45,15"},{"$f":"IF($F$5=1,項目表示入力!$R$51,IF($F$5=2,IF(ISERROR(VLOOKUP(B9,入力AA5!$B$8:$GU$58,オフセット番号A!$R$49+1))=TRUE,\"\",VLOOKUP(B9,入力AA5!$B$8:$GU$58,オフセット番号A!$R$49+1)),\"*\"))","v":"内容45,16"},{"$f":"IF($F$5=1,項目表示入力!$S$51,IF($F$5=2,IF(ISERROR(VLOOKUP(B9,入力AA5!$B$8:$GU$58,オフセット番号A!$S$49+1))=TRUE,\"\",VLOOKUP(B9,入力AA5!$B$8:$GU$58,オフセット番号A!$S$49+1)),\"*\"))","v":"内容45,17"},{"$f":"IF($F$5=1,項目表示入力!$T$51,IF($F$5=2,IF(ISERROR(VLOOKUP(B9,入力AA5!$B$8:$GU$58,オフセット番号A!$T$49+1))=TRUE,\"\",VLOOKUP(B9,入力AA5!$B$8:$GU$58,オフセット番号A!$T$49+1)),\"*\"))","v":"内容45,18"},{"$f":"IF($F$5=1,項目表示入力!$U$51,IF($F$5=2,IF(ISERROR(VLOOKUP(B9,入力AA5!$B$8:$GU$58,オフセット番号A!$U$49+1))=TRUE,\"\",VLOOKUP(B9,入力AA5!$B$8:$GU$58,オフセット番号A!$U$49+1)),\"*\"))","v":"内容45,19"},{"$f":"IF($F$5=1,項目表示入力!$V$51,IF($F$5=2,IF(ISERROR(VLOOKUP(B9,入力AA5!$B$8:$GU$58,オフセット番号A!$V$49+1))=TRUE,\"\",VLOOKUP(B9,入力AA5!$B$8:$GU$58,オフセット番号A!$V$49+1)),\"*\"))","v":"内容45,20"}]
[null,{"$f":"IF(行列入力項目!$C$50=\"\",\"\",行列入力項目!$C$50)","v":"行46"},{"$f":"IF($F$5=1,項目表示入力!$C$52,IF($F$5=2,IF(ISERROR(VLOOKUP(B9,入力AA5!$B$8:$GU$58,オフセット番号A!$C$50+1))=TRUE,\"\",VLOOKUP(B9,入力AA5!$B$8:$GU$58,オフセット番号A!$C$50+1)),\"*\"))","v":"内容46,1"},{"$f":"IF($F$5=1,項目表示入力!$D$52,IF($F$5=2,IF(ISERROR(VLOOKUP(B9,入力AA5!$B$8:$GU$58,オフセット番号A!$D$50+1))=TRUE,\"\",VLOOKUP(B9,入力AA5!$B$8:$GU$58,オフセット番号A!$D$50+1)),\"*\"))","v":"内容46,2"},{"$f":"IF($F$5=1,項目表示入力!$E$52,IF($F$5=2,IF(ISERROR(VLOOKUP(B9,入力AA5!$B$8:$GU$58,オフセット番号A!$E$50+1))=TRUE,\"\",VLOOKUP(B9,入力AA5!$B$8:$GU$58,オフセット番号A!$E$50+1)),\"*\"))","v":"内容46,3"},{"$f":"IF($F$5=1,項目表示入力!$F$52,IF($F$5=2,IF(ISERROR(VLOOKUP(B9,入力AA5!$B$8:$GU$58,オフセット番号A!$F$50+1))=TRUE,\"\",VLOOKUP(B9,入力AA5!$B$8:$GU$58,オフセット番号A!$F$50+1)),\"*\"))","v":"内容46,4"},{"$f":"IF($F$5=1,項目表示入力!$G$52,IF($F$5=2,IF(ISERROR(VLOOKUP(B9,入力AA5!$B$8:$GU$58,オフセット番号A!$G$50+1))=TRUE,\"\",VLOOKUP(B9,入力AA5!$B$8:$GU$58,オフセット番号A!$G$50+1)),\"*\"))","v":"内容46,5"},{"$f":"IF($F$5=1,項目表示入力!$H$52,IF($F$5=2,IF(ISERROR(VLOOKUP(B9,入力AA5!$B$8:$GU$58,オフセット番号A!$H$50+1))=TRUE,\"\",VLOOKUP(B9,入力AA5!$B$8:$GU$58,オフセット番号A!$H$50+1)),\"*\"))","v":"内容46,6"},{"$f":"IF($F$5=1,項目表示入力!$I$52,IF($F$5=2,IF(ISERROR(VLOOKUP(B9,入力AA5!$B$8:$GU$58,オフセット番号A!$I$50+1))=TRUE,\"\",VLOOKUP(B9,入力AA5!$B$8:$GU$58,オフセット番号A!$I$50+1)),\"*\"))","v":"内容46,7"},{"$f":"IF($F$5=1,項目表示入力!$J$52,IF($F$5=2,IF(ISERROR(VLOOKUP(B9,入力AA5!$B$8:$GU$58,オフセット番号A!$J$50+1))=TRUE,\"\",VLOOKUP(B9,入力AA5!$B$8:$GU$58,オフセット番号A!$J$50+1)),\"*\"))","v":"内容46,8"},{"$f":"IF($F$5=1,項目表示入力!$K$52,IF($F$5=2,IF(ISERROR(VLOOKUP(B9,入力AA5!$B$8:$GU$58,オフセット番号A!$K$50+1))=TRUE,\"\",VLOOKUP(B9,入力AA5!$B$8:$GU$58,オフセット番号A!$K$50+1)),\"*\"))","v":"内容46,9"},{"$f":"IF($F$5=1,項目表示入力!$L$52,IF($F$5=2,IF(ISERROR(VLOOKUP(B9,入力AA5!$B$8:$GU$58,オフセット番号A!$L$50+1))=TRUE,\"\",VLOOKUP(B9,入力AA5!$B$8:$GU$58,オフセット番号A!$L$50+1)),\"*\"))","v":"内容46,10"},{"$f":"IF($F$5=1,項目表示入力!$M$52,IF($F$5=2,IF(ISERROR(VLOOKUP(B9,入力AA5!$B$8:$GU$58,オフセット番号A!$M$50+1))=TRUE,\"\",VLOOKUP(B9,入力AA5!$B$8:$GU$58,オフセット番号A!$M$50+1)),\"*\"))","v":"内容46,11"},{"$f":"IF($F$5=1,項目表示入力!$N$52,IF($F$5=2,IF(ISERROR(VLOOKUP(B9,入力AA5!$B$8:$GU$58,オフセット番号A!$N$50+1))=TRUE,\"\",VLOOKUP(B9,入力AA5!$B$8:$GU$58,オフセット番号A!$N$50+1)),\"*\"))","v":"内容46,12"},{"$f":"IF($F$5=1,項目表示入力!$O$52,IF($F$5=2,IF(ISERROR(VLOOKUP(B9,入力AA5!$B$8:$GU$58,オフセット番号A!$O$50+1))=TRUE,\"\",VLOOKUP(B9,入力AA5!$B$8:$GU$58,オフセット番号A!$O$50+1)),\"*\"))","v":"内容46,13"},{"$f":"IF($F$5=1,項目表示入力!$P$52,IF($F$5=2,IF(ISERROR(VLOOKUP(B9,入力AA5!$B$8:$GU$58,オフセット番号A!$P$50+1))=TRUE,\"\",VLOOKUP(B9,入力AA5!$B$8:$GU$58,オフセット番号A!$P$50+1)),\"*\"))","v":"内容46,14"},{"$f":"IF($F$5=1,項目表示入力!$Q$52,IF($F$5=2,IF(ISERROR(VLOOKUP(B9,入力AA5!$B$8:$GU$58,オフセット番号A!$Q$50+1))=TRUE,\"\",VLOOKUP(B9,入力AA5!$B$8:$GU$58,オフセット番号A!$Q$50+1)),\"*\"))","v":"内容46,15"},{"$f":"IF($F$5=1,項目表示入力!$R$52,IF($F$5=2,IF(ISERROR(VLOOKUP(B9,入力AA5!$B$8:$GU$58,オフセット番号A!$R$50+1))=TRUE,\"\",VLOOKUP(B9,入力AA5!$B$8:$GU$58,オフセット番号A!$R$50+1)),\"*\"))","v":"内容46,16"},{"$f":"IF($F$5=1,項目表示入力!$S$52,IF($F$5=2,IF(ISERROR(VLOOKUP(B9,入力AA5!$B$8:$GU$58,オフセット番号A!$S$50+1))=TRUE,\"\",VLOOKUP(B9,入力AA5!$B$8:$GU$58,オフセット番号A!$S$50+1)),\"*\"))","v":"内容46,17"},{"$f":"IF($F$5=1,項目表示入力!$T$52,IF($F$5=2,IF(ISERROR(VLOOKUP(B9,入力AA5!$B$8:$GU$58,オフセット番号A!$T$50+1))=TRUE,\"\",VLOOKUP(B9,入力AA5!$B$8:$GU$58,オフセット番号A!$T$50+1)),\"*\"))","v":"内容46,18"},{"$f":"IF($F$5=1,項目表示入力!$U$52,IF($F$5=2,IF(ISERROR(VLOOKUP(B9,入力AA5!$B$8:$GU$58,オフセット番号A!$U$50+1))=TRUE,\"\",VLOOKUP(B9,入力AA5!$B$8:$GU$58,オフセット番号A!$U$50+1)),\"*\"))","v":"内容46,19"},{"$f":"IF($F$5=1,項目表示入力!$V$52,IF($F$5=2,IF(ISERROR(VLOOKUP(B9,入力AA5!$B$8:$GU$58,オフセット番号A!$V$50+1))=TRUE,\"\",VLOOKUP(B9,入力AA5!$B$8:$GU$58,オフセット番号A!$V$50+1)),\"*\"))","v":"内容46,20"}]
[null,{"$f":"IF(行列入力項目!$C$51=\"\",\"\",行列入力項目!$C$51)","v":"行47"},{"$f":"IF($F$5=1,項目表示入力!$C$53,IF($F$5=2,IF(ISERROR(VLOOKUP(B9,入力AA5!$B$8:$GU$58,オフセット番号A!$C$51+1))=TRUE,\"\",VLOOKUP(B9,入力AA5!$B$8:$GU$58,オフセット番号A!$C$51+1)),\"*\"))","v":"内容47,1"},{"$f":"IF($F$5=1,項目表示入力!$D$53,IF($F$5=2,IF(ISERROR(VLOOKUP(B9,入力AA5!$B$8:$GU$58,オフセット番号A!$D$51+1))=TRUE,\"\",VLOOKUP(B9,入力AA5!$B$8:$GU$58,オフセット番号A!$D$51+1)),\"*\"))","v":"内容47,2"},{"$f":"IF($F$5=1,項目表示入力!$E$53,IF($F$5=2,IF(ISERROR(VLOOKUP(B9,入力AA5!$B$8:$GU$58,オフセット番号A!$E$51+1))=TRUE,\"\",VLOOKUP(B9,入力AA5!$B$8:$GU$58,オフセット番号A!$E$51+1)),\"*\"))","v":"内容47,3"},{"$f":"IF($F$5=1,項目表示入力!$F$53,IF($F$5=2,IF(ISERROR(VLOOKUP(B9,入力AA5!$B$8:$GU$58,オフセット番号A!$F$51+1))=TRUE,\"\",VLOOKUP(B9,入力AA5!$B$8:$GU$58,オフセット番号A!$F$51+1)),\"*\"))","v":"内容47,4"},{"$f":"IF($F$5=1,項目表示入力!$G$53,IF($F$5=2,IF(ISERROR(VLOOKUP(B9,入力AA5!$B$8:$GU$58,オフセット番号A!$G$51+1))=TRUE,\"\",VLOOKUP(B9,入力AA5!$B$8:$GU$58,オフセット番号A!$G$51+1)),\"*\"))","v":"内容47,5"},{"$f":"IF($F$5=1,項目表示入力!$H$53,IF($F$5=2,IF(ISERROR(VLOOKUP(B9,入力AA5!$B$8:$GU$58,オフセット番号A!$H$51+1))=TRUE,\"\",VLOOKUP(B9,入力AA5!$B$8:$GU$58,オフセット番号A!$H$51+1)),\"*\"))","v":"内容47,6"},{"$f":"IF($F$5=1,項目表示入力!$I$53,IF($F$5=2,IF(ISERROR(VLOOKUP(B9,入力AA5!$B$8:$GU$58,オフセット番号A!$I$51+1))=TRUE,\"\",VLOOKUP(B9,入力AA5!$B$8:$GU$58,オフセット番号A!$I$51+1)),\"*\"))","v":"内容47,7"},{"$f":"IF($F$5=1,項目表示入力!$J$53,IF($F$5=2,IF(ISERROR(VLOOKUP(B9,入力AA5!$B$8:$GU$58,オフセット番号A!$J$51+1))=TRUE,\"\",VLOOKUP(B9,入力AA5!$B$8:$GU$58,オフセット番号A!$J$51+1)),\"*\"))","v":"内容47,8"},{"$f":"IF($F$5=1,項目表示入力!$K$53,IF($F$5=2,IF(ISERROR(VLOOKUP(B9,入力AA5!$B$8:$GU$58,オフセット番号A!$K$51+1))=TRUE,\"\",VLOOKUP(B9,入力AA5!$B$8:$GU$58,オフセット番号A!$K$51+1)),\"*\"))","v":"内容47,9"},{"$f":"IF($F$5=1,項目表示入力!$L$53,IF($F$5=2,IF(ISERROR(VLOOKUP(B9,入力AA5!$B$8:$GU$58,オフセット番号A!$L$51+1))=TRUE,\"\",VLOOKUP(B9,入力AA5!$B$8:$GU$58,オフセット番号A!$L$51+1)),\"*\"))","v":"内容47,10"},{"$f":"IF($F$5=1,項目表示入力!$M$53,IF($F$5=2,IF(ISERROR(VLOOKUP(B9,入力AA5!$B$8:$GU$58,オフセット番号A!$M$51+1))=TRUE,\"\",VLOOKUP(B9,入力AA5!$B$8:$GU$58,オフセット番号A!$M$51+1)),\"*\"))","v":"内容47,11"},{"$f":"IF($F$5=1,項目表示入力!$N$53,IF($F$5=2,IF(ISERROR(VLOOKUP(B9,入力AA5!$B$8:$GU$58,オフセット番号A!$N$51+1))=TRUE,\"\",VLOOKUP(B9,入力AA5!$B$8:$GU$58,オフセット番号A!$N$51+1)),\"*\"))","v":"内容47,12"},{"$f":"IF($F$5=1,項目表示入力!$O$53,IF($F$5=2,IF(ISERROR(VLOOKUP(B9,入力AA5!$B$8:$GU$58,オフセット番号A!$O$51+1))=TRUE,\"\",VLOOKUP(B9,入力AA5!$B$8:$GU$58,オフセット番号A!$O$51+1)),\"*\"))","v":"内容47,13"},{"$f":"IF($F$5=1,項目表示入力!$P$53,IF($F$5=2,IF(ISERROR(VLOOKUP(B9,入力AA5!$B$8:$GU$58,オフセット番号A!$P$51+1))=TRUE,\"\",VLOOKUP(B9,入力AA5!$B$8:$GU$58,オフセット番号A!$P$51+1)),\"*\"))","v":"内容47,14"},{"$f":"IF($F$5=1,項目表示入力!$Q$53,IF($F$5=2,IF(ISERROR(VLOOKUP(B9,入力AA5!$B$8:$GU$58,オフセット番号A!$Q$51+1))=TRUE,\"\",VLOOKUP(B9,入力AA5!$B$8:$GU$58,オフセット番号A!$Q$51+1)),\"*\"))","v":"内容47,15"},{"$f":"IF($F$5=1,項目表示入力!$R$53,IF($F$5=2,IF(ISERROR(VLOOKUP(B9,入力AA5!$B$8:$GU$58,オフセット番号A!$R$51+1))=TRUE,\"\",VLOOKUP(B9,入力AA5!$B$8:$GU$58,オフセット番号A!$R$51+1)),\"*\"))","v":"内容47,16"},{"$f":"IF($F$5=1,項目表示入力!$S$53,IF($F$5=2,IF(ISERROR(VLOOKUP(B9,入力AA5!$B$8:$GU$58,オフセット番号A!$S$51+1))=TRUE,\"\",VLOOKUP(B9,入力AA5!$B$8:$GU$58,オフセット番号A!$S$51+1)),\"*\"))","v":"内容47,17"},{"$f":"IF($F$5=1,項目表示入力!$T$53,IF($F$5=2,IF(ISERROR(VLOOKUP(B9,入力AA5!$B$8:$GU$58,オフセット番号A!$T$51+1))=TRUE,\"\",VLOOKUP(B9,入力AA5!$B$8:$GU$58,オフセット番号A!$T$51+1)),\"*\"))","v":"内容47,18"},{"$f":"IF($F$5=1,項目表示入力!$U$53,IF($F$5=2,IF(ISERROR(VLOOKUP(B9,入力AA5!$B$8:$GU$58,オフセット番号A!$U$51+1))=TRUE,\"\",VLOOKUP(B9,入力AA5!$B$8:$GU$58,オフセット番号A!$U$51+1)),\"*\"))","v":"内容47,19"},{"$f":"IF($F$5=1,項目表示入力!$V$53,IF($F$5=2,IF(ISERROR(VLOOKUP(B9,入力AA5!$B$8:$GU$58,オフセット番号A!$V$51+1))=TRUE,\"\",VLOOKUP(B9,入力AA5!$B$8:$GU$58,オフセット番号A!$V$51+1)),\"*\"))","v":"内容47,20"}]
[null,{"$f":"IF(行列入力項目!$C$52=\"\",\"\",行列入力項目!$C$52)","v":"行48"},{"$f":"IF($F$5=1,項目表示入力!$C$54,IF($F$5=2,IF(ISERROR(VLOOKUP(B9,入力AA5!$B$8:$GU$58,オフセット番号A!$C$52+1))=TRUE,\"\",VLOOKUP(B9,入力AA5!$B$8:$GU$58,オフセット番号A!$C$52+1)),\"*\"))","v":"内容48,1"},{"$f":"IF($F$5=1,項目表示入力!$D$54,IF($F$5=2,IF(ISERROR(VLOOKUP(B9,入力AA5!$B$8:$GU$58,オフセット番号A!$D$52+1))=TRUE,\"\",VLOOKUP(B9,入力AA5!$B$8:$GU$58,オフセット番号A!$D$52+1)),\"*\"))","v":"内容48,2"},{"$f":"IF($F$5=1,項目表示入力!$E$54,IF($F$5=2,IF(ISERROR(VLOOKUP(B9,入力AA5!$B$8:$GU$58,オフセット番号A!$E$52+1))=TRUE,\"\",VLOOKUP(B9,入力AA5!$B$8:$GU$58,オフセット番号A!$E$52+1)),\"*\"))","v":"内容48,3"},{"$f":"IF($F$5=1,項目表示入力!$F$54,IF($F$5=2,IF(ISERROR(VLOOKUP(B9,入力AA5!$B$8:$GU$58,オフセット番号A!$F$52+1))=TRUE,\"\",VLOOKUP(B9,入力AA5!$B$8:$GU$58,オフセット番号A!$F$52+1)),\"*\"))","v":"内容48,4"},{"$f":"IF($F$5=1,項目表示入力!$G$54,IF($F$5=2,IF(ISERROR(VLOOKUP(B9,入力AA5!$B$8:$GU$58,オフセット番号A!$G$52+1))=TRUE,\"\",VLOOKUP(B9,入力AA5!$B$8:$GU$58,オフセット番号A!$G$52+1)),\"*\"))","v":"内容48,5"},{"$f":"IF($F$5=1,項目表示入力!$H$54,IF($F$5=2,IF(ISERROR(VLOOKUP(B9,入力AA5!$B$8:$GU$58,オフセット番号A!$H$52+1))=TRUE,\"\",VLOOKUP(B9,入力AA5!$B$8:$GU$58,オフセット番号A!$H$52+1)),\"*\"))","v":"内容48,6"},{"$f":"IF($F$5=1,項目表示入力!$I$54,IF($F$5=2,IF(ISERROR(VLOOKUP(B9,入力AA5!$B$8:$GU$58,オフセット番号A!$I$52+1))=TRUE,\"\",VLOOKUP(B9,入力AA5!$B$8:$GU$58,オフセット番号A!$I$52+1)),\"*\"))","v":"内容48,7"},{"$f":"IF($F$5=1,項目表示入力!$J$54,IF($F$5=2,IF(ISERROR(VLOOKUP(B9,入力AA5!$B$8:$GU$58,オフセット番号A!$J$52+1))=TRUE,\"\",VLOOKUP(B9,入力AA5!$B$8:$GU$58,オフセット番号A!$J$52+1)),\"*\"))","v":"内容48,8"},{"$f":"IF($F$5=1,項目表示入力!$K$54,IF($F$5=2,IF(ISERROR(VLOOKUP(B9,入力AA5!$B$8:$GU$58,オフセット番号A!$K$52+1))=TRUE,\"\",VLOOKUP(B9,入力AA5!$B$8:$GU$58,オフセット番号A!$K$52+1)),\"*\"))","v":"内容48,9"},{"$f":"IF($F$5=1,項目表示入力!$L$54,IF($F$5=2,IF(ISERROR(VLOOKUP(B9,入力AA5!$B$8:$GU$58,オフセット番号A!$L$52+1))=TRUE,\"\",VLOOKUP(B9,入力AA5!$B$8:$GU$58,オフセット番号A!$L$52+1)),\"*\"))","v":"内容48,10"},{"$f":"IF($F$5=1,項目表示入力!$M$54,IF($F$5=2,IF(ISERROR(VLOOKUP(B9,入力AA5!$B$8:$GU$58,オフセット番号A!$M$52+1))=TRUE,\"\",VLOOKUP(B9,入力AA5!$B$8:$GU$58,オフセット番号A!$M$52+1)),\"*\"))","v":"内容48,11"},{"$f":"IF($F$5=1,項目表示入力!$N$54,IF($F$5=2,IF(ISERROR(VLOOKUP(B9,入力AA5!$B$8:$GU$58,オフセット番号A!$N$52+1))=TRUE,\"\",VLOOKUP(B9,入力AA5!$B$8:$GU$58,オフセット番号A!$N$52+1)),\"*\"))","v":"内容48,12"},{"$f":"IF($F$5=1,項目表示入力!$O$54,IF($F$5=2,IF(ISERROR(VLOOKUP(B9,入力AA5!$B$8:$GU$58,オフセット番号A!$O$52+1))=TRUE,\"\",VLOOKUP(B9,入力AA5!$B$8:$GU$58,オフセット番号A!$O$52+1)),\"*\"))","v":"内容48,13"},{"$f":"IF($F$5=1,項目表示入力!$P$54,IF($F$5=2,IF(ISERROR(VLOOKUP(B9,入力AA5!$B$8:$GU$58,オフセット番号A!$P$52+1))=TRUE,\"\",VLOOKUP(B9,入力AA5!$B$8:$GU$58,オフセット番号A!$P$52+1)),\"*\"))","v":"内容48,14"},{"$f":"IF($F$5=1,項目表示入力!$Q$54,IF($F$5=2,IF(ISERROR(VLOOKUP(B9,入力AA5!$B$8:$GU$58,オフセット番号A!$Q$52+1))=TRUE,\"\",VLOOKUP(B9,入力AA5!$B$8:$GU$58,オフセット番号A!$Q$52+1)),\"*\"))","v":"内容48,15"},{"$f":"IF($F$5=1,項目表示入力!$R$54,IF($F$5=2,IF(ISERROR(VLOOKUP(B9,入力AA5!$B$8:$GU$58,オフセット番号A!$R$52+1))=TRUE,\"\",VLOOKUP(B9,入力AA5!$B$8:$GU$58,オフセット番号A!$R$52+1)),\"*\"))","v":"内容48,16"},{"$f":"IF($F$5=1,項目表示入力!$S$54,IF($F$5=2,IF(ISERROR(VLOOKUP(B9,入力AA5!$B$8:$GU$58,オフセット番号A!$S$52+1))=TRUE,\"\",VLOOKUP(B9,入力AA5!$B$8:$GU$58,オフセット番号A!$S$52+1)),\"*\"))","v":"内容48,17"},{"$f":"IF($F$5=1,項目表示入力!$T$54,IF($F$5=2,IF(ISERROR(VLOOKUP(B9,入力AA5!$B$8:$GU$58,オフセット番号A!$T$52+1))=TRUE,\"\",VLOOKUP(B9,入力AA5!$B$8:$GU$58,オフセット番号A!$T$52+1)),\"*\"))","v":"内容48,18"},{"$f":"IF($F$5=1,項目表示入力!$U$54,IF($F$5=2,IF(ISERROR(VLOOKUP(B9,入力AA5!$B$8:$GU$58,オフセット番号A!$U$52+1))=TRUE,\"\",VLOOKUP(B9,入力AA5!$B$8:$GU$58,オフセット番号A!$U$52+1)),\"*\"))","v":"内容48,19"},{"$f":"IF($F$5=1,項目表示入力!$V$54,IF($F$5=2,IF(ISERROR(VLOOKUP(B9,入力AA5!$B$8:$GU$58,オフセット番号A!$V$52+1))=TRUE,\"\",VLOOKUP(B9,入力AA5!$B$8:$GU$58,オフセット番号A!$V$52+1)),\"*\"))","v":"内容48,20"}]
[null,{"$f":"IF(行列入力項目!$C$53=\"\",\"\",行列入力項目!$C$53)","v":"行49"},{"$f":"IF($F$5=1,項目表示入力!$C$55,IF($F$5=2,IF(ISERROR(VLOOKUP(B9,入力AA5!$B$8:$GU$58,オフセット番号A!$C$53+1))=TRUE,\"\",VLOOKUP(B9,入力AA5!$B$8:$GU$58,オフセット番号A!$C$53+1)),\"*\"))","v":"内容49,1"},{"$f":"IF($F$5=1,項目表示入力!$D$55,IF($F$5=2,IF(ISERROR(VLOOKUP(B9,入力AA5!$B$8:$GU$58,オフセット番号A!$D$53+1))=TRUE,\"\",VLOOKUP(B9,入力AA5!$B$8:$GU$58,オフセット番号A!$D$53+1)),\"*\"))","v":"内容49,2"},{"$f":"IF($F$5=1,項目表示入力!$E$55,IF($F$5=2,IF(ISERROR(VLOOKUP(B9,入力AA5!$B$8:$GU$58,オフセット番号A!$E$53+1))=TRUE,\"\",VLOOKUP(B9,入力AA5!$B$8:$GU$58,オフセット番号A!$E$53+1)),\"*\"))","v":"内容49,3"},{"$f":"IF($F$5=1,項目表示入力!$F$55,IF($F$5=2,IF(ISERROR(VLOOKUP(B9,入力AA5!$B$8:$GU$58,オフセット番号A!$F$53+1))=TRUE,\"\",VLOOKUP(B9,入力AA5!$B$8:$GU$58,オフセット番号A!$F$53+1)),\"*\"))","v":"内容49,4"},{"$f":"IF($F$5=1,項目表示入力!$G$55,IF($F$5=2,IF(ISERROR(VLOOKUP(B9,入力AA5!$B$8:$GU$58,オフセット番号A!$G$53+1))=TRUE,\"\",VLOOKUP(B9,入力AA5!$B$8:$GU$58,オフセット番号A!$G$53+1)),\"*\"))","v":"内容49,5"},{"$f":"IF($F$5=1,項目表示入力!$H$55,IF($F$5=2,IF(ISERROR(VLOOKUP(B9,入力AA5!$B$8:$GU$58,オフセット番号A!$H$53+1))=TRUE,\"\",VLOOKUP(B9,入力AA5!$B$8:$GU$58,オフセット番号A!$H$53+1)),\"*\"))","v":"内容49,6"},{"$f":"IF($F$5=1,項目表示入力!$I$55,IF($F$5=2,IF(ISERROR(VLOOKUP(B9,入力AA5!$B$8:$GU$58,オフセット番号A!$I$53+1))=TRUE,\"\",VLOOKUP(B9,入力AA5!$B$8:$GU$58,オフセット番号A!$I$53+1)),\"*\"))","v":"内容49,7"},{"$f":"IF($F$5=1,項目表示入力!$J$55,IF($F$5=2,IF(ISERROR(VLOOKUP(B9,入力AA5!$B$8:$GU$58,オフセット番号A!$J$53+1))=TRUE,\"\",VLOOKUP(B9,入力AA5!$B$8:$GU$58,オフセット番号A!$J$53+1)),\"*\"))","v":"内容49,8"},{"$f":"IF($F$5=1,項目表示入力!$K$55,IF($F$5=2,IF(ISERROR(VLOOKUP(B9,入力AA5!$B$8:$GU$58,オフセット番号A!$K$53+1))=TRUE,\"\",VLOOKUP(B9,入力AA5!$B$8:$GU$58,オフセット番号A!$K$53+1)),\"*\"))","v":"内容49,9"},{"$f":"IF($F$5=1,項目表示入力!$L$55,IF($F$5=2,IF(ISERROR(VLOOKUP(B9,入力AA5!$B$8:$GU$58,オフセット番号A!$L$53+1))=TRUE,\"\",VLOOKUP(B9,入力AA5!$B$8:$GU$58,オフセット番号A!$L$53+1)),\"*\"))","v":"内容49,10"},{"$f":"IF($F$5=1,項目表示入力!$M$55,IF($F$5=2,IF(ISERROR(VLOOKUP(B9,入力AA5!$B$8:$GU$58,オフセット番号A!$M$53+1))=TRUE,\"\",VLOOKUP(B9,入力AA5!$B$8:$GU$58,オフセット番号A!$M$53+1)),\"*\"))","v":"内容49,11"},{"$f":"IF($F$5=1,項目表示入力!$N$55,IF($F$5=2,IF(ISERROR(VLOOKUP(B9,入力AA5!$B$8:$GU$58,オフセット番号A!$N$53+1))=TRUE,\"\",VLOOKUP(B9,入力AA5!$B$8:$GU$58,オフセット番号A!$N$53+1)),\"*\"))","v":"内容49,12"},{"$f":"IF($F$5=1,項目表示入力!$O$55,IF($F$5=2,IF(ISERROR(VLOOKUP(B9,入力AA5!$B$8:$GU$58,オフセット番号A!$O$53+1))=TRUE,\"\",VLOOKUP(B9,入力AA5!$B$8:$GU$58,オフセット番号A!$O$53+1)),\"*\"))","v":"内容49,13"},{"$f":"IF($F$5=1,項目表示入力!$P$55,IF($F$5=2,IF(ISERROR(VLOOKUP(B9,入力AA5!$B$8:$GU$58,オフセット番号A!$P$53+1))=TRUE,\"\",VLOOKUP(B9,入力AA5!$B$8:$GU$58,オフセット番号A!$P$53+1)),\"*\"))","v":"内容49,14"},{"$f":"IF($F$5=1,項目表示入力!$Q$55,IF($F$5=2,IF(ISERROR(VLOOKUP(B9,入力AA5!$B$8:$GU$58,オフセット番号A!$Q$53+1))=TRUE,\"\",VLOOKUP(B9,入力AA5!$B$8:$GU$58,オフセット番号A!$Q$53+1)),\"*\"))","v":"内容49,15"},{"$f":"IF($F$5=1,項目表示入力!$R$55,IF($F$5=2,IF(ISERROR(VLOOKUP(B9,入力AA5!$B$8:$GU$58,オフセット番号A!$R$53+1))=TRUE,\"\",VLOOKUP(B9,入力AA5!$B$8:$GU$58,オフセット番号A!$R$53+1)),\"*\"))","v":"内容49,16"},{"$f":"IF($F$5=1,項目表示入力!$S$55,IF($F$5=2,IF(ISERROR(VLOOKUP(B9,入力AA5!$B$8:$GU$58,オフセット番号A!$S$53+1))=TRUE,\"\",VLOOKUP(B9,入力AA5!$B$8:$GU$58,オフセット番号A!$S$53+1)),\"*\"))","v":"内容49,17"},{"$f":"IF($F$5=1,項目表示入力!$T$55,IF($F$5=2,IF(ISERROR(VLOOKUP(B9,入力AA5!$B$8:$GU$58,オフセット番号A!$T$53+1))=TRUE,\"\",VLOOKUP(B9,入力AA5!$B$8:$GU$58,オフセット番号A!$T$53+1)),\"*\"))","v":"内容49,18"},{"$f":"IF($F$5=1,項目表示入力!$U$55,IF($F$5=2,IF(ISERROR(VLOOKUP(B9,入力AA5!$B$8:$GU$58,オフセット番号A!$U$53+1))=TRUE,\"\",VLOOKUP(B9,入力AA5!$B$8:$GU$58,オフセット番号A!$U$53+1)),\"*\"))","v":"内容49,19"},{"$f":"IF($F$5=1,項目表示入力!$V$55,IF($F$5=2,IF(ISERROR(VLOOKUP(B9,入力AA5!$B$8:$GU$58,オフセット番号A!$V$53+1))=TRUE,\"\",VLOOKUP(B9,入力AA5!$B$8:$GU$58,オフセット番号A!$V$53+1)),\"*\"))","v":"内容49,20"}]
[null,{"$f":"IF(行列入力項目!$C$54=\"\",\"\",行列入力項目!$C$54)","v":"行50"},{"$f":"IF($F$5=1,項目表示入力!$C$56,IF($F$5=2,IF(ISERROR(VLOOKUP(B9,入力AA5!$B$8:$GU$58,オフセット番号A!$C$54+1))=TRUE,\"\",VLOOKUP(B9,入力AA5!$B$8:$GU$58,オフセット番号A!$C$54+1)),\"*\"))","v":"内容50,1"},{"$f":"IF($F$5=1,項目表示入力!$D$56,IF($F$5=2,IF(ISERROR(VLOOKUP(B9,入力AA5!$B$8:$GU$58,オフセット番号A!$D$54+1))=TRUE,\"\",VLOOKUP(B9,入力AA5!$B$8:$GU$58,オフセット番号A!$D$54+1)),\"*\"))","v":"内容50,2"},{"$f":"IF($F$5=1,項目表示入力!$E$56,IF($F$5=2,IF(ISERROR(VLOOKUP(B9,入力AA5!$B$8:$GU$58,オフセット番号A!$E$54+1))=TRUE,\"\",VLOOKUP(B9,入力AA5!$B$8:$GU$58,オフセット番号A!$E$54+1)),\"*\"))","v":"内容50,3"},{"$f":"IF($F$5=1,項目表示入力!$F$56,IF($F$5=2,IF(ISERROR(VLOOKUP(B9,入力AA5!$B$8:$GU$58,オフセット番号A!$F$54+1))=TRUE,\"\",VLOOKUP(B9,入力AA5!$B$8:$GU$58,オフセット番号A!$F$54+1)),\"*\"))","v":"内容50,4"},{"$f":"IF($F$5=1,項目表示入力!$G$56,IF($F$5=2,IF(ISERROR(VLOOKUP(B9,入力AA5!$B$8:$GU$58,オフセット番号A!$G$54+1))=TRUE,\"\",VLOOKUP(B9,入力AA5!$B$8:$GU$58,オフセット番号A!$G$54+1)),\"*\"))","v":"内容50,5"},{"$f":"IF($F$5=1,項目表示入力!$H$56,IF($F$5=2,IF(ISERROR(VLOOKUP(B9,入力AA5!$B$8:$GU$58,オフセット番号A!$H$54+1))=TRUE,\"\",VLOOKUP(B9,入力AA5!$B$8:$GU$58,オフセット番号A!$H$54+1)),\"*\"))","v":"内容50,6"},{"$f":"IF($F$5=1,項目表示入力!$I$56,IF($F$5=2,IF(ISERROR(VLOOKUP(B9,入力AA5!$B$8:$GU$58,オフセット番号A!$I$54+1))=TRUE,\"\",VLOOKUP(B9,入力AA5!$B$8:$GU$58,オフセット番号A!$I$54+1)),\"*\"))","v":"内容50,7"},{"$f":"IF($F$5=1,項目表示入力!$J$56,IF($F$5=2,IF(ISERROR(VLOOKUP(B9,入力AA5!$B$8:$GU$58,オフセット番号A!$J$54+1))=TRUE,\"\",VLOOKUP(B9,入力AA5!$B$8:$GU$58,オフセット番号A!$J$54+1)),\"*\"))","v":"内容50,8"},{"$f":"IF($F$5=1,項目表示入力!$K$56,IF($F$5=2,IF(ISERROR(VLOOKUP(B9,入力AA5!$B$8:$GU$58,オフセット番号A!$K$54+1))=TRUE,\"\",VLOOKUP(B9,入力AA5!$B$8:$GU$58,オフセット番号A!$K$54+1)),\"*\"))","v":"内容50,9"},{"$f":"IF($F$5=1,項目表示入力!$L$56,IF($F$5=2,IF(ISERROR(VLOOKUP(B9,入力AA5!$B$8:$GU$58,オフセット番号A!$L$54+1))=TRUE,\"\",VLOOKUP(B9,入力AA5!$B$8:$GU$58,オフセット番号A!$L$54+1)),\"*\"))","v":"内容50,10"},{"$f":"IF($F$5=1,項目表示入力!$M$56,IF($F$5=2,IF(ISERROR(VLOOKUP(B9,入力AA5!$B$8:$GU$58,オフセット番号A!$M$54+1))=TRUE,\"\",VLOOKUP(B9,入力AA5!$B$8:$GU$58,オフセット番号A!$M$54+1)),\"*\"))","v":"内容50,11"},{"$f":"IF($F$5=1,項目表示入力!$N$56,IF($F$5=2,IF(ISERROR(VLOOKUP(B9,入力AA5!$B$8:$GU$58,オフセット番号A!$N$54+1))=TRUE,\"\",VLOOKUP(B9,入力AA5!$B$8:$GU$58,オフセット番号A!$N$54+1)),\"*\"))","v":"内容50,12"},{"$f":"IF($F$5=1,項目表示入力!$O$56,IF($F$5=2,IF(ISERROR(VLOOKUP(B9,入力AA5!$B$8:$GU$58,オフセット番号A!$O$54+1))=TRUE,\"\",VLOOKUP(B9,入力AA5!$B$8:$GU$58,オフセット番号A!$O$54+1)),\"*\"))","v":"内容50,13"},{"$f":"IF($F$5=1,項目表示入力!$P$56,IF($F$5=2,IF(ISERROR(VLOOKUP(B9,入力AA5!$B$8:$GU$58,オフセット番号A!$P$54+1))=TRUE,\"\",VLOOKUP(B9,入力AA5!$B$8:$GU$58,オフセット番号A!$P$54+1)),\"*\"))","v":"内容50,14"},{"$f":"IF($F$5=1,項目表示入力!$Q$56,IF($F$5=2,IF(ISERROR(VLOOKUP(B9,入力AA5!$B$8:$GU$58,オフセット番号A!$Q$54+1))=TRUE,\"\",VLOOKUP(B9,入力AA5!$B$8:$GU$58,オフセット番号A!$Q$54+1)),\"*\"))","v":"内容50,15"},{"$f":"IF($F$5=1,項目表示入力!$R$56,IF($F$5=2,IF(ISERROR(VLOOKUP(B9,入力AA5!$B$8:$GU$58,オフセット番号A!$R$54+1))=TRUE,\"\",VLOOKUP(B9,入力AA5!$B$8:$GU$58,オフセット番号A!$R$54+1)),\"*\"))","v":"内容50,16"},{"$f":"IF($F$5=1,項目表示入力!$S$56,IF($F$5=2,IF(ISERROR(VLOOKUP(B9,入力AA5!$B$8:$GU$58,オフセット番号A!$S$54+1))=TRUE,\"\",VLOOKUP(B9,入力AA5!$B$8:$GU$58,オフセット番号A!$S$54+1)),\"*\"))","v":"内容50,17"},{"$f":"IF($F$5=1,項目表示入力!$T$56,IF($F$5=2,IF(ISERROR(VLOOKUP(B9,入力AA5!$B$8:$GU$58,オフセット番号A!$T$54+1))=TRUE,\"\",VLOOKUP(B9,入力AA5!$B$8:$GU$58,オフセット番号A!$T$54+1)),\"*\"))","v":"内容50,18"},{"$f":"IF($F$5=1,項目表示入力!$U$56,IF($F$5=2,IF(ISERROR(VLOOKUP(B9,入力AA5!$B$8:$GU$58,オフセット番号A!$U$54+1))=TRUE,\"\",VLOOKUP(B9,入力AA5!$B$8:$GU$58,オフセット番号A!$U$54+1)),\"*\"))","v":"内容50,19"},{"$f":"IF($F$5=1,項目表示入力!$V$56,IF($F$5=2,IF(ISERROR(VLOOKUP(B9,入力AA5!$B$8:$GU$58,オフセット番号A!$V$54+1))=TRUE,\"\",VLOOKUP(B9,入力AA5!$B$8:$GU$58,オフセット番号A!$V$54+1)),\"*\"))","v":"内容50,20"}]

{"sheet":"ファイル作成作業用シート","index":35,"n_rows":3,"n_cols":3,"rows_kept":3,"cut":false,"hidden":false,"merged":[]}
[]
[null,{"$f":"シート名設定!G37","v":"ファイル作成作業用シート"}]
[null,"■","＜注意＞"]

{"sheet":"印刷フォーム1","index":36,"n_rows":3,"n_cols":3,"rows_kept":3,"cut":false,"hidden":false,"merged":[]}
[]
[null,{"$f":"シート名設定!C35","v":"印刷フォーム1"}]
[null,"■","＜注意＞"]

{"sheet":"印刷フォーム2","index":37,"n_rows":3,"n_cols":3,"rows_kept":3,"cut":false,"hidden":false,"merged":[]}
[]
[null,{"$f":"シート名設定!C36","v":"印刷フォーム2"}]
[null,"■","＜注意＞"]

{"sheet":"印刷フォーム3","index":38,"n_rows":3,"n_cols":3,"rows_kept":3,"cut":false,"hidden":false,"merged":[]}
[]
[null,{"$f":"シート名設定!C37","v":"印刷フォーム3"}]
[null,"■","＜注意＞"]

{"sheet":"印刷フォーム4","index":39,"n_rows":3,"n_cols":3,"rows_kept":3,"cut":false,"hidden":false,"merged":[]}
[]
[null,{"$f":"シート名設定!C38","v":"印刷フォーム4"}]
[null,"■","＜注意＞"]

{"sheet":"印刷フォーム5","index":40,"n_rows":3,"n_cols":3,"rows_kept":3,"cut":false,"hidden":false,"merged":[]}
[]
[null,{"$f":"シート名設定!C39","v":"印刷フォーム5"}]
[null,"■","＜注意＞"]

{"sheet":"印刷フォーム6","index":41,"n_rows":3,"n_cols":3,"rows_kept":3,"cut":false,"hidden":false,"merged":[]}
[]
[null,{"$f":"シート名設定!C40","v":"印刷フォーム6"}]
[null,"■","＜注意＞"]

{"sheet":"印刷フォーム7","index":42,"n_rows":3,"n_cols":3,"rows_kept":3,"cut":false,"hidden":false,"merged":[]}
[]
[null,{"$f":"シート名設定!C41","v":"印刷フォーム7"}]
[null,"■","＜注意＞"]

{"sheet":"印刷フォーム8","index":43,"n_rows":3,"n_cols":3,"rows_kept":3,"cut":false,"hidden":false,"merged":[]}
[]
[null,{"$f":"シート名設定!C42","v":"印刷フォーム8"}]
[null,"■","＜注意＞"]

{"sheet":"印刷フォーム9","index":44,"n_rows":3,"n_cols":3,"rows_kept":3,"cut":false,"hidden":false,"merged":[]}
[]
[null,{"$f":"シート名設定!C43","v":"印刷フォーム9"}]
[null,"■","＜注意＞"]

{"sheet":"印刷フォーム10","index":45,"n_rows":3,"n_cols":3,"rows_kept":3,"cut":false,"hidden":false,"merged":[]}
[]
[null,{"$f":"シート名設定!C44","v":"印刷フォーム10"}]
[null,"■","＜注意＞"]

{"sheet":"印刷フォーム11","index":46,"n_rows":3,"n_cols":3,"rows_kept":3,"cut":false,"hidden":false,"merged":[]}
[]
[null,{"$f":"シート名設定!C45","v":"印刷フォーム11"}]
[null,"■","＜注意＞"]

{"sheet":"印刷フォーム12","index":47,"n_rows":3,"n_cols":3,"rows_kept":3,"cut":false,"hidden":false,"merged":[]}
[]
[null,{"$f":"シート名設定!C46","v":"印刷フォーム12"}]
[null,"■","＜注意＞"]

{"sheet":"印刷フォーム13","index":48,"n_rows":3,"n_cols":3,"rows_kept":3,"cut":false,"hidden":false,"merged":[]}
[]
[null,{"$f":"シート名設定!C47","v":"印刷フォーム13"}]
[null,"■","＜注意＞"]

{"sheet":"印刷フォーム14","index":49,"n_rows":3,"n_cols":3,"rows_kept":3,"cut":false,"hidden":false,"merged":[]}
[]
[null,{"$f":"シート名設定!C48","v":"印刷フォーム14"}]
[null,"■","＜注意＞"]

{"sheet":"印刷フォーム15","index":50,"n_rows":3,"n_cols":3,"rows_kept":3,"cut":false,"hidden":false,"merged":[]}
[]
[null,{"$f":"シート名設定!C49","v":"印刷フォーム15"}]
[null,"■","＜注意＞"]

{"sheet":"印刷フォーム16","index":51,"n_rows":3,"n_cols":3,"rows_kept":3,"cut":false,"hidden":false,"merged":[]}
[]
[null,{"$f":"シート名設定!C50","v":"印刷フォーム16"}]
[null,"■","＜注意＞"]

{"sheet":"印刷フォーム17","index":52,"n_rows":3,"n_cols":3,"rows_kept":3,"cut":false,"hidden":false,"merged":[]}
[]
[null,{"$f":"シート名設定!C51","v":"印刷フォーム17"}]
[null,"■","＜注意＞"]

{"sheet":"印刷フォーム18","index":53,"n_rows":3,"n_cols":3,"rows_kept":3,"cut":false,"hidden":false,"merged":[]}
[]
[null,{"$f":"シート名設定!C52","v":"印刷フォーム18"}]
[null,"■","＜注意＞"]

{"sheet":"印刷フォーム19","index":54,"n_rows":3,"n_cols":3,"rows_kept":3,"cut":false,"hidden":false,"merged":[]}
[]
[null,{"$f":"シート名設定!C53","v":"印刷フォーム19"}]
[null,"■","＜注意＞"]

{"sheet":"印刷フォーム20","index":55,"n_rows":3,"n_cols":3,"rows_kept":3,"cut":false,"hidden":false,"merged":[]}
[]
[null,{"$f":"シート名設定!C54","v":"印刷フォーム20"}]
[null,"■","＜注意＞"]

{"sheet":"印刷フォーム21","index":56,"n_rows":3,"n_cols":3,"rows_kept":3,"cut":false,"hidden":false,"merged":[]}
[]
[null,{"$f":"シート名設定!E5","v":"印刷フォーム21"}]
[null,"■","＜注意＞"]

{"sheet":"印刷フォーム22","index":57,"n_rows":3,"n_cols":3,"rows_kept":3,"cut":false,"hidden":false,"merged":[]}
[]
[null,{"$f":"シート名設定!E6","v":"印刷フォーム22"}]
[null,"■","＜注意＞"]

{"sheet":"印刷フォーム23","index":58,"n_rows":3,"n_cols":3,"rows_kept":3,"cut":false,"hidden":false,"merged":[]}
[]
[null,{"$f":"シート名設定!E7","v":"印刷フォーム23"}]
[null,"■","＜注意＞"]

{"sheet":"印刷フォーム24","index":59,"n_rows":3,"n_cols":3,"rows_kept":3,"cut":false,"hidden":false,"merged":[]}
[]
[null,{"$f":"シート名設定!E8","v":"印刷フォーム24"}]
[null,"■","＜注意＞"]

{"sheet":"印刷フォーム25","index":60,"n_rows":3,"n_cols":3,"rows_kept":3,"cut":false,"hidden":false,"merged":[]}
[]
[null,{"$f":"シート名設定!E9","v":"印刷フォーム25"}]
[null,"■","＜注意＞"]

{"sheet":"印刷フォーム26","index":61,"n_rows":3,"n_cols":3,"rows_kept":3,"cut":false,"hidden":false,"merged":[]}
[]
[null,{"$f":"シート名設定!E10","v":"印刷フォーム26"}]
[null,"■","＜注意＞"]

{"sheet":"印刷フォーム27","index":62,"n_rows":3,"n_cols":3,"rows_kept":3,"cut":false,"hidden":false,"merged":[]}
[]
[null,{"$f":"シート名設定!E11","v":"印刷フォーム27"}]
[null,"■","＜注意＞"]

{"sheet":"印刷フォーム28","index":63,"n_rows":3,"n_cols":3,"rows_kept":3,"cut":false,"hidden":false,"merged":[]}
[]
[null,{"$f":"シート名設定!E12","v":"印刷フォーム28"}]
[null,"■","＜注意＞"]

{"sheet":"印刷フォーム29","index":64,"n_rows":3,"n_cols":3,"rows_kept":3,"cut":false,"hidden":false,"merged":[]}
[]
[null,{"$f":"シート名設定!E13","v":"印刷フォーム29"}]
[null,"■","＜注意＞"]

{"sheet":"印刷フォーム30","index":65,"n_rows":3,"n_cols":3,"rows_kept":3,"cut":false,"hidden":false,"merged":[]}
[]
[null,{"$f":"シート名設定!E14","v":"印刷フォーム30"}]
[null,"■","＜注意＞"]

{"sheet":"印刷フォーム1ソートデーター","index":66,"n_rows":3,"n_cols":3,"rows_kept":3,"cut":false,"hidden":false,"merged":[]}
[]
[null,{"$f":"シート名設定!E15","v":"印刷フォーム1ソートデーター"}]
[null,"■","＜注意＞"]

{"sheet":"印刷フォーム2ソートデーター","index":67,"n_rows":3,"n_cols":3,"rows_kept":3,"cut":false,"hidden":false,"merged":[]}
[]
[null,{"$f":"シート名設定!E16","v":"印刷フォーム2ソートデーター"}]
[null,"■","＜注意＞"]

{"sheet":"印刷フォーム3ソートデーター","index":68,"n_rows":3,"n_cols":3,"rows_kept":3,"cut":false,"hidden":false,"merged":[]}
[]
[null,{"$f":"シート名設定!E17","v":"印刷フォーム3ソートデーター"}]
[null,"■","＜注意＞"]

{"sheet":"印刷フォーム4ソートデーター","index":69,"n_rows":3,"n_cols":3,"rows_kept":3,"cut":false,"hidden":false,"merged":[]}
[]
[null,{"$f":"シート名設定!E18","v":"印刷フォーム4ソートデーター"}]
[null,"■","＜注意＞"]

{"sheet":"印刷フォーム5ソートデーター","index":70,"n_rows":3,"n_cols":3,"rows_kept":3,"cut":false,"hidden":false,"merged":[]}
[]
[null,{"$f":"シート名設定!E19","v":"印刷フォーム5ソートデーター"}]
[null,"■","＜注意＞"]

{"sheet":"印刷フォーム6ソートデーター","index":71,"n_rows":3,"n_cols":3,"rows_kept":3,"cut":false,"hidden":false,"merged":[]}
[]
[null,{"$f":"シート名設定!E20","v":"印刷フォーム6ソートデーター"}]
[null,"■","＜注意＞"]

{"sheet":"印刷フォーム7ソートデーター","index":72,"n_rows":3,"n_cols":3,"rows_kept":3,"cut":false,"hidden":false,"merged":[]}
[]
[null,{"$f":"シート名設定!E21","v":"印刷フォーム7ソートデーター"}]
[null,"■","＜注意＞"]

{"sheet":"印刷フォーム8ソートデーター","index":73,"n_rows":3,"n_cols":3,"rows_kept":3,"cut":false,"hidden":false,"merged":[]}
[]
[null,{"$f":"シート名設定!E22","v":"印刷フォーム8ソートデーター"}]
[null,"■","＜注意＞"]

{"sheet":"印刷フォーム9ソートデーター","index":74,"n_rows":3,"n_cols":3,"rows_kept":3,"cut":false,"hidden":false,"merged":[]}
[]
[null,{"$f":"シート名設定!E23","v":"印刷フォーム9ソートデーター"}]
[null,"■","＜注意＞"]

{"sheet":"印刷フォーム10ソートデーター","index":75,"n_rows":3,"n_cols":3,"rows_kept":3,"cut":false,"hidden":false,"merged":[]}
[]
[null,{"$f":"シート名設定!E24","v":"印刷フォーム10ソートデーター"}]
[null,"■","＜注意＞"]

{"sheet":"印刷フォーム11ソートデーター","index":76,"n_rows":3,"n_cols":3,"rows_kept":3,"cut":false,"hidden":false,"merged":[]}
[]
[null,{"$f":"シート名設定!E25","v":"印刷フォーム11ソートデーター"}]
[null,"■","＜注意＞"]

{"sheet":"印刷フォーム12ソートデーター","index":77,"n_rows":3,"n_cols":3,"rows_kept":3,"cut":false,"hidden":false,"merged":[]}
[]
[null,{"$f":"シート名設定!E26","v":"印刷フォーム12ソートデーター"}]
[null,"■","＜注意＞"]

{"sheet":"印刷フォーム13ソートデーター","index":78,"n_rows":3,"n_cols":3,"rows_kept":3,"cut":false,"hidden":false,"merged":[]}
[]
[null,{"$f":"シート名設定!E27","v":"印刷フォーム13ソートデーター"}]
[null,"■","＜注意＞"]

{"sheet":"印刷フォーム14ソートデーター","index":79,"n_rows":3,"n_cols":3,"rows_kept":3,"cut":false,"hidden":false,"merged":[]}
[]
[null,{"$f":"シート名設定!E28","v":"印刷フォーム14ソートデーター"}]
[null,"■","＜注意＞"]

{"sheet":"印刷フォーム15ソートデーター","index":80,"n_rows":3,"n_cols":3,"rows_kept":3,"cut":false,"hidden":false,"merged":[]}
[]
[null,{"$f":"シート名設定!E29","v":"印刷フォーム15ソートデーター"}]
[null,"■","＜注意＞"]

{"sheet":"印刷フォーム16ソートデーター","index":81,"n_rows":3,"n_cols":3,"rows_kept":3,"cut":false,"hidden":false,"merged":[]}
[]
[null,{"$f":"シート名設定!E30","v":"印刷フォーム16ソートデーター"}]
[null,"■","＜注意＞"]

{"sheet":"印刷フォーム17ソートデーター","index":82,"n_rows":3,"n_cols":3,"rows_kept":3,"cut":false,"hidden":false,"merged":[]}
[]
[null,{"$f":"シート名設定!E31","v":"印刷フォーム17ソートデーター"}]
[null,"■","＜注意＞"]

{"sheet":"印刷フォーム18ソートデーター","index":83,"n_rows":3,"n_cols":3,"rows_kept":3,"cut":false,"hidden":false,"merged":[]}
[]
[null,{"$f":"シート名設定!E32","v":"印刷フォーム18ソートデーター"}]
[null,"■","＜注意＞"]

{"sheet":"印刷フォーム19ソートデーター","index":84,"n_rows":3,"n_cols":3,"rows_kept":3,"cut":false,"hidden":false,"merged":[]}
[]
[null,{"$f":"シート名設定!E33","v":"印刷フォーム19ソートデーター"}]
[null,"■","＜注意＞"]

{"sheet":"印刷フォーム20ソートデーター","index":85,"n_rows":3,"n_cols":3,"rows_kept":3,"cut":false,"hidden":false,"merged":[]}
[]
[null,{"$f":"シート名設定!E34","v":"印刷フォーム20ソートデーター"}]
[null,"■","＜注意＞"]

{"sheet":"印刷フォーム21ソートデーター","index":86,"n_rows":3,"n_cols":3,"rows_kept":3,"cut":false,"hidden":false,"merged":[]}
[]
[null,{"$f":"シート名設定!E35","v":"印刷フォーム21ソートデーター"}]
[null,"■","＜注意＞"]

{"sheet":"印刷フォーム22ソートデーター","index":87,"n_rows":3,"n_cols":3,"rows_kept":3,"cut":false,"hidden":false,"merged":[]}
[]
[null,{"$f":"シート名設定!E36","v":"印刷フォーム22ソートデーター"}]
[null,"■","＜注意＞"]

{"sheet":"印刷フォーム23ソートデーター","index":88,"n_rows":3,"n_cols":3,"rows_kept":3,"cut":false,"hidden":false,"merged":[]}
[]
[null,{"$f":"シート名設定!E37","v":"印刷フォーム23ソートデーター"}]
[null,"■","＜注意＞"]

{"sheet":"印刷フォーム24ソートデーター","index":89,"n_rows":3,"n_cols":3,"rows_kept":3,"cut":false,"hidden":false,"merged":[]}
[]
[null,{"$f":"シート名設定!E38","v":"印刷フォーム24ソートデーター"}]
[null,"■","＜注意＞"]

{"sheet":"印刷フォーム25ソートデーター","index":90,"n_rows":3,"n_cols":3,"rows_kept":3,"cut":false,"hidden":false,"merged":[]}
[]
[null,{"$f":"シート名設定!E39","v":"印刷フォーム25ソートデーター"}]
[null,"■","＜注意＞"]

{"sheet":"印刷フォーム26ソートデーター","index":91,"n_rows":3,"n_cols":3,"rows_kept":3,"cut":false,"hidden":false,"merged":[]}
[]
[null,{"$f":"シート名設定!E40","v":"印刷フォーム26ソートデーター"}]
[null,"■","＜注意＞"]

{"sheet":"印刷フォーム27ソートデーター","index":92,"n_rows":3,"n_cols":3,"rows_kept":3,"cut":false,"hidden":false,"merged":[]}
[]
[null,{"$f":"シート名設定!E41","v":"印刷フォーム27ソートデーター"}]
[null,"■","＜注意＞"]

{"sheet":"印刷フォーム28ソートデーター","index":93,"n_rows":3,"n_cols":3,"rows_kept":3,"cut":false,"hidden":false,"merged":[]}
[]
[null,{"$f":"シート名設定!E42","v":"印刷フォーム28ソートデーター"}]
[null,"■","＜注意＞"]

{"sheet":"印刷フォーム29ソートデーター","index":94,"n_rows":3,"n_cols":3,"rows_kept":3,"cut":false,"hidden":false,"merged":[]}
[]
[null,{"$f":"シート名設定!E43","v":"印刷フォーム29ソートデーター"}]
[null,"■","＜注意＞"]

{"sheet":"印刷フォーム30ソートデーター","index":95,"n_rows":3,"n_cols":3,"rows_kept":3,"cut":false,"hidden":false,"merged":[]}
[]
[null,{"$f":"シート名設定!E44","v":"印刷フォーム30ソートデーター"}]
[null,"■","＜注意＞"]

{"sheet":"入力AA1","index":96,"n_rows":58,"n_cols":203,"rows_kept":58,"cut":false,"hidden":false,"merged":[]}
[null,null,null,null,null,{"$f":"入力シート入力可能行数調査!$D$21","v":"入力可能行数　50 行"}]
[null,{"$f":"シート名設定!C30","v":"入力AA1"}]
[]
[]
[null,"ID","対象",{"$f":"IF(項目表示入力!C7=\"\",\"\",項目表示入力!C7)","v":"内容1,1"},{"$f":"IF(項目表示入力!D7=\"\",\"\",項目表示入力!D7)","v":"内容1,2"},{"$f":"IF(項目表示入力!E7=\"\",\"\",項目表示入力!E7)","v":"内容1,3"},{"$f":"IF(項目表示入力!F7=\"\",\"\",項目表示入力!F7)","v":"内容1,4"},{"$f":"IF(項目表示入力!G7=\"\",\"\",項目表示入力!G7)","v":"内容1,5"},{"$f":"IF(項目表示入力!H7=\"\",\"\",項目表示入力!H7)","v":"内容1,6"},{"$f":"IF(項目表示入力!I7=\"\",\"\",項目表示入力!I7)","v":"内容1,7"},{"$f":"IF(項目表示入力!J7=\"\",\"\",項目表示入力!J7)","v":"内容1,8"},{"$f":"IF(項目表示入力!K7=\"\",\"\",項目表示入力!K7)","v":"内容1,9"},{"$f":"IF(項目表示入力!L7=\"\",\"\",項目表示入力!L7)","v":"内容1,10"},{"$f":"IF(項目表示入力!M7=\"\",\"\",項目表示入力!M7)","v":"内容1,11"},{"$f":"IF(項目表示入力!N7=\"\",\"\",項目表示入力!N7)","v":"内容1,12"},{"$f":"IF(項目表示入力!O7=\"\",\"\",項目表示入力!O7)","v":"内容1,13"},{"$f":"IF(項目表示入力!P7=\"\",\"\",項目表示入力!P7)","v":"内容1,14"},{"$f":"IF(項目表示入力!Q7=\"\",\"\",項目表示入力!Q7)","v":"内容1,15"},{"$f":"IF(項目表示入力!R7=\"\",\"\",項目表示入力!R7)","v":"内容1,16"},{"$f":"IF(項目表示入力!S7=\"\",\"\",項目表示入力!S7)","v":"内容1,17"},{"$f":"IF(項目表示入力!T7=\"\",\"\",項目表示入力!T7)","v":"内容1,18"},{"$f":"IF(項目表示入力!U7=\"\",\"\",項目表示入力!U7)","v":"内容1,19"},{"$f":"IF(項目表示入力!V7=\"\",\"\",項目表示入力!V7)","v":"内容1,20"},{"$f":"IF(項目表示入力!C8=\"\",\"\",項目表示入力!C8)","v":"内容2,1"},{"$f":"IF(項目表示入力!D8=\"\",\"\",項目表示入力!D8)","v":"内容2,2"},{"$f":"IF(項目表示入力!E8=\"\",\"\",項目表示入力!E8)","v":"内容2,3"},{"$f":"IF(項目表示入力!F8=\"\",\"\",項目表示入力!F8)","v":"内容2,4"},{"$f":"IF(項目表示入力!G8=\"\",\"\",項目表示入力!G8)","v":"内容2,5"},{"$f":"IF(項目表示入力!H8=\"\",\"\",項目表示入力!H8)","v":"内容2,6"},{"$f":"IF(項目表示入力!I8=\"\",\"\",項目表示入力!I8)","v":"内容2,7"},{"$f":"IF(項目表示入力!J8=\"\",\"\",項目表示入力!J8)","v":"内容2,8"},{"$f":"IF(項目表示入力!K8=\"\",\"\",項目表示入力!K8)","v":"内容2,9"},{"$f":"IF(項目表示入力!L8=\"\",\"\",項目表示入力!L8)","v":"内容2,10"},{"$f":"IF(項目表示入力!M8=\"\",\"\",項目表示入力!M8)","v":"内容2,11"},{"$f":"IF(項目表示入力!N8=\"\",\"\",項目表示入力!N8)","v":"内容2,12"},{"$f":"IF(項目表示入力!O8=\"\",\"\",項目表示入力!O8)","v":"内容2,13"},{"$f":"IF(項目表示入力!P8=\"\",\"\",項目表示入力!P8)","v":"内容2,14"},{"$f":"IF(項目表示入力!Q8=\"\",\"\",項目表示入力!Q8)","v":"内容2,15"},{"$f":"IF(項目表示入力!R8=\"\",\"\",項目表示入力!R8)","v":"内容2,16"},{"$f":"IF(項目表示入力!S8=\"\",\"\",項目表示入力!S8)","v":"内容2,17"},{"$f":"IF(項目表示入力!T8=\"\",\"\",項目表示入力!T8)","v":"内容2,18"},{"$f":"IF(項目表示入力!U8=\"\",\"\",項目表示入力!U8)","v":"内容2,19"},{"$f":"IF(項目表示入力!V8=\"\",\"\",項目表示入力!V8)","v":"内容2,20"},{"$f":"IF(項目表示入力!C9=\"\",\"\",項目表示入力!C9)","v":"内容3,1"},{"$f":"IF(項目表示入力!D9=\"\",\"\",項目表示入力!D9)","v":"内容3,2"},{"$f":"IF(項目表示入力!E9=\"\",\"\",項目表示入力!E9)","v":"内容3,3"},{"$f":"IF(項目表示入力!F9=\"\",\"\",項目表示入力!F9)","v":"内容3,4"},{"$f":"IF(項目表示入力!G9=\"\",\"\",項目表示入力!G9)","v":"内容3,5"},{"$f":"IF(項目表示入力!H9=\"\",\"\",項目表示入力!H9)","v":"内容3,6"},{"$f":"IF(項目表示入力!I9=\"\",\"\",項目表示入力!I9)","v":"内容3,7"},{"$f":"IF(項目表示入力!J9=\"\",\"\",項目表示入力!J9)","v":"内容3,8"},{"$f":"IF(項目表示入力!K9=\"\",\"\",項目表示入力!K9)","v":"内容3,9"},{"$f":"IF(項目表示入力!L9=\"\",\"\",項目表示入力!L9)","v":"内容3,10"},{"$f":"IF(項目表示入力!M9=\"\",\"\",項目表示入力!M9)","v":"内容3,11"},{"$f":"IF(項目表示入力!N9=\"\",\"\",項目表示入力!N9)","v":"内容3,12"},{"$f":"IF(項目表示入力!O9=\"\",\"\",項目表示入力!O9)","v":"内容3,13"},{"$f":"IF(項目表示入力!P9=\"\",\"\",項目表示入力!P9)","v":"内容3,14"},{"$f":"IF(項目表示入力!Q9=\"\",\"\",項目表示入力!Q9)","v":"内容3,15"},{"$f":"IF(項目表示入力!R9=\"\",\"\",項目表示入力!R9)","v":"内容3,16"},{"$f":"IF(項目表示入力!S9=\"\",\"\",項目表示入力!S9)","v":"内容3,17"},{"$f":"IF(項目表示入力!T9=\"\",\"\",項目表示入力!T9)","v":"内容3,18"},{"$f":"IF(項目表示入力!U9=\"\",\"\",項目表示入力!U9)","v":"内容3,19"},{"$f":"IF(項目表示入力!V9=\"\",\"\",項目表示入力!V9)","v":"内容3,20"},{"$f":"IF(項目表示入力!C10=\"\",\"\",項目表示入力!C10)","v":"内容4,1"},{"$f":"IF(項目表示入力!D10=\"\",\"\",項目表示入力!D10)","v":"内容4,2"},{"$f":"IF(項目表示入力!E10=\"\",\"\",項目表示入力!E10)","v":"内容4,3"},{"$f":"IF(項目表示入力!F10=\"\",\"\",項目表示入力!F10)","v":"内容4,4"},{"$f":"IF(項目表示入力!G10=\"\",\"\",項目表示入力!G10)","v":"内容4,5"},{"$f":"IF(項目表示入力!H10=\"\",\"\",項目表示入力!H10)","v":"内容4,6"},{"$f":"IF(項目表示入力!I10=\"\",\"\",項目表示入力!I10)","v":"内容4,7"},{"$f":"IF(項目表示入力!J10=\"\",\"\",項目表示入力!J10)","v":"内容4,8"},{"$f":"IF(項目表示入力!K10=\"\",\"\",項目表示入力!K10)","v":"内容4,9"},{"$f":"IF(項目表示入力!L10=\"\",\"\",項目表示入力!L10)","v":"内容4,10"},{"$f":"IF(項目表示入力!M10=\"\",\"\",項目表示入力!M10)","v":"内容4,11"},{"$f":"IF(項目表示入力!N10=\"\",\"\",項目表示入力!N10)","v":"内容4,12"},{"$f":"IF(項目表示入力!O10=\"\",\"\",項目表示入力!O10)","v":"内容4,13"},{"$f":"IF(項目表示入力!P10=\"\",\"\",項目表示入力!P10)","v":"内容4,14"},{"$f":"IF(項目表示入力!Q10=\"\",\"\",項目表示入力!Q10)","v":"内容4,15"},{"$f":"IF(項目表示入力!R10=\"\",\"\",項目表示入力!R10)","v":"内容4,16"},{"$f":"IF(項目表示入力!S10=\"\",\"\",項目表示入力!S10)","v":"内容4,17"},{"$f":"IF(項目表示入力!T10=\"\",\"\",項目表示入力!T10)","v":"内容4,18"},{"$f":"IF(項目表示入力!U10=\"\",\"\",項目表示入力!U10)","v":"内容4,19"},{"$f":"IF(項目表示入力!V10=\"\",\"\",項目表示入力!V10)","v":"内容4,20"},{"$f":"IF(項目表示入力!C11=\"\",\"\",項目表示入力!C11)","v":"内容5,1"},{"$f":"IF(項目表示入力!D11=\"\",\"\",項目表示入力!D11)","v":"内容5,2"},{"$f":"IF(項目表示入力!E11=\"\",\"\",項目表示入力!E11)","v":"内容5,3"},{"$f":"IF(項目表示入力!F11=\"\",\"\",項目表示入力!F11)","v":"内容5,4"},{"$f":"IF(項目表示入力!G11=\"\",\"\",項目表示入力!G11)","v":"内容5,5"},{"$f":"IF(項目表示入力!H11=\"\",\"\",項目表示入力!H11)","v":"内容5,6"},{"$f":"IF(項目表示入力!I11=\"\",\"\",項目表示入力!I11)","v":"内容5,7"},{"$f":"IF(項目表示入力!J11=\"\",\"\",項目表示入力!J11)","v":"内容5,8"},{"$f":"IF(項目表示入力!K11=\"\",\"\",項目表示入力!K11)","v":"内容5,9"},{"$f":"IF(項目表示入力!L11=\"\",\"\",項目表示入力!L11)","v":"内容5,10"},{"$f":"IF(項目表示入力!M11=\"\",\"\",項目表示入力!M11)","v":"内容5,11"},{"$f":"IF(項目表示入力!N11=\"\",\"\",項目表示入力!N11)","v":"内容5,12"},{"$f":"IF(項目表示入力!O11=\"\",\"\",項目表示入力!O11)","v":"内容5,13"},{"$f":"IF(項目表示入力!P11=\"\",\"\",項目表示入力!P11)","v":"内容5,14"},{"$f":"IF(項目表示入力!Q11=\"\",\"\",項目表示入力!Q11)","v":"内容5,15"},{"$f":"IF(項目表示入力!R11=\"\",\"\",項目表示入力!R11)","v":"内容5,16"},{"$f":"IF(項目表示入力!S11=\"\",\"\",項目表示入力!S11)","v":"内容5,17"},{"$f":"IF(項目表示入力!T11=\"\",\"\",項目表示入力!T11)","v":"内容5,18"},{"$f":"IF(項目表示入力!U11=\"\",\"\",項目表示入力!U11)","v":"内容5,19"},{"$f":"IF(項目表示入力!V11=\"\",\"\",項目表示入力!V11)","v":"内容5,20"},{"$f":"IF(項目表示入力!C12=\"\",\"\",項目表示入力!C12)","v":"内容6,1"},{"$f":"IF(項目表示入力!D12=\"\",\"\",項目表示入力!D12)","v":"内容6,2"},{"$f":"IF(項目表示入力!E12=\"\",\"\",項目表示入力!E12)","v":"内容6,3"},{"$f":"IF(項目表示入力!F12=\"\",\"\",項目表示入力!F12)","v":"内容6,4"},{"$f":"IF(項目表示入力!G12=\"\",\"\",項目表示入力!G12)","v":"内容6,5"},{"$f":"IF(項目表示入力!H12=\"\",\"\",項目表示入力!H12)","v":"内容6,6"},{"$f":"IF(項目表示入力!I12=\"\",\"\",項目表示入力!I12)","v":"内容6,7"},{"$f":"IF(項目表示入力!J12=\"\",\"\",項目表示入力!J12)","v":"内容6,8"},{"$f":"IF(項目表示入力!K12=\"\",\"\",項目表示入力!K12)","v":"内容6,9"},{"$f":"IF(項目表示入力!L12=\"\",\"\",項目表示入力!L12)","v":"内容6,10"},{"$f":"IF(項目表示入力!M12=\"\",\"\",項目表示入力!M12)","v":"内容6,11"},{"$f":"IF(項目表示入力!N12=\"\",\"\",項目表示入力!N12)","v":"内容6,12"},{"$f":"IF(項目表示入力!O12=\"\",\"\",項目表示入力!O12)","v":"内容6,13"},{"$f":"IF(項目表示入力!P12=\"\",\"\",項目表示入力!P12)","v":"内容6,14"},{"$f":"IF(項目表示入力!Q12=\"\",\"\",項目表示入力!Q12)","v":"内容6,15"},{"$f":"IF(項目表示入力!R12=\"\",\"\",項目表示入力!R12)","v":"内容6,16"},{"$f":"IF(項目表示入力!S12=\"\",\"\",項目表示入力!S12)","v":"内容6,17"},{"$f":"IF(項目表示入力!T12=\"\",\"\",項目表示入力!T12)","v":"内容6,18"},{"$f":"IF(項目表示入力!U12=\"\",\"\",項目表示入力!U12)","v":"内容6,19"},{"$f":"IF(項目表示入力!V12=\"\",\"\",項目表示入力!V12)","v":"内容6,20"},{"$f":"IF(項目表示入力!C13=\"\",\"\",項目表示入力!C13)","v":"内容7,1"},{"$f":"IF(項目表示入力!D13=\"\",\"\",項目表示入力!D13)","v":"内容7,2"},{"$f":"IF(項目表示入力!E13=\"\",\"\",項目表示入力!E13)","v":"内容7,3"},{"$f":"IF(項目表示入力!F13=\"\",\"\",項目表示入力!F13)","v":"内容7,4"},{"$f":"IF(項目表示入力!G13=\"\",\"\",項目表示入力!G13)","v":"内容7,5"},{"$f":"IF(項目表示入力!H13=\"\",\"\",項目表示入力!H13)","v":"内容7,6"},{"$f":"IF(項目表示入力!I13=\"\",\"\",項目表示入力!I13)","v":"内容7,7"},{"$f":"IF(項目表示入力!J13=\"\",\"\",項目表示入力!J13)","v":"内容7,8"},{"$f":"IF(項目表示入力!K13=\"\",\"\",項目表示入力!K13)","v":"内容7,9"},{"$f":"IF(項目表示入力!L13=\"\",\"\",項目表示入力!L13)","v":"内容7,10"},{"$f":"IF(項目表示入力!M13=\"\",\"\",項目表示入力!M13)","v":"内容7,11"},{"$f":"IF(項目表示入力!N13=\"\",\"\",項目表示入力!N13)","v":"内容7,12"},{"$f":"IF(項目表示入力!O13=\"\",\"\",項目表示入力!O13)","v":"内容7,13"},{"$f":"IF(項目表示入力!P13=\"\",\"\",項目表示入力!P13)","v":"内容7,14"},{"$f":"IF(項目表示入力!Q13=\"\",\"\",項目表示入力!Q13)","v":"内容7,15"},{"$f":"IF(項目表示入力!R13=\"\",\"\",項目表示入力!R13)","v":"内容7,16"},{"$f":"IF(項目表示入力!S13=\"\",\"\",項目表示入力!S13)","v":"内容7,17"},{"$f":"IF(項目表示入力!T13=\"\",\"\",項目表示入力!T13)","v":"内容7,18"},{"$f":"IF(項目表示入力!U13=\"\",\"\",項目表示入力!U13)","v":"内容7,19"},{"$f":"IF(項目表示入力!V13=\"\",\"\",項目表示入力!V13)","v":"内容7,20"},{"$f":"IF(項目表示入力!C14=\"\",\"\",項目表示入力!C14)","v":"内容8,1"},{"$f":"IF(項目表示入力!D14=\"\",\"\",項目表示入力!D14)","v":"内容8,2"},{"$f":"IF(項目表示入力!E14=\"\",\"\",項目表示入力!E14)","v":"内容8,3"},{"$f":"IF(項目表示入力!F14=\"\",\"\",項目表示入力!F14)","v":"内容8,4"},{"$f":"IF(項目表示入力!G14=\"\",\"\",項目表示入力!G14)","v":"内容8,5"},{"$f":"IF(項目表示入力!H14=\"\",\"\",項目表示入力!H14)","v":"内容8,6"},{"$f":"IF(項目表示入力!I14=\"\",\"\",項目表示入力!I14)","v":"内容8,7"},{"$f":"IF(項目表示入力!J14=\"\",\"\",項目表示入力!J14)","v":"内容8,8"},{"$f":"IF(項目表示入力!K14=\"\",\"\",項目表示入力!K14)","v":"内容8,9"},{"$f":"IF(項目表示入力!L14=\"\",\"\",項目表示入力!L14)","v":"内容8,10"},{"$f":"IF(項目表示入力!M14=\"\",\"\",項目表示入力!M14)","v":"内容8,11"},{"$f":"IF(項目表示入力!N14=\"\",\"\",項目表示入力!N14)","v":"内容8,12"},{"$f":"IF(項目表示入力!O14=\"\",\"\",項目表示入力!O14)","v":"内容8,13"},{"$f":"IF(項目表示入力!P14=\"\",\"\",項目表示入力!P14)","v":"内容8,14"},{"$f":"IF(項目表示入力!Q14=\"\",\"\",項目表示入力!Q14)","v":"内容8,15"},{"$f":"IF(項目表示入力!R14=\"\",\"\",項目表示入力!R14)","v":"内容8,16"},{"$f":"IF(項目表示入力!S14=\"\",\"\",項目表示入力!S14)","v":"内容8,17"},{"$f":"IF(項目表示入力!T14=\"\",\"\",項目表示入力!T14)","v":"内容8,18"},{"$f":"IF(項目表示入力!U14=\"\",\"\",項目表示入力!U14)","v":"内容8,19"},{"$f":"IF(項目表示入力!V14=\"\",\"\",項目表示入力!V14)","v":"内容8,20"},{"$f":"IF(項目表示入力!C15=\"\",\"\",項目表示入力!C15)","v":"内容9,1"},{"$f":"IF(項目表示入力!D15=\"\",\"\",項目表示入力!D15)","v":"内容9,2"},{"$f":"IF(項目表示入力!E15=\"\",\"\",項目表示入力!E15)","v":"内容9,3"},{"$f":"IF(項目表示入力!F15=\"\",\"\",項目表示入力!F15)","v":"内容9,4"},{"$f":"IF(項目表示入力!G15=\"\",\"\",項目表示入力!G15)","v":"内容9,5"},{"$f":"IF(項目表示入力!H15=\"\",\"\",項目表示入力!H15)","v":"内容9,6"},{"$f":"IF(項目表示入力!I15=\"\",\"\",項目表示入力!I15)","v":"内容9,7"},{"$f":"IF(項目表示入力!J15=\"\",\"\",項目表示入力!J15)","v":"内容9,8"},{"$f":"IF(項目表示入力!K15=\"\",\"\",項目表示入力!K15)","v":"内容9,9"},{"$f":"IF(項目表示入力!L15=\"\",\"\",項目表示入力!L15)","v":"内容9,10"},{"$f":"IF(項目表示入力!M15=\"\",\"\",項目表示入力!M15)","v":"内容9,11"},{"$f":"IF(項目表示入力!N15=\"\",\"\",項目表示入力!N15)","v":"内容9,12"},{"$f":"IF(項目表示入力!O15=\"\",\"\",項目表示入力!O15)","v":"内容9,13"},{"$f":"IF(項目表示入力!P15=\"\",\"\",項目表示入力!P15)","v":"内容9,14"},{"$f":"IF(項目表示入力!Q15=\"\",\"\",項目表示入力!Q15)","v":"内容9,15"},{"$f":"IF(項目表示入力!R15=\"\",\"\",項目表示入力!R15)","v":"内容9,16"},{"$f":"IF(項目表示入力!S15=\"\",\"\",項目表示入力!S15)","v":"内容9,17"},{"$f":"IF(項目表示入力!T15=\"\",\"\",項目表示入力!T15)","v":"内容9,18"},{"$f":"IF(項目表示入力!U15=\"\",\"\",項目表示入力!U15)","v":"内容9,19"},{"$f":"IF(項目表示入力!V15=\"\",\"\",項目表示入力!V15)","v":"内容9,20"},{"$f":"IF(項目表示入力!C16=\"\",\"\",項目表示入力!C16)","v":"内容10,1"},{"$f":"IF(項目表示入力!D16=\"\",\"\",項目表示入力!D16)","v":"内容10,2"},{"$f":"IF(項目表示入力!E16=\"\",\"\",項目表示入力!E16)","v":"内容10,3"},{"$f":"IF(項目表示入力!F16=\"\",\"\",項目表示入力!F16)","v":"内容10,4"},{"$f":"IF(項目表示入力!G16=\"\",\"\",項目表示入力!G16)","v":"内容10,5"},{"$f":"IF(項目表示入力!H16=\"\",\"\",項目表示入力!H16)","v":"内容10,6"},{"$f":"IF(項目表示入力!I16=\"\",\"\",項目表示入力!I16)","v":"内容10,7"},{"$f":"IF(項目表示入力!J16=\"\",\"\",項目表示入力!J16)","v":"内容10,8"},{"$f":"IF(項目表示入力!K16=\"\",\"\",項目表示入力!K16)","v":"内容10,9"},{"$f":"IF(項目表示入力!L16=\"\",\"\",項目表示入力!L16)","v":"内容10,10"},{"$f":"IF(項目表示入力!M16=\"\",\"\",項目表示入力!M16)","v":"内容10,11"},{"$f":"IF(項目表示入力!N16=\"\",\"\",項目表示入力!N16)","v":"内容10,12"},{"$f":"IF(項目表示入力!O16=\"\",\"\",項目表示入力!O16)","v":"内容10,13"},{"$f":"IF(項目表示入力!P16=\"\",\"\",項目表示入力!P16)","v":"内容10,14"},{"$f":"IF(項目表示入力!Q16=\"\",\"\",項目表示入力!Q16)","v":"内容10,15"},{"$f":"IF(項目表示入力!R16=\"\",\"\",項目表示入力!R16)","v":"内容10,16"},{"$f":"IF(項目表示入力!S16=\"\",\"\",項目表示入力!S16)","v":"内容10,17"},{"$f":"IF(項目表示入力!T16=\"\",\"\",項目表示入力!T16)","v":"内容10,18"},{"$f":"IF(項目表示入力!U16=\"\",\"\",項目表示入力!U16)","v":"内容10,19"},{"$f":"IF(項目表示入力!V16=\"\",\"\",項目表示入力!V16)","v":"内容10,20"}]
[null,-2,-2,{"$f":"IF(オフセット番号A!$C$4=\"\",\"\",オフセット番号A!$C$4)","v":"列1"},{"$f":"IF(オフセット番号A!$D$4=\"\",\"\",オフセット番号A!$D$4)","v":"列2"},{"$f":"IF(オフセット番号A!$E$4=\"\",\"\",オフセット番号A!$E$4)","v":"列3"},{"$f":"IF(オフセット番号A!$F$4=\"\",\"\",オフセット番号A!$F$4)","v":"列4"},{"$f":"IF(オフセット番号A!$G$4=\"\",\"\",オフセット番号A!$G$4)","v":"列5"},{"$f":"IF(オフセット番号A!$H$4=\"\",\"\",オフセット番号A!$H$4)","v":"列6"},{"$f":"IF(オフセット番号A!$I$4=\"\",\"\",オフセット番号A!$I$4)","v":"列7"},{"$f":"IF(オフセット番号A!$J$4=\"\",\"\",オフセット番号A!$J$4)","v":"列8"},{"$f":"IF(オフセット番号A!$K$4=\"\",\"\",オフセット番号A!$K$4)","v":"列9"},{"$f":"IF(オフセット番号A!$L$4=\"\",\"\",オフセット番号A!$L$4)","v":"列10"},{"$f":"IF(オフセット番号A!$M$4=\"\",\"\",オフセット番号A!$M$4)","v":"列11"},{"$f":"IF(オフセット番号A!$N$4=\"\",\"\",オフセット番号A!$N$4)","v":"列12"},{"$f":"IF(オフセット番号A!$O$4=\"\",\"\",オフセット番号A!$O$4)","v":"列13"},{"$f":"IF(オフセット番号A!$P$4=\"\",\"\",オフセット番号A!$P$4)","v":"列14"},{"$f":"IF(オフセット番号A!$Q$4=\"\",\"\",オフセット番号A!$Q$4)","v":"列15"},{"$f":"IF(オフセット番号A!$R$4=\"\",\"\",オフセット番号A!$R$4)","v":"列16"},{"$f":"IF(オフセット番号A!$S$4=\"\",\"\",オフセット番号A!$S$4)","v":"列17"},{"$f":"IF(オフセット番号A!$T$4=\"\",\"\",オフセット番号A!$T$4)","v":"列18"},{"$f":"IF(オフセット番号A!$U$4=\"\",\"\",オフセット番号A!$U$4)","v":"列19"},{"$f":"IF(オフセット番号A!$V$4=\"\",\"\",オフセット番号A!$V$4)","v":"列20"},{"$f":"IF(オフセット番号A!$C$4=\"\",\"\",オフセット番号A!$C$4)","v":"列1"},{"$f":"IF(オフセット番号A!$D$4=\"\",\"\",オフセット番号A!$D$4)","v":"列2"},{"$f":"IF(オフセット番号A!$E$4=\"\",\"\",オフセット番号A!$E$4)","v":"列3"},{"$f":"IF(オフセット番号A!$F$4=\"\",\"\",オフセット番号A!$F$4)","v":"列4"},{"$f":"IF(オフセット番号A!$G$4=\"\",\"\",オフセット番号A!$G$4)","v":"列5"},{"$f":"IF(オフセット番号A!$H$4=\"\",\"\",オフセット番号A!$H$4)","v":"列6"},{"$f":"IF(オフセット番号A!$I$4=\"\",\"\",オフセット番号A!$I$4)","v":"列7"},{"$f":"IF(オフセット番号A!$J$4=\"\",\"\",オフセット番号A!$J$4)","v":"列8"},{"$f":"IF(オフセット番号A!$K$4=\"\",\"\",オフセット番号A!$K$4)","v":"列9"},{"$f":"IF(オフセット番号A!$L$4=\"\",\"\",オフセット番号A!$L$4)","v":"列10"},{"$f":"IF(オフセット番号A!$M$4=\"\",\"\",オフセット番号A!$M$4)","v":"列11"},{"$f":"IF(オフセット番号A!$N$4=\"\",\"\",オフセット番号A!$N$4)","v":"列12"},{"$f":"IF(オフセット番号A!$O$4=\"\",\"\",オフセット番号A!$O$4)","v":"列13"},{"$f":"IF(オフセット番号A!$P$4=\"\",\"\",オフセット番号A!$P$4)","v":"列14"},{"$f":"IF(オフセット番号A!$Q$4=\"\",\"\",オフセット番号A!$Q$4)","v":"列15"},{"$f":"IF(オフセット番号A!$R$4=\"\",\"\",オフセット番号A!$R$4)","v":"列16"},{"$f":"IF(オフセット番号A!$S$4=\"\",\"\",オフセット番号A!$S$4)","v":"列17"},{"$f":"IF(オフセット番号A!$T$4=\"\",\"\",オフセット番号A!$T$4)","v":"列18"},{"$f":"IF(オフセット番号A!$U$4=\"\",\"\",オフセット番号A!$U$4)","v":"列19"},{"$f":"IF(オフセット番号A!$V$4=\"\",\"\",オフセット番号A!$V$4)","v":"列20"},{"$f":"IF(オフセット番号A!$C$4=\"\",\"\",オフセット番号A!$C$4)","v":"列1"},{"$f":"IF(オフセット番号A!$D$4=\"\",\"\",オフセット番号A!$D$4)","v":"列2"},{"$f":"IF(オフセット番号A!$E$4=\"\",\"\",オフセット番号A!$E$4)","v":"列3"},{"$f":"IF(オフセット番号A!$F$4=\"\",\"\",オフセット番号A!$F$4)","v":"列4"},{"$f":"IF(オフセット番号A!$G$4=\"\",\"\",オフセット番号A!$G$4)","v":"列5"},{"$f":"IF(オフセット番号A!$H$4=\"\",\"\",オフセット番号A!$H$4)","v":"列6"},{"$f":"IF(オフセット番号A!$I$4=\"\",\"\",オフセット番号A!$I$4)","v":"列7"},{"$f":"IF(オフセット番号A!$J$4=\"\",\"\",オフセット番号A!$J$4)","v":"列8"},{"$f":"IF(オフセット番号A!$K$4=\"\",\"\",オフセット番号A!$K$4)","v":"列9"},{"$f":"IF(オフセット番号A!$L$4=\"\",\"\",オフセット番号A!$L$4)","v":"列10"},{"$f":"IF(オフセット番号A!$M$4=\"\",\"\",オフセット番号A!$M$4)","v":"列11"},{"$f":"IF(オフセット番号A!$N$4=\"\",\"\",オフセット番号A!$N$4)","v":"列12"},{"$f":"IF(オフセット番号A!$O$4=\"\",\"\",オフセット番号A!$O$4)","v":"列13"},{"$f":"IF(オフセット番号A!$P$4=\"\",\"\",オフセット番号A!$P$4)","v":"列14"},{"$f":"IF(オフセット番号A!$Q$4=\"\",\"\",オフセット番号A!$Q$4)","v":"列15"},{"$f":"IF(オフセット番号A!$R$4=\"\",\"\",オフセット番号A!$R$4)","v":"列16"},{"$f":"IF(オフセット番号A!$S$4=\"\",\"\",オフセット番号A!$S$4)","v":"列17"},{"$f":"IF(オフセット番号A!$T$4=\"\",\"\",オフセット番号A!$T$4)","v":"列18"},{"$f":"IF(オフセット番号A!$U$4=\"\",\"\",オフセット番号A!$U$4)","v":"列19"},{"$f":"IF(オフセット番号A!$V$4=\"\",\"\",オフセット番号A!$V$4)","v":"列20"},{"$f":"IF(オフセット番号A!$C$4=\"\",\"\",オフセット番号A!$C$4)","v":"列1"},{"$f":"IF(オフセット番号A!$D$4=\"\",\"\",オフセット番号A!$D$4)","v":"列2"},{"$f":"IF(オフセット番号A!$E$4=\"\",\"\",オフセット番号A!$E$4)","v":"列3"},{"$f":"IF(オフセット番号A!$F$4=\"\",\"\",オフセット番号A!$F$4)","v":"列4"},{"$f":"IF(オフセット番号A!$G$4=\"\",\"\",オフセット番号A!$G$4)","v":"列5"},{"$f":"IF(オフセット番号A!$H$4=\"\",\"\",オフセット番号A!$H$4)","v":"列6"},{"$f":"IF(オフセット番号A!$I$4=\"\",\"\",オフセット番号A!$I$4)","v":"列7"},{"$f":"IF(オフセット番号A!$J$4=\"\",\"\",オフセット番号A!$J$4)","v":"列8"},{"$f":"IF(オフセット番号A!$K$4=\"\",\"\",オフセット番号A!$K$4)","v":"列9"},{"$f":"IF(オフセット番号A!$L$4=\"\",\"\",オフセット番号A!$L$4)","v":"列10"},{"$f":"IF(オフセット番号A!$M$4=\"\",\"\",オフセット番号A!$M$4)","v":"列11"},{"$f":"IF(オフセット番号A!$N$4=\"\",\"\",オフセット番号A!$N$4)","v":"列12"},{"$f":"IF(オフセット番号A!$O$4=\"\",\"\",オフセット番号A!$O$4)","v":"列13"},{"$f":"IF(オフセット番号A!$P$4=\"\",\"\",オフセット番号A!$P$4)","v":"列14"},{"$f":"IF(オフセット番号A!$Q$4=\"\",\"\",オフセット番号A!$Q$4)","v":"列15"},{"$f":"IF(オフセット番号A!$R$4=\"\",\"\",オフセット番号A!$R$4)","v":"列16"},{"$f":"IF(オフセット番号A!$S$4=\"\",\"\",オフセット番号A!$S$4)","v":"列17"},{"$f":"IF(オフセット番号A!$T$4=\"\",\"\",オフセット番号A!$T$4)","v":"列18"},{"$f":"IF(オフセット番号A!$U$4=\"\",\"\",オフセット番号A!$U$4)","v":"列19"},{"$f":"IF(オフセット番号A!$V$4=\"\",\"\",オフセット番号A!$V$4)","v":"列20"},{"$f":"IF(オフセット番号A!$C$4=\"\",\"\",オフセット番号A!$C$4)","v":"列1"},{"$f":"IF(オフセット番号A!$D$4=\"\",\"\",オフセット番号A!$D$4)","v":"列2"},{"$f":"IF(オフセット番号A!$E$4=\"\",\"\",オフセット番号A!$E$4)","v":"列3"},{"$f":"IF(オフセット番号A!$F$4=\"\",\"\",オフセット番号A!$F$4)","v":"列4"},{"$f":"IF(オフセット番号A!$G$4=\"\",\"\",オフセット番号A!$G$4)","v":"列5"},{"$f":"IF(オフセット番号A!$H$4=\"\",\"\",オフセット番号A!$H$4)","v":"列6"},{"$f":"IF(オフセット番号A!$I$4=\"\",\"\",オフセット番号A!$I$4)","v":"列7"},{"$f":"IF(オフセット番号A!$J$4=\"\",\"\",オフセット番号A!$J$4)","v":"列8"},{"$f":"IF(オフセット番号A!$K$4=\"\",\"\",オフセット番号A!$K$4)","v":"列9"},{"$f":"IF(オフセット番号A!$L$4=\"\",\"\",オフセット番号A!$L$4)","v":"列10"},{"$f":"IF(オフセット番号A!$M$4=\"\",\"\",オフセット番号A!$M$4)","v":"列11"},{"$f":"IF(オフセット番号A!$N$4=\"\",\"\",オフセット番号A!$N$4)","v":"列12"},{"$f":"IF(オフセット番号A!$O$4=\"\",\"\",オフセット番号A!$O$4)","v":"列13"},{"$f":"IF(オフセット番号A!$P$4=\"\",\"\",オフセット番号A!$P$4)","v":"列14"},{"$f":"IF(オフセット番号A!$Q$4=\"\",\"\",オフセット番号A!$Q$4)","v":"列15"},{"$f":"IF(オフセット番号A!$R$4=\"\",\"\",オフセット番号A!$R$4)","v":"列16"},{"$f":"IF(オフセット番号A!$S$4=\"\",\"\",オフセット番号A!$S$4)","v":"列17"},{"$f":"IF(オフセット番号A!$T$4=\"\",\"\",オフセット番号A!$T$4)","v":"列18"},{"$f":"IF(オフセット番号A!$U$4=\"\",\"\",オフセット番号A!$U$4)","v":"列19"},{"$f":"IF(オフセット番号A!$V$4=\"\",\"\",オフセット番号A!$V$4)","v":"列20"},{"$f":"IF(オフセット番号A!$C$4=\"\",\"\",オフセット番号A!$C$4)","v":"列1"},{"$f":"IF(オフセット番号A!$D$4=\"\",\"\",オフセット番号A!$D$4)","v":"列2"},{"$f":"IF(オフセット番号A!$E$4=\"\",\"\",オフセット番号A!$E$4)","v":"列3"},{"$f":"IF(オフセット番号A!$F$4=\"\",\"\",オフセット番号A!$F$4)","v":"列4"},{"$f":"IF(オフセット番号A!$G$4=\"\",\"\",オフセット番号A!$G$4)","v":"列5"},{"$f":"IF(オフセット番号A!$H$4=\"\",\"\",オフセット番号A!$H$4)","v":"列6"},{"$f":"IF(オフセット番号A!$I$4=\"\",\"\",オフセット番号A!$I$4)","v":"列7"},{"$f":"IF(オフセット番号A!$J$4=\"\",\"\",オフセット番号A!$J$4)","v":"列8"},{"$f":"IF(オフセット番号A!$K$4=\"\",\"\",オフセット番号A!$K$4)","v":"列9"},{"$f":"IF(オフセット番号A!$L$4=\"\",\"\",オフセット番号A!$L$4)","v":"列10"},{"$f":"IF(オフセット番号A!$M$4=\"\",\"\",オフセット番号A!$M$4)","v":"列11"},{"$f":"IF(オフセット番号A!$N$4=\"\",\"\",オフセット番号A!$N$4)","v":"列12"},{"$f":"IF(オフセット番号A!$O$4=\"\",\"\",オフセット番号A!$O$4)","v":"列13"},{"$f":"IF(オフセット番号A!$P$4=\"\",\"\",オフセット番号A!$P$4)","v":"列14"},{"$f":"IF(オフセット番号A!$Q$4=\"\",\"\",オフセット番号A!$Q$4)","v":"列15"},{"$f":"IF(オフセット番号A!$R$4=\"\",\"\",オフセット番号A!$R$4)","v":"列16"},{"$f":"IF(オフセット番号A!$S$4=\"\",\"\",オフセット番号A!$S$4)","v":"列17"},{"$f":"IF(オフセット番号A!$T$4=\"\",\"\",オフセット番号A!$T$4)","v":"列18"},{"$f":"IF(オフセット番号A!$U$4=\"\",\"\",オフセット番号A!$U$4)","v":"列19"},{"$f":"IF(オフセット番号A!$V$4=\"\",\"\",オフセット番号A!$V$4)","v":"列20"},{"$f":"IF(オフセット番号A!$C$4=\"\",\"\",オフセット番号A!$C$4)","v":"列1"},{"$f":"IF(オフセット番号A!$D$4=\"\",\"\",オフセット番号A!$D$4)","v":"列2"},{"$f":"IF(オフセット番号A!$E$4=\"\",\"\",オフセット番号A!$E$4)","v":"列3"},{"$f":"IF(オフセット番号A!$F$4=\"\",\"\",オフセット番号A!$F$4)","v":"列4"},{"$f":"IF(オフセット番号A!$G$4=\"\",\"\",オフセット番号A!$G$4)","v":"列5"},{"$f":"IF(オフセット番号A!$H$4=\"\",\"\",オフセット番号A!$H$4)","v":"列6"},{"$f":"IF(オフセット番号A!$I$4=\"\",\"\",オフセット番号A!$I$4)","v":"列7"},{"$f":"IF(オフセット番号A!$J$4=\"\",\"\",オフセット番号A!$J$4)","v":"列8"},{"$f":"IF(オフセット番号A!$K$4=\"\",\"\",オフセット番号A!$K$4)","v":"列9"},{"$f":"IF(オフセット番号A!$L$4=\"\",\"\",オフセット番号A!$L$4)","v":"列10"},{"$f":"IF(オフセット番号A!$M$4=\"\",\"\",オフセット番号A!$M$4)","v":"列11"},{"$f":"IF(オフセット番号A!$N$4=\"\",\"\",オフセット番号A!$N$4)","v":"列12"},{"$f":"IF(オフセット番号A!$O$4=\"\",\"\",オフセット番号A!$O$4)","v":"列13"},{"$f":"IF(オフセット番号A!$P$4=\"\",\"\",オフセット番号A!$P$4)","v":"列14"},{"$f":"IF(オフセット番号A!$Q$4=\"\",\"\",オフセット番号A!$Q$4)","v":"列15"},{"$f":"IF(オフセット番号A!$R$4=\"\",\"\",オフセット番号A!$R$4)","v":"列16"},{"$f":"IF(オフセット番号A!$S$4=\"\",\"\",オフセット番号A!$S$4)","v":"列17"},{"$f":"IF(オフセット番号A!$T$4=\"\",\"\",オフセット番号A!$T$4)","v":"列18"},{"$f":"IF(オフセット番号A!$U$4=\"\",\"\",オフセット番号A!$U$4)","v":"列19"},{"$f":"IF(オフセット番号A!$V$4=\"\",\"\",オフセット番号A!$V$4)","v":"列20"},{"$f":"IF(オフセット番号A!$C$4=\"\",\"\",オフセット番号A!$C$4)","v":"列1"},{"$f":"IF(オフセット番号A!$D$4=\"\",\"\",オフセット番号A!$D$4)","v":"列2"},{"$f":"IF(オフセット番号A!$E$4=\"\",\"\",オフセット番号A!$E$4)","v":"列3"},{"$f":"IF(オフセット番号A!$F$4=\"\",\"\",オフセット番号A!$F$4)","v":"列4"},{"$f":"IF(オフセット番号A!$G$4=\"\",\"\",オフセット番号A!$G$4)","v":"列5"},{"$f":"IF(オフセット番号A!$H$4=\"\",\"\",オフセット番号A!$H$4)","v":"列6"},{"$f":"IF(オフセット番号A!$I$4=\"\",\"\",オフセット番号A!$I$4)","v":"列7"},{"$f":"IF(オフセット番号A!$J$4=\"\",\"\",オフセット番号A!$J$4)","v":"列8"},{"$f":"IF(オフセット番号A!$K$4=\"\",\"\",オフセット番号A!$K$4)","v":"列9"},{"$f":"IF(オフセット番号A!$L$4=\"\",\"\",オフセット番号A!$L$4)","v":"列10"},{"$f":"IF(オフセット番号A!$M$4=\"\",\"\",オフセット番号A!$M$4)","v":"列11"},{"$f":"IF(オフセット番号A!$N$4=\"\",\"\",オフセット番号A!$N$4)","v":"列12"},{"$f":"IF(オフセット番号A!$O$4=\"\",\"\",オフセット番号A!$O$4)","v":"列13"},{"$f":"IF(オフセット番号A!$P$4=\"\",\"\",オフセット番号A!$P$4)","v":"列14"},{"$f":"IF(オフセット番号A!$Q$4=\"\",\"\",オフセット番号A!$Q$4)","v":"列15"},{"$f":"IF(オフセット番号A!$R$4=\"\",\"\",オフセット番号A!$R$4)","v":"列16"},{"$f":"IF(オフセット番号A!$S$4=\"\",\"\",オフセット番号A!$S$4)","v":"列17"},{"$f":"IF(オフセット番号A!$T$4=\"\",\"\",オフセット番号A!$T$4)","v":"列18"},{"$f":"IF(オフセット番号A!$U$4=\"\",\"\",オフセット番号A!$U$4)","v":"列19"},{"$f":"IF(オフセット番号A!$V$4=\"\",\"\",オフセット番号A!$V$4)","v":"列20"},{"$f":"IF(オフセット番号A!$C$4=\"\",\"\",オフセット番号A!$C$4)","v":"列1"},{"$f":"IF(オフセット番号A!$D$4=\"\",\"\",オフセット番号A!$D$4)","v":"列2"},{"$f":"IF(オフセット番号A!$E$4=\"\",\"\",オフセット番号A!$E$4)","v":"列3"},{"$f":"IF(オフセット番号A!$F$4=\"\",\"\",オフセット番号A!$F$4)","v":"列4"},{"$f":"IF(オフセット番号A!$G$4=\"\",\"\",オフセット番号A!$G$4)","v":"列5"},{"$f":"IF(オフセット番号A!$H$4=\"\",\"\",オフセット番号A!$H$4)","v":"列6"},{"$f":"IF(オフセット番号A!$I$4=\"\",\"\",オフセット番号A!$I$4)","v":"列7"},{"$f":"IF(オフセット番号A!$J$4=\"\",\"\",オフセット番号A!$J$4)","v":"列8"},{"$f":"IF(オフセット番号A!$K$4=\"\",\"\",オフセット番号A!$K$4)","v":"列9"},{"$f":"IF(オフセット番号A!$L$4=\"\",\"\",オフセット番号A!$L$4)","v":"列10"},{"$f":"IF(オフセット番号A!$M$4=\"\",\"\",オフセット番号A!$M$4)","v":"列11"},{"$f":"IF(オフセット番号A!$N$4=\"\",\"\",オフセット番号A!$N$4)","v":"列12"},{"$f":"IF(オフセット番号A!$O$4=\"\",\"\",オフセット番号A!$O$4)","v":"列13"},{"$f":"IF(オフセット番号A!$P$4=\"\",\"\",オフセット番号A!$P$4)","v":"列14"},{"$f":"IF(オフセット番号A!$Q$4=\"\",\"\",オフセット番号A!$Q$4)","v":"列15"},{"$f":"IF(オフセット番号A!$R$4=\"\",\"\",オフセット番号A!$R$4)","v":"列16"},{"$f":"IF(オフセット番号A!$S$4=\"\",\"\",オフセット番号A!$S$4)","v":"列17"},{"$f":"IF(オフセット番号A!$T$4=\"\",\"\",オフセット番号A!$T$4)","v":"列18"},{"$f":"IF(オフセット番号A!$U$4=\"\",\"\",オフセット番号A!$U$4)","v":"列19"},{"$f":"IF(オフセット番号A!$V$4=\"\",\"\",オフセット番号A!$V$4)","v":"列20"},{"$f":"IF(オフセット番号A!$C$4=\"\",\"\",オフセット番号A!$C$4)","v":"列1"},{"$f":"IF(オフセット番号A!$D$4=\"\",\"\",オフセット番号A!$D$4)","v":"列2"},{"$f":"IF(オフセット番号A!$E$4=\"\",\"\",オフセット番号A!$E$4)","v":"列3"},{"$f":"IF(オフセット番号A!$F$4=\"\",\"\",オフセット番号A!$F$4)","v":"列4"},{"$f":"IF(オフセット番号A!$G$4=\"\",\"\",オフセット番号A!$G$4)","v":"列5"},{"$f":"IF(オフセット番号A!$H$4=\"\",\"\",オフセット番号A!$H$4)","v":"列6"},{"$f":"IF(オフセット番号A!$I$4=\"\",\"\",オフセット番号A!$I$4)","v":"列7"},{"$f":"IF(オフセット番号A!$J$4=\"\",\"\",オフセット番号A!$J$4)","v":"列8"},{"$f":"IF(オフセット番号A!$K$4=\"\",\"\",オフセット番号A!$K$4)","v":"列9"},{"$f":"IF(オフセット番号A!$L$4=\"\",\"\",オフセット番号A!$L$4)","v":"列10"},{"$f":"IF(オフセット番号A!$M$4=\"\",\"\",オフセット番号A!$M$4)","v":"列11"},{"$f":"IF(オフセット番号A!$N$4=\"\",\"\",オフセット番号A!$N$4)","v":"列12"},{"$f":"IF(オフセット番号A!$O$4=\"\",\"\",オフセット番号A!$O$4)","v":"列13"},{"$f":"IF(オフセット番号A!$P$4=\"\",\"\",オフセット番号A!$P$4)","v":"列14"},{"$f":"IF(オフセット番号A!$Q$4=\"\",\"\",オフセット番号A!$Q$4)","v":"列15"},{"$f":"IF(オフセット番号A!$R$4=\"\",\"\",オフセット番号A!$R$4)","v":"列16"},{"$f":"IF(オフセット番号A!$S$4=\"\",\"\",オフセット番号A!$S$4)","v":"列17"},{"$f":"IF(オフセット番号A!$T$4=\"\",\"\",オフセット番号A!$T$4)","v":"列18"},{"$f":"IF(オフセット番号A!$U$4=\"\",\"\",オフセット番号A!$U$4)","v":"列19"},{"$f":"IF(オフセット番号A!$V$4=\"\",\"\",オフセット番号A!$V$4)","v":"列20"}]
[null,-1,-1,{"$f":"IF(行列入力項目!$C$5=\"\",\"\",行列入力項目!$C$5)","v":"行1"},{"$f":"IF(行列入力項目!$C$5=\"\",\"\",行列入力項目!$C$5)","v":"行1"},{"$f":"IF(行列入力項目!$C$5=\"\",\"\",行列入力項目!$C$5)","v":"行1"},{"$f":"IF(行列入力項目!$C$5=\"\",\"\",行列入力項目!$C$5)","v":"行1"},{"$f":"IF(行列入力項目!$C$5=\"\",\"\",行列入力項目!$C$5)","v":"行1"},{"$f":"IF(行列入力項目!$C$5=\"\",\"\",行列入力項目!$C$5)","v":"行1"},{"$f":"IF(行列入力項目!$C$5=\"\",\"\",行列入力項目!$C$5)","v":"行1"},{"$f":"IF(行列入力項目!$C$5=\"\",\"\",行列入力項目!$C$5)","v":"行1"},{"$f":"IF(行列入力項目!$C$5=\"\",\"\",行列入力項目!$C$5)","v":"行1"},{"$f":"IF(行列入力項目!$C$5=\"\",\"\",行列入力項目!$C$5)","v":"行1"},{"$f":"IF(行列入力項目!$C$5=\"\",\"\",行列入力項目!$C$5)","v":"行1"},{"$f":"IF(行列入力項目!$C$5=\"\",\"\",行列入力項目!$C$5)","v":"行1"},{"$f":"IF(行列入力項目!$C$5=\"\",\"\",行列入力項目!$C$5)","v":"行1"},{"$f":"IF(行列入力項目!$C$5=\"\",\"\",行列入力項目!$C$5)","v":"行1"},{"$f":"IF(行列入力項目!$C$5=\"\",\"\",行列入力項目!$C$5)","v":"行1"},{"$f":"IF(行列入力項目!$C$5=\"\",\"\",行列入力項目!$C$5)","v":"行1"},{"$f":"IF(行列入力項目!$C$5=\"\",\"\",行列入力項目!$C$5)","v":"行1"},{"$f":"IF(行列入力項目!$C$5=\"\",\"\",行列入力項目!$C$5)","v":"行1"},{"$f":"IF(行列入力項目!$C$5=\"\",\"\",行列入力項目!$C$5)","v":"行1"},{"$f":"IF(行列入力項目!$C$5=\"\",\"\",行列入力項目!$C$5)","v":"行1"},{"$f":"IF(行列入力項目!$C$6=\"\",\"\",行列入力項目!$C$6)","v":"行2"},{"$f":"IF(行列入力項目!$C$6=\"\",\"\",行列入力項目!$C$6)","v":"行2"},{"$f":"IF(行列入力項目!$C$6=\"\",\"\",行列入力項目!$C$6)","v":"行2"},{"$f":"IF(行列入力項目!$C$6=\"\",\"\",行列入力項目!$C$6)","v":"行2"},{"$f":"IF(行列入力項目!$C$6=\"\",\"\",行列入力項目!$C$6)","v":"行2"},{"$f":"IF(行列入力項目!$C$6=\"\",\"\",行列入力項目!$C$6)","v":"行2"},{"$f":"IF(行列入力項目!$C$6=\"\",\"\",行列入力項目!$C$6)","v":"行2"},{"$f":"IF(行列入力項目!$C$6=\"\",\"\",行列入力項目!$C$6)","v":"行2"},{"$f":"IF(行列入力項目!$C$6=\"\",\"\",行列入力項目!$C$6)","v":"行2"},{"$f":"IF(行列入力項目!$C$6=\"\",\"\",行列入力項目!$C$6)","v":"行2"},{"$f":"IF(行列入力項目!$C$6=\"\",\"\",行列入力項目!$C$6)","v":"行2"},{"$f":"IF(行列入力項目!$C$6=\"\",\"\",行列入力項目!$C$6)","v":"行2"},{"$f":"IF(行列入力項目!$C$6=\"\",\"\",行列入力項目!$C$6)","v":"行2"},{"$f":"IF(行列入力項目!$C$6=\"\",\"\",行列入力項目!$C$6)","v":"行2"},{"$f":"IF(行列入力項目!$C$6=\"\",\"\",行列入力項目!$C$6)","v":"行2"},{"$f":"IF(行列入力項目!$C$6=\"\",\"\",行列入力項目!$C$6)","v":"行2"},{"$f":"IF(行列入力項目!$C$6=\"\",\"\",行列入力項目!$C$6)","v":"行2"},{"$f":"IF(行列入力項目!$C$6=\"\",\"\",行列入力項目!$C$6)","v":"行2"},{"$f":"IF(行列入力項目!$C$6=\"\",\"\",行列入力項目!$C$6)","v":"行2"},{"$f":"IF(行列入力項目!$C$6=\"\",\"\",行列入力項目!$C$6)","v":"行2"},{"$f":"IF(行列入力項目!$C$7=\"\",\"\",行列入力項目!$C$7)","v":"行3"},{"$f":"IF(行列入力項目!$C$7=\"\",\"\",行列入力項目!$C$7)","v":"行3"},{"$f":"IF(行列入力項目!$C$7=\"\",\"\",行列入力項目!$C$7)","v":"行3"},{"$f":"IF(行列入力項目!$C$7=\"\",\"\",行列入力項目!$C$7)","v":"行3"},{"$f":"IF(行列入力項目!$C$7=\"\",\"\",行列入力項目!$C$7)","v":"行3"},{"$f":"IF(行列入力項目!$C$7=\"\",\"\",行列入力項目!$C$7)","v":"行3"},{"$f":"IF(行列入力項目!$C$7=\"\",\"\",行列入力項目!$C$7)","v":"行3"},{"$f":"IF(行列入力項目!$C$7=\"\",\"\",行列入力項目!$C$7)","v":"行3"},{"$f":"IF(行列入力項目!$C$7=\"\",\"\",行列入力項目!$C$7)","v":"行3"},{"$f":"IF(行列入力項目!$C$7=\"\",\"\",行列入力項目!$C$7)","v":"行3"},{"$f":"IF(行列入力項目!$C$7=\"\",\"\",行列入力項目!$C$7)","v":"行3"},{"$f":"IF(行列入力項目!$C$7=\"\",\"\",行列入力項目!$C$7)","v":"行3"},{"$f":"IF(行列入力項目!$C$7=\"\",\"\",行列入力項目!$C$7)","v":"行3"},{"$f":"IF(行列入力項目!$C$7=\"\",\"\",行列入力項目!$C$7)","v":"行3"},{"$f":"IF(行列入力項目!$C$7=\"\",\"\",行列入力項目!$C$7)","v":"行3"},{"$f":"IF(行列入力項目!$C$7=\"\",\"\",行列入力項目!$C$7)","v":"行3"},{"$f":"IF(行列入力項目!$C$7=\"\",\"\",行列入力項目!$C$7)","v":"行3"},{"$f":"IF(行列入力項目!$C$7=\"\",\"\",行列入力項目!$C$7)","v":"行3"},{"$f":"IF(行列入力項目!$C$7=\"\",\"\",行列入力項目!$C$7)","v":"行3"},{"$f":"IF(行列入力項目!$C$7=\"\",\"\",行列入力項目!$C$7)","v":"行3"},{"$f":"IF(行列入力項目!$C$8=\"\",\"\",行列入力項目!$C$8)","v":"行4"},{"$f":"IF(行列入力項目!$C$8=\"\",\"\",行列入力項目!$C$8)","v":"行4"},{"$f":"IF(行列入力項目!$C$8=\"\",\"\",行列入力項目!$C$8)","v":"行4"},{"$f":"IF(行列入力項目!$C$8=\"\",\"\",行列入力項目!$C$8)","v":"行4"},{"$f":"IF(行列入力項目!$C$8=\"\",\"\",行列入力項目!$C$8)","v":"行4"},{"$f":"IF(行列入力項目!$C$8=\"\",\"\",行列入力項目!$C$8)","v":"行4"},{"$f":"IF(行列入力項目!$C$8=\"\",\"\",行列入力項目!$C$8)","v":"行4"},{"$f":"IF(行列入力項目!$C$8=\"\",\"\",行列入力項目!$C$8)","v":"行4"},{"$f":"IF(行列入力項目!$C$8=\"\",\"\",行列入力項目!$C$8)","v":"行4"},{"$f":"IF(行列入力項目!$C$8=\"\",\"\",行列入力項目!$C$8)","v":"行4"},{"$f":"IF(行列入力項目!$C$8=\"\",\"\",行列入力項目!$C$8)","v":"行4"},{"$f":"IF(行列入力項目!$C$8=\"\",\"\",行列入力項目!$C$8)","v":"行4"},{"$f":"IF(行列入力項目!$C$8=\"\",\"\",行列入力項目!$C$8)","v":"行4"},{"$f":"IF(行列入力項目!$C$8=\"\",\"\",行列入力項目!$C$8)","v":"行4"},{"$f":"IF(行列入力項目!$C$8=\"\",\"\",行列入力項目!$C$8)","v":"行4"},{"$f":"IF(行列入力項目!$C$8=\"\",\"\",行列入力項目!$C$8)","v":"行4"},{"$f":"IF(行列入力項目!$C$8=\"\",\"\",行列入力項目!$C$8)","v":"行4"},{"$f":"IF(行列入力項目!$C$8=\"\",\"\",行列入力項目!$C$8)","v":"行4"},{"$f":"IF(行列入力項目!$C$8=\"\",\"\",行列入力項目!$C$8)","v":"行4"},{"$f":"IF(行列入力項目!$C$8=\"\",\"\",行列入力項目!$C$8)","v":"行4"},{"$f":"IF(行列入力項目!$C$9=\"\",\"\",行列入力項目!$C$9)","v":"行5"},{"$f":"IF(行列入力項目!$C$9=\"\",\"\",行列入力項目!$C$9)","v":"行5"},{"$f":"IF(行列入力項目!$C$9=\"\",\"\",行列入力項目!$C$9)","v":"行5"},{"$f":"IF(行列入力項目!$C$9=\"\",\"\",行列入力項目!$C$9)","v":"行5"},{"$f":"IF(行列入力項目!$C$9=\"\",\"\",行列入力項目!$C$9)","v":"行5"},{"$f":"IF(行列入力項目!$C$9=\"\",\"\",行列入力項目!$C$9)","v":"行5"},{"$f":"IF(行列入力項目!$C$9=\"\",\"\",行列入力項目!$C$9)","v":"行5"},{"$f":"IF(行列入力項目!$C$9=\"\",\"\",行列入力項目!$C$9)","v":"行5"},{"$f":"IF(行列入力項目!$C$9=\"\",\"\",行列入力項目!$C$9)","v":"行5"},{"$f":"IF(行列入力項目!$C$9=\"\",\"\",行列入力項目!$C$9)","v":"行5"},{"$f":"IF(行列入力項目!$C$9=\"\",\"\",行列入力項目!$C$9)","v":"行5"},{"$f":"IF(行列入力項目!$C$9=\"\",\"\",行列入力項目!$C$9)","v":"行5"},{"$f":"IF(行列入力項目!$C$9=\"\",\"\",行列入力項目!$C$9)","v":"行5"},{"$f":"IF(行列入力項目!$C$9=\"\",\"\",行列入力項目!$C$9)","v":"行5"},{"$f":"IF(行列入力項目!$C$9=\"\",\"\",行列入力項目!$C$9)","v":"行5"},{"$f":"IF(行列入力項目!$C$9=\"\",\"\",行列入力項目!$C$9)","v":"行5"},{"$f":"IF(行列入力項目!$C$9=\"\",\"\",行列入力項目!$C$9)","v":"行5"},{"$f":"IF(行列入力項目!$C$9=\"\",\"\",行列入力項目!$C$9)","v":"行5"},{"$f":"IF(行列入力項目!$C$9=\"\",\"\",行列入力項目!$C$9)","v":"行5"},{"$f":"IF(行列入力項目!$C$9=\"\",\"\",行列入力項目!$C$9)","v":"行5"},{"$f":"IF(行列入力項目!$C$10=\"\",\"\",行列入力項目!$C$10)","v":"行6"},{"$f":"IF(行列入力項目!$C$10=\"\",\"\",行列入力項目!$C$10)","v":"行6"},{"$f":"IF(行列入力項目!$C$10=\"\",\"\",行列入力項目!$C$10)","v":"行6"},{"$f":"IF(行列入力項目!$C$10=\"\",\"\",行列入力項目!$C$10)","v":"行6"},{"$f":"IF(行列入力項目!$C$10=\"\",\"\",行列入力項目!$C$10)","v":"行6"},{"$f":"IF(行列入力項目!$C$10=\"\",\"\",行列入力項目!$C$10)","v":"行6"},{"$f":"IF(行列入力項目!$C$10=\"\",\"\",行列入力項目!$C$10)","v":"行6"},{"$f":"IF(行列入力項目!$C$10=\"\",\"\",行列入力項目!$C$10)","v":"行6"},{"$f":"IF(行列入力項目!$C$10=\"\",\"\",行列入力項目!$C$10)","v":"行6"},{"$f":"IF(行列入力項目!$C$10=\"\",\"\",行列入力項目!$C$10)","v":"行6"},{"$f":"IF(行列入力項目!$C$10=\"\",\"\",行列入力項目!$C$10)","v":"行6"},{"$f":"IF(行列入力項目!$C$10=\"\",\"\",行列入力項目!$C$10)","v":"行6"},{"$f":"IF(行列入力項目!$C$10=\"\",\"\",行列入力項目!$C$10)","v":"行6"},{"$f":"IF(行列入力項目!$C$10=\"\",\"\",行列入力項目!$C$10)","v":"行6"},{"$f":"IF(行列入力項目!$C$10=\"\",\"\",行列入力項目!$C$10)","v":"行6"},{"$f":"IF(行列入力項目!$C$10=\"\",\"\",行列入力項目!$C$10)","v":"行6"},{"$f":"IF(行列入力項目!$C$10=\"\",\"\",行列入力項目!$C$10)","v":"行6"},{"$f":"IF(行列入力項目!$C$10=\"\",\"\",行列入力項目!$C$10)","v":"行6"},{"$f":"IF(行列入力項目!$C$10=\"\",\"\",行列入力項目!$C$10)","v":"行6"},{"$f":"IF(行列入力項目!$C$10=\"\",\"\",行列入力項目!$C$10)","v":"行6"},{"$f":"IF(行列入力項目!$C$11=\"\",\"\",行列入力項目!$C$11)","v":"行7"},{"$f":"IF(行列入力項目!$C$11=\"\",\"\",行列入力項目!$C$11)","v":"行7"},{"$f":"IF(行列入力項目!$C$11=\"\",\"\",行列入力項目!$C$11)","v":"行7"},{"$f":"IF(行列入力項目!$C$11=\"\",\"\",行列入力項目!$C$11)","v":"行7"},{"$f":"IF(行列入力項目!$C$11=\"\",\"\",行列入力項目!$C$11)","v":"行7"},{"$f":"IF(行列入力項目!$C$11=\"\",\"\",行列入力項目!$C$11)","v":"行7"},{"$f":"IF(行列入力項目!$C$11=\"\",\"\",行列入力項目!$C$11)","v":"行7"},{"$f":"IF(行列入力項目!$C$11=\"\",\"\",行列入力項目!$C$11)","v":"行7"},{"$f":"IF(行列入力項目!$C$11=\"\",\"\",行列入力項目!$C$11)","v":"行7"},{"$f":"IF(行列入力項目!$C$11=\"\",\"\",行列入力項目!$C$11)","v":"行7"},{"$f":"IF(行列入力項目!$C$11=\"\",\"\",行列入力項目!$C$11)","v":"行7"},{"$f":"IF(行列入力項目!$C$11=\"\",\"\",行列入力項目!$C$11)","v":"行7"},{"$f":"IF(行列入力項目!$C$11=\"\",\"\",行列入力項目!$C$11)","v":"行7"},{"$f":"IF(行列入力項目!$C$11=\"\",\"\",行列入力項目!$C$11)","v":"行7"},{"$f":"IF(行列入力項目!$C$11=\"\",\"\",行列入力項目!$C$11)","v":"行7"},{"$f":"IF(行列入力項目!$C$11=\"\",\"\",行列入力項目!$C$11)","v":"行7"},{"$f":"IF(行列入力項目!$C$11=\"\",\"\",行列入力項目!$C$11)","v":"行7"},{"$f":"IF(行列入力項目!$C$11=\"\",\"\",行列入力項目!$C$11)","v":"行7"},{"$f":"IF(行列入力項目!$C$11=\"\",\"\",行列入力項目!$C$11)","v":"行7"},{"$f":"IF(行列入力項目!$C$11=\"\",\"\",行列入力項目!$C$11)","v":"行7"},{"$f":"IF(行列入力項目!$C$12=\"\",\"\",行列入力項目!$C$12)","v":"行8"},{"$f":"IF(行列入力項目!$C$12=\"\",\"\",行列入力項目!$C$12)","v":"行8"},{"$f":"IF(行列入力項目!$C$12=\"\",\"\",行列入力項目!$C$12)","v":"行8"},{"$f":"IF(行列入力項目!$C$12=\"\",\"\",行列入力項目!$C$12)","v":"行8"},{"$f":"IF(行列入力項目!$C$12=\"\",\"\",行列入力項目!$C$12)","v":"行8"},{"$f":"IF(行列入力項目!$C$12=\"\",\"\",行列入力項目!$C$12)","v":"行8"},{"$f":"IF(行列入力項目!$C$12=\"\",\"\",行列入力項目!$C$12)","v":"行8"},{"$f":"IF(行列入力項目!$C$12=\"\",\"\",行列入力項目!$C$12)","v":"行8"},{"$f":"IF(行列入力項目!$C$12=\"\",\"\",行列入力項目!$C$12)","v":"行8"},{"$f":"IF(行列入力項目!$C$12=\"\",\"\",行列入力項目!$C$12)","v":"行8"},{"$f":"IF(行列入力項目!$C$12=\"\",\"\",行列入力項目!$C$12)","v":"行8"},{"$f":"IF(行列入力項目!$C$12=\"\",\"\",行列入力項目!$C$12)","v":"行8"},{"$f":"IF(行列入力項目!$C$12=\"\",\"\",行列入力項目!$C$12)","v":"行8"},{"$f":"IF(行列入力項目!$C$12=\"\",\"\",行列入力項目!$C$12)","v":"行8"},{"$f":"IF(行列入力項目!$C$12=\"\",\"\",行列入力項目!$C$12)","v":"行8"},{"$f":"IF(行列入力項目!$C$12=\"\",\"\",行列入力項目!$C$12)","v":"行8"},{"$f":"IF(行列入力項目!$C$12=\"\",\"\",行列入力項目!$C$12)","v":"行8"},{"$f":"IF(行列入力項目!$C$12=\"\",\"\",行列入力項目!$C$12)","v":"行8"},{"$f":"IF(行列入力項目!$C$12=\"\",\"\",行列入力項目!$C$12)","v":"行8"},{"$f":"IF(行列入力項目!$C$12=\"\",\"\",行列入力項目!$C$12)","v":"行8"},{"$f":"IF(行列入力項目!$C$13=\"\",\"\",行列入力項目!$C$13)","v":"行9"},{"$f":"IF(行列入力項目!$C$13=\"\",\"\",行列入力項目!$C$13)","v":"行9"},{"$f":"IF(行列入力項目!$C$13=\"\",\"\",行列入力項目!$C$13)","v":"行9"},{"$f":"IF(行列入力項目!$C$13=\"\",\"\",行列入力項目!$C$13)","v":"行9"},{"$f":"IF(行列入力項目!$C$13=\"\",\"\",行列入力項目!$C$13)","v":"行9"},{"$f":"IF(行列入力項目!$C$13=\"\",\"\",行列入力項目!$C$13)","v":"行9"},{"$f":"IF(行列入力項目!$C$13=\"\",\"\",行列入力項目!$C$13)","v":"行9"},{"$f":"IF(行列入力項目!$C$13=\"\",\"\",行列入力項目!$C$13)","v":"行9"},{"$f":"IF(行列入力項目!$C$13=\"\",\"\",行列入力項目!$C$13)","v":"行9"},{"$f":"IF(行列入力項目!$C$13=\"\",\"\",行列入力項目!$C$13)","v":"行9"},{"$f":"IF(行列入力項目!$C$13=\"\",\"\",行列入力項目!$C$13)","v":"行9"},{"$f":"IF(行列入力項目!$C$13=\"\",\"\",行列入力項目!$C$13)","v":"行9"},{"$f":"IF(行列入力項目!$C$13=\"\",\"\",行列入力項目!$C$13)","v":"行9"},{"$f":"IF(行列入力項目!$C$13=\"\",\"\",行列入力項目!$C$13)","v":"行9"},{"$f":"IF(行列入力項目!$C$13=\"\",\"\",行列入力項目!$C$13)","v":"行9"},{"$f":"IF(行列入力項目!$C$13=\"\",\"\",行列入力項目!$C$13)","v":"行9"},{"$f":"IF(行列入力項目!$C$13=\"\",\"\",行列入力項目!$C$13)","v":"行9"},{"$f":"IF(行列入力項目!$C$13=\"\",\"\",行列入力項目!$C$13)","v":"行9"},{"$f":"IF(行列入力項目!$C$13=\"\",\"\",行列入力項目!$C$13)","v":"行9"},{"$f":"IF(行列入力項目!$C$13=\"\",\"\",行列入力項目!$C$13)","v":"行9"},{"$f":"IF(行列入力項目!$C$14=\"\",\"\",行列入力項目!$C$14)","v":"行10"},{"$f":"IF(行列入力項目!$C$14=\"\",\"\",行列入力項目!$C$14)","v":"行10"},{"$f":"IF(行列入力項目!$C$14=\"\",\"\",行列入力項目!$C$14)","v":"行10"},{"$f":"IF(行列入力項目!$C$14=\"\",\"\",行列入力項目!$C$14)","v":"行10"},{"$f":"IF(行列入力項目!$C$14=\"\",\"\",行列入力項目!$C$14)","v":"行10"},{"$f":"IF(行列入力項目!$C$14=\"\",\"\",行列入力項目!$C$14)","v":"行10"},{"$f":"IF(行列入力項目!$C$14=\"\",\"\",行列入力項目!$C$14)","v":"行10"},{"$f":"IF(行列入力項目!$C$14=\"\",\"\",行列入力項目!$C$14)","v":"行10"},{"$f":"IF(行列入力項目!$C$14=\"\",\"\",行列入力項目!$C$14)","v":"行10"},{"$f":"IF(行列入力項目!$C$14=\"\",\"\",行列入力項目!$C$14)","v":"行10"},{"$f":"IF(行列入力項目!$C$14=\"\",\"\",行列入力項目!$C$14)","v":"行10"},{"$f":"IF(行列入力項目!$C$14=\"\",\"\",行列入力項目!$C$14)","v":"行10"},{"$f":"IF(行列入力項目!$C$14=\"\",\"\",行列入力項目!$C$14)","v":"行10"},{"$f":"IF(行列入力項目!$C$14=\"\",\"\",行列入力項目!$C$14)","v":"行10"},{"$f":"IF(行列入力項目!$C$14=\"\",\"\",行列入力項目!$C$14)","v":"行10"},{"$f":"IF(行列入力項目!$C$14=\"\",\"\",行列入力項目!$C$14)","v":"行10"},{"$f":"IF(行列入力項目!$C$14=\"\",\"\",行列入力項目!$C$14)","v":"行10"},{"$f":"IF(行列入力項目!$C$14=\"\",\"\",行列入力項目!$C$14)","v":"行10"},{"$f":"IF(行列入力項目!$C$14=\"\",\"\",行列入力項目!$C$14)","v":"行10"},{"$f":"IF(行列入力項目!$C$14=\"\",\"\",行列入力項目!$C$14)","v":"行10"}]
[null,1,"対象1"]
[null,2,"対象2"]
[null,3,"対象3"]
[null,4,"対象4"]
[null,5,"対象5"]
[null,6,"対象6"]
[null,7,"対象7"]
[null,8,"対象8"]
[null,9,"対象9"]
[null,10,"対象10"]
[null,11,"対象11"]
[null,12,"対象12"]
[null,13,"対象13"]
[null,14,"対象14"]
[null,15,"対象15"]
[null,16,"対象16"]
[null,17,"対象17"]
[null,18,"対象18"]
[null,19,"対象19"]
[null,20,"対象20"]
[null,21,"対象21"]
[null,22,"対象22"]
[null,23,"対象23"]
[null,24,"対象24"]
[null,25,"対象25"]
[null,26,"対象26"]
[null,27,"対象27"]
[null,28,"対象28"]
[null,29,"対象29"]
[null,30,"対象30"]
[null,31,"対象31"]
[null,32,"対象32"]
[null,33,"対象33"]
[null,34,"対象34"]
[null,35,"対象35"]
[null,36,"対象36"]
[null,37,"対象37"]
[null,38,"対象38"]
[null,39,"対象39"]
[null,40,"対象40"]
[null,41,"対象41"]
[null,42,"対象42"]
[null,43,"対象43"]
[null,44,"対象44"]
[null,45,"対象45"]
[null,46,"対象46"]
[null,47,"対象47"]
[null,48,"対象48"]
[null,49,"対象49"]
[null,50,"対象50"]
[null,"削除禁止行","削除禁止行","削除禁止行","削除禁止行","削除禁止行","削除禁止行","削除禁止行","削除禁止行","削除禁止行","削除禁止行","削除禁止行","削除禁止行","削除禁止行","削除禁止行","削除禁止行","削除禁止行","削除禁止行","削除禁止行","削除禁止行","削除禁止行","削除禁止行","削除禁止行","削除禁止行","削除禁止行","削除禁止行","削除禁止行","削除禁止行","削除禁止行","削除禁止行","削除禁止行","削除禁止行","削除禁止行","削除禁止行","削除禁止行","削除禁止行","削除禁止行","削除禁止行","削除禁止行","削除禁止行","削除禁止行","削除禁止行","削除禁止行","削除禁止行","削除禁止行","削除禁止行","削除禁止行","削除禁止行","削除禁止行","削除禁止行","削除禁止行","削除禁止行","削除禁止行","削除禁止行","削除禁止行","削除禁止行","削除禁止行","削除禁止行","削除禁止行","削除禁止行","削除禁止行","削除禁止行","削除禁止行","削除禁止行","削除禁止行","削除禁止行","削除禁止行","削除禁止行","削除禁止行","削除禁止行","削除禁止行","削除禁止行","削除禁止行","削除禁止行","削除禁止行","削除禁止行","削除禁止行","削除禁止行","削除禁止行","削除禁止行","削除禁止行","削除禁止行","削除禁止行","削除禁止行","削除禁止行","削除禁止行","削除禁止行","削除禁止行","削除禁止行","削除禁止行","削除禁止行","削除禁止行","削除禁止行","削除禁止行","削除禁止行","削除禁止行","削除禁止行","削除禁止行","削除禁止行","削除禁止行","削除禁止行","削除禁止行","削除禁止行","削除禁止行","削除禁止行","削除禁止行","削除禁止行","削除禁止行","削除禁止行","削除禁止行","削除禁止行","削除禁止行","削除禁止行","削除禁止行","削除禁止行","削除禁止行","削除禁止行","削除禁止行","削除禁止行","削除禁止行","削除禁止行","削除禁止行","削除禁止行","削除禁止行","削除禁止行","削除禁止行","削除禁止行","削除禁止行","削除禁止行","削除禁止行","削除禁止行","削除禁止行","削除禁止行","削除禁止行","削除禁止行","削除禁止行","削除禁止行","削除禁止行","削除禁止行","削除禁止行","削除禁止行","削除禁止行","削除禁止行","削除禁止行","削除禁止行","削除禁止行","削除禁止行","削除禁止行","削除禁止行","削除禁止行","削除禁止行","削除禁止行","削除禁止行","削除禁止行","削除禁止行","削除禁止行","削除禁止行","削除禁止行","削除禁止行","削除禁止行","削除禁止行","削除禁止行","削除禁止行","削除禁止行","削除禁止行","削除禁止行","削除禁止行","削除禁止行","削除禁止行","削除禁止行","削除禁止行","削除禁止行","削除禁止行","削除禁止行","削除禁止行","削除禁止行","削除禁止行","削除禁止行","削除禁止行","削除禁止行","削除禁止行","削除禁止行","削除禁止行","削除禁止行","削除禁止行","削除禁止行","削除禁止行","削除禁止行","削除禁止行","削除禁止行","削除禁止行","削除禁止行","削除禁止行","削除禁止行","削除禁止行","削除禁止行","削除禁止行","削除禁止行","削除禁止行","削除禁止行","削除禁止行","削除禁止行","削除禁止行"]

{"sheet":"入力AA2","index":97,"n_rows":58,"n_cols":203,"rows_kept":58,"cut":false,"hidden":false,"merged":[]}
[null,null,null,null,null,{"$f":"入力シート入力可能行数調査!$D$22","v":"入力可能行数　50 行"}]
[null,{"$f":"シート名設定!C31","v":"入力AA2"}]
[]
[]
[null,"ID","対象",{"$f":"IF(項目表示入力!C17=\"\",\"\",項目表示入力!C17)","v":"内容11,1"},{"$f":"IF(項目表示入力!D17=\"\",\"\",項目表示入力!D17)","v":"内容11,2"},{"$f":"IF(項目表示入力!E17=\"\",\"\",項目表示入力!E17)","v":"内容11,3"},{"$f":"IF(項目表示入力!F17=\"\",\"\",項目表示入力!F17)","v":"内容11,4"},{"$f":"IF(項目表示入力!G17=\"\",\"\",項目表示入力!G17)","v":"内容11,5"},{"$f":"IF(項目表示入力!H17=\"\",\"\",項目表示入力!H17)","v":"内容11,6"},{"$f":"IF(項目表示入力!I17=\"\",\"\",項目表示入力!I17)","v":"内容11,7"},{"$f":"IF(項目表示入力!J17=\"\",\"\",項目表示入力!J17)","v":"内容11,8"},{"$f":"IF(項目表示入力!K17=\"\",\"\",項目表示入力!K17)","v":"内容11,9"},{"$f":"IF(項目表示入力!L17=\"\",\"\",項目表示入力!L17)","v":"内容11,10"},{"$f":"IF(項目表示入力!M17=\"\",\"\",項目表示入力!M17)","v":"内容11,11"},{"$f":"IF(項目表示入力!N17=\"\",\"\",項目表示入力!N17)","v":"内容11,12"},{"$f":"IF(項目表示入力!O17=\"\",\"\",項目表示入力!O17)","v":"内容11,13"},{"$f":"IF(項目表示入力!P17=\"\",\"\",項目表示入力!P17)","v":"内容11,14"},{"$f":"IF(項目表示入力!Q17=\"\",\"\",項目表示入力!Q17)","v":"内容11,15"},{"$f":"IF(項目表示入力!R17=\"\",\"\",項目表示入力!R17)","v":"内容11,16"},{"$f":"IF(項目表示入力!S17=\"\",\"\",項目表示入力!S17)","v":"内容11,17"},{"$f":"IF(項目表示入力!T17=\"\",\"\",項目表示入力!T17)","v":"内容11,18"},{"$f":"IF(項目表示入力!U17=\"\",\"\",項目表示入力!U17)","v":"内容11,19"},{"$f":"IF(項目表示入力!V17=\"\",\"\",項目表示入力!V17)","v":"内容11,20"},{"$f":"IF(項目表示入力!C18=\"\",\"\",項目表示入力!C18)","v":"内容12,1"},{"$f":"IF(項目表示入力!D18=\"\",\"\",項目表示入力!D18)","v":"内容12,2"},{"$f":"IF(項目表示入力!E18=\"\",\"\",項目表示入力!E18)","v":"内容12,3"},{"$f":"IF(項目表示入力!F18=\"\",\"\",項目表示入力!F18)","v":"内容12,4"},{"$f":"IF(項目表示入力!G18=\"\",\"\",項目表示入力!G18)","v":"内容12,5"},{"$f":"IF(項目表示入力!H18=\"\",\"\",項目表示入力!H18)","v":"内容12,6"},{"$f":"IF(項目表示入力!I18=\"\",\"\",項目表示入力!I18)","v":"内容12,7"},{"$f":"IF(項目表示入力!J18=\"\",\"\",項目表示入力!J18)","v":"内容12,8"},{"$f":"IF(項目表示入力!K18=\"\",\"\",項目表示入力!K18)","v":"内容12,9"},{"$f":"IF(項目表示入力!L18=\"\",\"\",項目表示入力!L18)","v":"内容12,10"},{"$f":"IF(項目表示入力!M18=\"\",\"\",項目表示入力!M18)","v":"内容12,11"},{"$f":"IF(項目表示入力!N18=\"\",\"\",項目表示入力!N18)","v":"内容12,12"},{"$f":"IF(項目表示入力!O18=\"\",\"\",項目表示入力!O18)","v":"内容12,13"},{"$f":"IF(項目表示入力!P18=\"\",\"\",項目表示入力!P18)","v":"内容12,14"},{"$f":"IF(項目表示入力!Q18=\"\",\"\",項目表示入力!Q18)","v":"内容12,15"},{"$f":"IF(項目表示入力!R18=\"\",\"\",項目表示入力!R18)","v":"内容12,16"},{"$f":"IF(項目表示入力!S18=\"\",\"\",項目表示入力!S18)","v":"内容12,17"},{"$f":"IF(項目表示入力!T18=\"\",\"\",項目表示入力!T18)","v":"内容12,18"},{"$f":"IF(項目表示入力!U18=\"\",\"\",項目表示入力!U18)","v":"内容12,19"},{"$f":"IF(項目表示入力!V18=\"\",\"\",項目表示入力!V18)","v":"内容12,20"},{"$f":"IF(項目表示入力!C19=\"\",\"\",項目表示入力!C19)","v":"内容13,1"},{"$f":"IF(項目表示入力!D19=\"\",\"\",項目表示入力!D19)","v":"内容13,2"},{"$f":"IF(項目表示入力!E19=\"\",\"\",項目表示入力!E19)","v":"内容13,3"},{"$f":"IF(項目表示入力!F19=\"\",\"\",項目表示入力!F19)","v":"内容13,4"},{"$f":"IF(項目表示入力!G19=\"\",\"\",項目表示入力!G19)","v":"内容13,5"},{"$f":"IF(項目表示入力!H19=\"\",\"\",項目表示入力!H19)","v":"内容13,6"},{"$f":"IF(項目表示入力!I19=\"\",\"\",項目表示入力!I19)","v":"内容13,7"},{"$f":"IF(項目表示入力!J19=\"\",\"\",項目表示入力!J19)","v":"内容13,8"},{"$f":"IF(項目表示入力!K19=\"\",\"\",項目表示入力!K19)","v":"内容13,9"},{"$f":"IF(項目表示入力!L19=\"\",\"\",項目表示入力!L19)","v":"内容13,10"},{"$f":"IF(項目表示入力!M19=\"\",\"\",項目表示入力!M19)","v":"内容13,11"},{"$f":"IF(項目表示入力!N19=\"\",\"\",項目表示入力!N19)","v":"内容13,12"},{"$f":"IF(項目表示入力!O19=\"\",\"\",項目表示入力!O19)","v":"内容13,13"},{"$f":"IF(項目表示入力!P19=\"\",\"\",項目表示入力!P19)","v":"内容13,14"},{"$f":"IF(項目表示入力!Q19=\"\",\"\",項目表示入力!Q19)","v":"内容13,15"},{"$f":"IF(項目表示入力!R19=\"\",\"\",項目表示入力!R19)","v":"内容13,16"},{"$f":"IF(項目表示入力!S19=\"\",\"\",項目表示入力!S19)","v":"内容13,17"},{"$f":"IF(項目表示入力!T19=\"\",\"\",項目表示入力!T19)","v":"内容13,18"},{"$f":"IF(項目表示入力!U19=\"\",\"\",項目表示入力!U19)","v":"内容13,19"},{"$f":"IF(項目表示入力!V19=\"\",\"\",項目表示入力!V19)","v":"内容13,20"},{"$f":"IF(項目表示入力!C20=\"\",\"\",項目表示入力!C20)","v":"内容14,1"},{"$f":"IF(項目表示入力!D20=\"\",\"\",項目表示入力!D20)","v":"内容14,2"},{"$f":"IF(項目表示入力!E20=\"\",\"\",項目表示入力!E20)","v":"内容14,3"},{"$f":"IF(項目表示入力!F20=\"\",\"\",項目表示入力!F20)","v":"内容14,4"},{"$f":"IF(項目表示入力!G20=\"\",\"\",項目表示入力!G20)","v":"内容14,5"},{"$f":"IF(項目表示入力!H20=\"\",\"\",項目表示入力!H20)","v":"内容14,6"},{"$f":"IF(項目表示入力!I20=\"\",\"\",項目表示入力!I20)","v":"内容14,7"},{"$f":"IF(項目表示入力!J20=\"\",\"\",項目表示入力!J20)","v":"内容14,8"},{"$f":"IF(項目表示入力!K20=\"\",\"\",項目表示入力!K20)","v":"内容14,9"},{"$f":"IF(項目表示入力!L20=\"\",\"\",項目表示入力!L20)","v":"内容14,10"},{"$f":"IF(項目表示入力!M20=\"\",\"\",項目表示入力!M20)","v":"内容14,11"},{"$f":"IF(項目表示入力!N20=\"\",\"\",項目表示入力!N20)","v":"内容14,12"},{"$f":"IF(項目表示入力!O20=\"\",\"\",項目表示入力!O20)","v":"内容14,13"},{"$f":"IF(項目表示入力!P20=\"\",\"\",項目表示入力!P20)","v":"内容14,14"},{"$f":"IF(項目表示入力!Q20=\"\",\"\",項目表示入力!Q20)","v":"内容14,15"},{"$f":"IF(項目表示入力!R20=\"\",\"\",項目表示入力!R20)","v":"内容14,16"},{"$f":"IF(項目表示入力!S20=\"\",\"\",項目表示入力!S20)","v":"内容14,17"},{"$f":"IF(項目表示入力!T20=\"\",\"\",項目表示入力!T20)","v":"内容14,18"},{"$f":"IF(項目表示入力!U20=\"\",\"\",項目表示入力!U20)","v":"内容14,19"},{"$f":"IF(項目表示入力!V20=\"\",\"\",項目表示入力!V20)","v":"内容14,20"},{"$f":"IF(項目表示入力!C21=\"\",\"\",項目表示入力!C21)","v":"内容15,1"},{"$f":"IF(項目表示入力!D21=\"\",\"\",項目表示入力!D21)","v":"内容15,2"},{"$f":"IF(項目表示入力!E21=\"\",\"\",項目表示入力!E21)","v":"内容15,3"},{"$f":"IF(項目表示入力!F21=\"\",\"\",項目表示入力!F21)","v":"内容15,4"},{"$f":"IF(項目表示入力!G21=\"\",\"\",項目表示入力!G21)","v":"内容15,5"},{"$f":"IF(項目表示入力!H21=\"\",\"\",項目表示入力!H21)","v":"内容15,6"},{"$f":"IF(項目表示入力!I21=\"\",\"\",項目表示入力!I21)","v":"内容15,7"},{"$f":"IF(項目表示入力!J21=\"\",\"\",項目表示入力!J21)","v":"内容15,8"},{"$f":"IF(項目表示入力!K21=\"\",\"\",項目表示入力!K21)","v":"内容15,9"},{"$f":"IF(項目表示入力!L21=\"\",\"\",項目表示入力!L21)","v":"内容15,10"},{"$f":"IF(項目表示入力!M21=\"\",\"\",項目表示入力!M21)","v":"内容15,11"},{"$f":"IF(項目表示入力!N21=\"\",\"\",項目表示入力!N21)","v":"内容15,12"},{"$f":"IF(項目表示入力!O21=\"\",\"\",項目表示入力!O21)","v":"内容15,13"},{"$f":"IF(項目表示入力!P21=\"\",\"\",項目表示入力!P21)","v":"内容15,14"},{"$f":"IF(項目表示入力!Q21=\"\",\"\",項目表示入力!Q21)","v":"内容15,15"},{"$f":"IF(項目表示入力!R21=\"\",\"\",項目表示入力!R21)","v":"内容15,16"},{"$f":"IF(項目表示入力!S21=\"\",\"\",項目表示入力!S21)","v":"内容15,17"},{"$f":"IF(項目表示入力!T21=\"\",\"\",項目表示入力!T21)","v":"内容15,18"},{"$f":"IF(項目表示入力!U21=\"\",\"\",項目表示入力!U21)","v":"内容15,19"},{"$f":"IF(項目表示入力!V21=\"\",\"\",項目表示入力!V21)","v":"内容15,20"},{"$f":"IF(項目表示入力!C22=\"\",\"\",項目表示入力!C22)","v":"内容16,1"},{"$f":"IF(項目表示入力!D22=\"\",\"\",項目表示入力!D22)","v":"内容16,2"},{"$f":"IF(項目表示入力!E22=\"\",\"\",項目表示入力!E22)","v":"内容16,3"},{"$f":"IF(項目表示入力!F22=\"\",\"\",項目表示入力!F22)","v":"内容16,4"},{"$f":"IF(項目表示入力!G22=\"\",\"\",項目表示入力!G22)","v":"内容16,5"},{"$f":"IF(項目表示入力!H22=\"\",\"\",項目表示入力!H22)","v":"内容16,6"},{"$f":"IF(項目表示入力!I22=\"\",\"\",項目表示入力!I22)","v":"内容16,7"},{"$f":"IF(項目表示入力!J22=\"\",\"\",項目表示入力!J22)","v":"内容16,8"},{"$f":"IF(項目表示入力!K22=\"\",\"\",項目表示入力!K22)","v":"内容16,9"},{"$f":"IF(項目表示入力!L22=\"\",\"\",項目表示入力!L22)","v":"内容16,10"},{"$f":"IF(項目表示入力!M22=\"\",\"\",項目表示入力!M22)","v":"内容16,11"},{"$f":"IF(項目表示入力!N22=\"\",\"\",項目表示入力!N22)","v":"内容16,12"},{"$f":"IF(項目表示入力!O22=\"\",\"\",項目表示入力!O22)","v":"内容16,13"},{"$f":"IF(項目表示入力!P22=\"\",\"\",項目表示入力!P22)","v":"内容16,14"},{"$f":"IF(項目表示入力!Q22=\"\",\"\",項目表示入力!Q22)","v":"内容16,15"},{"$f":"IF(項目表示入力!R22=\"\",\"\",項目表示入力!R22)","v":"内容16,16"},{"$f":"IF(項目表示入力!S22=\"\",\"\",項目表示入力!S22)","v":"内容16,17"},{"$f":"IF(項目表示入力!T22=\"\",\"\",項目表示入力!T22)","v":"内容16,18"},{"$f":"IF(項目表示入力!U22=\"\",\"\",項目表示入力!U22)","v":"内容16,19"},{"$f":"IF(項目表示入力!V22=\"\",\"\",項目表示入力!V22)","v":"内容16,20"},{"$f":"IF(項目表示入力!C23=\"\",\"\",項目表示入力!C23)","v":"内容17,1"},{"$f":"IF(項目表示入力!D23=\"\",\"\",項目表示入力!D23)","v":"内容17,2"},{"$f":"IF(項目表示入力!E23=\"\",\"\",項目表示入力!E23)","v":"内容17,3"},{"$f":"IF(項目表示入力!F23=\"\",\"\",項目表示入力!F23)","v":"内容17,4"},{"$f":"IF(項目表示入力!G23=\"\",\"\",項目表示入力!G23)","v":"内容17,5"},{"$f":"IF(項目表示入力!H23=\"\",\"\",項目表示入力!H23)","v":"内容17,6"},{"$f":"IF(項目表示入力!I23=\"\",\"\",項目表示入力!I23)","v":"内容17,7"},{"$f":"IF(項目表示入力!J23=\"\",\"\",項目表示入力!J23)","v":"内容17,8"},{"$f":"IF(項目表示入力!K23=\"\",\"\",項目表示入力!K23)","v":"内容17,9"},{"$f":"IF(項目表示入力!L23=\"\",\"\",項目表示入力!L23)","v":"内容17,10"},{"$f":"IF(項目表示入力!M23=\"\",\"\",項目表示入力!M23)","v":"内容17,11"},{"$f":"IF(項目表示入力!N23=\"\",\"\",項目表示入力!N23)","v":"内容17,12"},{"$f":"IF(項目表示入力!O23=\"\",\"\",項目表示入力!O23)","v":"内容17,13"},{"$f":"IF(項目表示入力!P23=\"\",\"\",項目表示入力!P23)","v":"内容17,14"},{"$f":"IF(項目表示入力!Q23=\"\",\"\",項目表示入力!Q23)","v":"内容17,15"},{"$f":"IF(項目表示入力!R23=\"\",\"\",項目表示入力!R23)","v":"内容17,16"},{"$f":"IF(項目表示入力!S23=\"\",\"\",項目表示入力!S23)","v":"内容17,17"},{"$f":"IF(項目表示入力!T23=\"\",\"\",項目表示入力!T23)","v":"内容17,18"},{"$f":"IF(項目表示入力!U23=\"\",\"\",項目表示入力!U23)","v":"内容17,19"},{"$f":"IF(項目表示入力!V23=\"\",\"\",項目表示入力!V23)","v":"内容17,20"},{"$f":"IF(項目表示入力!C24=\"\",\"\",項目表示入力!C24)","v":"内容18,1"},{"$f":"IF(項目表示入力!D24=\"\",\"\",項目表示入力!D24)","v":"内容18,2"},{"$f":"IF(項目表示入力!E24=\"\",\"\",項目表示入力!E24)","v":"内容18,3"},{"$f":"IF(項目表示入力!F24=\"\",\"\",項目表示入力!F24)","v":"内容18,4"},{"$f":"IF(項目表示入力!G24=\"\",\"\",項目表示入力!G24)","v":"内容18,5"},{"$f":"IF(項目表示入力!H24=\"\",\"\",項目表示入力!H24)","v":"内容18,6"},{"$f":"IF(項目表示入力!I24=\"\",\"\",項目表示入力!I24)","v":"内容18,7"},{"$f":"IF(項目表示入力!J24=\"\",\"\",項目表示入力!J24)","v":"内容18,8"},{"$f":"IF(項目表示入力!K24=\"\",\"\",項目表示入力!K24)","v":"内容18,9"},{"$f":"IF(項目表示入力!L24=\"\",\"\",項目表示入力!L24)","v":"内容18,10"},{"$f":"IF(項目表示入力!M24=\"\",\"\",項目表示入力!M24)","v":"内容18,11"},{"$f":"IF(項目表示入力!N24=\"\",\"\",項目表示入力!N24)","v":"内容18,12"},{"$f":"IF(項目表示入力!O24=\"\",\"\",項目表示入力!O24)","v":"内容18,13"},{"$f":"IF(項目表示入力!P24=\"\",\"\",項目表示入力!P24)","v":"内容18,14"},{"$f":"IF(項目表示入力!Q24=\"\",\"\",項目表示入力!Q24)","v":"内容18,15"},{"$f":"IF(項目表示入力!R24=\"\",\"\",項目表示入力!R24)","v":"内容18,16"},{"$f":"IF(項目表示入力!S24=\"\",\"\",項目表示入力!S24)","v":"内容18,17"},{"$f":"IF(項目表示入力!T24=\"\",\"\",項目表示入力!T24)","v":"内容18,18"},{"$f":"IF(項目表示入力!U24=\"\",\"\",項目表示入力!U24)","v":"内容18,19"},{"$f":"IF(項目表示入力!V24=\"\",\"\",項目表示入力!V24)","v":"内容18,20"},{"$f":"IF(項目表示入力!C25=\"\",\"\",項目表示入力!C25)","v":"内容19,1"},{"$f":"IF(項目表示入力!D25=\"\",\"\",項目表示入力!D25)","v":"内容19,2"},{"$f":"IF(項目表示入力!E25=\"\",\"\",項目表示入力!E25)","v":"内容19,3"},{"$f":"IF(項目表示入力!F25=\"\",\"\",項目表示入力!F25)","v":"内容19,4"},{"$f":"IF(項目表示入力!G25=\"\",\"\",項目表示入力!G25)","v":"内容19,5"},{"$f":"IF(項目表示入力!H25=\"\",\"\",項目表示入力!H25)","v":"内容19,6"},{"$f":"IF(項目表示入力!I25=\"\",\"\",項目表示入力!I25)","v":"内容19,7"},{"$f":"IF(項目表示入力!J25=\"\",\"\",項目表示入力!J25)","v":"内容19,8"},{"$f":"IF(項目表示入力!K25=\"\",\"\",項目表示入力!K25)","v":"内容19,9"},{"$f":"IF(項目表示入力!L25=\"\",\"\",項目表示入力!L25)","v":"内容19,10"},{"$f":"IF(項目表示入力!M25=\"\",\"\",項目表示入力!M25)","v":"内容19,11"},{"$f":"IF(項目表示入力!N25=\"\",\"\",項目表示入力!N25)","v":"内容19,12"},{"$f":"IF(項目表示入力!O25=\"\",\"\",項目表示入力!O25)","v":"内容19,13"},{"$f":"IF(項目表示入力!P25=\"\",\"\",項目表示入力!P25)","v":"内容19,14"},{"$f":"IF(項目表示入力!Q25=\"\",\"\",項目表示入力!Q25)","v":"内容19,15"},{"$f":"IF(項目表示入力!R25=\"\",\"\",項目表示入力!R25)","v":"内容19,16"},{"$f":"IF(項目表示入力!S25=\"\",\"\",項目表示入力!S25)","v":"内容19,17"},{"$f":"IF(項目表示入力!T25=\"\",\"\",項目表示入力!T25)","v":"内容19,18"},{"$f":"IF(項目表示入力!U25=\"\",\"\",項目表示入力!U25)","v":"内容19,19"},{"$f":"IF(項目表示入力!V25=\"\",\"\",項目表示入力!V25)","v":"内容19,20"},{"$f":"IF(項目表示入力!C26=\"\",\"\",項目表示入力!C26)","v":"内容20,1"},{"$f":"IF(項目表示入力!D26=\"\",\"\",項目表示入力!D26)","v":"内容20,2"},{"$f":"IF(項目表示入力!E26=\"\",\"\",項目表示入力!E26)","v":"内容20,3"},{"$f":"IF(項目表示入力!F26=\"\",\"\",項目表示入力!F26)","v":"内容20,4"},{"$f":"IF(項目表示入力!G26=\"\",\"\",項目表示入力!G26)","v":"内容20,5"},{"$f":"IF(項目表示入力!H26=\"\",\"\",項目表示入力!H26)","v":"内容20,6"},{"$f":"IF(項目表示入力!I26=\"\",\"\",項目表示入力!I26)","v":"内容20,7"},{"$f":"IF(項目表示入力!J26=\"\",\"\",項目表示入力!J26)","v":"内容20,8"},{"$f":"IF(項目表示入力!K26=\"\",\"\",項目表示入力!K26)","v":"内容20,9"},{"$f":"IF(項目表示入力!L26=\"\",\"\",項目表示入力!L26)","v":"内容20,10"},{"$f":"IF(項目表示入力!M26=\"\",\"\",項目表示入力!M26)","v":"内容20,11"},{"$f":"IF(項目表示入力!N26=\"\",\"\",項目表示入力!N26)","v":"内容20,12"},{"$f":"IF(項目表示入力!O26=\"\",\"\",項目表示入力!O26)","v":"内容20,13"},{"$f":"IF(項目表示入力!P26=\"\",\"\",項目表示入力!P26)","v":"内容20,14"},{"$f":"IF(項目表示入力!Q26=\"\",\"\",項目表示入力!Q26)","v":"内容20,15"},{"$f":"IF(項目表示入力!R26=\"\",\"\",項目表示入力!R26)","v":"内容20,16"},{"$f":"IF(項目表示入力!S26=\"\",\"\",項目表示入力!S26)","v":"内容20,17"},{"$f":"IF(項目表示入力!T26=\"\",\"\",項目表示入力!T26)","v":"内容20,18"},{"$f":"IF(項目表示入力!U26=\"\",\"\",項目表示入力!U26)","v":"内容20,19"},{"$f":"IF(項目表示入力!V26=\"\",\"\",項目表示入力!V26)","v":"内容20,20"}]
[null,-2,-2,{"$f":"IF(オフセット番号A!$C$4=\"\",\"\",オフセット番号A!$C$4)","v":"列1"},{"$f":"IF(オフセット番号A!$D$4=\"\",\"\",オフセット番号A!$D$4)","v":"列2"},{"$f":"IF(オフセット番号A!$E$4=\"\",\"\",オフセット番号A!$E$4)","v":"列3"},{"$f":"IF(オフセット番号A!$F$4=\"\",\"\",オフセット番号A!$F$4)","v":"列4"},{"$f":"IF(オフセット番号A!$G$4=\"\",\"\",オフセット番号A!$G$4)","v":"列5"},{"$f":"IF(オフセット番号A!$H$4=\"\",\"\",オフセット番号A!$H$4)","v":"列6"},{"$f":"IF(オフセット番号A!$I$4=\"\",\"\",オフセット番号A!$I$4)","v":"列7"},{"$f":"IF(オフセット番号A!$J$4=\"\",\"\",オフセット番号A!$J$4)","v":"列8"},{"$f":"IF(オフセット番号A!$K$4=\"\",\"\",オフセット番号A!$K$4)","v":"列9"},{"$f":"IF(オフセット番号A!$L$4=\"\",\"\",オフセット番号A!$L$4)","v":"列10"},{"$f":"IF(オフセット番号A!$M$4=\"\",\"\",オフセット番号A!$M$4)","v":"列11"},{"$f":"IF(オフセット番号A!$N$4=\"\",\"\",オフセット番号A!$N$4)","v":"列12"},{"$f":"IF(オフセット番号A!$O$4=\"\",\"\",オフセット番号A!$O$4)","v":"列13"},{"$f":"IF(オフセット番号A!$P$4=\"\",\"\",オフセット番号A!$P$4)","v":"列14"},{"$f":"IF(オフセット番号A!$Q$4=\"\",\"\",オフセット番号A!$Q$4)","v":"列15"},{"$f":"IF(オフセット番号A!$R$4=\"\",\"\",オフセット番号A!$R$4)","v":"列16"},{"$f":"IF(オフセット番号A!$S$4=\"\",\"\",オフセット番号A!$S$4)","v":"列17"},{"$f":"IF(オフセット番号A!$T$4=\"\",\"\",オフセット番号A!$T$4)","v":"列18"},{"$f":"IF(オフセット番号A!$U$4=\"\",\"\",オフセット番号A!$U$4)","v":"列19"},{"$f":"IF(オフセット番号A!$V$4=\"\",\"\",オフセット番号A!$V$4)","v":"列20"},{"$f":"IF(オフセット番号A!$C$4=\"\",\"\",オフセット番号A!$C$4)","v":"列1"},{"$f":"IF(オフセット番号A!$D$4=\"\",\"\",オフセット番号A!$D$4)","v":"列2"},{"$f":"IF(オフセット番号A!$E$4=\"\",\"\",オフセット番号A!$E$4)","v":"列3"},{"$f":"IF(オフセット番号A!$F$4=\"\",\"\",オフセット番号A!$F$4)","v":"列4"},{"$f":"IF(オフセット番号A!$G$4=\"\",\"\",オフセット番号A!$G$4)","v":"列5"},{"$f":"IF(オフセット番号A!$H$4=\"\",\"\",オフセット番号A!$H$4)","v":"列6"},{"$f":"IF(オフセット番号A!$I$4=\"\",\"\",オフセット番号A!$I$4)","v":"列7"},{"$f":"IF(オフセット番号A!$J$4=\"\",\"\",オフセット番号A!$J$4)","v":"列8"},{"$f":"IF(オフセット番号A!$K$4=\"\",\"\",オフセット番号A!$K$4)","v":"列9"},{"$f":"IF(オフセット番号A!$L$4=\"\",\"\",オフセット番号A!$L$4)","v":"列10"},{"$f":"IF(オフセット番号A!$M$4=\"\",\"\",オフセット番号A!$M$4)","v":"列11"},{"$f":"IF(オフセット番号A!$N$4=\"\",\"\",オフセット番号A!$N$4)","v":"列12"},{"$f":"IF(オフセット番号A!$O$4=\"\",\"\",オフセット番号A!$O$4)","v":"列13"},{"$f":"IF(オフセット番号A!$P$4=\"\",\"\",オフセット番号A!$P$4)","v":"列14"},{"$f":"IF(オフセット番号A!$Q$4=\"\",\"\",オフセット番号A!$Q$4)","v":"列15"},{"$f":"IF(オフセット番号A!$R$4=\"\",\"\",オフセット番号A!$R$4)","v":"列16"},{"$f":"IF(オフセット番号A!$S$4=\"\",\"\",オフセット番号A!$S$4)","v":"列17"},{"$f":"IF(オフセット番号A!$T$4=\"\",\"\",オフセット番号A!$T$4)","v":"列18"},{"$f":"IF(オフセット番号A!$U$4=\"\",\"\",オフセット番号A!$U$4)","v":"列19"},{"$f":"IF(オフセット番号A!$V$4=\"\",\"\",オフセット番号A!$V$4)","v":"列20"},{"$f":"IF(オフセット番号A!$C$4=\"\",\"\",オフセット番号A!$C$4)","v":"列1"},{"$f":"IF(オフセット番号A!$D$4=\"\",\"\",オフセット番号A!$D$4)","v":"列2"},{"$f":"IF(オフセット番号A!$E$4=\"\",\"\",オフセット番号A!$E$4)","v":"列3"},{"$f":"IF(オフセット番号A!$F$4=\"\",\"\",オフセット番号A!$F$4)","v":"列4"},{"$f":"IF(オフセット番号A!$G$4=\"\",\"\",オフセット番号A!$G$4)","v":"列5"},{"$f":"IF(オフセット番号A!$H$4=\"\",\"\",オフセット番号A!$H$4)","v":"列6"},{"$f":"IF(オフセット番号A!$I$4=\"\",\"\",オフセット番号A!$I$4)","v":"列7"},{"$f":"IF(オフセット番号A!$J$4=\"\",\"\",オフセット番号A!$J$4)","v":"列8"},{"$f":"IF(オフセット番号A!$K$4=\"\",\"\",オフセット番号A!$K$4)","v":"列9"},{"$f":"IF(オフセット番号A!$L$4=\"\",\"\",オフセット番号A!$L$4)","v":"列10"},{"$f":"IF(オフセット番号A!$M$4=\"\",\"\",オフセット番号A!$M$4)","v":"列11"},{"$f":"IF(オフセット番号A!$N$4=\"\",\"\",オフセット番号A!$N$4)","v":"列12"},{"$f":"IF(オフセット番号A!$O$4=\"\",\"\",オフセット番号A!$O$4)","v":"列13"},{"$f":"IF(オフセット番号A!$P$4=\"\",\"\",オフセット番号A!$P$4)","v":"列14"},{"$f":"IF(オフセット番号A!$Q$4=\"\",\"\",オフセット番号A!$Q$4)","v":"列15"},{"$f":"IF(オフセット番号A!$R$4=\"\",\"\",オフセット番号A!$R$4)","v":"列16"},{"$f":"IF(オフセット番号A!$S$4=\"\",\"\",オフセット番号A!$S$4)","v":"列17"},{"$f":"IF(オフセット番号A!$T$4=\"\",\"\",オフセット番号A!$T$4)","v":"列18"},{"$f":"IF(オフセット番号A!$U$4=\"\",\"\",オフセット番号A!$U$4)","v":"列19"},{"$f":"IF(オフセット番号A!$V$4=\"\",\"\",オフセット番号A!$V$4)","v":"列20"},{"$f":"IF(オフセット番号A!$C$4=\"\",\"\",オフセット番号A!$C$4)","v":"列1"},{"$f":"IF(オフセット番号A!$D$4=\"\",\"\",オフセット番号A!$D$4)","v":"列2"},{"$f":"IF(オフセット番号A!$E$4=\"\",\"\",オフセット番号A!$E$4)","v":"列3"},{"$f":"IF(オフセット番号A!$F$4=\"\",\"\",オフセット番号A!$F$4)","v":"列4"},{"$f":"IF(オフセット番号A!$G$4=\"\",\"\",オフセット番号A!$G$4)","v":"列5"},{"$f":"IF(オフセット番号A!$H$4=\"\",\"\",オフセット番号A!$H$4)","v":"列6"},{"$f":"IF(オフセット番号A!$I$4=\"\",\"\",オフセット番号A!$I$4)","v":"列7"},{"$f":"IF(オフセット番号A!$J$4=\"\",\"\",オフセット番号A!$J$4)","v":"列8"},{"$f":"IF(オフセット番号A!$K$4=\"\",\"\",オフセット番号A!$K$4)","v":"列9"},{"$f":"IF(オフセット番号A!$L$4=\"\",\"\",オフセット番号A!$L$4)","v":"列10"},{"$f":"IF(オフセット番号A!$M$4=\"\",\"\",オフセット番号A!$M$4)","v":"列11"},{"$f":"IF(オフセット番号A!$N$4=\"\",\"\",オフセット番号A!$N$4)","v":"列12"},{"$f":"IF(オフセット番号A!$O$4=\"\",\"\",オフセット番号A!$O$4)","v":"列13"},{"$f":"IF(オフセット番号A!$P$4=\"\",\"\",オフセット番号A!$P$4)","v":"列14"},{"$f":"IF(オフセット番号A!$Q$4=\"\",\"\",オフセット番号A!$Q$4)","v":"列15"},{"$f":"IF(オフセット番号A!$R$4=\"\",\"\",オフセット番号A!$R$4)","v":"列16"},{"$f":"IF(オフセット番号A!$S$4=\"\",\"\",オフセット番号A!$S$4)","v":"列17"},{"$f":"IF(オフセット番号A!$T$4=\"\",\"\",オフセット番号A!$T$4)","v":"列18"},{"$f":"IF(オフセット番号A!$U$4=\"\",\"\",オフセット番号A!$U$4)","v":"列19"},{"$f":"IF(オフセット番号A!$V$4=\"\",\"\",オフセット番号A!$V$4)","v":"列20"},{"$f":"IF(オフセット番号A!$C$4=\"\",\"\",オフセット番号A!$C$4)","v":"列1"},{"$f":"IF(オフセット番号A!$D$4=\"\",\"\",オフセット番号A!$D$4)","v":"列2"},{"$f":"IF(オフセット番号A!$E$4=\"\",\"\",オフセット番号A!$E$4)","v":"列3"},{"$f":"IF(オフセット番号A!$F$4=\"\",\"\",オフセット番号A!$F$4)","v":"列4"},{"$f":"IF(オフセット番号A!$G$4=\"\",\"\",オフセット番号A!$G$4)","v":"列5"},{"$f":"IF(オフセット番号A!$H$4=\"\",\"\",オフセット番号A!$H$4)","v":"列6"},{"$f":"IF(オフセット番号A!$I$4=\"\",\"\",オフセット番号A!$I$4)","v":"列7"},{"$f":"IF(オフセット番号A!$J$4=\"\",\"\",オフセット番号A!$J$4)","v":"列8"},{"$f":"IF(オフセット番号A!$K$4=\"\",\"\",オフセット番号A!$K$4)","v":"列9"},{"$f":"IF(オフセット番号A!$L$4=\"\",\"\",オフセット番号A!$L$4)","v":"列10"},{"$f":"IF(オフセット番号A!$M$4=\"\",\"\",オフセット番号A!$M$4)","v":"列11"},{"$f":"IF(オフセット番号A!$N$4=\"\",\"\",オフセット番号A!$N$4)","v":"列12"},{"$f":"IF(オフセット番号A!$O$4=\"\",\"\",オフセット番号A!$O$4)","v":"列13"},{"$f":"IF(オフセット番号A!$P$4=\"\",\"\",オフセット番号A!$P$4)","v":"列14"},{"$f":"IF(オフセット番号A!$Q$4=\"\",\"\",オフセット番号A!$Q$4)","v":"列15"},{"$f":"IF(オフセット番号A!$R$4=\"\",\"\",オフセット番号A!$R$4)","v":"列16"},{"$f":"IF(オフセット番号A!$S$4=\"\",\"\",オフセット番号A!$S$4)","v":"列17"},{"$f":"IF(オフセット番号A!$T$4=\"\",\"\",オフセット番号A!$T$4)","v":"列18"},{"$f":"IF(オフセット番号A!$U$4=\"\",\"\",オフセット番号A!$U$4)","v":"列19"},{"$f":"IF(オフセット番号A!$V$4=\"\",\"\",オフセット番号A!$V$4)","v":"列20"},{"$f":"IF(オフセット番号A!$C$4=\"\",\"\",オフセット番号A!$C$4)","v":"列1"},{"$f":"IF(オフセット番号A!$D$4=\"\",\"\",オフセット番号A!$D$4)","v":"列2"},{"$f":"IF(オフセット番号A!$E$4=\"\",\"\",オフセット番号A!$E$4)","v":"列3"},{"$f":"IF(オフセット番号A!$F$4=\"\",\"\",オフセット番号A!$F$4)","v":"列4"},{"$f":"IF(オフセット番号A!$G$4=\"\",\"\",オフセット番号A!$G$4)","v":"列5"},{"$f":"IF(オフセット番号A!$H$4=\"\",\"\",オフセット番号A!$H$4)","v":"列6"},{"$f":"IF(オフセット番号A!$I$4=\"\",\"\",オフセット番号A!$I$4)","v":"列7"},{"$f":"IF(オフセット番号A!$J$4=\"\",\"\",オフセット番号A!$J$4)","v":"列8"},{"$f":"IF(オフセット番号A!$K$4=\"\",\"\",オフセット番号A!$K$4)","v":"列9"},{"$f":"IF(オフセット番号A!$L$4=\"\",\"\",オフセット番号A!$L$4)","v":"列10"},{"$f":"IF(オフセット番号A!$M$4=\"\",\"\",オフセット番号A!$M$4)","v":"列11"},{"$f":"IF(オフセット番号A!$N$4=\"\",\"\",オフセット番号A!$N$4)","v":"列12"},{"$f":"IF(オフセット番号A!$O$4=\"\",\"\",オフセット番号A!$O$4)","v":"列13"},{"$f":"IF(オフセット番号A!$P$4=\"\",\"\",オフセット番号A!$P$4)","v":"列14"},{"$f":"IF(オフセット番号A!$Q$4=\"\",\"\",オフセット番号A!$Q$4)","v":"列15"},{"$f":"IF(オフセット番号A!$R$4=\"\",\"\",オフセット番号A!$R$4)","v":"列16"},{"$f":"IF(オフセット番号A!$S$4=\"\",\"\",オフセット番号A!$S$4)","v":"列17"},{"$f":"IF(オフセット番号A!$T$4=\"\",\"\",オフセット番号A!$T$4)","v":"列18"},{"$f":"IF(オフセット番号A!$U$4=\"\",\"\",オフセット番号A!$U$4)","v":"列19"},{"$f":"IF(オフセット番号A!$V$4=\"\",\"\",オフセット番号A!$V$4)","v":"列20"},{"$f":"IF(オフセット番号A!$C$4=\"\",\"\",オフセット番号A!$C$4)","v":"列1"},{"$f":"IF(オフセット番号A!$D$4=\"\",\"\",オフセット番号A!$D$4)","v":"列2"},{"$f":"IF(オフセット番号A!$E$4=\"\",\"\",オフセット番号A!$E$4)","v":"列3"},{"$f":"IF(オフセット番号A!$F$4=\"\",\"\",オフセット番号A!$F$4)","v":"列4"},{"$f":"IF(オフセット番号A!$G$4=\"\",\"\",オフセット番号A!$G$4)","v":"列5"},{"$f":"IF(オフセット番号A!$H$4=\"\",\"\",オフセット番号A!$H$4)","v":"列6"},{"$f":"IF(オフセット番号A!$I$4=\"\",\"\",オフセット番号A!$I$4)","v":"列7"},{"$f":"IF(オフセット番号A!$J$4=\"\",\"\",オフセット番号A!$J$4)","v":"列8"},{"$f":"IF(オフセット番号A!$K$4=\"\",\"\",オフセット番号A!$K$4)","v":"列9"},{"$f":"IF(オフセット番号A!$L$4=\"\",\"\",オフセット番号A!$L$4)","v":"列10"},{"$f":"IF(オフセット番号A!$M$4=\"\",\"\",オフセット番号A!$M$4)","v":"列11"},{"$f":"IF(オフセット番号A!$N$4=\"\",\"\",オフセット番号A!$N$4)","v":"列12"},{"$f":"IF(オフセット番号A!$O$4=\"\",\"\",オフセット番号A!$O$4)","v":"列13"},{"$f":"IF(オフセット番号A!$P$4=\"\",\"\",オフセット番号A!$P$4)","v":"列14"},{"$f":"IF(オフセット番号A!$Q$4=\"\",\"\",オフセット番号A!$Q$4)","v":"列15"},{"$f":"IF(オフセット番号A!$R$4=\"\",\"\",オフセット番号A!$R$4)","v":"列16"},{"$f":"IF(オフセット番号A!$S$4=\"\",\"\",オフセット番号A!$S$4)","v":"列17"},{"$f":"IF(オフセット番号A!$T$4=\"\",\"\",オフセット番号A!$T$4)","v":"列18"},{"$f":"IF(オフセット番号A!$U$4=\"\",\"\",オフセット番号A!$U$4)","v":"列19"},{"$f":"IF(オフセット番号A!$V$4=\"\",\"\",オフセット番号A!$V$4)","v":"列20"},{"$f":"IF(オフセット番号A!$C$4=\"\",\"\",オフセット番号A!$C$4)","v":"列1"},{"$f":"IF(オフセット番号A!$D$4=\"\",\"\",オフセット番号A!$D$4)","v":"列2"},{"$f":"IF(オフセット番号A!$E$4=\"\",\"\",オフセット番号A!$E$4)","v":"列3"},{"$f":"IF(オフセット番号A!$F$4=\"\",\"\",オフセット番号A!$F$4)","v":"列4"},{"$f":"IF(オフセット番号A!$G$4=\"\",\"\",オフセット番号A!$G$4)","v":"列5"},{"$f":"IF(オフセット番号A!$H$4=\"\",\"\",オフセット番号A!$H$4)","v":"列6"},{"$f":"IF(オフセット番号A!$I$4=\"\",\"\",オフセット番号A!$I$4)","v":"列7"},{"$f":"IF(オフセット番号A!$J$4=\"\",\"\",オフセット番号A!$J$4)","v":"列8"},{"$f":"IF(オフセット番号A!$K$4=\"\",\"\",オフセット番号A!$K$4)","v":"列9"},{"$f":"IF(オフセット番号A!$L$4=\"\",\"\",オフセット番号A!$L$4)","v":"列10"},{"$f":"IF(オフセット番号A!$M$4=\"\",\"\",オフセット番号A!$M$4)","v":"列11"},{"$f":"IF(オフセット番号A!$N$4=\"\",\"\",オフセット番号A!$N$4)","v":"列12"},{"$f":"IF(オフセット番号A!$O$4=\"\",\"\",オフセット番号A!$O$4)","v":"列13"},{"$f":"IF(オフセット番号A!$P$4=\"\",\"\",オフセット番号A!$P$4)","v":"列14"},{"$f":"IF(オフセット番号A!$Q$4=\"\",\"\",オフセット番号A!$Q$4)","v":"列15"},{"$f":"IF(オフセット番号A!$R$4=\"\",\"\",オフセット番号A!$R$4)","v":"列16"},{"$f":"IF(オフセット番号A!$S$4=\"\",\"\",オフセット番号A!$S$4)","v":"列17"},{"$f":"IF(オフセット番号A!$T$4=\"\",\"\",オフセット番号A!$T$4)","v":"列18"},{"$f":"IF(オフセット番号A!$U$4=\"\",\"\",オフセット番号A!$U$4)","v":"列19"},{"$f":"IF(オフセット番号A!$V$4=\"\",\"\",オフセット番号A!$V$4)","v":"列20"},{"$f":"IF(オフセット番号A!$C$4=\"\",\"\",オフセット番号A!$C$4)","v":"列1"},{"$f":"IF(オフセット番号A!$D$4=\"\",\"\",オフセット番号A!$D$4)","v":"列2"},{"$f":"IF(オフセット番号A!$E$4=\"\",\"\",オフセット番号A!$E$4)","v":"列3"},{"$f":"IF(オフセット番号A!$F$4=\"\",\"\",オフセット番号A!$F$4)","v":"列4"},{"$f":"IF(オフセット番号A!$G$4=\"\",\"\",オフセット番号A!$G$4)","v":"列5"},{"$f":"IF(オフセット番号A!$H$4=\"\",\"\",オフセット番号A!$H$4)","v":"列6"},{"$f":"IF(オフセット番号A!$I$4=\"\",\"\",オフセット番号A!$I$4)","v":"列7"},{"$f":"IF(オフセット番号A!$J$4=\"\",\"\",オフセット番号A!$J$4)","v":"列8"},{"$f":"IF(オフセット番号A!$K$4=\"\",\"\",オフセット番号A!$K$4)","v":"列9"},{"$f":"IF(オフセット番号A!$L$4=\"\",\"\",オフセット番号A!$L$4)","v":"列10"},{"$f":"IF(オフセット番号A!$M$4=\"\",\"\",オフセット番号A!$M$4)","v":"列11"},{"$f":"IF(オフセット番号A!$N$4=\"\",\"\",オフセット番号A!$N$4)","v":"列12"},{"$f":"IF(オフセット番号A!$O$4=\"\",\"\",オフセット番号A!$O$4)","v":"列13"},{"$f":"IF(オフセット番号A!$P$4=\"\",\"\",オフセット番号A!$P$4)","v":"列14"},{"$f":"IF(オフセット番号A!$Q$4=\"\",\"\",オフセット番号A!$Q$4)","v":"列15"},{"$f":"IF(オフセット番号A!$R$4=\"\",\"\",オフセット番号A!$R$4)","v":"列16"},{"$f":"IF(オフセット番号A!$S$4=\"\",\"\",オフセット番号A!$S$4)","v":"列17"},{"$f":"IF(オフセット番号A!$T$4=\"\",\"\",オフセット番号A!$T$4)","v":"列18"},{"$f":"IF(オフセット番号A!$U$4=\"\",\"\",オフセット番号A!$U$4)","v":"列19"},{"$f":"IF(オフセット番号A!$V$4=\"\",\"\",オフセット番号A!$V$4)","v":"列20"},{"$f":"IF(オフセット番号A!$C$4=\"\",\"\",オフセット番号A!$C$4)","v":"列1"},{"$f":"IF(オフセット番号A!$D$4=\"\",\"\",オフセット番号A!$D$4)","v":"列2"},{"$f":"IF(オフセット番号A!$E$4=\"\",\"\",オフセット番号A!$E$4)","v":"列3"},{"$f":"IF(オフセット番号A!$F$4=\"\",\"\",オフセット番号A!$F$4)","v":"列4"},{"$f":"IF(オフセット番号A!$G$4=\"\",\"\",オフセット番号A!$G$4)","v":"列5"},{"$f":"IF(オフセット番号A!$H$4=\"\",\"\",オフセット番号A!$H$4)","v":"列6"},{"$f":"IF(オフセット番号A!$I$4=\"\",\"\",オフセット番号A!$I$4)","v":"列7"},{"$f":"IF(オフセット番号A!$J$4=\"\",\"\",オフセット番号A!$J$4)","v":"列8"},{"$f":"IF(オフセット番号A!$K$4=\"\",\"\",オフセット番号A!$K$4)","v":"列9"},{"$f":"IF(オフセット番号A!$L$4=\"\",\"\",オフセット番号A!$L$4)","v":"列10"},{"$f":"IF(オフセット番号A!$M$4=\"\",\"\",オフセット番号A!$M$4)","v":"列11"},{"$f":"IF(オフセット番号A!$N$4=\"\",\"\",オフセット番号A!$N$4)","v":"列12"},{"$f":"IF(オフセット番号A!$O$4=\"\",\"\",オフセット番号A!$O$4)","v":"列13"},{"$f":"IF(オフセット番号A!$P$4=\"\",\"\",オフセット番号A!$P$4)","v":"列14"},{"$f":"IF(オフセット番号A!$Q$4=\"\",\"\",オフセット番号A!$Q$4)","v":"列15"},{"$f":"IF(オフセット番号A!$R$4=\"\",\"\",オフセット番号A!$R$4)","v":"列16"},{"$f":"IF(オフセット番号A!$S$4=\"\",\"\",オフセット番号A!$S$4)","v":"列17"},{"$f":"IF(オフセット番号A!$T$4=\"\",\"\",オフセット番号A!$T$4)","v":"列18"},{"$f":"IF(オフセット番号A!$U$4=\"\",\"\",オフセット番号A!$U$4)","v":"列19"},{"$f":"IF(オフセット番号A!$V$4=\"\",\"\",オフセット番号A!$V$4)","v":"列20"}]
[null,-1,-1,{"$f":"IF(行列入力項目!$C$15=\"\",\"\",行列入力項目!$C$15)","v":"行11"},{"$f":"IF(行列入力項目!$C$15=\"\",\"\",行列入力項目!$C$15)","v":"行11"},{"$f":"IF(行列入力項目!$C$15=\"\",\"\",行列入力項目!$C$15)","v":"行11"},{"$f":"IF(行列入力項目!$C$15=\"\",\"\",行列入力項目!$C$15)","v":"行11"},{"$f":"IF(行列入力項目!$C$15=\"\",\"\",行列入力項目!$C$15)","v":"行11"},{"$f":"IF(行列入力項目!$C$15=\"\",\"\",行列入力項目!$C$15)","v":"行11"},{"$f":"IF(行列入力項目!$C$15=\"\",\"\",行列入力項目!$C$15)","v":"行11"},{"$f":"IF(行列入力項目!$C$15=\"\",\"\",行列入力項目!$C$15)","v":"行11"},{"$f":"IF(行列入力項目!$C$15=\"\",\"\",行列入力項目!$C$15)","v":"行11"},{"$f":"IF(行列入力項目!$C$15=\"\",\"\",行列入力項目!$C$15)","v":"行11"},{"$f":"IF(行列入力項目!$C$15=\"\",\"\",行列入力項目!$C$15)","v":"行11"},{"$f":"IF(行列入力項目!$C$15=\"\",\"\",行列入力項目!$C$15)","v":"行11"},{"$f":"IF(行列入力項目!$C$15=\"\",\"\",行列入力項目!$C$15)","v":"行11"},{"$f":"IF(行列入力項目!$C$15=\"\",\"\",行列入力項目!$C$15)","v":"行11"},{"$f":"IF(行列入力項目!$C$15=\"\",\"\",行列入力項目!$C$15)","v":"行11"},{"$f":"IF(行列入力項目!$C$15=\"\",\"\",行列入力項目!$C$15)","v":"行11"},{"$f":"IF(行列入力項目!$C$15=\"\",\"\",行列入力項目!$C$15)","v":"行11"},{"$f":"IF(行列入力項目!$C$15=\"\",\"\",行列入力項目!$C$15)","v":"行11"},{"$f":"IF(行列入力項目!$C$15=\"\",\"\",行列入力項目!$C$15)","v":"行11"},{"$f":"IF(行列入力項目!$C$15=\"\",\"\",行列入力項目!$C$15)","v":"行11"},{"$f":"IF(行列入力項目!$C$16=\"\",\"\",行列入力項目!$C$16)","v":"行12"},{"$f":"IF(行列入力項目!$C$16=\"\",\"\",行列入力項目!$C$16)","v":"行12"},{"$f":"IF(行列入力項目!$C$16=\"\",\"\",行列入力項目!$C$16)","v":"行12"},{"$f":"IF(行列入力項目!$C$16=\"\",\"\",行列入力項目!$C$16)","v":"行12"},{"$f":"IF(行列入力項目!$C$16=\"\",\"\",行列入力項目!$C$16)","v":"行12"},{"$f":"IF(行列入力項目!$C$16=\"\",\"\",行列入力項目!$C$16)","v":"行12"},{"$f":"IF(行列入力項目!$C$16=\"\",\"\",行列入力項目!$C$16)","v":"行12"},{"$f":"IF(行列入力項目!$C$16=\"\",\"\",行列入力項目!$C$16)","v":"行12"},{"$f":"IF(行列入力項目!$C$16=\"\",\"\",行列入力項目!$C$16)","v":"行12"},{"$f":"IF(行列入力項目!$C$16=\"\",\"\",行列入力項目!$C$16)","v":"行12"},{"$f":"IF(行列入力項目!$C$16=\"\",\"\",行列入力項目!$C$16)","v":"行12"},{"$f":"IF(行列入力項目!$C$16=\"\",\"\",行列入力項目!$C$16)","v":"行12"},{"$f":"IF(行列入力項目!$C$16=\"\",\"\",行列入力項目!$C$16)","v":"行12"},{"$f":"IF(行列入力項目!$C$16=\"\",\"\",行列入力項目!$C$16)","v":"行12"},{"$f":"IF(行列入力項目!$C$16=\"\",\"\",行列入力項目!$C$16)","v":"行12"},{"$f":"IF(行列入力項目!$C$16=\"\",\"\",行列入力項目!$C$16)","v":"行12"},{"$f":"IF(行列入力項目!$C$16=\"\",\"\",行列入力項目!$C$16)","v":"行12"},{"$f":"IF(行列入力項目!$C$16=\"\",\"\",行列入力項目!$C$16)","v":"行12"},{"$f":"IF(行列入力項目!$C$16=\"\",\"\",行列入力項目!$C$16)","v":"行12"},{"$f":"IF(行列入力項目!$C$16=\"\",\"\",行列入力項目!$C$16)","v":"行12"},{"$f":"IF(行列入力項目!$C$17=\"\",\"\",行列入力項目!$C$17)","v":"行13"},{"$f":"IF(行列入力項目!$C$17=\"\",\"\",行列入力項目!$C$17)","v":"行13"},{"$f":"IF(行列入力項目!$C$17=\"\",\"\",行列入力項目!$C$17)","v":"行13"},{"$f":"IF(行列入力項目!$C$17=\"\",\"\",行列入力項目!$C$17)","v":"行13"},{"$f":"IF(行列入力項目!$C$17=\"\",\"\",行列入力項目!$C$17)","v":"行13"},{"$f":"IF(行列入力項目!$C$17=\"\",\"\",行列入力項目!$C$17)","v":"行13"},{"$f":"IF(行列入力項目!$C$17=\"\",\"\",行列入力項目!$C$17)","v":"行13"},{"$f":"IF(行列入力項目!$C$17=\"\",\"\",行列入力項目!$C$17)","v":"行13"},{"$f":"IF(行列入力項目!$C$17=\"\",\"\",行列入力項目!$C$17)","v":"行13"},{"$f":"IF(行列入力項目!$C$17=\"\",\"\",行列入力項目!$C$17)","v":"行13"},{"$f":"IF(行列入力項目!$C$17=\"\",\"\",行列入力項目!$C$17)","v":"行13"},{"$f":"IF(行列入力項目!$C$17=\"\",\"\",行列入力項目!$C$17)","v":"行13"},{"$f":"IF(行列入力項目!$C$17=\"\",\"\",行列入力項目!$C$17)","v":"行13"},{"$f":"IF(行列入力項目!$C$17=\"\",\"\",行列入力項目!$C$17)","v":"行13"},{"$f":"IF(行列入力項目!$C$17=\"\",\"\",行列入力項目!$C$17)","v":"行13"},{"$f":"IF(行列入力項目!$C$17=\"\",\"\",行列入力項目!$C$17)","v":"行13"},{"$f":"IF(行列入力項目!$C$17=\"\",\"\",行列入力項目!$C$17)","v":"行13"},{"$f":"IF(行列入力項目!$C$17=\"\",\"\",行列入力項目!$C$17)","v":"行13"},{"$f":"IF(行列入力項目!$C$17=\"\",\"\",行列入力項目!$C$17)","v":"行13"},{"$f":"IF(行列入力項目!$C$17=\"\",\"\",行列入力項目!$C$17)","v":"行13"},{"$f":"IF(行列入力項目!$C$18=\"\",\"\",行列入力項目!$C$18)","v":"行14"},{"$f":"IF(行列入力項目!$C$18=\"\",\"\",行列入力項目!$C$18)","v":"行14"},{"$f":"IF(行列入力項目!$C$18=\"\",\"\",行列入力項目!$C$18)","v":"行14"},{"$f":"IF(行列入力項目!$C$18=\"\",\"\",行列入力項目!$C$18)","v":"行14"},{"$f":"IF(行列入力項目!$C$18=\"\",\"\",行列入力項目!$C$18)","v":"行14"},{"$f":"IF(行列入力項目!$C$18=\"\",\"\",行列入力項目!$C$18)","v":"行14"},{"$f":"IF(行列入力項目!$C$18=\"\",\"\",行列入力項目!$C$18)","v":"行14"},{"$f":"IF(行列入力項目!$C$18=\"\",\"\",行列入力項目!$C$18)","v":"行14"},{"$f":"IF(行列入力項目!$C$18=\"\",\"\",行列入力項目!$C$18)","v":"行14"},{"$f":"IF(行列入力項目!$C$18=\"\",\"\",行列入力項目!$C$18)","v":"行14"},{"$f":"IF(行列入力項目!$C$18=\"\",\"\",行列入力項目!$C$18)","v":"行14"},{"$f":"IF(行列入力項目!$C$18=\"\",\"\",行列入力項目!$C$18)","v":"行14"},{"$f":"IF(行列入力項目!$C$18=\"\",\"\",行列入力項目!$C$18)","v":"行14"},{"$f":"IF(行列入力項目!$C$18=\"\",\"\",行列入力項目!$C$18)","v":"行14"},{"$f":"IF(行列入力項目!$C$18=\"\",\"\",行列入力項目!$C$18)","v":"行14"},{"$f":"IF(行列入力項目!$C$18=\"\",\"\",行列入力項目!$C$18)","v":"行14"},{"$f":"IF(行列入力項目!$C$18=\"\",\"\",行列入力項目!$C$18)","v":"行14"},{"$f":"IF(行列入力項目!$C$18=\"\",\"\",行列入力項目!$C$18)","v":"行14"},{"$f":"IF(行列入力項目!$C$18=\"\",\"\",行列入力項目!$C$18)","v":"行14"},{"$f":"IF(行列入力項目!$C$18=\"\",\"\",行列入力項目!$C$18)","v":"行14"},{"$f":"IF(行列入力項目!$C$19=\"\",\"\",行列入力項目!$C$19)","v":"行15"},{"$f":"IF(行列入力項目!$C$19=\"\",\"\",行列入力項目!$C$19)","v":"行15"},{"$f":"IF(行列入力項目!$C$19=\"\",\"\",行列入力項目!$C$19)","v":"行15"},{"$f":"IF(行列入力項目!$C$19=\"\",\"\",行列入力項目!$C$19)","v":"行15"},{"$f":"IF(行列入力項目!$C$19=\"\",\"\",行列入力項目!$C$19)","v":"行15"},{"$f":"IF(行列入力項目!$C$19=\"\",\"\",行列入力項目!$C$19)","v":"行15"},{"$f":"IF(行列入力項目!$C$19=\"\",\"\",行列入力項目!$C$19)","v":"行15"},{"$f":"IF(行列入力項目!$C$19=\"\",\"\",行列入力項目!$C$19)","v":"行15"},{"$f":"IF(行列入力項目!$C$19=\"\",\"\",行列入力項目!$C$19)","v":"行15"},{"$f":"IF(行列入力項目!$C$19=\"\",\"\",行列入力項目!$C$19)","v":"行15"},{"$f":"IF(行列入力項目!$C$19=\"\",\"\",行列入力項目!$C$19)","v":"行15"},{"$f":"IF(行列入力項目!$C$19=\"\",\"\",行列入力項目!$C$19)","v":"行15"},{"$f":"IF(行列入力項目!$C$19=\"\",\"\",行列入力項目!$C$19)","v":"行15"},{"$f":"IF(行列入力項目!$C$19=\"\",\"\",行列入力項目!$C$19)","v":"行15"},{"$f":"IF(行列入力項目!$C$19=\"\",\"\",行列入力項目!$C$19)","v":"行15"},{"$f":"IF(行列入力項目!$C$19=\"\",\"\",行列入力項目!$C$19)","v":"行15"},{"$f":"IF(行列入力項目!$C$19=\"\",\"\",行列入力項目!$C$19)","v":"行15"},{"$f":"IF(行列入力項目!$C$19=\"\",\"\",行列入力項目!$C$19)","v":"行15"},{"$f":"IF(行列入力項目!$C$19=\"\",\"\",行列入力項目!$C$19)","v":"行15"},{"$f":"IF(行列入力項目!$C$19=\"\",\"\",行列入力項目!$C$19)","v":"行15"},{"$f":"IF(行列入力項目!$C$20=\"\",\"\",行列入力項目!$C$20)","v":"行16"},{"$f":"IF(行列入力項目!$C$20=\"\",\"\",行列入力項目!$C$20)","v":"行16"},{"$f":"IF(行列入力項目!$C$20=\"\",\"\",行列入力項目!$C$20)","v":"行16"},{"$f":"IF(行列入力項目!$C$20=\"\",\"\",行列入力項目!$C$20)","v":"行16"},{"$f":"IF(行列入力項目!$C$20=\"\",\"\",行列入力項目!$C$20)","v":"行16"},{"$f":"IF(行列入力項目!$C$20=\"\",\"\",行列入力項目!$C$20)","v":"行16"},{"$f":"IF(行列入力項目!$C$20=\"\",\"\",行列入力項目!$C$20)","v":"行16"},{"$f":"IF(行列入力項目!$C$20=\"\",\"\",行列入力項目!$C$20)","v":"行16"},{"$f":"IF(行列入力項目!$C$20=\"\",\"\",行列入力項目!$C$20)","v":"行16"},{"$f":"IF(行列入力項目!$C$20=\"\",\"\",行列入力項目!$C$20)","v":"行16"},{"$f":"IF(行列入力項目!$C$20=\"\",\"\",行列入力項目!$C$20)","v":"行16"},{"$f":"IF(行列入力項目!$C$20=\"\",\"\",行列入力項目!$C$20)","v":"行16"},{"$f":"IF(行列入力項目!$C$20=\"\",\"\",行列入力項目!$C$20)","v":"行16"},{"$f":"IF(行列入力項目!$C$20=\"\",\"\",行列入力項目!$C$20)","v":"行16"},{"$f":"IF(行列入力項目!$C$20=\"\",\"\",行列入力項目!$C$20)","v":"行16"},{"$f":"IF(行列入力項目!$C$20=\"\",\"\",行列入力項目!$C$20)","v":"行16"},{"$f":"IF(行列入力項目!$C$20=\"\",\"\",行列入力項目!$C$20)","v":"行16"},{"$f":"IF(行列入力項目!$C$20=\"\",\"\",行列入力項目!$C$20)","v":"行16"},{"$f":"IF(行列入力項目!$C$20=\"\",\"\",行列入力項目!$C$20)","v":"行16"},{"$f":"IF(行列入力項目!$C$20=\"\",\"\",行列入力項目!$C$20)","v":"行16"},{"$f":"IF(行列入力項目!$C$21=\"\",\"\",行列入力項目!$C$21)","v":"行17"},{"$f":"IF(行列入力項目!$C$21=\"\",\"\",行列入力項目!$C$21)","v":"行17"},{"$f":"IF(行列入力項目!$C$21=\"\",\"\",行列入力項目!$C$21)","v":"行17"},{"$f":"IF(行列入力項目!$C$21=\"\",\"\",行列入力項目!$C$21)","v":"行17"},{"$f":"IF(行列入力項目!$C$21=\"\",\"\",行列入力項目!$C$21)","v":"行17"},{"$f":"IF(行列入力項目!$C$21=\"\",\"\",行列入力項目!$C$21)","v":"行17"},{"$f":"IF(行列入力項目!$C$21=\"\",\"\",行列入力項目!$C$21)","v":"行17"},{"$f":"IF(行列入力項目!$C$21=\"\",\"\",行列入力項目!$C$21)","v":"行17"},{"$f":"IF(行列入力項目!$C$21=\"\",\"\",行列入力項目!$C$21)","v":"行17"},{"$f":"IF(行列入力項目!$C$21=\"\",\"\",行列入力項目!$C$21)","v":"行17"},{"$f":"IF(行列入力項目!$C$21=\"\",\"\",行列入力項目!$C$21)","v":"行17"},{"$f":"IF(行列入力項目!$C$21=\"\",\"\",行列入力項目!$C$21)","v":"行17"},{"$f":"IF(行列入力項目!$C$21=\"\",\"\",行列入力項目!$C$21)","v":"行17"},{"$f":"IF(行列入力項目!$C$21=\"\",\"\",行列入力項目!$C$21)","v":"行17"},{"$f":"IF(行列入力項目!$C$21=\"\",\"\",行列入力項目!$C$21)","v":"行17"},{"$f":"IF(行列入力項目!$C$21=\"\",\"\",行列入力項目!$C$21)","v":"行17"},{"$f":"IF(行列入力項目!$C$21=\"\",\"\",行列入力項目!$C$21)","v":"行17"},{"$f":"IF(行列入力項目!$C$21=\"\",\"\",行列入力項目!$C$21)","v":"行17"},{"$f":"IF(行列入力項目!$C$21=\"\",\"\",行列入力項目!$C$21)","v":"行17"},{"$f":"IF(行列入力項目!$C$21=\"\",\"\",行列入力項目!$C$21)","v":"行17"},{"$f":"IF(行列入力項目!$C$22=\"\",\"\",行列入力項目!$C$22)","v":"行18"},{"$f":"IF(行列入力項目!$C$22=\"\",\"\",行列入力項目!$C$22)","v":"行18"},{"$f":"IF(行列入力項目!$C$22=\"\",\"\",行列入力項目!$C$22)","v":"行18"},{"$f":"IF(行列入力項目!$C$22=\"\",\"\",行列入力項目!$C$22)","v":"行18"},{"$f":"IF(行列入力項目!$C$22=\"\",\"\",行列入力項目!$C$22)","v":"行18"},{"$f":"IF(行列入力項目!$C$22=\"\",\"\",行列入力項目!$C$22)","v":"行18"},{"$f":"IF(行列入力項目!$C$22=\"\",\"\",行列入力項目!$C$22)","v":"行18"},{"$f":"IF(行列入力項目!$C$22=\"\",\"\",行列入力項目!$C$22)","v":"行18"},{"$f":"IF(行列入力項目!$C$22=\"\",\"\",行列入力項目!$C$22)","v":"行18"},{"$f":"IF(行列入力項目!$C$22=\"\",\"\",行列入力項目!$C$22)","v":"行18"},{"$f":"IF(行列入力項目!$C$22=\"\",\"\",行列入力項目!$C$22)","v":"行18"},{"$f":"IF(行列入力項目!$C$22=\"\",\"\",行列入力項目!$C$22)","v":"行18"},{"$f":"IF(行列入力項目!$C$22=\"\",\"\",行列入力項目!$C$22)","v":"行18"},{"$f":"IF(行列入力項目!$C$22=\"\",\"\",行列入力項目!$C$22)","v":"行18"},{"$f":"IF(行列入力項目!$C$22=\"\",\"\",行列入力項目!$C$22)","v":"行18"},{"$f":"IF(行列入力項目!$C$22=\"\",\"\",行列入力項目!$C$22)","v":"行18"},{"$f":"IF(行列入力項目!$C$22=\"\",\"\",行列入力項目!$C$22)","v":"行18"},{"$f":"IF(行列入力項目!$C$22=\"\",\"\",行列入力項目!$C$22)","v":"行18"},{"$f":"IF(行列入力項目!$C$22=\"\",\"\",行列入力項目!$C$22)","v":"行18"},{"$f":"IF(行列入力項目!$C$22=\"\",\"\",行列入力項目!$C$22)","v":"行18"},{"$f":"IF(行列入力項目!$C$23=\"\",\"\",行列入力項目!$C$23)","v":"行19"},{"$f":"IF(行列入力項目!$C$23=\"\",\"\",行列入力項目!$C$23)","v":"行19"},{"$f":"IF(行列入力項目!$C$23=\"\",\"\",行列入力項目!$C$23)","v":"行19"},{"$f":"IF(行列入力項目!$C$23=\"\",\"\",行列入力項目!$C$23)","v":"行19"},{"$f":"IF(行列入力項目!$C$23=\"\",\"\",行列入力項目!$C$23)","v":"行19"},{"$f":"IF(行列入力項目!$C$23=\"\",\"\",行列入力項目!$C$23)","v":"行19"},{"$f":"IF(行列入力項目!$C$23=\"\",\"\",行列入力項目!$C$23)","v":"行19"},{"$f":"IF(行列入力項目!$C$23=\"\",\"\",行列入力項目!$C$23)","v":"行19"},{"$f":"IF(行列入力項目!$C$23=\"\",\"\",行列入力項目!$C$23)","v":"行19"},{"$f":"IF(行列入力項目!$C$23=\"\",\"\",行列入力項目!$C$23)","v":"行19"},{"$f":"IF(行列入力項目!$C$23=\"\",\"\",行列入力項目!$C$23)","v":"行19"},{"$f":"IF(行列入力項目!$C$23=\"\",\"\",行列入力項目!$C$23)","v":"行19"},{"$f":"IF(行列入力項目!$C$23=\"\",\"\",行列入力項目!$C$23)","v":"行19"},{"$f":"IF(行列入力項目!$C$23=\"\",\"\",行列入力項目!$C$23)","v":"行19"},{"$f":"IF(行列入力項目!$C$23=\"\",\"\",行列入力項目!$C$23)","v":"行19"},{"$f":"IF(行列入力項目!$C$23=\"\",\"\",行列入力項目!$C$23)","v":"行19"},{"$f":"IF(行列入力項目!$C$23=\"\",\"\",行列入力項目!$C$23)","v":"行19"},{"$f":"IF(行列入力項目!$C$23=\"\",\"\",行列入力項目!$C$23)","v":"行19"},{"$f":"IF(行列入力項目!$C$23=\"\",\"\",行列入力項目!$C$23)","v":"行19"},{"$f":"IF(行列入力項目!$C$23=\"\",\"\",行列入力項目!$C$23)","v":"行19"},{"$f":"IF(行列入力項目!$C$24=\"\",\"\",行列入力項目!$C$24)","v":"行20"},{"$f":"IF(行列入力項目!$C$24=\"\",\"\",行列入力項目!$C$24)","v":"行20"},{"$f":"IF(行列入力項目!$C$24=\"\",\"\",行列入力項目!$C$24)","v":"行20"},{"$f":"IF(行列入力項目!$C$24=\"\",\"\",行列入力項目!$C$24)","v":"行20"},{"$f":"IF(行列入力項目!$C$24=\"\",\"\",行列入力項目!$C$24)","v":"行20"},{"$f":"IF(行列入力項目!$C$24=\"\",\"\",行列入力項目!$C$24)","v":"行20"},{"$f":"IF(行列入力項目!$C$24=\"\",\"\",行列入力項目!$C$24)","v":"行20"},{"$f":"IF(行列入力項目!$C$24=\"\",\"\",行列入力項目!$C$24)","v":"行20"},{"$f":"IF(行列入力項目!$C$24=\"\",\"\",行列入力項目!$C$24)","v":"行20"},{"$f":"IF(行列入力項目!$C$24=\"\",\"\",行列入力項目!$C$24)","v":"行20"},{"$f":"IF(行列入力項目!$C$24=\"\",\"\",行列入力項目!$C$24)","v":"行20"},{"$f":"IF(行列入力項目!$C$24=\"\",\"\",行列入力項目!$C$24)","v":"行20"},{"$f":"IF(行列入力項目!$C$24=\"\",\"\",行列入力項目!$C$24)","v":"行20"},{"$f":"IF(行列入力項目!$C$24=\"\",\"\",行列入力項目!$C$24)","v":"行20"},{"$f":"IF(行列入力項目!$C$24=\"\",\"\",行列入力項目!$C$24)","v":"行20"},{"$f":"IF(行列入力項目!$C$24=\"\",\"\",行列入力項目!$C$24)","v":"行20"},{"$f":"IF(行列入力項目!$C$24=\"\",\"\",行列入力項目!$C$24)","v":"行20"},{"$f":"IF(行列入力項目!$C$24=\"\",\"\",行列入力項目!$C$24)","v":"行20"},{"$f":"IF(行列入力項目!$C$24=\"\",\"\",行列入力項目!$C$24)","v":"行20"},{"$f":"IF(行列入力項目!$C$24=\"\",\"\",行列入力項目!$C$24)","v":"行20"}]
[null,1,"対象1"]
[null,2,"対象2"]
[null,3,"対象3"]
[null,4,"対象4"]
[null,5,"対象5"]
[null,6,"対象6"]
[null,7,"対象7"]
[null,8,"対象8"]
[null,9,"対象9"]
[null,10,"対象10"]
[null,11,"対象11"]
[null,12,"対象12"]
[null,13,"対象13"]
[null,14,"対象14"]
[null,15,"対象15"]
[null,16,"対象16"]
[null,17,"対象17"]
[null,18,"対象18"]
[null,19,"対象19"]
[null,20,"対象20"]
[null,21,"対象21"]
[null,22,"対象22"]
[null,23,"対象23"]
[null,24,"対象24"]
[null,25,"対象25"]
[null,26,"対象26"]
[null,27,"対象27"]
[null,28,"対象28"]
[null,29,"対象29"]
[null,30,"対象30"]
[null,31,"対象31"]
[null,32,"対象32"]
[null,33,"対象33"]
[null,34,"対象34"]
[null,35,"対象35"]
[null,36,"対象36"]
[null,37,"対象37"]
[null,38,"対象38"]
[null,39,"対象39"]
[null,40,"対象40"]
[null,41,"対象41"]
[null,42,"対象42"]
[null,43,"対象43"]
[null,44,"対象44"]
[null,45,"対象45"]
[null,46,"対象46"]
[null,47,"対象47"]
[null,48,"対象48"]
[null,49,"対象49"]
[null,50,"対象50"]
[null,"削除禁止行","削除禁止行","削除禁止行","削除禁止行","削除禁止行","削除禁止行","削除禁止行","削除禁止行","削除禁止行","削除禁止行","削除禁止行","削除禁止行","削除禁止行","削除禁止行","削除禁止行","削除禁止行","削除禁止行","削除禁止行","削除禁止行","削除禁止行","削除禁止行","削除禁止行","削除禁止行","削除禁止行","削除禁止行","削除禁止行","削除禁止行","削除禁止行","削除禁止行","削除禁止行","削除禁止行","削除禁止行","削除禁止行","削除禁止行","削除禁止行","削除禁止行","削除禁止行","削除禁止行","削除禁止行","削除禁止行","削除禁止行","削除禁止行","削除禁止行","削除禁止行","削除禁止行","削除禁止行","削除禁止行","削除禁止行","削除禁止行","削除禁止行","削除禁止行","削除禁止行","削除禁止行","削除禁止行","削除禁止行","削除禁止行","削除禁止行","削除禁止行","削除禁止行","削除禁止行","削除禁止行","削除禁止行","削除禁止行","削除禁止行","削除禁止行","削除禁止行","削除禁止行","削除禁止行","削除禁止行","削除禁止行","削除禁止行","削除禁止行","削除禁止行","削除禁止行","削除禁止行","削除禁止行","削除禁止行","削除禁止行","削除禁止行","削除禁止行","削除禁止行","削除禁止行","削除禁止行","削除禁止行","削除禁止行","削除禁止行","削除禁止行","削除禁止行","削除禁止行","削除禁止行","削除禁止行","削除禁止行","削除禁止行","削除禁止行","削除禁止行","削除禁止行","削除禁止行","削除禁止行","削除禁止行","削除禁止行","削除禁止行","削除禁止行","削除禁止行","削除禁止行","削除禁止行","削除禁止行","削除禁止行","削除禁止行","削除禁止行","削除禁止行","削除禁止行","削除禁止行","削除禁止行","削除禁止行","削除禁止行","削除禁止行","削除禁止行","削除禁止行","削除禁止行","削除禁止行","削除禁止行","削除禁止行","削除禁止行","削除禁止行","削除禁止行","削除禁止行","削除禁止行","削除禁止行","削除禁止行","削除禁止行","削除禁止行","削除禁止行","削除禁止行","削除禁止行","削除禁止行","削除禁止行","削除禁止行","削除禁止行","削除禁止行","削除禁止行","削除禁止行","削除禁止行","削除禁止行","削除禁止行","削除禁止行","削除禁止行","削除禁止行","削除禁止行","削除禁止行","削除禁止行","削除禁止行","削除禁止行","削除禁止行","削除禁止行","削除禁止行","削除禁止行","削除禁止行","削除禁止行","削除禁止行","削除禁止行","削除禁止行","削除禁止行","削除禁止行","削除禁止行","削除禁止行","削除禁止行","削除禁止行","削除禁止行","削除禁止行","削除禁止行","削除禁止行","削除禁止行","削除禁止行","削除禁止行","削除禁止行","削除禁止行","削除禁止行","削除禁止行","削除禁止行","削除禁止行","削除禁止行","削除禁止行","削除禁止行","削除禁止行","削除禁止行","削除禁止行","削除禁止行","削除禁止行","削除禁止行","削除禁止行","削除禁止行","削除禁止行","削除禁止行","削除禁止行","削除禁止行","削除禁止行","削除禁止行","削除禁止行","削除禁止行","削除禁止行","削除禁止行","削除禁止行"]

{"sheet":"入力AA3","index":98,"n_rows":58,"n_cols":203,"rows_kept":58,"cut":false,"hidden":false,"merged":[]}
[null,null,null,null,null,{"$f":"入力シート入力可能行数調査!$D$23","v":"入力可能行数　50 行"}]
[null,{"$f":"シート名設定!C32","v":"入力AA3"}]
[]
[]
[null,"ID","対象",{"$f":"IF(項目表示入力!C27=\"\",\"\",項目表示入力!C27)","v":"内容21,1"},{"$f":"IF(項目表示入力!D27=\"\",\"\",項目表示入力!D27)","v":"内容21,2"},{"$f":"IF(項目表示入力!E27=\"\",\"\",項目表示入力!E27)","v":"内容21,3"},{"$f":"IF(項目表示入力!F27=\"\",\"\",項目表示入力!F27)","v":"内容21,4"},{"$f":"IF(項目表示入力!G27=\"\",\"\",項目表示入力!G27)","v":"内容21,5"},{"$f":"IF(項目表示入力!H27=\"\",\"\",項目表示入力!H27)","v":"内容21,6"},{"$f":"IF(項目表示入力!I27=\"\",\"\",項目表示入力!I27)","v":"内容21,7"},{"$f":"IF(項目表示入力!J27=\"\",\"\",項目表示入力!J27)","v":"内容21,8"},{"$f":"IF(項目表示入力!K27=\"\",\"\",項目表示入力!K27)","v":"内容21,9"},{"$f":"IF(項目表示入力!L27=\"\",\"\",項目表示入力!L27)","v":"内容21,10"},{"$f":"IF(項目表示入力!M27=\"\",\"\",項目表示入力!M27)","v":"内容21,11"},{"$f":"IF(項目表示入力!N27=\"\",\"\",項目表示入力!N27)","v":"内容21,12"},{"$f":"IF(項目表示入力!O27=\"\",\"\",項目表示入力!O27)","v":"内容21,13"},{"$f":"IF(項目表示入力!P27=\"\",\"\",項目表示入力!P27)","v":"内容21,14"},{"$f":"IF(項目表示入力!Q27=\"\",\"\",項目表示入力!Q27)","v":"内容21,15"},{"$f":"IF(項目表示入力!R27=\"\",\"\",項目表示入力!R27)","v":"内容21,16"},{"$f":"IF(項目表示入力!S27=\"\",\"\",項目表示入力!S27)","v":"内容21,17"},{"$f":"IF(項目表示入力!T27=\"\",\"\",項目表示入力!T27)","v":"内容21,18"},{"$f":"IF(項目表示入力!U27=\"\",\"\",項目表示入力!U27)","v":"内容21,19"},{"$f":"IF(項目表示入力!V27=\"\",\"\",項目表示入力!V27)","v":"内容21,20"},{"$f":"IF(項目表示入力!C28=\"\",\"\",項目表示入力!C28)","v":"内容22,1"},{"$f":"IF(項目表示入力!D28=\"\",\"\",項目表示入力!D28)","v":"内容22,2"},{"$f":"IF(項目表示入力!E28=\"\",\"\",項目表示入力!E28)","v":"内容22,3"},{"$f":"IF(項目表示入力!F28=\"\",\"\",項目表示入力!F28)","v":"内容22,4"},{"$f":"IF(項目表示入力!G28=\"\",\"\",項目表示入力!G28)","v":"内容22,5"},{"$f":"IF(項目表示入力!H28=\"\",\"\",項目表示入力!H28)","v":"内容22,6"},{"$f":"IF(項目表示入力!I28=\"\",\"\",項目表示入力!I28)","v":"内容22,7"},{"$f":"IF(項目表示入力!J28=\"\",\"\",項目表示入力!J28)","v":"内容22,8"},{"$f":"IF(項目表示入力!K28=\"\",\"\",項目表示入力!K28)","v":"内容22,9"},{"$f":"IF(項目表示入力!L28=\"\",\"\",項目表示入力!L28)","v":"内容22,10"},{"$f":"IF(項目表示入力!M28=\"\",\"\",項目表示入力!M28)","v":"内容22,11"},{"$f":"IF(項目表示入力!N28=\"\",\"\",項目表示入力!N28)","v":"内容22,12"},{"$f":"IF(項目表示入力!O28=\"\",\"\",項目表示入力!O28)","v":"内容22,13"},{"$f":"IF(項目表示入力!P28=\"\",\"\",項目表示入力!P28)","v":"内容22,14"},{"$f":"IF(項目表示入力!Q28=\"\",\"\",項目表示入力!Q28)","v":"内容22,15"},{"$f":"IF(項目表示入力!R28=\"\",\"\",項目表示入力!R28)","v":"内容22,16"},{"$f":"IF(項目表示入力!S28=\"\",\"\",項目表示入力!S28)","v":"内容22,17"},{"$f":"IF(項目表示入力!T28=\"\",\"\",項目表示入力!T28)","v":"内容22,18"},{"$f":"IF(項目表示入力!U28=\"\",\"\",項目表示入力!U28)","v":"内容22,19"},{"$f":"IF(項目表示入力!V28=\"\",\"\",項目表示入力!V28)","v":"内容22,20"},{"$f":"IF(項目表示入力!C29=\"\",\"\",項目表示入力!C29)","v":"内容23,1"},{"$f":"IF(項目表示入力!D29=\"\",\"\",項目表示入力!D29)","v":"内容23,2"},{"$f":"IF(項目表示入力!E29=\"\",\"\",項目表示入力!E29)","v":"内容23,3"},{"$f":"IF(項目表示入力!F29=\"\",\"\",項目表示入力!F29)","v":"内容23,4"},{"$f":"IF(項目表示入力!G29=\"\",\"\",項目表示入力!G29)","v":"内容23,5"},{"$f":"IF(項目表示入力!H29=\"\",\"\",項目表示入力!H29)","v":"内容23,6"},{"$f":"IF(項目表示入力!I29=\"\",\"\",項目表示入力!I29)","v":"内容23,7"},{"$f":"IF(項目表示入力!J29=\"\",\"\",項目表示入力!J29)","v":"内容23,8"},{"$f":"IF(項目表示入力!K29=\"\",\"\",項目表示入力!K29)","v":"内容23,9"},{"$f":"IF(項目表示入力!L29=\"\",\"\",項目表示入力!L29)","v":"内容23,10"},{"$f":"IF(項目表示入力!M29=\"\",\"\",項目表示入力!M29)","v":"内容23,11"},{"$f":"IF(項目表示入力!N29=\"\",\"\",項目表示入力!N29)","v":"内容23,12"},{"$f":"IF(項目表示入力!O29=\"\",\"\",項目表示入力!O29)","v":"内容23,13"},{"$f":"IF(項目表示入力!P29=\"\",\"\",項目表示入力!P29)","v":"内容23,14"},{"$f":"IF(項目表示入力!Q29=\"\",\"\",項目表示入力!Q29)","v":"内容23,15"},{"$f":"IF(項目表示入力!R29=\"\",\"\",項目表示入力!R29)","v":"内容23,16"},{"$f":"IF(項目表示入力!S29=\"\",\"\",項目表示入力!S29)","v":"内容23,17"},{"$f":"IF(項目表示入力!T29=\"\",\"\",項目表示入力!T29)","v":"内容23,18"},{"$f":"IF(項目表示入力!U29=\"\",\"\",項目表示入力!U29)","v":"内容23,19"},{"$f":"IF(項目表示入力!V29=\"\",\"\",項目表示入力!V29)","v":"内容23,20"},{"$f":"IF(項目表示入力!C30=\"\",\"\",項目表示入力!C30)","v":"内容24,1"},{"$f":"IF(項目表示入力!D30=\"\",\"\",項目表示入力!D30)","v":"内容24,2"},{"$f":"IF(項目表示入力!E30=\"\",\"\",項目表示入力!E30)","v":"内容24,3"},{"$f":"IF(項目表示入力!F30=\"\",\"\",項目表示入力!F30)","v":"内容24,4"},{"$f":"IF(項目表示入力!G30=\"\",\"\",項目表示入力!G30)","v":"内容24,5"},{"$f":"IF(項目表示入力!H30=\"\",\"\",項目表示入力!H30)","v":"内容24,6"},{"$f":"IF(項目表示入力!I30=\"\",\"\",項目表示入力!I30)","v":"内容24,7"},{"$f":"IF(項目表示入力!J30=\"\",\"\",項目表示入力!J30)","v":"内容24,8"},{"$f":"IF(項目表示入力!K30=\"\",\"\",項目表示入力!K30)","v":"内容24,9"},{"$f":"IF(項目表示入力!L30=\"\",\"\",項目表示入力!L30)","v":"内容24,10"},{"$f":"IF(項目表示入力!M30=\"\",\"\",項目表示入力!M30)","v":"内容24,11"},{"$f":"IF(項目表示入力!N30=\"\",\"\",項目表示入力!N30)","v":"内容24,12"},{"$f":"IF(項目表示入力!O30=\"\",\"\",項目表示入力!O30)","v":"内容24,13"},{"$f":"IF(項目表示入力!P30=\"\",\"\",項目表示入力!P30)","v":"内容24,14"},{"$f":"IF(項目表示入力!Q30=\"\",\"\",項目表示入力!Q30)","v":"内容24,15"},{"$f":"IF(項目表示入力!R30=\"\",\"\",項目表示入力!R30)","v":"内容24,16"},{"$f":"IF(項目表示入力!S30=\"\",\"\",項目表示入力!S30)","v":"内容24,17"},{"$f":"IF(項目表示入力!T30=\"\",\"\",項目表示入力!T30)","v":"内容24,18"},{"$f":"IF(項目表示入力!U30=\"\",\"\",項目表示入力!U30)","v":"内容24,19"},{"$f":"IF(項目表示入力!V30=\"\",\"\",項目表示入力!V30)","v":"内容24,20"},{"$f":"IF(項目表示入力!C32=\"\",\"\",項目表示入力!C31)","v":"内容25,1"},{"$f":"IF(項目表示入力!D32=\"\",\"\",項目表示入力!D31)","v":"内容25,2"},{"$f":"IF(項目表示入力!E32=\"\",\"\",項目表示入力!E31)","v":"内容25,3"},{"$f":"IF(項目表示入力!F32=\"\",\"\",項目表示入力!F31)","v":"内容25,4"},{"$f":"IF(項目表示入力!G32=\"\",\"\",項目表示入力!G31)","v":"内容25,5"},{"$f":"IF(項目表示入力!H32=\"\",\"\",項目表示入力!H31)","v":"内容25,6"},{"$f":"IF(項目表示入力!I32=\"\",\"\",項目表示入力!I31)","v":"内容25,7"},{"$f":"IF(項目表示入力!J32=\"\",\"\",項目表示入力!J31)","v":"内容25,8"},{"$f":"IF(項目表示入力!K32=\"\",\"\",項目表示入力!K31)","v":"内容25,9"},{"$f":"IF(項目表示入力!L32=\"\",\"\",項目表示入力!L31)","v":"内容25,10"},{"$f":"IF(項目表示入力!M32=\"\",\"\",項目表示入力!M31)","v":"内容25,11"},{"$f":"IF(項目表示入力!N32=\"\",\"\",項目表示入力!N31)","v":"内容25,12"},{"$f":"IF(項目表示入力!O32=\"\",\"\",項目表示入力!O31)","v":"内容25,13"},{"$f":"IF(項目表示入力!P32=\"\",\"\",項目表示入力!P31)","v":"内容25,14"},{"$f":"IF(項目表示入力!Q32=\"\",\"\",項目表示入力!Q31)","v":"内容25,15"},{"$f":"IF(項目表示入力!R32=\"\",\"\",項目表示入力!R31)","v":"内容25,16"},{"$f":"IF(項目表示入力!S32=\"\",\"\",項目表示入力!S31)","v":"内容25,17"},{"$f":"IF(項目表示入力!T32=\"\",\"\",項目表示入力!T31)","v":"内容25,18"},{"$f":"IF(項目表示入力!U32=\"\",\"\",項目表示入力!U31)","v":"内容25,19"},{"$f":"IF(項目表示入力!V32=\"\",\"\",項目表示入力!V31)","v":"内容25,20"},{"$f":"IF(項目表示入力!C32=\"\",\"\",項目表示入力!C32)","v":"内容26,1"},{"$f":"IF(項目表示入力!D32=\"\",\"\",項目表示入力!D32)","v":"内容26,2"},{"$f":"IF(項目表示入力!E32=\"\",\"\",項目表示入力!E32)","v":"内容26,3"},{"$f":"IF(項目表示入力!F32=\"\",\"\",項目表示入力!F32)","v":"内容26,4"},{"$f":"IF(項目表示入力!G32=\"\",\"\",項目表示入力!G32)","v":"内容26,5"},{"$f":"IF(項目表示入力!H32=\"\",\"\",項目表示入力!H32)","v":"内容26,6"},{"$f":"IF(項目表示入力!I32=\"\",\"\",項目表示入力!I32)","v":"内容26,7"},{"$f":"IF(項目表示入力!J32=\"\",\"\",項目表示入力!J32)","v":"内容26,8"},{"$f":"IF(項目表示入力!K32=\"\",\"\",項目表示入力!K32)","v":"内容26,9"},{"$f":"IF(項目表示入力!L32=\"\",\"\",項目表示入力!L32)","v":"内容26,10"},{"$f":"IF(項目表示入力!M32=\"\",\"\",項目表示入力!M32)","v":"内容26,11"},{"$f":"IF(項目表示入力!N32=\"\",\"\",項目表示入力!N32)","v":"内容26,12"},{"$f":"IF(項目表示入力!O32=\"\",\"\",項目表示入力!O32)","v":"内容26,13"},{"$f":"IF(項目表示入力!P32=\"\",\"\",項目表示入力!P32)","v":"内容26,14"},{"$f":"IF(項目表示入力!Q32=\"\",\"\",項目表示入力!Q32)","v":"内容26,15"},{"$f":"IF(項目表示入力!R32=\"\",\"\",項目表示入力!R32)","v":"内容26,16"},{"$f":"IF(項目表示入力!S32=\"\",\"\",項目表示入力!S32)","v":"内容26,17"},{"$f":"IF(項目表示入力!T32=\"\",\"\",項目表示入力!T32)","v":"内容26,18"},{"$f":"IF(項目表示入力!U32=\"\",\"\",項目表示入力!U32)","v":"内容26,19"},{"$f":"IF(項目表示入力!V32=\"\",\"\",項目表示入力!V32)","v":"内容26,20"},{"$f":"IF(項目表示入力!C33=\"\",\"\",項目表示入力!C33)","v":"内容27,1"},{"$f":"IF(項目表示入力!D33=\"\",\"\",項目表示入力!D33)","v":"内容27,2"},{"$f":"IF(項目表示入力!E33=\"\",\"\",項目表示入力!E33)","v":"内容27,3"},{"$f":"IF(項目表示入力!F33=\"\",\"\",項目表示入力!F33)","v":"内容27,4"},{"$f":"IF(項目表示入力!G33=\"\",\"\",項目表示入力!G33)","v":"内容27,5"},{"$f":"IF(項目表示入力!H33=\"\",\"\",項目表示入力!H33)","v":"内容27,6"},{"$f":"IF(項目表示入力!I33=\"\",\"\",項目表示入力!I33)","v":"内容27,7"},{"$f":"IF(項目表示入力!J33=\"\",\"\",項目表示入力!J33)","v":"内容27,8"},{"$f":"IF(項目表示入力!K33=\"\",\"\",項目表示入力!K33)","v":"内容27,9"},{"$f":"IF(項目表示入力!L33=\"\",\"\",項目表示入力!L33)","v":"内容27,10"},{"$f":"IF(項目表示入力!M33=\"\",\"\",項目表示入力!M33)","v":"内容27,11"},{"$f":"IF(項目表示入力!N33=\"\",\"\",項目表示入力!N33)","v":"内容27,12"},{"$f":"IF(項目表示入力!O33=\"\",\"\",項目表示入力!O33)","v":"内容27,13"},{"$f":"IF(項目表示入力!P33=\"\",\"\",項目表示入力!P33)","v":"内容27,14"},{"$f":"IF(項目表示入力!Q33=\"\",\"\",項目表示入力!Q33)","v":"内容27,15"},{"$f":"IF(項目表示入力!R33=\"\",\"\",項目表示入力!R33)","v":"内容27,16"},{"$f":"IF(項目表示入力!S33=\"\",\"\",項目表示入力!S33)","v":"内容27,17"},{"$f":"IF(項目表示入力!T33=\"\",\"\",項目表示入力!T33)","v":"内容27,18"},{"$f":"IF(項目表示入力!U33=\"\",\"\",項目表示入力!U33)","v":"内容27,19"},{"$f":"IF(項目表示入力!V33=\"\",\"\",項目表示入力!V33)","v":"内容27,20"},{"$f":"IF(項目表示入力!C34=\"\",\"\",項目表示入力!C34)","v":"内容28,1"},{"$f":"IF(項目表示入力!D34=\"\",\"\",項目表示入力!D34)","v":"内容28,2"},{"$f":"IF(項目表示入力!E34=\"\",\"\",項目表示入力!E34)","v":"内容28,3"},{"$f":"IF(項目表示入力!F34=\"\",\"\",項目表示入力!F34)","v":"内容28,4"},{"$f":"IF(項目表示入力!G34=\"\",\"\",項目表示入力!G34)","v":"内容28,5"},{"$f":"IF(項目表示入力!H34=\"\",\"\",項目表示入力!H34)","v":"内容28,6"},{"$f":"IF(項目表示入力!I34=\"\",\"\",項目表示入力!I34)","v":"内容28,7"},{"$f":"IF(項目表示入力!J34=\"\",\"\",項目表示入力!J34)","v":"内容28,8"},{"$f":"IF(項目表示入力!K34=\"\",\"\",項目表示入力!K34)","v":"内容28,9"},{"$f":"IF(項目表示入力!L34=\"\",\"\",項目表示入力!L34)","v":"内容28,10"},{"$f":"IF(項目表示入力!M34=\"\",\"\",項目表示入力!M34)","v":"内容28,11"},{"$f":"IF(項目表示入力!N34=\"\",\"\",項目表示入力!N34)","v":"内容28,12"},{"$f":"IF(項目表示入力!O34=\"\",\"\",項目表示入力!O34)","v":"内容28,13"},{"$f":"IF(項目表示入力!P34=\"\",\"\",項目表示入力!P34)","v":"内容28,14"},{"$f":"IF(項目表示入力!Q34=\"\",\"\",項目表示入力!Q34)","v":"内容28,15"},{"$f":"IF(項目表示入力!R34=\"\",\"\",項目表示入力!R34)","v":"内容28,16"},{"$f":"IF(項目表示入力!S34=\"\",\"\",項目表示入力!S34)","v":"内容28,17"},{"$f":"IF(項目表示入力!T34=\"\",\"\",項目表示入力!T34)","v":"内容28,18"},{"$f":"IF(項目表示入力!U34=\"\",\"\",項目表示入力!U34)","v":"内容28,19"},{"$f":"IF(項目表示入力!V34=\"\",\"\",項目表示入力!V34)","v":"内容28,20"},{"$f":"IF(項目表示入力!C35=\"\",\"\",項目表示入力!C35)","v":"内容29,1"},{"$f":"IF(項目表示入力!D35=\"\",\"\",項目表示入力!D35)","v":"内容29,2"},{"$f":"IF(項目表示入力!E35=\"\",\"\",項目表示入力!E35)","v":"内容29,3"},{"$f":"IF(項目表示入力!F35=\"\",\"\",項目表示入力!F35)","v":"内容29,4"},{"$f":"IF(項目表示入力!G35=\"\",\"\",項目表示入力!G35)","v":"内容29,5"},{"$f":"IF(項目表示入力!H35=\"\",\"\",項目表示入力!H35)","v":"内容29,6"},{"$f":"IF(項目表示入力!I35=\"\",\"\",項目表示入力!I35)","v":"内容29,7"},{"$f":"IF(項目表示入力!J35=\"\",\"\",項目表示入力!J35)","v":"内容29,8"},{"$f":"IF(項目表示入力!K35=\"\",\"\",項目表示入力!K35)","v":"内容29,9"},{"$f":"IF(項目表示入力!L35=\"\",\"\",項目表示入力!L35)","v":"内容29,10"},{"$f":"IF(項目表示入力!M35=\"\",\"\",項目表示入力!M35)","v":"内容29,11"},{"$f":"IF(項目表示入力!N35=\"\",\"\",項目表示入力!N35)","v":"内容29,12"},{"$f":"IF(項目表示入力!O35=\"\",\"\",項目表示入力!O35)","v":"内容29,13"},{"$f":"IF(項目表示入力!P35=\"\",\"\",項目表示入力!P35)","v":"内容29,14"},{"$f":"IF(項目表示入力!Q35=\"\",\"\",項目表示入力!Q35)","v":"内容29,15"},{"$f":"IF(項目表示入力!R35=\"\",\"\",項目表示入力!R35)","v":"内容29,16"},{"$f":"IF(項目表示入力!S35=\"\",\"\",項目表示入力!S35)","v":"内容29,17"},{"$f":"IF(項目表示入力!T35=\"\",\"\",項目表示入力!T35)","v":"内容29,18"},{"$f":"IF(項目表示入力!U35=\"\",\"\",項目表示入力!U35)","v":"内容29,19"},{"$f":"IF(項目表示入力!V35=\"\",\"\",項目表示入力!V35)","v":"内容29,20"},{"$f":"IF(項目表示入力!C36=\"\",\"\",項目表示入力!C36)","v":"内容30,1"},{"$f":"IF(項目表示入力!D36=\"\",\"\",項目表示入力!D36)","v":"内容30,2"},{"$f":"IF(項目表示入力!E36=\"\",\"\",項目表示入力!E36)","v":"内容30,3"},{"$f":"IF(項目表示入力!F36=\"\",\"\",項目表示入力!F36)","v":"内容30,4"},{"$f":"IF(項目表示入力!G36=\"\",\"\",項目表示入力!G36)","v":"内容30,5"},{"$f":"IF(項目表示入力!H36=\"\",\"\",項目表示入力!H36)","v":"内容30,6"},{"$f":"IF(項目表示入力!I36=\"\",\"\",項目表示入力!I36)","v":"内容30,7"},{"$f":"IF(項目表示入力!J36=\"\",\"\",項目表示入力!J36)","v":"内容30,8"},{"$f":"IF(項目表示入力!K36=\"\",\"\",項目表示入力!K36)","v":"内容30,9"},{"$f":"IF(項目表示入力!L36=\"\",\"\",項目表示入力!L36)","v":"内容30,10"},{"$f":"IF(項目表示入力!M36=\"\",\"\",項目表示入力!M36)","v":"内容30,11"},{"$f":"IF(項目表示入力!N36=\"\",\"\",項目表示入力!N36)","v":"内容30,12"},{"$f":"IF(項目表示入力!O36=\"\",\"\",項目表示入力!O36)","v":"内容30,13"},{"$f":"IF(項目表示入力!P36=\"\",\"\",項目表示入力!P36)","v":"内容30,14"},{"$f":"IF(項目表示入力!Q36=\"\",\"\",項目表示入力!Q36)","v":"内容30,15"},{"$f":"IF(項目表示入力!R36=\"\",\"\",項目表示入力!R36)","v":"内容30,16"},{"$f":"IF(項目表示入力!S36=\"\",\"\",項目表示入力!S36)","v":"内容30,17"},{"$f":"IF(項目表示入力!T36=\"\",\"\",項目表示入力!T36)","v":"内容30,18"},{"$f":"IF(項目表示入力!U36=\"\",\"\",項目表示入力!U36)","v":"内容30,19"},{"$f":"IF(項目表示入力!V36=\"\",\"\",項目表示入力!V36)","v":"内容30,20"}]
[null,-2,-2,{"$f":"IF(オフセット番号A!$C$4=\"\",\"\",オフセット番号A!$C$4)","v":"列1"},{"$f":"IF(オフセット番号A!$D$4=\"\",\"\",オフセット番号A!$D$4)","v":"列2"},{"$f":"IF(オフセット番号A!$E$4=\"\",\"\",オフセット番号A!$E$4)","v":"列3"},{"$f":"IF(オフセット番号A!$F$4=\"\",\"\",オフセット番号A!$F$4)","v":"列4"},{"$f":"IF(オフセット番号A!$G$4=\"\",\"\",オフセット番号A!$G$4)","v":"列5"},{"$f":"IF(オフセット番号A!$H$4=\"\",\"\",オフセット番号A!$H$4)","v":"列6"},{"$f":"IF(オフセット番号A!$I$4=\"\",\"\",オフセット番号A!$I$4)","v":"列7"},{"$f":"IF(オフセット番号A!$J$4=\"\",\"\",オフセット番号A!$J$4)","v":"列8"},{"$f":"IF(オフセット番号A!$K$4=\"\",\"\",オフセット番号A!$K$4)","v":"列9"},{"$f":"IF(オフセット番号A!$L$4=\"\",\"\",オフセット番号A!$L$4)","v":"列10"},{"$f":"IF(オフセット番号A!$M$4=\"\",\"\",オフセット番号A!$M$4)","v":"列11"},{"$f":"IF(オフセット番号A!$N$4=\"\",\"\",オフセット番号A!$N$4)","v":"列12"},{"$f":"IF(オフセット番号A!$O$4=\"\",\"\",オフセット番号A!$O$4)","v":"列13"},{"$f":"IF(オフセット番号A!$P$4=\"\",\"\",オフセット番号A!$P$4)","v":"列14"},{"$f":"IF(オフセット番号A!$Q$4=\"\",\"\",オフセット番号A!$Q$4)","v":"列15"},{"$f":"IF(オフセット番号A!$R$4=\"\",\"\",オフセット番号A!$R$4)","v":"列16"},{"$f":"IF(オフセット番号A!$S$4=\"\",\"\",オフセット番号A!$S$4)","v":"列17"},{"$f":"IF(オフセット番号A!$T$4=\"\",\"\",オフセット番号A!$T$4)","v":"列18"},{"$f":"IF(オフセット番号A!$U$4=\"\",\"\",オフセット番号A!$U$4)","v":"列19"},{"$f":"IF(オフセット番号A!$V$4=\"\",\"\",オフセット番号A!$V$4)","v":"列20"},{"$f":"IF(オフセット番号A!$C$4=\"\",\"\",オフセット番号A!$C$4)","v":"列1"},{"$f":"IF(オフセット番号A!$D$4=\"\",\"\",オフセット番号A!$D$4)","v":"列2"},{"$f":"IF(オフセット番号A!$E$4=\"\",\"\",オフセット番号A!$E$4)","v":"列3"},{"$f":"IF(オフセット番号A!$F$4=\"\",\"\",オフセット番号A!$F$4)","v":"列4"},{"$f":"IF(オフセット番号A!$G$4=\"\",\"\",オフセット番号A!$G$4)","v":"列5"},{"$f":"IF(オフセット番号A!$H$4=\"\",\"\",オフセット番号A!$H$4)","v":"列6"},{"$f":"IF(オフセット番号A!$I$4=\"\",\"\",オフセット番号A!$I$4)","v":"列7"},{"$f":"IF(オフセット番号A!$J$4=\"\",\"\",オフセット番号A!$J$4)","v":"列8"},{"$f":"IF(オフセット番号A!$K$4=\"\",\"\",オフセット番号A!$K$4)","v":"列9"},{"$f":"IF(オフセット番号A!$L$4=\"\",\"\",オフセット番号A!$L$4)","v":"列10"},{"$f":"IF(オフセット番号A!$M$4=\"\",\"\",オフセット番号A!$M$4)","v":"列11"},{"$f":"IF(オフセット番号A!$N$4=\"\",\"\",オフセット番号A!$N$4)","v":"列12"},{"$f":"IF(オフセット番号A!$O$4=\"\",\"\",オフセット番号A!$O$4)","v":"列13"},{"$f":"IF(オフセット番号A!$P$4=\"\",\"\",オフセット番号A!$P$4)","v":"列14"},{"$f":"IF(オフセット番号A!$Q$4=\"\",\"\",オフセット番号A!$Q$4)","v":"列15"},{"$f":"IF(オフセット番号A!$R$4=\"\",\"\",オフセット番号A!$R$4)","v":"列16"},{"$f":"IF(オフセット番号A!$S$4=\"\",\"\",オフセット番号A!$S$4)","v":"列17"},{"$f":"IF(オフセット番号A!$T$4=\"\",\"\",オフセット番号A!$T$4)","v":"列18"},{"$f":"IF(オフセット番号A!$U$4=\"\",\"\",オフセット番号A!$U$4)","v":"列19"},{"$f":"IF(オフセット番号A!$V$4=\"\",\"\",オフセット番号A!$V$4)","v":"列20"},{"$f":"IF(オフセット番号A!$C$4=\"\",\"\",オフセット番号A!$C$4)","v":"列1"},{"$f":"IF(オフセット番号A!$D$4=\"\",\"\",オフセット番号A!$D$4)","v":"列2"},{"$f":"IF(オフセット番号A!$E$4=\"\",\"\",オフセット番号A!$E$4)","v":"列3"},{"$f":"IF(オフセット番号A!$F$4=\"\",\"\",オフセット番号A!$F$4)","v":"列4"},{"$f":"IF(オフセット番号A!$G$4=\"\",\"\",オフセット番号A!$G$4)","v":"列5"},{"$f":"IF(オフセット番号A!$H$4=\"\",\"\",オフセット番号A!$H$4)","v":"列6"},{"$f":"IF(オフセット番号A!$I$4=\"\",\"\",オフセット番号A!$I$4)","v":"列7"},{"$f":"IF(オフセット番号A!$J$4=\"\",\"\",オフセット番号A!$J$4)","v":"列8"},{"$f":"IF(オフセット番号A!$K$4=\"\",\"\",オフセット番号A!$K$4)","v":"列9"},{"$f":"IF(オフセット番号A!$L$4=\"\",\"\",オフセット番号A!$L$4)","v":"列10"},{"$f":"IF(オフセット番号A!$M$4=\"\",\"\",オフセット番号A!$M$4)","v":"列11"},{"$f":"IF(オフセット番号A!$N$4=\"\",\"\",オフセット番号A!$N$4)","v":"列12"},{"$f":"IF(オフセット番号A!$O$4=\"\",\"\",オフセット番号A!$O$4)","v":"列13"},{"$f":"IF(オフセット番号A!$P$4=\"\",\"\",オフセット番号A!$P$4)","v":"列14"},{"$f":"IF(オフセット番号A!$Q$4=\"\",\"\",オフセット番号A!$Q$4)","v":"列15"},{"$f":"IF(オフセット番号A!$R$4=\"\",\"\",オフセット番号A!$R$4)","v":"列16"},{"$f":"IF(オフセット番号A!$S$4=\"\",\"\",オフセット番号A!$S$4)","v":"列17"},{"$f":"IF(オフセット番号A!$T$4=\"\",\"\",オフセット番号A!$T$4)","v":"列18"},{"$f":"IF(オフセット番号A!$U$4=\"\",\"\",オフセット番号A!$U$4)","v":"列19"},{"$f":"IF(オフセット番号A!$V$4=\"\",\"\",オフセット番号A!$V$4)","v":"列20"},{"$f":"IF(オフセット番号A!$C$4=\"\",\"\",オフセット番号A!$C$4)","v":"列1"},{"$f":"IF(オフセット番号A!$D$4=\"\",\"\",オフセット番号A!$D$4)","v":"列2"},{"$f":"IF(オフセット番号A!$E$4=\"\",\"\",オフセット番号A!$E$4)","v":"列3"},{"$f":"IF(オフセット番号A!$F$4=\"\",\"\",オフセット番号A!$F$4)","v":"列4"},{"$f":"IF(オフセット番号A!$G$4=\"\",\"\",オフセット番号A!$G$4)","v":"列5"},{"$f":"IF(オフセット番号A!$H$4=\"\",\"\",オフセット番号A!$H$4)","v":"列6"},{"$f":"IF(オフセット番号A!$I$4=\"\",\"\",オフセット番号A!$I$4)","v":"列7"},{"$f":"IF(オフセット番号A!$J$4=\"\",\"\",オフセット番号A!$J$4)","v":"列8"},{"$f":"IF(オフセット番号A!$K$4=\"\",\"\",オフセット番号A!$K$4)","v":"列9"},{"$f":"IF(オフセット番号A!$L$4=\"\",\"\",オフセット番号A!$L$4)","v":"列10"},{"$f":"IF(オフセット番号A!$M$4=\"\",\"\",オフセット番号A!$M$4)","v":"列11"},{"$f":"IF(オフセット番号A!$N$4=\"\",\"\",オフセット番号A!$N$4)","v":"列12"},{"$f":"IF(オフセット番号A!$O$4=\"\",\"\",オフセット番号A!$O$4)","v":"列13"},{"$f":"IF(オフセット番号A!$P$4=\"\",\"\",オフセット番号A!$P$4)","v":"列14"},{"$f":"IF(オフセット番号A!$Q$4=\"\",\"\",オフセット番号A!$Q$4)","v":"列15"},{"$f":"IF(オフセット番号A!$R$4=\"\",\"\",オフセット番号A!$R$4)","v":"列16"},{"$f":"IF(オフセット番号A!$S$4=\"\",\"\",オフセット番号A!$S$4)","v":"列17"},{"$f":"IF(オフセット番号A!$T$4=\"\",\"\",オフセット番号A!$T$4)","v":"列18"},{"$f":"IF(オフセット番号A!$U$4=\"\",\"\",オフセット番号A!$U$4)","v":"列19"},{"$f":"IF(オフセット番号A!$V$4=\"\",\"\",オフセット番号A!$V$4)","v":"列20"},{"$f":"IF(オフセット番号A!$C$4=\"\",\"\",オフセット番号A!$C$4)","v":"列1"},{"$f":"IF(オフセット番号A!$D$4=\"\",\"\",オフセット番号A!$D$4)","v":"列2"},{"$f":"IF(オフセット番号A!$E$4=\"\",\"\",オフセット番号A!$E$4)","v":"列3"},{"$f":"IF(オフセット番号A!$F$4=\"\",\"\",オフセット番号A!$F$4)","v":"列4"},{"$f":"IF(オフセット番号A!$G$4=\"\",\"\",オフセット番号A!$G$4)","v":"列5"},{"$f":"IF(オフセット番号A!$H$4=\"\",\"\",オフセット番号A!$H$4)","v":"列6"},{"$f":"IF(オフセット番号A!$I$4=\"\",\"\",オフセット番号A!$I$4)","v":"列7"},{"$f":"IF(オフセット番号A!$J$4=\"\",\"\",オフセット番号A!$J$4)","v":"列8"},{"$f":"IF(オフセット番号A!$K$4=\"\",\"\",オフセット番号A!$K$4)","v":"列9"},{"$f":"IF(オフセット番号A!$L$4=\"\",\"\",オフセット番号A!$L$4)","v":"列10"},{"$f":"IF(オフセット番号A!$M$4=\"\",\"\",オフセット番号A!$M$4)","v":"列11"},{"$f":"IF(オフセット番号A!$N$4=\"\",\"\",オフセット番号A!$N$4)","v":"列12"},{"$f":"IF(オフセット番号A!$O$4=\"\",\"\",オフセット番号A!$O$4)","v":"列13"},{"$f":"IF(オフセット番号A!$P$4=\"\",\"\",オフセット番号A!$P$4)","v":"列14"},{"$f":"IF(オフセット番号A!$Q$4=\"\",\"\",オフセット番号A!$Q$4)","v":"列15"},{"$f":"IF(オフセット番号A!$R$4=\"\",\"\",オフセット番号A!$R$4)","v":"列16"},{"$f":"IF(オフセット番号A!$S$4=\"\",\"\",オフセット番号A!$S$4)","v":"列17"},{"$f":"IF(オフセット番号A!$T$4=\"\",\"\",オフセット番号A!$T$4)","v":"列18"},{"$f":"IF(オフセット番号A!$U$4=\"\",\"\",オフセット番号A!$U$4)","v":"列19"},{"$f":"IF(オフセット番号A!$V$4=\"\",\"\",オフセット番号A!$V$4)","v":"列20"},{"$f":"IF(オフセット番号A!$C$4=\"\",\"\",オフセット番号A!$C$4)","v":"列1"},{"$f":"IF(オフセット番号A!$D$4=\"\",\"\",オフセット番号A!$D$4)","v":"列2"},{"$f":"IF(オフセット番号A!$E$4=\"\",\"\",オフセット番号A!$E$4)","v":"列3"},{"$f":"IF(オフセット番号A!$F$4=\"\",\"\",オフセット番号A!$F$4)","v":"列4"},{"$f":"IF(オフセット番号A!$G$4=\"\",\"\",オフセット番号A!$G$4)","v":"列5"},{"$f":"IF(オフセット番号A!$H$4=\"\",\"\",オフセット番号A!$H$4)","v":"列6"},{"$f":"IF(オフセット番号A!$I$4=\"\",\"\",オフセット番号A!$I$4)","v":"列7"},{"$f":"IF(オフセット番号A!$J$4=\"\",\"\",オフセット番号A!$J$4)","v":"列8"},{"$f":"IF(オフセット番号A!$K$4=\"\",\"\",オフセット番号A!$K$4)","v":"列9"},{"$f":"IF(オフセット番号A!$L$4=\"\",\"\",オフセット番号A!$L$4)","v":"列10"},{"$f":"IF(オフセット番号A!$M$4=\"\",\"\",オフセット番号A!$M$4)","v":"列11"},{"$f":"IF(オフセット番号A!$N$4=\"\",\"\",オフセット番号A!$N$4)","v":"列12"},{"$f":"IF(オフセット番号A!$O$4=\"\",\"\",オフセット番号A!$O$4)","v":"列13"},{"$f":"IF(オフセット番号A!$P$4=\"\",\"\",オフセット番号A!$P$4)","v":"列14"},{"$f":"IF(オフセット番号A!$Q$4=\"\",\"\",オフセット番号A!$Q$4)","v":"列15"},{"$f":"IF(オフセット番号A!$R$4=\"\",\"\",オフセット番号A!$R$4)","v":"列16"},{"$f":"IF(オフセット番号A!$S$4=\"\",\"\",オフセット番号A!$S$4)","v":"列17"},{"$f":"IF(オフセット番号A!$T$4=\"\",\"\",オフセット番号A!$T$4)","v":"列18"},{"$f":"IF(オフセット番号A!$U$4=\"\",\"\",オフセット番号A!$U$4)","v":"列19"},{"$f":"IF(オフセット番号A!$V$4=\"\",\"\",オフセット番号A!$V$4)","v":"列20"},{"$f":"IF(オフセット番号A!$C$4=\"\",\"\",オフセット番号A!$C$4)","v":"列1"},{"$f":"IF(オフセット番号A!$D$4=\"\",\"\",オフセット番号A!$D$4)","v":"列2"},{"$f":"IF(オフセット番号A!$E$4=\"\",\"\",オフセット番号A!$E$4)","v":"列3"},{"$f":"IF(オフセット番号A!$F$4=\"\",\"\",オフセット番号A!$F$4)","v":"列4"},{"$f":"IF(オフセット番号A!$G$4=\"\",\"\",オフセット番号A!$G$4)","v":"列5"},{"$f":"IF(オフセット番号A!$H$4=\"\",\"\",オフセット番号A!$H$4)","v":"列6"},{"$f":"IF(オフセット番号A!$I$4=\"\",\"\",オフセット番号A!$I$4)","v":"列7"},{"$f":"IF(オフセット番号A!$J$4=\"\",\"\",オフセット番号A!$J$4)","v":"列8"},{"$f":"IF(オフセット番号A!$K$4=\"\",\"\",オフセット番号A!$K$4)","v":"列9"},{"$f":"IF(オフセット番号A!$L$4=\"\",\"\",オフセット番号A!$L$4)","v":"列10"},{"$f":"IF(オフセット番号A!$M$4=\"\",\"\",オフセット番号A!$M$4)","v":"列11"},{"$f":"IF(オフセット番号A!$N$4=\"\",\"\",オフセット番号A!$N$4)","v":"列12"},{"$f":"IF(オフセット番号A!$O$4=\"\",\"\",オフセット番号A!$O$4)","v":"列13"},{"$f":"IF(オフセット番号A!$P$4=\"\",\"\",オフセット番号A!$P$4)","v":"列14"},{"$f":"IF(オフセット番号A!$Q$4=\"\",\"\",オフセット番号A!$Q$4)","v":"列15"},{"$f":"IF(オフセット番号A!$R$4=\"\",\"\",オフセット番号A!$R$4)","v":"列16"},{"$f":"IF(オフセット番号A!$S$4=\"\",\"\",オフセット番号A!$S$4)","v":"列17"},{"$f":"IF(オフセット番号A!$T$4=\"\",\"\",オフセット番号A!$T$4)","v":"列18"},{"$f":"IF(オフセット番号A!$U$4=\"\",\"\",オフセット番号A!$U$4)","v":"列19"},{"$f":"IF(オフセット番号A!$V$4=\"\",\"\",オフセット番号A!$V$4)","v":"列20"},{"$f":"IF(オフセット番号A!$C$4=\"\",\"\",オフセット番号A!$C$4)","v":"列1"},{"$f":"IF(オフセット番号A!$D$4=\"\",\"\",オフセット番号A!$D$4)","v":"列2"},{"$f":"IF(オフセット番号A!$E$4=\"\",\"\",オフセット番号A!$E$4)","v":"列3"},{"$f":"IF(オフセット番号A!$F$4=\"\",\"\",オフセット番号A!$F$4)","v":"列4"},{"$f":"IF(オフセット番号A!$G$4=\"\",\"\",オフセット番号A!$G$4)","v":"列5"},{"$f":"IF(オフセット番号A!$H$4=\"\",\"\",オフセット番号A!$H$4)","v":"列6"},{"$f":"IF(オフセット番号A!$I$4=\"\",\"\",オフセット番号A!$I$4)","v":"列7"},{"$f":"IF(オフセット番号A!$J$4=\"\",\"\",オフセット番号A!$J$4)","v":"列8"},{"$f":"IF(オフセット番号A!$K$4=\"\",\"\",オフセット番号A!$K$4)","v":"列9"},{"$f":"IF(オフセット番号A!$L$4=\"\",\"\",オフセット番号A!$L$4)","v":"列10"},{"$f":"IF(オフセット番号A!$M$4=\"\",\"\",オフセット番号A!$M$4)","v":"列11"},{"$f":"IF(オフセット番号A!$N$4=\"\",\"\",オフセット番号A!$N$4)","v":"列12"},{"$f":"IF(オフセット番号A!$O$4=\"\",\"\",オフセット番号A!$O$4)","v":"列13"},{"$f":"IF(オフセット番号A!$P$4=\"\",\"\",オフセット番号A!$P$4)","v":"列14"},{"$f":"IF(オフセット番号A!$Q$4=\"\",\"\",オフセット番号A!$Q$4)","v":"列15"},{"$f":"IF(オフセット番号A!$R$4=\"\",\"\",オフセット番号A!$R$4)","v":"列16"},{"$f":"IF(オフセット番号A!$S$4=\"\",\"\",オフセット番号A!$S$4)","v":"列17"},{"$f":"IF(オフセット番号A!$T$4=\"\",\"\",オフセット番号A!$T$4)","v":"列18"},{"$f":"IF(オフセット番号A!$U$4=\"\",\"\",オフセット番号A!$U$4)","v":"列19"},{"$f":"IF(オフセット番号A!$V$4=\"\",\"\",オフセット番号A!$V$4)","v":"列20"},{"$f":"IF(オフセット番号A!$C$4=\"\",\"\",オフセット番号A!$C$4)","v":"列1"},{"$f":"IF(オフセット番号A!$D$4=\"\",\"\",オフセット番号A!$D$4)","v":"列2"},{"$f":"IF(オフセット番号A!$E$4=\"\",\"\",オフセット番号A!$E$4)","v":"列3"},{"$f":"IF(オフセット番号A!$F$4=\"\",\"\",オフセット番号A!$F$4)","v":"列4"},{"$f":"IF(オフセット番号A!$G$4=\"\",\"\",オフセット番号A!$G$4)","v":"列5"},{"$f":"IF(オフセット番号A!$H$4=\"\",\"\",オフセット番号A!$H$4)","v":"列6"},{"$f":"IF(オフセット番号A!$I$4=\"\",\"\",オフセット番号A!$I$4)","v":"列7"},{"$f":"IF(オフセット番号A!$J$4=\"\",\"\",オフセット番号A!$J$4)","v":"列8"},{"$f":"IF(オフセット番号A!$K$4=\"\",\"\",オフセット番号A!$K$4)","v":"列9"},{"$f":"IF(オフセット番号A!$L$4=\"\",\"\",オフセット番号A!$L$4)","v":"列10"},{"$f":"IF(オフセット番号A!$M$4=\"\",\"\",オフセット番号A!$M$4)","v":"列11"},{"$f":"IF(オフセット番号A!$N$4=\"\",\"\",オフセット番号A!$N$4)","v":"列12"},{"$f":"IF(オフセット番号A!$O$4=\"\",\"\",オフセット番号A!$O$4)","v":"列13"},{"$f":"IF(オフセット番号A!$P$4=\"\",\"\",オフセット番号A!$P$4)","v":"列14"},{"$f":"IF(オフセット番号A!$Q$4=\"\",\"\",オフセット番号A!$Q$4)","v":"列15"},{"$f":"IF(オフセット番号A!$R$4=\"\",\"\",オフセット番号A!$R$4)","v":"列16"},{"$f":"IF(オフセット番号A!$S$4=\"\",\"\",オフセット番号A!$S$4)","v":"列17"},{"$f":"IF(オフセット番号A!$T$4=\"\",\"\",オフセット番号A!$T$4)","v":"列18"},{"$f":"IF(オフセット番号A!$U$4=\"\",\"\",オフセット番号A!$U$4)","v":"列19"},{"$f":"IF(オフセット番号A!$V$4=\"\",\"\",オフセット番号A!$V$4)","v":"列20"},{"$f":"IF(オフセット番号A!$C$4=\"\",\"\",オフセット番号A!$C$4)","v":"列1"},{"$f":"IF(オフセット番号A!$D$4=\"\",\"\",オフセット番号A!$D$4)","v":"列2"},{"$f":"IF(オフセット番号A!$E$4=\"\",\"\",オフセット番号A!$E$4)","v":"列3"},{"$f":"IF(オフセット番号A!$F$4=\"\",\"\",オフセット番号A!$F$4)","v":"列4"},{"$f":"IF(オフセット番号A!$G$4=\"\",\"\",オフセット番号A!$G$4)","v":"列5"},{"$f":"IF(オフセット番号A!$H$4=\"\",\"\",オフセット番号A!$H$4)","v":"列6"},{"$f":"IF(オフセット番号A!$I$4=\"\",\"\",オフセット番号A!$I$4)","v":"列7"},{"$f":"IF(オフセット番号A!$J$4=\"\",\"\",オフセット番号A!$J$4)","v":"列8"},{"$f":"IF(オフセット番号A!$K$4=\"\",\"\",オフセット番号A!$K$4)","v":"列9"},{"$f":"IF(オフセット番号A!$L$4=\"\",\"\",オフセット番号A!$L$4)","v":"列10"},{"$f":"IF(オフセット番号A!$M$4=\"\",\"\",オフセット番号A!$M$4)","v":"列11"},{"$f":"IF(オフセット番号A!$N$4=\"\",\"\",オフセット番号A!$N$4)","v":"列12"},{"$f":"IF(オフセット番号A!$O$4=\"\",\"\",オフセット番号A!$O$4)","v":"列13"},{"$f":"IF(オフセット番号A!$P$4=\"\",\"\",オフセット番号A!$P$4)","v":"列14"},{"$f":"IF(オフセット番号A!$Q$4=\"\",\"\",オフセット番号A!$Q$4)","v":"列15"},{"$f":"IF(オフセット番号A!$R$4=\"\",\"\",オフセット番号A!$R$4)","v":"列16"},{"$f":"IF(オフセット番号A!$S$4=\"\",\"\",オフセット番号A!$S$4)","v":"列17"},{"$f":"IF(オフセット番号A!$T$4=\"\",\"\",オフセット番号A!$T$4)","v":"列18"},{"$f":"IF(オフセット番号A!$U$4=\"\",\"\",オフセット番号A!$U$4)","v":"列19"},{"$f":"IF(オフセット番号A!$V$4=\"\",\"\",オフセット番号A!$V$4)","v":"列20"}]
[null,-1,-1,{"$f":"IF(行列入力項目!$C$25=\"\",\"\",行列入力項目!$C$25)","v":"行21"},{"$f":"IF(行列入力項目!$C$25=\"\",\"\",行列入力項目!$C$25)","v":"行21"},{"$f":"IF(行列入力項目!$C$25=\"\",\"\",行列入力項目!$C$25)","v":"行21"},{"$f":"IF(行列入力項目!$C$25=\"\",\"\",行列入力項目!$C$25)","v":"行21"},{"$f":"IF(行列入力項目!$C$25=\"\",\"\",行列入力項目!$C$25)","v":"行21"},{"$f":"IF(行列入力項目!$C$25=\"\",\"\",行列入力項目!$C$25)","v":"行21"},{"$f":"IF(行列入力項目!$C$25=\"\",\"\",行列入力項目!$C$25)","v":"行21"},{"$f":"IF(行列入力項目!$C$25=\"\",\"\",行列入力項目!$C$25)","v":"行21"},{"$f":"IF(行列入力項目!$C$25=\"\",\"\",行列入力項目!$C$25)","v":"行21"},{"$f":"IF(行列入力項目!$C$25=\"\",\"\",行列入力項目!$C$25)","v":"行21"},{"$f":"IF(行列入力項目!$C$25=\"\",\"\",行列入力項目!$C$25)","v":"行21"},{"$f":"IF(行列入力項目!$C$25=\"\",\"\",行列入力項目!$C$25)","v":"行21"},{"$f":"IF(行列入力項目!$C$25=\"\",\"\",行列入力項目!$C$25)","v":"行21"},{"$f":"IF(行列入力項目!$C$25=\"\",\"\",行列入力項目!$C$25)","v":"行21"},{"$f":"IF(行列入力項目!$C$25=\"\",\"\",行列入力項目!$C$25)","v":"行21"},{"$f":"IF(行列入力項目!$C$25=\"\",\"\",行列入力項目!$C$25)","v":"行21"},{"$f":"IF(行列入力項目!$C$25=\"\",\"\",行列入力項目!$C$25)","v":"行21"},{"$f":"IF(行列入力項目!$C$25=\"\",\"\",行列入力項目!$C$25)","v":"行21"},{"$f":"IF(行列入力項目!$C$25=\"\",\"\",行列入力項目!$C$25)","v":"行21"},{"$f":"IF(行列入力項目!$C$25=\"\",\"\",行列入力項目!$C$25)","v":"行21"},{"$f":"IF(行列入力項目!$C$26=\"\",\"\",行列入力項目!$C$26)","v":"行22"},{"$f":"IF(行列入力項目!$C$26=\"\",\"\",行列入力項目!$C$26)","v":"行22"},{"$f":"IF(行列入力項目!$C$26=\"\",\"\",行列入力項目!$C$26)","v":"行22"},{"$f":"IF(行列入力項目!$C$26=\"\",\"\",行列入力項目!$C$26)","v":"行22"},{"$f":"IF(行列入力項目!$C$26=\"\",\"\",行列入力項目!$C$26)","v":"行22"},{"$f":"IF(行列入力項目!$C$26=\"\",\"\",行列入力項目!$C$26)","v":"行22"},{"$f":"IF(行列入力項目!$C$26=\"\",\"\",行列入力項目!$C$26)","v":"行22"},{"$f":"IF(行列入力項目!$C$26=\"\",\"\",行列入力項目!$C$26)","v":"行22"},{"$f":"IF(行列入力項目!$C$26=\"\",\"\",行列入力項目!$C$26)","v":"行22"},{"$f":"IF(行列入力項目!$C$26=\"\",\"\",行列入力項目!$C$26)","v":"行22"},{"$f":"IF(行列入力項目!$C$26=\"\",\"\",行列入力項目!$C$26)","v":"行22"},{"$f":"IF(行列入力項目!$C$26=\"\",\"\",行列入力項目!$C$26)","v":"行22"},{"$f":"IF(行列入力項目!$C$26=\"\",\"\",行列入力項目!$C$26)","v":"行22"},{"$f":"IF(行列入力項目!$C$26=\"\",\"\",行列入力項目!$C$26)","v":"行22"},{"$f":"IF(行列入力項目!$C$26=\"\",\"\",行列入力項目!$C$26)","v":"行22"},{"$f":"IF(行列入力項目!$C$26=\"\",\"\",行列入力項目!$C$26)","v":"行22"},{"$f":"IF(行列入力項目!$C$26=\"\",\"\",行列入力項目!$C$26)","v":"行22"},{"$f":"IF(行列入力項目!$C$26=\"\",\"\",行列入力項目!$C$26)","v":"行22"},{"$f":"IF(行列入力項目!$C$26=\"\",\"\",行列入力項目!$C$26)","v":"行22"},{"$f":"IF(行列入力項目!$C$26=\"\",\"\",行列入力項目!$C$26)","v":"行22"},{"$f":"IF(行列入力項目!$C$27=\"\",\"\",行列入力項目!$C$27)","v":"行23"},{"$f":"IF(行列入力項目!$C$27=\"\",\"\",行列入力項目!$C$27)","v":"行23"},{"$f":"IF(行列入力項目!$C$27=\"\",\"\",行列入力項目!$C$27)","v":"行23"},{"$f":"IF(行列入力項目!$C$27=\"\",\"\",行列入力項目!$C$27)","v":"行23"},{"$f":"IF(行列入力項目!$C$27=\"\",\"\",行列入力項目!$C$27)","v":"行23"},{"$f":"IF(行列入力項目!$C$27=\"\",\"\",行列入力項目!$C$27)","v":"行23"},{"$f":"IF(行列入力項目!$C$27=\"\",\"\",行列入力項目!$C$27)","v":"行23"},{"$f":"IF(行列入力項目!$C$27=\"\",\"\",行列入力項目!$C$27)","v":"行23"},{"$f":"IF(行列入力項目!$C$27=\"\",\"\",行列入力項目!$C$27)","v":"行23"},{"$f":"IF(行列入力項目!$C$27=\"\",\"\",行列入力項目!$C$27)","v":"行23"},{"$f":"IF(行列入力項目!$C$27=\"\",\"\",行列入力項目!$C$27)","v":"行23"},{"$f":"IF(行列入力項目!$C$27=\"\",\"\",行列入力項目!$C$27)","v":"行23"},{"$f":"IF(行列入力項目!$C$27=\"\",\"\",行列入力項目!$C$27)","v":"行23"},{"$f":"IF(行列入力項目!$C$27=\"\",\"\",行列入力項目!$C$27)","v":"行23"},{"$f":"IF(行列入力項目!$C$27=\"\",\"\",行列入力項目!$C$27)","v":"行23"},{"$f":"IF(行列入力項目!$C$27=\"\",\"\",行列入力項目!$C$27)","v":"行23"},{"$f":"IF(行列入力項目!$C$27=\"\",\"\",行列入力項目!$C$27)","v":"行23"},{"$f":"IF(行列入力項目!$C$27=\"\",\"\",行列入力項目!$C$27)","v":"行23"},{"$f":"IF(行列入力項目!$C$27=\"\",\"\",行列入力項目!$C$27)","v":"行23"},{"$f":"IF(行列入力項目!$C$27=\"\",\"\",行列入力項目!$C$27)","v":"行23"},{"$f":"IF(行列入力項目!$C$28=\"\",\"\",行列入力項目!$C$28)","v":"行24"},{"$f":"IF(行列入力項目!$C$28=\"\",\"\",行列入力項目!$C$28)","v":"行24"},{"$f":"IF(行列入力項目!$C$28=\"\",\"\",行列入力項目!$C$28)","v":"行24"},{"$f":"IF(行列入力項目!$C$28=\"\",\"\",行列入力項目!$C$28)","v":"行24"},{"$f":"IF(行列入力項目!$C$28=\"\",\"\",行列入力項目!$C$28)","v":"行24"},{"$f":"IF(行列入力項目!$C$28=\"\",\"\",行列入力項目!$C$28)","v":"行24"},{"$f":"IF(行列入力項目!$C$28=\"\",\"\",行列入力項目!$C$28)","v":"行24"},{"$f":"IF(行列入力項目!$C$28=\"\",\"\",行列入力項目!$C$28)","v":"行24"},{"$f":"IF(行列入力項目!$C$28=\"\",\"\",行列入力項目!$C$28)","v":"行24"},{"$f":"IF(行列入力項目!$C$28=\"\",\"\",行列入力項目!$C$28)","v":"行24"},{"$f":"IF(行列入力項目!$C$28=\"\",\"\",行列入力項目!$C$28)","v":"行24"},{"$f":"IF(行列入力項目!$C$28=\"\",\"\",行列入力項目!$C$28)","v":"行24"},{"$f":"IF(行列入力項目!$C$28=\"\",\"\",行列入力項目!$C$28)","v":"行24"},{"$f":"IF(行列入力項目!$C$28=\"\",\"\",行列入力項目!$C$28)","v":"行24"},{"$f":"IF(行列入力項目!$C$28=\"\",\"\",行列入力項目!$C$28)","v":"行24"},{"$f":"IF(行列入力項目!$C$28=\"\",\"\",行列入力項目!$C$28)","v":"行24"},{"$f":"IF(行列入力項目!$C$28=\"\",\"\",行列入力項目!$C$28)","v":"行24"},{"$f":"IF(行列入力項目!$C$28=\"\",\"\",行列入力項目!$C$28)","v":"行24"},{"$f":"IF(行列入力項目!$C$28=\"\",\"\",行列入力項目!$C$28)","v":"行24"},{"$f":"IF(行列入力項目!$C$28=\"\",\"\",行列入力項目!$C$28)","v":"行24"},{"$f":"IF(行列入力項目!$C$29=\"\",\"\",行列入力項目!$C$29)","v":"行25"},{"$f":"IF(行列入力項目!$C$29=\"\",\"\",行列入力項目!$C$29)","v":"行25"},{"$f":"IF(行列入力項目!$C$29=\"\",\"\",行列入力項目!$C$29)","v":"行25"},{"$f":"IF(行列入力項目!$C$29=\"\",\"\",行列入力項目!$C$29)","v":"行25"},{"$f":"IF(行列入力項目!$C$29=\"\",\"\",行列入力項目!$C$29)","v":"行25"},{"$f":"IF(行列入力項目!$C$29=\"\",\"\",行列入力項目!$C$29)","v":"行25"},{"$f":"IF(行列入力項目!$C$29=\"\",\"\",行列入力項目!$C$29)","v":"行25"},{"$f":"IF(行列入力項目!$C$29=\"\",\"\",行列入力項目!$C$29)","v":"行25"},{"$f":"IF(行列入力項目!$C$29=\"\",\"\",行列入力項目!$C$29)","v":"行25"},{"$f":"IF(行列入力項目!$C$29=\"\",\"\",行列入力項目!$C$29)","v":"行25"},{"$f":"IF(行列入力項目!$C$29=\"\",\"\",行列入力項目!$C$29)","v":"行25"},{"$f":"IF(行列入力項目!$C$29=\"\",\"\",行列入力項目!$C$29)","v":"行25"},{"$f":"IF(行列入力項目!$C$29=\"\",\"\",行列入力項目!$C$29)","v":"行25"},{"$f":"IF(行列入力項目!$C$29=\"\",\"\",行列入力項目!$C$29)","v":"行25"},{"$f":"IF(行列入力項目!$C$29=\"\",\"\",行列入力項目!$C$29)","v":"行25"},{"$f":"IF(行列入力項目!$C$29=\"\",\"\",行列入力項目!$C$29)","v":"行25"},{"$f":"IF(行列入力項目!$C$29=\"\",\"\",行列入力項目!$C$29)","v":"行25"},{"$f":"IF(行列入力項目!$C$29=\"\",\"\",行列入力項目!$C$29)","v":"行25"},{"$f":"IF(行列入力項目!$C$29=\"\",\"\",行列入力項目!$C$29)","v":"行25"},{"$f":"IF(行列入力項目!$C$29=\"\",\"\",行列入力項目!$C$29)","v":"行25"},{"$f":"IF(行列入力項目!$C$30=\"\",\"\",行列入力項目!$C$30)","v":"行26"},{"$f":"IF(行列入力項目!$C$30=\"\",\"\",行列入力項目!$C$30)","v":"行26"},{"$f":"IF(行列入力項目!$C$30=\"\",\"\",行列入力項目!$C$30)","v":"行26"},{"$f":"IF(行列入力項目!$C$30=\"\",\"\",行列入力項目!$C$30)","v":"行26"},{"$f":"IF(行列入力項目!$C$30=\"\",\"\",行列入力項目!$C$30)","v":"行26"},{"$f":"IF(行列入力項目!$C$30=\"\",\"\",行列入力項目!$C$30)","v":"行26"},{"$f":"IF(行列入力項目!$C$30=\"\",\"\",行列入力項目!$C$30)","v":"行26"},{"$f":"IF(行列入力項目!$C$30=\"\",\"\",行列入力項目!$C$30)","v":"行26"},{"$f":"IF(行列入力項目!$C$30=\"\",\"\",行列入力項目!$C$30)","v":"行26"},{"$f":"IF(行列入力項目!$C$30=\"\",\"\",行列入力項目!$C$30)","v":"行26"},{"$f":"IF(行列入力項目!$C$30=\"\",\"\",行列入力項目!$C$30)","v":"行26"},{"$f":"IF(行列入力項目!$C$30=\"\",\"\",行列入力項目!$C$30)","v":"行26"},{"$f":"IF(行列入力項目!$C$30=\"\",\"\",行列入力項目!$C$30)","v":"行26"},{"$f":"IF(行列入力項目!$C$30=\"\",\"\",行列入力項目!$C$30)","v":"行26"},{"$f":"IF(行列入力項目!$C$30=\"\",\"\",行列入力項目!$C$30)","v":"行26"},{"$f":"IF(行列入力項目!$C$30=\"\",\"\",行列入力項目!$C$30)","v":"行26"},{"$f":"IF(行列入力項目!$C$30=\"\",\"\",行列入力項目!$C$30)","v":"行26"},{"$f":"IF(行列入力項目!$C$30=\"\",\"\",行列入力項目!$C$30)","v":"行26"},{"$f":"IF(行列入力項目!$C$30=\"\",\"\",行列入力項目!$C$30)","v":"行26"},{"$f":"IF(行列入力項目!$C$30=\"\",\"\",行列入力項目!$C$30)","v":"行26"},{"$f":"IF(行列入力項目!$C$31=\"\",\"\",行列入力項目!$C$31)","v":"行27"},{"$f":"IF(行列入力項目!$C$31=\"\",\"\",行列入力項目!$C$31)","v":"行27"},{"$f":"IF(行列入力項目!$C$31=\"\",\"\",行列入力項目!$C$31)","v":"行27"},{"$f":"IF(行列入力項目!$C$31=\"\",\"\",行列入力項目!$C$31)","v":"行27"},{"$f":"IF(行列入力項目!$C$31=\"\",\"\",行列入力項目!$C$31)","v":"行27"},{"$f":"IF(行列入力項目!$C$31=\"\",\"\",行列入力項目!$C$31)","v":"行27"},{"$f":"IF(行列入力項目!$C$31=\"\",\"\",行列入力項目!$C$31)","v":"行27"},{"$f":"IF(行列入力項目!$C$31=\"\",\"\",行列入力項目!$C$31)","v":"行27"},{"$f":"IF(行列入力項目!$C$31=\"\",\"\",行列入力項目!$C$31)","v":"行27"},{"$f":"IF(行列入力項目!$C$31=\"\",\"\",行列入力項目!$C$31)","v":"行27"},{"$f":"IF(行列入力項目!$C$31=\"\",\"\",行列入力項目!$C$31)","v":"行27"},{"$f":"IF(行列入力項目!$C$31=\"\",\"\",行列入力項目!$C$31)","v":"行27"},{"$f":"IF(行列入力項目!$C$31=\"\",\"\",行列入力項目!$C$31)","v":"行27"},{"$f":"IF(行列入力項目!$C$31=\"\",\"\",行列入力項目!$C$31)","v":"行27"},{"$f":"IF(行列入力項目!$C$31=\"\",\"\",行列入力項目!$C$31)","v":"行27"},{"$f":"IF(行列入力項目!$C$31=\"\",\"\",行列入力項目!$C$31)","v":"行27"},{"$f":"IF(行列入力項目!$C$31=\"\",\"\",行列入力項目!$C$31)","v":"行27"},{"$f":"IF(行列入力項目!$C$31=\"\",\"\",行列入力項目!$C$31)","v":"行27"},{"$f":"IF(行列入力項目!$C$31=\"\",\"\",行列入力項目!$C$31)","v":"行27"},{"$f":"IF(行列入力項目!$C$31=\"\",\"\",行列入力項目!$C$31)","v":"行27"},{"$f":"IF(行列入力項目!$C$32=\"\",\"\",行列入力項目!$C$32)","v":"行28"},{"$f":"IF(行列入力項目!$C$32=\"\",\"\",行列入力項目!$C$32)","v":"行28"},{"$f":"IF(行列入力項目!$C$32=\"\",\"\",行列入力項目!$C$32)","v":"行28"},{"$f":"IF(行列入力項目!$C$32=\"\",\"\",行列入力項目!$C$32)","v":"行28"},{"$f":"IF(行列入力項目!$C$32=\"\",\"\",行列入力項目!$C$32)","v":"行28"},{"$f":"IF(行列入力項目!$C$32=\"\",\"\",行列入力項目!$C$32)","v":"行28"},{"$f":"IF(行列入力項目!$C$32=\"\",\"\",行列入力項目!$C$32)","v":"行28"},{"$f":"IF(行列入力項目!$C$32=\"\",\"\",行列入力項目!$C$32)","v":"行28"},{"$f":"IF(行列入力項目!$C$32=\"\",\"\",行列入力項目!$C$32)","v":"行28"},{"$f":"IF(行列入力項目!$C$32=\"\",\"\",行列入力項目!$C$32)","v":"行28"},{"$f":"IF(行列入力項目!$C$32=\"\",\"\",行列入力項目!$C$32)","v":"行28"},{"$f":"IF(行列入力項目!$C$32=\"\",\"\",行列入力項目!$C$32)","v":"行28"},{"$f":"IF(行列入力項目!$C$32=\"\",\"\",行列入力項目!$C$32)","v":"行28"},{"$f":"IF(行列入力項目!$C$32=\"\",\"\",行列入力項目!$C$32)","v":"行28"},{"$f":"IF(行列入力項目!$C$32=\"\",\"\",行列入力項目!$C$32)","v":"行28"},{"$f":"IF(行列入力項目!$C$32=\"\",\"\",行列入力項目!$C$32)","v":"行28"},{"$f":"IF(行列入力項目!$C$32=\"\",\"\",行列入力項目!$C$32)","v":"行28"},{"$f":"IF(行列入力項目!$C$32=\"\",\"\",行列入力項目!$C$32)","v":"行28"},{"$f":"IF(行列入力項目!$C$32=\"\",\"\",行列入力項目!$C$32)","v":"行28"},{"$f":"IF(行列入力項目!$C$32=\"\",\"\",行列入力項目!$C$32)","v":"行28"},{"$f":"IF(行列入力項目!$C$33=\"\",\"\",行列入力項目!$C$33)","v":"行29"},{"$f":"IF(行列入力項目!$C$33=\"\",\"\",行列入力項目!$C$33)","v":"行29"},{"$f":"IF(行列入力項目!$C$33=\"\",\"\",行列入力項目!$C$33)","v":"行29"},{"$f":"IF(行列入力項目!$C$33=\"\",\"\",行列入力項目!$C$33)","v":"行29"},{"$f":"IF(行列入力項目!$C$33=\"\",\"\",行列入力項目!$C$33)","v":"行29"},{"$f":"IF(行列入力項目!$C$33=\"\",\"\",行列入力項目!$C$33)","v":"行29"},{"$f":"IF(行列入力項目!$C$33=\"\",\"\",行列入力項目!$C$33)","v":"行29"},{"$f":"IF(行列入力項目!$C$33=\"\",\"\",行列入力項目!$C$33)","v":"行29"},{"$f":"IF(行列入力項目!$C$33=\"\",\"\",行列入力項目!$C$33)","v":"行29"},{"$f":"IF(行列入力項目!$C$33=\"\",\"\",行列入力項目!$C$33)","v":"行29"},{"$f":"IF(行列入力項目!$C$33=\"\",\"\",行列入力項目!$C$33)","v":"行29"},{"$f":"IF(行列入力項目!$C$33=\"\",\"\",行列入力項目!$C$33)","v":"行29"},{"$f":"IF(行列入力項目!$C$33=\"\",\"\",行列入力項目!$C$33)","v":"行29"},{"$f":"IF(行列入力項目!$C$33=\"\",\"\",行列入力項目!$C$33)","v":"行29"},{"$f":"IF(行列入力項目!$C$33=\"\",\"\",行列入力項目!$C$33)","v":"行29"},{"$f":"IF(行列入力項目!$C$33=\"\",\"\",行列入力項目!$C$33)","v":"行29"},{"$f":"IF(行列入力項目!$C$33=\"\",\"\",行列入力項目!$C$33)","v":"行29"},{"$f":"IF(行列入力項目!$C$33=\"\",\"\",行列入力項目!$C$33)","v":"行29"},{"$f":"IF(行列入力項目!$C$33=\"\",\"\",行列入力項目!$C$33)","v":"行29"},{"$f":"IF(行列入力項目!$C$33=\"\",\"\",行列入力項目!$C$33)","v":"行29"},{"$f":"IF(行列入力項目!$C$34=\"\",\"\",行列入力項目!$C$34)","v":"行30"},{"$f":"IF(行列入力項目!$C$34=\"\",\"\",行列入力項目!$C$34)","v":"行30"},{"$f":"IF(行列入力項目!$C$34=\"\",\"\",行列入力項目!$C$34)","v":"行30"},{"$f":"IF(行列入力項目!$C$34=\"\",\"\",行列入力項目!$C$34)","v":"行30"},{"$f":"IF(行列入力項目!$C$34=\"\",\"\",行列入力項目!$C$34)","v":"行30"},{"$f":"IF(行列入力項目!$C$34=\"\",\"\",行列入力項目!$C$34)","v":"行30"},{"$f":"IF(行列入力項目!$C$34=\"\",\"\",行列入力項目!$C$34)","v":"行30"},{"$f":"IF(行列入力項目!$C$34=\"\",\"\",行列入力項目!$C$34)","v":"行30"},{"$f":"IF(行列入力項目!$C$34=\"\",\"\",行列入力項目!$C$34)","v":"行30"},{"$f":"IF(行列入力項目!$C$34=\"\",\"\",行列入力項目!$C$34)","v":"行30"},{"$f":"IF(行列入力項目!$C$34=\"\",\"\",行列入力項目!$C$34)","v":"行30"},{"$f":"IF(行列入力項目!$C$34=\"\",\"\",行列入力項目!$C$34)","v":"行30"},{"$f":"IF(行列入力項目!$C$34=\"\",\"\",行列入力項目!$C$34)","v":"行30"},{"$f":"IF(行列入力項目!$C$34=\"\",\"\",行列入力項目!$C$34)","v":"行30"},{"$f":"IF(行列入力項目!$C$34=\"\",\"\",行列入力項目!$C$34)","v":"行30"},{"$f":"IF(行列入力項目!$C$34=\"\",\"\",行列入力項目!$C$34)","v":"行30"},{"$f":"IF(行列入力項目!$C$34=\"\",\"\",行列入力項目!$C$34)","v":"行30"},{"$f":"IF(行列入力項目!$C$34=\"\",\"\",行列入力項目!$C$34)","v":"行30"},{"$f":"IF(行列入力項目!$C$34=\"\",\"\",行列入力項目!$C$34)","v":"行30"},{"$f":"IF(行列入力項目!$C$34=\"\",\"\",行列入力項目!$C$34)","v":"行30"}]
[null,1,"対象1"]
[null,2,"対象2"]
[null,3,"対象3"]
[null,4,"対象4"]
[null,5,"対象5"]
[null,6,"対象6"]
[null,7,"対象7"]
[null,8,"対象8"]
[null,9,"対象9"]
[null,10,"対象10"]
[null,11,"対象11"]
[null,12,"対象12"]
[null,13,"対象13"]
[null,14,"対象14"]
[null,15,"対象15"]
[null,16,"対象16"]
[null,17,"対象17"]
[null,18,"対象18"]
[null,19,"対象19"]
[null,20,"対象20"]
[null,21,"対象21"]
[null,22,"対象22"]
[null,23,"対象23"]
[null,24,"対象24"]
[null,25,"対象25"]
[null,26,"対象26"]
[null,27,"対象27"]
[null,28,"対象28"]
[null,29,"対象29"]
[null,30,"対象30"]
[null,31,"対象31"]
[null,32,"対象32"]
[null,33,"対象33"]
[null,34,"対象34"]
[null,35,"対象35"]
[null,36,"対象36"]
[null,37,"対象37"]
[null,38,"対象38"]
[null,39,"対象39"]
[null,40,"対象40"]
[null,41,"対象41"]
[null,42,"対象42"]
[null,43,"対象43"]
[null,44,"対象44"]
[null,45,"対象45"]
[null,46,"対象46"]
[null,47,"対象47"]
[null,48,"対象48"]
[null,49,"対象49"]
[null,50,"対象50"]
[null,"削除禁止行","削除禁止行","削除禁止行","削除禁止行","削除禁止行","削除禁止行","削除禁止行","削除禁止行","削除禁止行","削除禁止行","削除禁止行","削除禁止行","削除禁止行","削除禁止行","削除禁止行","削除禁止行","削除禁止行","削除禁止行","削除禁止行","削除禁止行","削除禁止行","削除禁止行","削除禁止行","削除禁止行","削除禁止行","削除禁止行","削除禁止行","削除禁止行","削除禁止行","削除禁止行","削除禁止行","削除禁止行","削除禁止行","削除禁止行","削除禁止行","削除禁止行","削除禁止行","削除禁止行","削除禁止行","削除禁止行","削除禁止行","削除禁止行","削除禁止行","削除禁止行","削除禁止行","削除禁止行","削除禁止行","削除禁止行","削除禁止行","削除禁止行","削除禁止行","削除禁止行","削除禁止行","削除禁止行","削除禁止行","削除禁止行","削除禁止行","削除禁止行","削除禁止行","削除禁止行","削除禁止行","削除禁止行","削除禁止行","削除禁止行","削除禁止行","削除禁止行","削除禁止行","削除禁止行","削除禁止行","削除禁止行","削除禁止行","削除禁止行","削除禁止行","削除禁止行","削除禁止行","削除禁止行","削除禁止行","削除禁止行","削除禁止行","削除禁止行","削除禁止行","削除禁止行","削除禁止行","削除禁止行","削除禁止行","削除禁止行","削除禁止行","削除禁止行","削除禁止行","削除禁止行","削除禁止行","削除禁止行","削除禁止行","削除禁止行","削除禁止行","削除禁止行","削除禁止行","削除禁止行","削除禁止行","削除禁止行","削除禁止行","削除禁止行","削除禁止行","削除禁止行","削除禁止行","削除禁止行","削除禁止行","削除禁止行","削除禁止行","削除禁止行","削除禁止行","削除禁止行","削除禁止行","削除禁止行","削除禁止行","削除禁止行","削除禁止行","削除禁止行","削除禁止行","削除禁止行","削除禁止行","削除禁止行","削除禁止行","削除禁止行","削除禁止行","削除禁止行","削除禁止行","削除禁止行","削除禁止行","削除禁止行","削除禁止行","削除禁止行","削除禁止行","削除禁止行","削除禁止行","削除禁止行","削除禁止行","削除禁止行","削除禁止行","削除禁止行","削除禁止行","削除禁止行","削除禁止行","削除禁止行","削除禁止行","削除禁止行","削除禁止行","削除禁止行","削除禁止行","削除禁止行","削除禁止行","削除禁止行","削除禁止行","削除禁止行","削除禁止行","削除禁止行","削除禁止行","削除禁止行","削除禁止行","削除禁止行","削除禁止行","削除禁止行","削除禁止行","削除禁止行","削除禁止行","削除禁止行","削除禁止行","削除禁止行","削除禁止行","削除禁止行","削除禁止行","削除禁止行","削除禁止行","削除禁止行","削除禁止行","削除禁止行","削除禁止行","削除禁止行","削除禁止行","削除禁止行","削除禁止行","削除禁止行","削除禁止行","削除禁止行","削除禁止行","削除禁止行","削除禁止行","削除禁止行","削除禁止行","削除禁止行","削除禁止行","削除禁止行","削除禁止行","削除禁止行","削除禁止行","削除禁止行","削除禁止行","削除禁止行","削除禁止行","削除禁止行","削除禁止行","削除禁止行"]

{"sheet":"入力AA4","index":99,"n_rows":58,"n_cols":203,"rows_kept":58,"cut":false,"hidden":false,"merged":[]}
[null,null,null,null,null,{"$f":"入力シート入力可能行数調査!$D$24","v":"入力可能行数　50 行"}]
[null,{"$f":"シート名設定!C33","v":"入力AA4"}]
[]
[]
[null,"ID","対象",{"$f":"IF(項目表示入力!C37=\"\",\"\",項目表示入力!C37)","v":"内容31,1"},{"$f":"IF(項目表示入力!D37=\"\",\"\",項目表示入力!D37)","v":"内容31,2"},{"$f":"IF(項目表示入力!E37=\"\",\"\",項目表示入力!E37)","v":"内容31,3"},{"$f":"IF(項目表示入力!F37=\"\",\"\",項目表示入力!F37)","v":"内容31,4"},{"$f":"IF(項目表示入力!G37=\"\",\"\",項目表示入力!G37)","v":"内容31,5"},{"$f":"IF(項目表示入力!H37=\"\",\"\",項目表示入力!H37)","v":"内容31,6"},{"$f":"IF(項目表示入力!I37=\"\",\"\",項目表示入力!I37)","v":"内容31,7"},{"$f":"IF(項目表示入力!J37=\"\",\"\",項目表示入力!J37)","v":"内容31,8"},{"$f":"IF(項目表示入力!K37=\"\",\"\",項目表示入力!K37)","v":"内容31,9"},{"$f":"IF(項目表示入力!L37=\"\",\"\",項目表示入力!L37)","v":"内容31,10"},{"$f":"IF(項目表示入力!M37=\"\",\"\",項目表示入力!M37)","v":"内容31,11"},{"$f":"IF(項目表示入力!N37=\"\",\"\",項目表示入力!N37)","v":"内容31,12"},{"$f":"IF(項目表示入力!O37=\"\",\"\",項目表示入力!O37)","v":"内容31,13"},{"$f":"IF(項目表示入力!P37=\"\",\"\",項目表示入力!P37)","v":"内容31,14"},{"$f":"IF(項目表示入力!Q37=\"\",\"\",項目表示入力!Q37)","v":"内容31,15"},{"$f":"IF(項目表示入力!R37=\"\",\"\",項目表示入力!R37)","v":"内容31,16"},{"$f":"IF(項目表示入力!S37=\"\",\"\",項目表示入力!S37)","v":"内容31,17"},{"$f":"IF(項目表示入力!T37=\"\",\"\",項目表示入力!T37)","v":"内容31,18"},{"$f":"IF(項目表示入力!U37=\"\",\"\",項目表示入力!U37)","v":"内容31,19"},{"$f":"IF(項目表示入力!V37=\"\",\"\",項目表示入力!V37)","v":"内容31,20"},{"$f":"IF(項目表示入力!C38=\"\",\"\",項目表示入力!C38)","v":"内容32,1"},{"$f":"IF(項目表示入力!D38=\"\",\"\",項目表示入力!D38)","v":"内容32,2"},{"$f":"IF(項目表示入力!E38=\"\",\"\",項目表示入力!E38)","v":"内容32,3"},{"$f":"IF(項目表示入力!F38=\"\",\"\",項目表示入力!F38)","v":"内容32,4"},{"$f":"IF(項目表示入力!G38=\"\",\"\",項目表示入力!G38)","v":"内容32,5"},{"$f":"IF(項目表示入力!H38=\"\",\"\",項目表示入力!H38)","v":"内容32,6"},{"$f":"IF(項目表示入力!I38=\"\",\"\",項目表示入力!I38)","v":"内容32,7"},{"$f":"IF(項目表示入力!J38=\"\",\"\",項目表示入力!J38)","v":"内容32,8"},{"$f":"IF(項目表示入力!K38=\"\",\"\",項目表示入力!K38)","v":"内容32,9"},{"$f":"IF(項目表示入力!L38=\"\",\"\",項目表示入力!L38)","v":"内容32,10"},{"$f":"IF(項目表示入力!M38=\"\",\"\",項目表示入力!M38)","v":"内容32,11"},{"$f":"IF(項目表示入力!N38=\"\",\"\",項目表示入力!N38)","v":"内容32,12"},{"$f":"IF(項目表示入力!O38=\"\",\"\",項目表示入力!O38)","v":"内容32,13"},{"$f":"IF(項目表示入力!P38=\"\",\"\",項目表示入力!P38)","v":"内容32,14"},{"$f":"IF(項目表示入力!Q38=\"\",\"\",項目表示入力!Q38)","v":"内容32,15"},{"$f":"IF(項目表示入力!R38=\"\",\"\",項目表示入力!R38)","v":"内容32,16"},{"$f":"IF(項目表示入力!S38=\"\",\"\",項目表示入力!S38)","v":"内容32,17"},{"$f":"IF(項目表示入力!T38=\"\",\"\",項目表示入力!T38)","v":"内容32,18"},{"$f":"IF(項目表示入力!U38=\"\",\"\",項目表示入力!U38)","v":"内容32,19"},{"$f":"IF(項目表示入力!V38=\"\",\"\",項目表示入力!V38)","v":"内容32,20"},{"$f":"IF(項目表示入力!C39=\"\",\"\",項目表示入力!C39)","v":"内容33,1"},{"$f":"IF(項目表示入力!D39=\"\",\"\",項目表示入力!D39)","v":"内容33,2"},{"$f":"IF(項目表示入力!E39=\"\",\"\",項目表示入力!E39)","v":"内容33,3"},{"$f":"IF(項目表示入力!F39=\"\",\"\",項目表示入力!F39)","v":"内容33,4"},{"$f":"IF(項目表示入力!G39=\"\",\"\",項目表示入力!G39)","v":"内容33,5"},{"$f":"IF(項目表示入力!H39=\"\",\"\",項目表示入力!H39)","v":"内容33,6"},{"$f":"IF(項目表示入力!I39=\"\",\"\",項目表示入力!I39)","v":"内容33,7"},{"$f":"IF(項目表示入力!J39=\"\",\"\",項目表示入力!J39)","v":"内容33,8"},{"$f":"IF(項目表示入力!K39=\"\",\"\",項目表示入力!K39)","v":"内容33,9"},{"$f":"IF(項目表示入力!L39=\"\",\"\",項目表示入力!L39)","v":"内容33,10"},{"$f":"IF(項目表示入力!M39=\"\",\"\",項目表示入力!M39)","v":"内容33,11"},{"$f":"IF(項目表示入力!N39=\"\",\"\",項目表示入力!N39)","v":"内容33,12"},{"$f":"IF(項目表示入力!O39=\"\",\"\",項目表示入力!O39)","v":"内容33,13"},{"$f":"IF(項目表示入力!P39=\"\",\"\",項目表示入力!P39)","v":"内容33,14"},{"$f":"IF(項目表示入力!Q39=\"\",\"\",項目表示入力!Q39)","v":"内容33,15"},{"$f":"IF(項目表示入力!R39=\"\",\"\",項目表示入力!R39)","v":"内容33,16"},{"$f":"IF(項目表示入力!S39=\"\",\"\",項目表示入力!S39)","v":"内容33,17"},{"$f":"IF(項目表示入力!T39=\"\",\"\",項目表示入力!T39)","v":"内容33,18"},{"$f":"IF(項目表示入力!U39=\"\",\"\",項目表示入力!U39)","v":"内容33,19"},{"$f":"IF(項目表示入力!V39=\"\",\"\",項目表示入力!V39)","v":"内容33,20"},{"$f":"IF(項目表示入力!C40=\"\",\"\",項目表示入力!C40)","v":"内容34,1"},{"$f":"IF(項目表示入力!D40=\"\",\"\",項目表示入力!D40)","v":"内容34,2"},{"$f":"IF(項目表示入力!E40=\"\",\"\",項目表示入力!E40)","v":"内容34,3"},{"$f":"IF(項目表示入力!F40=\"\",\"\",項目表示入力!F40)","v":"内容34,4"},{"$f":"IF(項目表示入力!G40=\"\",\"\",項目表示入力!G40)","v":"内容34,5"},{"$f":"IF(項目表示入力!H40=\"\",\"\",項目表示入力!H40)","v":"内容34,6"},{"$f":"IF(項目表示入力!I40=\"\",\"\",項目表示入力!I40)","v":"内容34,7"},{"$f":"IF(項目表示入力!J40=\"\",\"\",項目表示入力!J40)","v":"内容34,8"},{"$f":"IF(項目表示入力!K40=\"\",\"\",項目表示入力!K40)","v":"内容34,9"},{"$f":"IF(項目表示入力!L40=\"\",\"\",項目表示入力!L40)","v":"内容34,10"},{"$f":"IF(項目表示入力!M40=\"\",\"\",項目表示入力!M40)","v":"内容34,11"},{"$f":"IF(項目表示入力!N40=\"\",\"\",項目表示入力!N40)","v":"内容34,12"},{"$f":"IF(項目表示入力!O40=\"\",\"\",項目表示入力!O40)","v":"内容34,13"},{"$f":"IF(項目表示入力!P40=\"\",\"\",項目表示入力!P40)","v":"内容34,14"},{"$f":"IF(項目表示入力!Q40=\"\",\"\",項目表示入力!Q40)","v":"内容34,15"},{"$f":"IF(項目表示入力!R40=\"\",\"\",項目表示入力!R40)","v":"内容34,16"},{"$f":"IF(項目表示入力!S40=\"\",\"\",項目表示入力!S40)","v":"内容34,17"},{"$f":"IF(項目表示入力!T40=\"\",\"\",項目表示入力!T40)","v":"内容34,18"},{"$f":"IF(項目表示入力!U40=\"\",\"\",項目表示入力!U40)","v":"内容34,19"},{"$f":"IF(項目表示入力!V40=\"\",\"\",項目表示入力!V40)","v":"内容34,20"},{"$f":"IF(項目表示入力!C41=\"\",\"\",項目表示入力!C41)","v":"内容35,1"},{"$f":"IF(項目表示入力!D41=\"\",\"\",項目表示入力!D41)","v":"内容35,2"},{"$f":"IF(項目表示入力!E41=\"\",\"\",項目表示入力!E41)","v":"内容35,3"},{"$f":"IF(項目表示入力!F41=\"\",\"\",項目表示入力!F41)","v":"内容35,4"},{"$f":"IF(項目表示入力!G41=\"\",\"\",項目表示入力!G41)","v":"内容35,5"},{"$f":"IF(項目表示入力!H41=\"\",\"\",項目表示入力!H41)","v":"内容35,6"},{"$f":"IF(項目表示入力!I41=\"\",\"\",項目表示入力!I41)","v":"内容35,7"},{"$f":"IF(項目表示入力!J41=\"\",\"\",項目表示入力!J41)","v":"内容35,8"},{"$f":"IF(項目表示入力!K41=\"\",\"\",項目表示入力!K41)","v":"内容35,9"},{"$f":"IF(項目表示入力!L41=\"\",\"\",項目表示入力!L41)","v":"内容35,10"},{"$f":"IF(項目表示入力!M41=\"\",\"\",項目表示入力!M41)","v":"内容35,11"},{"$f":"IF(項目表示入力!N41=\"\",\"\",項目表示入力!N41)","v":"内容35,12"},{"$f":"IF(項目表示入力!O41=\"\",\"\",項目表示入力!O41)","v":"内容35,13"},{"$f":"IF(項目表示入力!P41=\"\",\"\",項目表示入力!P41)","v":"内容35,14"},{"$f":"IF(項目表示入力!Q41=\"\",\"\",項目表示入力!Q41)","v":"内容35,15"},{"$f":"IF(項目表示入力!R41=\"\",\"\",項目表示入力!R41)","v":"内容35,16"},{"$f":"IF(項目表示入力!S41=\"\",\"\",項目表示入力!S41)","v":"内容35,17"},{"$f":"IF(項目表示入力!T41=\"\",\"\",項目表示入力!T41)","v":"内容35,18"},{"$f":"IF(項目表示入力!U41=\"\",\"\",項目表示入力!U41)","v":"内容35,19"},{"$f":"IF(項目表示入力!V41=\"\",\"\",項目表示入力!V41)","v":"内容35,20"},{"$f":"IF(項目表示入力!C42=\"\",\"\",項目表示入力!C42)","v":"内容36,1"},{"$f":"IF(項目表示入力!D42=\"\",\"\",項目表示入力!D42)","v":"内容36,2"},{"$f":"IF(項目表示入力!E42=\"\",\"\",項目表示入力!E42)","v":"内容36,3"},{"$f":"IF(項目表示入力!F42=\"\",\"\",項目表示入力!F42)","v":"内容36,4"},{"$f":"IF(項目表示入力!G42=\"\",\"\",項目表示入力!G42)","v":"内容36,5"},{"$f":"IF(項目表示入力!H42=\"\",\"\",項目表示入力!H42)","v":"内容36,6"},{"$f":"IF(項目表示入力!I42=\"\",\"\",項目表示入力!I42)","v":"内容36,7"},{"$f":"IF(項目表示入力!J42=\"\",\"\",項目表示入力!J42)","v":"内容36,8"},{"$f":"IF(項目表示入力!K42=\"\",\"\",項目表示入力!K42)","v":"内容36,9"},{"$f":"IF(項目表示入力!L42=\"\",\"\",項目表示入力!L42)","v":"内容36,10"},{"$f":"IF(項目表示入力!M42=\"\",\"\",項目表示入力!M42)","v":"内容36,11"},{"$f":"IF(項目表示入力!N42=\"\",\"\",項目表示入力!N42)","v":"内容36,12"},{"$f":"IF(項目表示入力!O42=\"\",\"\",項目表示入力!O42)","v":"内容36,13"},{"$f":"IF(項目表示入力!P42=\"\",\"\",項目表示入力!P42)","v":"内容36,14"},{"$f":"IF(項目表示入力!Q42=\"\",\"\",項目表示入力!Q42)","v":"内容36,15"},{"$f":"IF(項目表示入力!R42=\"\",\"\",項目表示入力!R42)","v":"内容36,16"},{"$f":"IF(項目表示入力!S42=\"\",\"\",項目表示入力!S42)","v":"内容36,17"},{"$f":"IF(項目表示入力!T42=\"\",\"\",項目表示入力!T42)","v":"内容36,18"},{"$f":"IF(項目表示入力!U42=\"\",\"\",項目表示入力!U42)","v":"内容36,19"},{"$f":"IF(項目表示入力!V42=\"\",\"\",項目表示入力!V42)","v":"内容36,20"},{"$f":"IF(項目表示入力!C43=\"\",\"\",項目表示入力!C43)","v":"内容37,1"},{"$f":"IF(項目表示入力!D43=\"\",\"\",項目表示入力!D43)","v":"内容37,2"},{"$f":"IF(項目表示入力!E43=\"\",\"\",項目表示入力!E43)","v":"内容37,3"},{"$f":"IF(項目表示入力!F43=\"\",\"\",項目表示入力!F43)","v":"内容37,4"},{"$f":"IF(項目表示入力!G43=\"\",\"\",項目表示入力!G43)","v":"内容37,5"},{"$f":"IF(項目表示入力!H43=\"\",\"\",項目表示入力!H43)","v":"内容37,6"},{"$f":"IF(項目表示入力!I43=\"\",\"\",項目表示入力!I43)","v":"内容37,7"},{"$f":"IF(項目表示入力!J43=\"\",\"\",項目表示入力!J43)","v":"内容37,8"},{"$f":"IF(項目表示入力!K43=\"\",\"\",項目表示入力!K43)","v":"内容37,9"},{"$f":"IF(項目表示入力!L43=\"\",\"\",項目表示入力!L43)","v":"内容37,10"},{"$f":"IF(項目表示入力!M43=\"\",\"\",項目表示入力!M43)","v":"内容37,11"},{"$f":"IF(項目表示入力!N43=\"\",\"\",項目表示入力!N43)","v":"内容37,12"},{"$f":"IF(項目表示入力!O43=\"\",\"\",項目表示入力!O43)","v":"内容37,13"},{"$f":"IF(項目表示入力!P43=\"\",\"\",項目表示入力!P43)","v":"内容37,14"},{"$f":"IF(項目表示入力!Q43=\"\",\"\",項目表示入力!Q43)","v":"内容37,15"},{"$f":"IF(項目表示入力!R43=\"\",\"\",項目表示入力!R43)","v":"内容37,16"},{"$f":"IF(項目表示入力!S43=\"\",\"\",項目表示入力!S43)","v":"内容37,17"},{"$f":"IF(項目表示入力!T43=\"\",\"\",項目表示入力!T43)","v":"内容37,18"},{"$f":"IF(項目表示入力!U43=\"\",\"\",項目表示入力!U43)","v":"内容37,19"},{"$f":"IF(項目表示入力!V43=\"\",\"\",項目表示入力!V43)","v":"内容37,20"},{"$f":"IF(項目表示入力!C44=\"\",\"\",項目表示入力!C44)","v":"内容38,1"},{"$f":"IF(項目表示入力!D44=\"\",\"\",項目表示入力!D44)","v":"内容38,2"},{"$f":"IF(項目表示入力!E44=\"\",\"\",項目表示入力!E44)","v":"内容38,3"},{"$f":"IF(項目表示入力!F44=\"\",\"\",項目表示入力!F44)","v":"内容38,4"},{"$f":"IF(項目表示入力!G44=\"\",\"\",項目表示入力!G44)","v":"内容38,5"},{"$f":"IF(項目表示入力!H44=\"\",\"\",項目表示入力!H44)","v":"内容38,6"},{"$f":"IF(項目表示入力!I44=\"\",\"\",項目表示入力!I44)","v":"内容38,7"},{"$f":"IF(項目表示入力!J44=\"\",\"\",項目表示入力!J44)","v":"内容38,8"},{"$f":"IF(項目表示入力!K44=\"\",\"\",項目表示入力!K44)","v":"内容38,9"},{"$f":"IF(項目表示入力!L44=\"\",\"\",項目表示入力!L44)","v":"内容38,10"},{"$f":"IF(項目表示入力!M44=\"\",\"\",項目表示入力!M44)","v":"内容38,11"},{"$f":"IF(項目表示入力!N44=\"\",\"\",項目表示入力!N44)","v":"内容38,12"},{"$f":"IF(項目表示入力!O44=\"\",\"\",項目表示入力!O44)","v":"内容38,13"},{"$f":"IF(項目表示入力!P44=\"\",\"\",項目表示入力!P44)","v":"内容38,14"},{"$f":"IF(項目表示入力!Q44=\"\",\"\",項目表示入力!Q44)","v":"内容38,15"},{"$f":"IF(項目表示入力!R44=\"\",\"\",項目表示入力!R44)","v":"内容38,16"},{"$f":"IF(項目表示入力!S44=\"\",\"\",項目表示入力!S44)","v":"内容38,17"},{"$f":"IF(項目表示入力!T44=\"\",\"\",項目表示入力!T44)","v":"内容38,18"},{"$f":"IF(項目表示入力!U44=\"\",\"\",項目表示入力!U44)","v":"内容38,19"},{"$f":"IF(項目表示入力!V44=\"\",\"\",項目表示入力!V44)","v":"内容38,20"},{"$f":"IF(項目表示入力!C45=\"\",\"\",項目表示入力!C45)","v":"内容39,1"},{"$f":"IF(項目表示入力!D45=\"\",\"\",項目表示入力!D45)","v":"内容39,2"},{"$f":"IF(項目表示入力!E45=\"\",\"\",項目表示入力!E45)","v":"内容39,3"},{"$f":"IF(項目表示入力!F45=\"\",\"\",項目表示入力!F45)","v":"内容39,4"},{"$f":"IF(項目表示入力!G45=\"\",\"\",項目表示入力!G45)","v":"内容39,5"},{"$f":"IF(項目表示入力!H45=\"\",\"\",項目表示入力!H45)","v":"内容39,6"},{"$f":"IF(項目表示入力!I45=\"\",\"\",項目表示入力!I45)","v":"内容39,7"},{"$f":"IF(項目表示入力!J45=\"\",\"\",項目表示入力!J45)","v":"内容39,8"},{"$f":"IF(項目表示入力!K45=\"\",\"\",項目表示入力!K45)","v":"内容39,9"},{"$f":"IF(項目表示入力!L45=\"\",\"\",項目表示入力!L45)","v":"内容39,10"},{"$f":"IF(項目表示入力!M45=\"\",\"\",項目表示入力!M45)","v":"内容39,11"},{"$f":"IF(項目表示入力!N45=\"\",\"\",項目表示入力!N45)","v":"内容39,12"},{"$f":"IF(項目表示入力!O45=\"\",\"\",項目表示入力!O45)","v":"内容39,13"},{"$f":"IF(項目表示入力!P45=\"\",\"\",項目表示入力!P45)","v":"内容39,14"},{"$f":"IF(項目表示入力!Q45=\"\",\"\",項目表示入力!Q45)","v":"内容39,15"},{"$f":"IF(項目表示入力!R45=\"\",\"\",項目表示入力!R45)","v":"内容39,16"},{"$f":"IF(項目表示入力!S45=\"\",\"\",項目表示入力!S45)","v":"内容39,17"},{"$f":"IF(項目表示入力!T45=\"\",\"\",項目表示入力!T45)","v":"内容39,18"},{"$f":"IF(項目表示入力!U45=\"\",\"\",項目表示入力!U45)","v":"内容39,19"},{"$f":"IF(項目表示入力!V45=\"\",\"\",項目表示入力!V45)","v":"内容39,20"},{"$f":"IF(項目表示入力!C46=\"\",\"\",項目表示入力!C46)","v":"内容40,1"},{"$f":"IF(項目表示入力!D46=\"\",\"\",項目表示入力!D46)","v":"内容40,2"},{"$f":"IF(項目表示入力!E46=\"\",\"\",項目表示入力!E46)","v":"内容40,3"},{"$f":"IF(項目表示入力!F46=\"\",\"\",項目表示入力!F46)","v":"内容40,4"},{"$f":"IF(項目表示入力!G46=\"\",\"\",項目表示入力!G46)","v":"内容40,5"},{"$f":"IF(項目表示入力!H46=\"\",\"\",項目表示入力!H46)","v":"内容40,6"},{"$f":"IF(項目表示入力!I46=\"\",\"\",項目表示入力!I46)","v":"内容40,7"},{"$f":"IF(項目表示入力!J46=\"\",\"\",項目表示入力!J46)","v":"内容40,8"},{"$f":"IF(項目表示入力!K46=\"\",\"\",項目表示入力!K46)","v":"内容40,9"},{"$f":"IF(項目表示入力!L46=\"\",\"\",項目表示入力!L46)","v":"内容40,10"},{"$f":"IF(項目表示入力!M46=\"\",\"\",項目表示入力!M46)","v":"内容40,11"},{"$f":"IF(項目表示入力!N46=\"\",\"\",項目表示入力!N46)","v":"内容40,12"},{"$f":"IF(項目表示入力!O46=\"\",\"\",項目表示入力!O46)","v":"内容40,13"},{"$f":"IF(項目表示入力!P46=\"\",\"\",項目表示入力!P46)","v":"内容40,14"},{"$f":"IF(項目表示入力!Q46=\"\",\"\",項目表示入力!Q46)","v":"内容40,15"},{"$f":"IF(項目表示入力!R46=\"\",\"\",項目表示入力!R46)","v":"内容40,16"},{"$f":"IF(項目表示入力!S46=\"\",\"\",項目表示入力!S46)","v":"内容40,17"},{"$f":"IF(項目表示入力!T46=\"\",\"\",項目表示入力!T46)","v":"内容40,18"},{"$f":"IF(項目表示入力!U46=\"\",\"\",項目表示入力!U46)","v":"内容40,19"},{"$f":"IF(項目表示入力!V46=\"\",\"\",項目表示入力!V46)","v":"内容40,20"}]
[null,-2,-2,{"$f":"IF(オフセット番号A!$C$4=\"\",\"\",オフセット番号A!$C$4)","v":"列1"},{"$f":"IF(オフセット番号A!$D$4=\"\",\"\",オフセット番号A!$D$4)","v":"列2"},{"$f":"IF(オフセット番号A!$E$4=\"\",\"\",オフセット番号A!$E$4)","v":"列3"},{"$f":"IF(オフセット番号A!$F$4=\"\",\"\",オフセット番号A!$F$4)","v":"列4"},{"$f":"IF(オフセット番号A!$G$4=\"\",\"\",オフセット番号A!$G$4)","v":"列5"},{"$f":"IF(オフセット番号A!$H$4=\"\",\"\",オフセット番号A!$H$4)","v":"列6"},{"$f":"IF(オフセット番号A!$I$4=\"\",\"\",オフセット番号A!$I$4)","v":"列7"},{"$f":"IF(オフセット番号A!$J$4=\"\",\"\",オフセット番号A!$J$4)","v":"列8"},{"$f":"IF(オフセット番号A!$K$4=\"\",\"\",オフセット番号A!$K$4)","v":"列9"},{"$f":"IF(オフセット番号A!$L$4=\"\",\"\",オフセット番号A!$L$4)","v":"列10"},{"$f":"IF(オフセット番号A!$M$4=\"\",\"\",オフセット番号A!$M$4)","v":"列11"},{"$f":"IF(オフセット番号A!$N$4=\"\",\"\",オフセット番号A!$N$4)","v":"列12"},{"$f":"IF(オフセット番号A!$O$4=\"\",\"\",オフセット番号A!$O$4)","v":"列13"},{"$f":"IF(オフセット番号A!$P$4=\"\",\"\",オフセット番号A!$P$4)","v":"列14"},{"$f":"IF(オフセット番号A!$Q$4=\"\",\"\",オフセット番号A!$Q$4)","v":"列15"},{"$f":"IF(オフセット番号A!$R$4=\"\",\"\",オフセット番号A!$R$4)","v":"列16"},{"$f":"IF(オフセット番号A!$S$4=\"\",\"\",オフセット番号A!$S$4)","v":"列17"},{"$f":"IF(オフセット番号A!$T$4=\"\",\"\",オフセット番号A!$T$4)","v":"列18"},{"$f":"IF(オフセット番号A!$U$4=\"\",\"\",オフセット番号A!$U$4)","v":"列19"},{"$f":"IF(オフセット番号A!$V$4=\"\",\"\",オフセット番号A!$V$4)","v":"列20"},{"$f":"IF(オフセット番号A!$C$4=\"\",\"\",オフセット番号A!$C$4)","v":"列1"},{"$f":"IF(オフセット番号A!$D$4=\"\",\"\",オフセット番号A!$D$4)","v":"列2"},{"$f":"IF(オフセット番号A!$E$4=\"\",\"\",オフセット番号A!$E$4)","v":"列3"},{"$f":"IF(オフセット番号A!$F$4=\"\",\"\",オフセット番号A!$F$4)","v":"列4"},{"$f":"IF(オフセット番号A!$G$4=\"\",\"\",オフセット番号A!$G$4)","v":"列5"},{"$f":"IF(オフセット番号A!$H$4=\"\",\"\",オフセット番号A!$H$4)","v":"列6"},{"$f":"IF(オフセット番号A!$I$4=\"\",\"\",オフセット番号A!$I$4)","v":"列7"},{"$f":"IF(オフセット番号A!$J$4=\"\",\"\",オフセット番号A!$J$4)","v":"列8"},{"$f":"IF(オフセット番号A!$K$4=\"\",\"\",オフセット番号A!$K$4)","v":"列9"},{"$f":"IF(オフセット番号A!$L$4=\"\",\"\",オフセット番号A!$L$4)","v":"列10"},{"$f":"IF(オフセット番号A!$M$4=\"\",\"\",オフセット番号A!$M$4)","v":"列11"},{"$f":"IF(オフセット番号A!$N$4=\"\",\"\",オフセット番号A!$N$4)","v":"列12"},{"$f":"IF(オフセット番号A!$O$4=\"\",\"\",オフセット番号A!$O$4)","v":"列13"},{"$f":"IF(オフセット番号A!$P$4=\"\",\"\",オフセット番号A!$P$4)","v":"列14"},{"$f":"IF(オフセット番号A!$Q$4=\"\",\"\",オフセット番号A!$Q$4)","v":"列15"},{"$f":"IF(オフセット番号A!$R$4=\"\",\"\",オフセット番号A!$R$4)","v":"列16"},{"$f":"IF(オフセット番号A!$S$4=\"\",\"\",オフセット番号A!$S$4)","v":"列17"},{"$f":"IF(オフセット番号A!$T$4=\"\",\"\",オフセット番号A!$T$4)","v":"列18"},{"$f":"IF(オフセット番号A!$U$4=\"\",\"\",オフセット番号A!$U$4)","v":"列19"},{"$f":"IF(オフセット番号A!$V$4=\"\",\"\",オフセット番号A!$V$4)","v":"列20"},{"$f":"IF(オフセット番号A!$C$4=\"\",\"\",オフセット番号A!$C$4)","v":"列1"},{"$f":"IF(オフセット番号A!$D$4=\"\",\"\",オフセット番号A!$D$4)","v":"列2"},{"$f":"IF(オフセット番号A!$E$4=\"\",\"\",オフセット番号A!$E$4)","v":"列3"},{"$f":"IF(オフセット番号A!$F$4=\"\",\"\",オフセット番号A!$F$4)","v":"列4"},{"$f":"IF(オフセット番号A!$G$4=\"\",\"\",オフセット番号A!$G$4)","v":"列5"},{"$f":"IF(オフセット番号A!$H$4=\"\",\"\",オフセット番号A!$H$4)","v":"列6"},{"$f":"IF(オフセット番号A!$I$4=\"\",\"\",オフセット番号A!$I$4)","v":"列7"},{"$f":"IF(オフセット番号A!$J$4=\"\",\"\",オフセット番号A!$J$4)","v":"列8"},{"$f":"IF(オフセット番号A!$K$4=\"\",\"\",オフセット番号A!$K$4)","v":"列9"},{"$f":"IF(オフセット番号A!$L$4=\"\",\"\",オフセット番号A!$L$4)","v":"列10"},{"$f":"IF(オフセット番号A!$M$4=\"\",\"\",オフセット番号A!$M$4)","v":"列11"},{"$f":"IF(オフセット番号A!$N$4=\"\",\"\",オフセット番号A!$N$4)","v":"列12"},{"$f":"IF(オフセット番号A!$O$4=\"\",\"\",オフセット番号A!$O$4)","v":"列13"},{"$f":"IF(オフセット番号A!$P$4=\"\",\"\",オフセット番号A!$P$4)","v":"列14"},{"$f":"IF(オフセット番号A!$Q$4=\"\",\"\",オフセット番号A!$Q$4)","v":"列15"},{"$f":"IF(オフセット番号A!$R$4=\"\",\"\",オフセット番号A!$R$4)","v":"列16"},{"$f":"IF(オフセット番号A!$S$4=\"\",\"\",オフセット番号A!$S$4)","v":"列17"},{"$f":"IF(オフセット番号A!$T$4=\"\",\"\",オフセット番号A!$T$4)","v":"列18"},{"$f":"IF(オフセット番号A!$U$4=\"\",\"\",オフセット番号A!$U$4)","v":"列19"},{"$f":"IF(オフセット番号A!$V$4=\"\",\"\",オフセット番号A!$V$4)","v":"列20"},{"$f":"IF(オフセット番号A!$C$4=\"\",\"\",オフセット番号A!$C$4)","v":"列1"},{"$f":"IF(オフセット番号A!$D$4=\"\",\"\",オフセット番号A!$D$4)","v":"列2"},{"$f":"IF(オフセット番号A!$E$4=\"\",\"\",オフセット番号A!$E$4)","v":"列3"},{"$f":"IF(オフセット番号A!$F$4=\"\",\"\",オフセット番号A!$F$4)","v":"列4"},{"$f":"IF(オフセット番号A!$G$4=\"\",\"\",オフセット番号A!$G$4)","v":"列5"},{"$f":"IF(オフセット番号A!$H$4=\"\",\"\",オフセット番号A!$H$4)","v":"列6"},{"$f":"IF(オフセット番号A!$I$4=\"\",\"\",オフセット番号A!$I$4)","v":"列7"},{"$f":"IF(オフセット番号A!$J$4=\"\",\"\",オフセット番号A!$J$4)","v":"列8"},{"$f":"IF(オフセット番号A!$K$4=\"\",\"\",オフセット番号A!$K$4)","v":"列9"},{"$f":"IF(オフセット番号A!$L$4=\"\",\"\",オフセット番号A!$L$4)","v":"列10"},{"$f":"IF(オフセット番号A!$M$4=\"\",\"\",オフセット番号A!$M$4)","v":"列11"},{"$f":"IF(オフセット番号A!$N$4=\"\",\"\",オフセット番号A!$N$4)","v":"列12"},{"$f":"IF(オフセット番号A!$O$4=\"\",\"\",オフセット番号A!$O$4)","v":"列13"},{"$f":"IF(オフセット番号A!$P$4=\"\",\"\",オフセット番号A!$P$4)","v":"列14"},{"$f":"IF(オフセット番号A!$Q$4=\"\",\"\",オフセット番号A!$Q$4)","v":"列15"},{"$f":"IF(オフセット番号A!$R$4=\"\",\"\",オフセット番号A!$R$4)","v":"列16"},{"$f":"IF(オフセット番号A!$S$4=\"\",\"\",オフセット番号A!$S$4)","v":"列17"},{"$f":"IF(オフセット番号A!$T$4=\"\",\"\",オフセット番号A!$T$4)","v":"列18"},{"$f":"IF(オフセット番号A!$U$4=\"\",\"\",オフセット番号A!$U$4)","v":"列19"},{"$f":"IF(オフセット番号A!$V$4=\"\",\"\",オフセット番号A!$V$4)","v":"列20"},{"$f":"IF(オフセット番号A!$C$4=\"\",\"\",オフセット番号A!$C$4)","v":"列1"},{"$f":"IF(オフセット番号A!$D$4=\"\",\"\",オフセット番号A!$D$4)","v":"列2"},{"$f":"IF(オフセット番号A!$E$4=\"\",\"\",オフセット番号A!$E$4)","v":"列3"},{"$f":"IF(オフセット番号A!$F$4=\"\",\"\",オフセット番号A!$F$4)","v":"列4"},{"$f":"IF(オフセット番号A!$G$4=\"\",\"\",オフセット番号A!$G$4)","v":"列5"},{"$f":"IF(オフセット番号A!$H$4=\"\",\"\",オフセット番号A!$H$4)","v":"列6"},{"$f":"IF(オフセット番号A!$I$4=\"\",\"\",オフセット番号A!$I$4)","v":"列7"},{"$f":"IF(オフセット番号A!$J$4=\"\",\"\",オフセット番号A!$J$4)","v":"列8"},{"$f":"IF(オフセット番号A!$K$4=\"\",\"\",オフセット番号A!$K$4)","v":"列9"},{"$f":"IF(オフセット番号A!$L$4=\"\",\"\",オフセット番号A!$L$4)","v":"列10"},{"$f":"IF(オフセット番号A!$M$4=\"\",\"\",オフセット番号A!$M$4)","v":"列11"},{"$f":"IF(オフセット番号A!$N$4=\"\",\"\",オフセット番号A!$N$4)","v":"列12"},{"$f":"IF(オフセット番号A!$O$4=\"\",\"\",オフセット番号A!$O$4)","v":"列13"},{"$f":"IF(オフセット番号A!$P$4=\"\",\"\",オフセット番号A!$P$4)","v":"列14"},{"$f":"IF(オフセット番号A!$Q$4=\"\",\"\",オフセット番号A!$Q$4)","v":"列15"},{"$f":"IF(オフセット番号A!$R$4=\"\",\"\",オフセット番号A!$R$4)","v":"列16"},{"$f":"IF(オフセット番号A!$S$4=\"\",\"\",オフセット番号A!$S$4)","v":"列17"},{"$f":"IF(オフセット番号A!$T$4=\"\",\"\",オフセット番号A!$T$4)","v":"列18"},{"$f":"IF(オフセット番号A!$U$4=\"\",\"\",オフセット番号A!$U$4)","v":"列19"},{"$f":"IF(オフセット番号A!$V$4=\"\",\"\",オフセット番号A!$V$4)","v":"列20"},{"$f":"IF(オフセット番号A!$C$4=\"\",\"\",オフセット番号A!$C$4)","v":"列1"},{"$f":"IF(オフセット番号A!$D$4=\"\",\"\",オフセット番号A!$D$4)","v":"列2"},{"$f":"IF(オフセット番号A!$E$4=\"\",\"\",オフセット番号A!$E$4)","v":"列3"},{"$f":"IF(オフセット番号A!$F$4=\"\",\"\",オフセット番号A!$F$4)","v":"列4"},{"$f":"IF(オフセット番号A!$G$4=\"\",\"\",オフセット番号A!$G$4)","v":"列5"},{"$f":"IF(オフセット番号A!$H$4=\"\",\"\",オフセット番号A!$H$4)","v":"列6"},{"$f":"IF(オフセット番号A!$I$4=\"\",\"\",オフセット番号A!$I$4)","v":"列7"},{"$f":"IF(オフセット番号A!$J$4=\"\",\"\",オフセット番号A!$J$4)","v":"列8"},{"$f":"IF(オフセット番号A!$K$4=\"\",\"\",オフセット番号A!$K$4)","v":"列9"},{"$f":"IF(オフセット番号A!$L$4=\"\",\"\",オフセット番号A!$L$4)","v":"列10"},{"$f":"IF(オフセット番号A!$M$4=\"\",\"\",オフセット番号A!$M$4)","v":"列11"},{"$f":"IF(オフセット番号A!$N$4=\"\",\"\",オフセット番号A!$N$4)","v":"列12"},{"$f":"IF(オフセット番号A!$O$4=\"\",\"\",オフセット番号A!$O$4)","v":"列13"},{"$f":"IF(オフセット番号A!$P$4=\"\",\"\",オフセット番号A!$P$4)","v":"列14"},{"$f":"IF(オフセット番号A!$Q$4=\"\",\"\",オフセット番号A!$Q$4)","v":"列15"},{"$f":"IF(オフセット番号A!$R$4=\"\",\"\",オフセット番号A!$R$4)","v":"列16"},{"$f":"IF(オフセット番号A!$S$4=\"\",\"\",オフセット番号A!$S$4)","v":"列17"},{"$f":"IF(オフセット番号A!$T$4=\"\",\"\",オフセット番号A!$T$4)","v":"列18"},{"$f":"IF(オフセット番号A!$U$4=\"\",\"\",オフセット番号A!$U$4)","v":"列19"},{"$f":"IF(オフセット番号A!$V$4=\"\",\"\",オフセット番号A!$V$4)","v":"列20"},{"$f":"IF(オフセット番号A!$C$4=\"\",\"\",オフセット番号A!$C$4)","v":"列1"},{"$f":"IF(オフセット番号A!$D$4=\"\",\"\",オフセット番号A!$D$4)","v":"列2"},{"$f":"IF(オフセット番号A!$E$4=\"\",\"\",オフセット番号A!$E$4)","v":"列3"},{"$f":"IF(オフセット番号A!$F$4=\"\",\"\",オフセット番号A!$F$4)","v":"列4"},{"$f":"IF(オフセット番号A!$G$4=\"\",\"\",オフセット番号A!$G$4)","v":"列5"},{"$f":"IF(オフセット番号A!$H$4=\"\",\"\",オフセット番号A!$H$4)","v":"列6"},{"$f":"IF(オフセット番号A!$I$4=\"\",\"\",オフセット番号A!$I$4)","v":"列7"},{"$f":"IF(オフセット番号A!$J$4=\"\",\"\",オフセット番号A!$J$4)","v":"列8"},{"$f":"IF(オフセット番号A!$K$4=\"\",\"\",オフセット番号A!$K$4)","v":"列9"},{"$f":"IF(オフセット番号A!$L$4=\"\",\"\",オフセット番号A!$L$4)","v":"列10"},{"$f":"IF(オフセット番号A!$M$4=\"\",\"\",オフセット番号A!$M$4)","v":"列11"},{"$f":"IF(オフセット番号A!$N$4=\"\",\"\",オフセット番号A!$N$4)","v":"列12"},{"$f":"IF(オフセット番号A!$O$4=\"\",\"\",オフセット番号A!$O$4)","v":"列13"},{"$f":"IF(オフセット番号A!$P$4=\"\",\"\",オフセット番号A!$P$4)","v":"列14"},{"$f":"IF(オフセット番号A!$Q$4=\"\",\"\",オフセット番号A!$Q$4)","v":"列15"},{"$f":"IF(オフセット番号A!$R$4=\"\",\"\",オフセット番号A!$R$4)","v":"列16"},{"$f":"IF(オフセット番号A!$S$4=\"\",\"\",オフセット番号A!$S$4)","v":"列17"},{"$f":"IF(オフセット番号A!$T$4=\"\",\"\",オフセット番号A!$T$4)","v":"列18"},{"$f":"IF(オフセット番号A!$U$4=\"\",\"\",オフセット番号A!$U$4)","v":"列19"},{"$f":"IF(オフセット番号A!$V$4=\"\",\"\",オフセット番号A!$V$4)","v":"列20"},{"$f":"IF(オフセット番号A!$C$4=\"\",\"\",オフセット番号A!$C$4)","v":"列1"},{"$f":"IF(オフセット番号A!$D$4=\"\",\"\",オフセット番号A!$D$4)","v":"列2"},{"$f":"IF(オフセット番号A!$E$4=\"\",\"\",オフセット番号A!$E$4)","v":"列3"},{"$f":"IF(オフセット番号A!$F$4=\"\",\"\",オフセット番号A!$F$4)","v":"列4"},{"$f":"IF(オフセット番号A!$G$4=\"\",\"\",オフセット番号A!$G$4)","v":"列5"},{"$f":"IF(オフセット番号A!$H$4=\"\",\"\",オフセット番号A!$H$4)","v":"列6"},{"$f":"IF(オフセット番号A!$I$4=\"\",\"\",オフセット番号A!$I$4)","v":"列7"},{"$f":"IF(オフセット番号A!$J$4=\"\",\"\",オフセット番号A!$J$4)","v":"列8"},{"$f":"IF(オフセット番号A!$K$4=\"\",\"\",オフセット番号A!$K$4)","v":"列9"},{"$f":"IF(オフセット番号A!$L$4=\"\",\"\",オフセット番号A!$L$4)","v":"列10"},{"$f":"IF(オフセット番号A!$M$4=\"\",\"\",オフセット番号A!$M$4)","v":"列11"},{"$f":"IF(オフセット番号A!$N$4=\"\",\"\",オフセット番号A!$N$4)","v":"列12"},{"$f":"IF(オフセット番号A!$O$4=\"\",\"\",オフセット番号A!$O$4)","v":"列13"},{"$f":"IF(オフセット番号A!$P$4=\"\",\"\",オフセット番号A!$P$4)","v":"列14"},{"$f":"IF(オフセット番号A!$Q$4=\"\",\"\",オフセット番号A!$Q$4)","v":"列15"},{"$f":"IF(オフセット番号A!$R$4=\"\",\"\",オフセット番号A!$R$4)","v":"列16"},{"$f":"IF(オフセット番号A!$S$4=\"\",\"\",オフセット番号A!$S$4)","v":"列17"},{"$f":"IF(オフセット番号A!$T$4=\"\",\"\",オフセット番号A!$T$4)","v":"列18"},{"$f":"IF(オフセット番号A!$U$4=\"\",\"\",オフセット番号A!$U$4)","v":"列19"},{"$f":"IF(オフセット番号A!$V$4=\"\",\"\",オフセット番号A!$V$4)","v":"列20"},{"$f":"IF(オフセット番号A!$C$4=\"\",\"\",オフセット番号A!$C$4)","v":"列1"},{"$f":"IF(オフセット番号A!$D$4=\"\",\"\",オフセット番号A!$D$4)","v":"列2"},{"$f":"IF(オフセット番号A!$E$4=\"\",\"\",オフセット番号A!$E$4)","v":"列3"},{"$f":"IF(オフセット番号A!$F$4=\"\",\"\",オフセット番号A!$F$4)","v":"列4"},{"$f":"IF(オフセット番号A!$G$4=\"\",\"\",オフセット番号A!$G$4)","v":"列5"},{"$f":"IF(オフセット番号A!$H$4=\"\",\"\",オフセット番号A!$H$4)","v":"列6"},{"$f":"IF(オフセット番号A!$I$4=\"\",\"\",オフセット番号A!$I$4)","v":"列7"},{"$f":"IF(オフセット番号A!$J$4=\"\",\"\",オフセット番号A!$J$4)","v":"列8"},{"$f":"IF(オフセット番号A!$K$4=\"\",\"\",オフセット番号A!$K$4)","v":"列9"},{"$f":"IF(オフセット番号A!$L$4=\"\",\"\",オフセット番号A!$L$4)","v":"列10"},{"$f":"IF(オフセット番号A!$M$4=\"\",\"\",オフセット番号A!$M$4)","v":"列11"},{"$f":"IF(オフセット番号A!$N$4=\"\",\"\",オフセット番号A!$N$4)","v":"列12"},{"$f":"IF(オフセット番号A!$O$4=\"\",\"\",オフセット番号A!$O$4)","v":"列13"},{"$f":"IF(オフセット番号A!$P$4=\"\",\"\",オフセット番号A!$P$4)","v":"列14"},{"$f":"IF(オフセット番号A!$Q$4=\"\",\"\",オフセット番号A!$Q$4)","v":"列15"},{"$f":"IF(オフセット番号A!$R$4=\"\",\"\",オフセット番号A!$R$4)","v":"列16"},{"$f":"IF(オフセット番号A!$S$4=\"\",\"\",オフセット番号A!$S$4)","v":"列17"},{"$f":"IF(オフセット番号A!$T$4=\"\",\"\",オフセット番号A!$T$4)","v":"列18"},{"$f":"IF(オフセット番号A!$U$4=\"\",\"\",オフセット番号A!$U$4)","v":"列19"},{"$f":"IF(オフセット番号A!$V$4=\"\",\"\",オフセット番号A!$V$4)","v":"列20"},{"$f":"IF(オフセット番号A!$C$4=\"\",\"\",オフセット番号A!$C$4)","v":"列1"},{"$f":"IF(オフセット番号A!$D$4=\"\",\"\",オフセット番号A!$D$4)","v":"列2"},{"$f":"IF(オフセット番号A!$E$4=\"\",\"\",オフセット番号A!$E$4)","v":"列3"},{"$f":"IF(オフセット番号A!$F$4=\"\",\"\",オフセット番号A!$F$4)","v":"列4"},{"$f":"IF(オフセット番号A!$G$4=\"\",\"\",オフセット番号A!$G$4)","v":"列5"},{"$f":"IF(オフセット番号A!$H$4=\"\",\"\",オフセット番号A!$H$4)","v":"列6"},{"$f":"IF(オフセット番号A!$I$4=\"\",\"\",オフセット番号A!$I$4)","v":"列7"},{"$f":"IF(オフセット番号A!$J$4=\"\",\"\",オフセット番号A!$J$4)","v":"列8"},{"$f":"IF(オフセット番号A!$K$4=\"\",\"\",オフセット番号A!$K$4)","v":"列9"},{"$f":"IF(オフセット番号A!$L$4=\"\",\"\",オフセット番号A!$L$4)","v":"列10"},{"$f":"IF(オフセット番号A!$M$4=\"\",\"\",オフセット番号A!$M$4)","v":"列11"},{"$f":"IF(オフセット番号A!$N$4=\"\",\"\",オフセット番号A!$N$4)","v":"列12"},{"$f":"IF(オフセット番号A!$O$4=\"\",\"\",オフセット番号A!$O$4)","v":"列13"},{"$f":"IF(オフセット番号A!$P$4=\"\",\"\",オフセット番号A!$P$4)","v":"列14"},{"$f":"IF(オフセット番号A!$Q$4=\"\",\"\",オフセット番号A!$Q$4)","v":"列15"},{"$f":"IF(オフセット番号A!$R$4=\"\",\"\",オフセット番号A!$R$4)","v":"列16"},{"$f":"IF(オフセット番号A!$S$4=\"\",\"\",オフセット番号A!$S$4)","v":"列17"},{"$f":"IF(オフセット番号A!$T$4=\"\",\"\",オフセット番号A!$T$4)","v":"列18"},{"$f":"IF(オフセット番号A!$U$4=\"\",\"\",オフセット番号A!$U$4)","v":"列19"},{"$f":"IF(オフセット番号A!$V$4=\"\",\"\",オフセット番号A!$V$4)","v":"列20"}]
[null,-1,-1,{"$f":"IF(行列入力項目!$C$35=\"\",\"\",行列入力項目!$C$35)","v":"行31"},{"$f":"IF(行列入力項目!$C$35=\"\",\"\",行列入力項目!$C$35)","v":"行31"},{"$f":"IF(行列入力項目!$C$35=\"\",\"\",行列入力項目!$C$35)","v":"行31"},{"$f":"IF(行列入力項目!$C$35=\"\",\"\",行列入力項目!$C$35)","v":"行31"},{"$f":"IF(行列入力項目!$C$35=\"\",\"\",行列入力項目!$C$35)","v":"行31"},{"$f":"IF(行列入力項目!$C$35=\"\",\"\",行列入力項目!$C$35)","v":"行31"},{"$f":"IF(行列入力項目!$C$35=\"\",\"\",行列入力項目!$C$35)","v":"行31"},{"$f":"IF(行列入力項目!$C$35=\"\",\"\",行列入力項目!$C$35)","v":"行31"},{"$f":"IF(行列入力項目!$C$35=\"\",\"\",行列入力項目!$C$35)","v":"行31"},{"$f":"IF(行列入力項目!$C$35=\"\",\"\",行列入力項目!$C$35)","v":"行31"},{"$f":"IF(行列入力項目!$C$35=\"\",\"\",行列入力項目!$C$35)","v":"行31"},{"$f":"IF(行列入力項目!$C$35=\"\",\"\",行列入力項目!$C$35)","v":"行31"},{"$f":"IF(行列入力項目!$C$35=\"\",\"\",行列入力項目!$C$35)","v":"行31"},{"$f":"IF(行列入力項目!$C$35=\"\",\"\",行列入力項目!$C$35)","v":"行31"},{"$f":"IF(行列入力項目!$C$35=\"\",\"\",行列入力項目!$C$35)","v":"行31"},{"$f":"IF(行列入力項目!$C$35=\"\",\"\",行列入力項目!$C$35)","v":"行31"},{"$f":"IF(行列入力項目!$C$35=\"\",\"\",行列入力項目!$C$35)","v":"行31"},{"$f":"IF(行列入力項目!$C$35=\"\",\"\",行列入力項目!$C$35)","v":"行31"},{"$f":"IF(行列入力項目!$C$35=\"\",\"\",行列入力項目!$C$35)","v":"行31"},{"$f":"IF(行列入力項目!$C$35=\"\",\"\",行列入力項目!$C$35)","v":"行31"},{"$f":"IF(行列入力項目!$C$36=\"\",\"\",行列入力項目!$C$36)","v":"行32"},{"$f":"IF(行列入力項目!$C$36=\"\",\"\",行列入力項目!$C$36)","v":"行32"},{"$f":"IF(行列入力項目!$C$36=\"\",\"\",行列入力項目!$C$36)","v":"行32"},{"$f":"IF(行列入力項目!$C$36=\"\",\"\",行列入力項目!$C$36)","v":"行32"},{"$f":"IF(行列入力項目!$C$36=\"\",\"\",行列入力項目!$C$36)","v":"行32"},{"$f":"IF(行列入力項目!$C$36=\"\",\"\",行列入力項目!$C$36)","v":"行32"},{"$f":"IF(行列入力項目!$C$36=\"\",\"\",行列入力項目!$C$36)","v":"行32"},{"$f":"IF(行列入力項目!$C$36=\"\",\"\",行列入力項目!$C$36)","v":"行32"},{"$f":"IF(行列入力項目!$C$36=\"\",\"\",行列入力項目!$C$36)","v":"行32"},{"$f":"IF(行列入力項目!$C$36=\"\",\"\",行列入力項目!$C$36)","v":"行32"},{"$f":"IF(行列入力項目!$C$36=\"\",\"\",行列入力項目!$C$36)","v":"行32"},{"$f":"IF(行列入力項目!$C$36=\"\",\"\",行列入力項目!$C$36)","v":"行32"},{"$f":"IF(行列入力項目!$C$36=\"\",\"\",行列入力項目!$C$36)","v":"行32"},{"$f":"IF(行列入力項目!$C$36=\"\",\"\",行列入力項目!$C$36)","v":"行32"},{"$f":"IF(行列入力項目!$C$36=\"\",\"\",行列入力項目!$C$36)","v":"行32"},{"$f":"IF(行列入力項目!$C$36=\"\",\"\",行列入力項目!$C$36)","v":"行32"},{"$f":"IF(行列入力項目!$C$36=\"\",\"\",行列入力項目!$C$36)","v":"行32"},{"$f":"IF(行列入力項目!$C$36=\"\",\"\",行列入力項目!$C$36)","v":"行32"},{"$f":"IF(行列入力項目!$C$36=\"\",\"\",行列入力項目!$C$36)","v":"行32"},{"$f":"IF(行列入力項目!$C$36=\"\",\"\",行列入力項目!$C$36)","v":"行32"},{"$f":"IF(行列入力項目!$C$37=\"\",\"\",行列入力項目!$C$37)","v":"行33"},{"$f":"IF(行列入力項目!$C$37=\"\",\"\",行列入力項目!$C$37)","v":"行33"},{"$f":"IF(行列入力項目!$C$37=\"\",\"\",行列入力項目!$C$37)","v":"行33"},{"$f":"IF(行列入力項目!$C$37=\"\",\"\",行列入力項目!$C$37)","v":"行33"},{"$f":"IF(行列入力項目!$C$37=\"\",\"\",行列入力項目!$C$37)","v":"行33"},{"$f":"IF(行列入力項目!$C$37=\"\",\"\",行列入力項目!$C$37)","v":"行33"},{"$f":"IF(行列入力項目!$C$37=\"\",\"\",行列入力項目!$C$37)","v":"行33"},{"$f":"IF(行列入力項目!$C$37=\"\",\"\",行列入力項目!$C$37)","v":"行33"},{"$f":"IF(行列入力項目!$C$37=\"\",\"\",行列入力項目!$C$37)","v":"行33"},{"$f":"IF(行列入力項目!$C$37=\"\",\"\",行列入力項目!$C$37)","v":"行33"},{"$f":"IF(行列入力項目!$C$37=\"\",\"\",行列入力項目!$C$37)","v":"行33"},{"$f":"IF(行列入力項目!$C$37=\"\",\"\",行列入力項目!$C$37)","v":"行33"},{"$f":"IF(行列入力項目!$C$37=\"\",\"\",行列入力項目!$C$37)","v":"行33"},{"$f":"IF(行列入力項目!$C$37=\"\",\"\",行列入力項目!$C$37)","v":"行33"},{"$f":"IF(行列入力項目!$C$37=\"\",\"\",行列入力項目!$C$37)","v":"行33"},{"$f":"IF(行列入力項目!$C$37=\"\",\"\",行列入力項目!$C$37)","v":"行33"},{"$f":"IF(行列入力項目!$C$37=\"\",\"\",行列入力項目!$C$37)","v":"行33"},{"$f":"IF(行列入力項目!$C$37=\"\",\"\",行列入力項目!$C$37)","v":"行33"},{"$f":"IF(行列入力項目!$C$37=\"\",\"\",行列入力項目!$C$37)","v":"行33"},{"$f":"IF(行列入力項目!$C$37=\"\",\"\",行列入力項目!$C$37)","v":"行33"},{"$f":"IF(行列入力項目!$C$38=\"\",\"\",行列入力項目!$C$38)","v":"行34"},{"$f":"IF(行列入力項目!$C$38=\"\",\"\",行列入力項目!$C$38)","v":"行34"},{"$f":"IF(行列入力項目!$C$38=\"\",\"\",行列入力項目!$C$38)","v":"行34"},{"$f":"IF(行列入力項目!$C$38=\"\",\"\",行列入力項目!$C$38)","v":"行34"},{"$f":"IF(行列入力項目!$C$38=\"\",\"\",行列入力項目!$C$38)","v":"行34"},{"$f":"IF(行列入力項目!$C$38=\"\",\"\",行列入力項目!$C$38)","v":"行34"},{"$f":"IF(行列入力項目!$C$38=\"\",\"\",行列入力項目!$C$38)","v":"行34"},{"$f":"IF(行列入力項目!$C$38=\"\",\"\",行列入力項目!$C$38)","v":"行34"},{"$f":"IF(行列入力項目!$C$38=\"\",\"\",行列入力項目!$C$38)","v":"行34"},{"$f":"IF(行列入力項目!$C$38=\"\",\"\",行列入力項目!$C$38)","v":"行34"},{"$f":"IF(行列入力項目!$C$38=\"\",\"\",行列入力項目!$C$38)","v":"行34"},{"$f":"IF(行列入力項目!$C$38=\"\",\"\",行列入力項目!$C$38)","v":"行34"},{"$f":"IF(行列入力項目!$C$38=\"\",\"\",行列入力項目!$C$38)","v":"行34"},{"$f":"IF(行列入力項目!$C$38=\"\",\"\",行列入力項目!$C$38)","v":"行34"},{"$f":"IF(行列入力項目!$C$38=\"\",\"\",行列入力項目!$C$38)","v":"行34"},{"$f":"IF(行列入力項目!$C$38=\"\",\"\",行列入力項目!$C$38)","v":"行34"},{"$f":"IF(行列入力項目!$C$38=\"\",\"\",行列入力項目!$C$38)","v":"行34"},{"$f":"IF(行列入力項目!$C$38=\"\",\"\",行列入力項目!$C$38)","v":"行34"},{"$f":"IF(行列入力項目!$C$38=\"\",\"\",行列入力項目!$C$38)","v":"行34"},{"$f":"IF(行列入力項目!$C$38=\"\",\"\",行列入力項目!$C$38)","v":"行34"},{"$f":"IF(行列入力項目!$C$39=\"\",\"\",行列入力項目!$C$39)","v":"行35"},{"$f":"IF(行列入力項目!$C$39=\"\",\"\",行列入力項目!$C$39)","v":"行35"},{"$f":"IF(行列入力項目!$C$39=\"\",\"\",行列入力項目!$C$39)","v":"行35"},{"$f":"IF(行列入力項目!$C$39=\"\",\"\",行列入力項目!$C$39)","v":"行35"},{"$f":"IF(行列入力項目!$C$39=\"\",\"\",行列入力項目!$C$39)","v":"行35"},{"$f":"IF(行列入力項目!$C$39=\"\",\"\",行列入力項目!$C$39)","v":"行35"},{"$f":"IF(行列入力項目!$C$39=\"\",\"\",行列入力項目!$C$39)","v":"行35"},{"$f":"IF(行列入力項目!$C$39=\"\",\"\",行列入力項目!$C$39)","v":"行35"},{"$f":"IF(行列入力項目!$C$39=\"\",\"\",行列入力項目!$C$39)","v":"行35"},{"$f":"IF(行列入力項目!$C$39=\"\",\"\",行列入力項目!$C$39)","v":"行35"},{"$f":"IF(行列入力項目!$C$39=\"\",\"\",行列入力項目!$C$39)","v":"行35"},{"$f":"IF(行列入力項目!$C$39=\"\",\"\",行列入力項目!$C$39)","v":"行35"},{"$f":"IF(行列入力項目!$C$39=\"\",\"\",行列入力項目!$C$39)","v":"行35"},{"$f":"IF(行列入力項目!$C$39=\"\",\"\",行列入力項目!$C$39)","v":"行35"},{"$f":"IF(行列入力項目!$C$39=\"\",\"\",行列入力項目!$C$39)","v":"行35"},{"$f":"IF(行列入力項目!$C$39=\"\",\"\",行列入力項目!$C$39)","v":"行35"},{"$f":"IF(行列入力項目!$C$39=\"\",\"\",行列入力項目!$C$39)","v":"行35"},{"$f":"IF(行列入力項目!$C$39=\"\",\"\",行列入力項目!$C$39)","v":"行35"},{"$f":"IF(行列入力項目!$C$39=\"\",\"\",行列入力項目!$C$39)","v":"行35"},{"$f":"IF(行列入力項目!$C$39=\"\",\"\",行列入力項目!$C$39)","v":"行35"},{"$f":"IF(行列入力項目!$C$40=\"\",\"\",行列入力項目!$C$40)","v":"行36"},{"$f":"IF(行列入力項目!$C$40=\"\",\"\",行列入力項目!$C$40)","v":"行36"},{"$f":"IF(行列入力項目!$C$40=\"\",\"\",行列入力項目!$C$40)","v":"行36"},{"$f":"IF(行列入力項目!$C$40=\"\",\"\",行列入力項目!$C$40)","v":"行36"},{"$f":"IF(行列入力項目!$C$40=\"\",\"\",行列入力項目!$C$40)","v":"行36"},{"$f":"IF(行列入力項目!$C$40=\"\",\"\",行列入力項目!$C$40)","v":"行36"},{"$f":"IF(行列入力項目!$C$40=\"\",\"\",行列入力項目!$C$40)","v":"行36"},{"$f":"IF(行列入力項目!$C$40=\"\",\"\",行列入力項目!$C$40)","v":"行36"},{"$f":"IF(行列入力項目!$C$40=\"\",\"\",行列入力項目!$C$40)","v":"行36"},{"$f":"IF(行列入力項目!$C$40=\"\",\"\",行列入力項目!$C$40)","v":"行36"},{"$f":"IF(行列入力項目!$C$40=\"\",\"\",行列入力項目!$C$40)","v":"行36"},{"$f":"IF(行列入力項目!$C$40=\"\",\"\",行列入力項目!$C$40)","v":"行36"},{"$f":"IF(行列入力項目!$C$40=\"\",\"\",行列入力項目!$C$40)","v":"行36"},{"$f":"IF(行列入力項目!$C$40=\"\",\"\",行列入力項目!$C$40)","v":"行36"},{"$f":"IF(行列入力項目!$C$40=\"\",\"\",行列入力項目!$C$40)","v":"行36"},{"$f":"IF(行列入力項目!$C$40=\"\",\"\",行列入力項目!$C$40)","v":"行36"},{"$f":"IF(行列入力項目!$C$40=\"\",\"\",行列入力項目!$C$40)","v":"行36"},{"$f":"IF(行列入力項目!$C$40=\"\",\"\",行列入力項目!$C$40)","v":"行36"},{"$f":"IF(行列入力項目!$C$40=\"\",\"\",行列入力項目!$C$40)","v":"行36"},{"$f":"IF(行列入力項目!$C$40=\"\",\"\",行列入力項目!$C$40)","v":"行36"},{"$f":"IF(行列入力項目!$C$41=\"\",\"\",行列入力項目!$C$41)","v":"行37"},{"$f":"IF(行列入力項目!$C$41=\"\",\"\",行列入力項目!$C$41)","v":"行37"},{"$f":"IF(行列入力項目!$C$41=\"\",\"\",行列入力項目!$C$41)","v":"行37"},{"$f":"IF(行列入力項目!$C$41=\"\",\"\",行列入力項目!$C$41)","v":"行37"},{"$f":"IF(行列入力項目!$C$41=\"\",\"\",行列入力項目!$C$41)","v":"行37"},{"$f":"IF(行列入力項目!$C$41=\"\",\"\",行列入力項目!$C$41)","v":"行37"},{"$f":"IF(行列入力項目!$C$41=\"\",\"\",行列入力項目!$C$41)","v":"行37"},{"$f":"IF(行列入力項目!$C$41=\"\",\"\",行列入力項目!$C$41)","v":"行37"},{"$f":"IF(行列入力項目!$C$41=\"\",\"\",行列入力項目!$C$41)","v":"行37"},{"$f":"IF(行列入力項目!$C$41=\"\",\"\",行列入力項目!$C$41)","v":"行37"},{"$f":"IF(行列入力項目!$C$41=\"\",\"\",行列入力項目!$C$41)","v":"行37"},{"$f":"IF(行列入力項目!$C$41=\"\",\"\",行列入力項目!$C$41)","v":"行37"},{"$f":"IF(行列入力項目!$C$41=\"\",\"\",行列入力項目!$C$41)","v":"行37"},{"$f":"IF(行列入力項目!$C$41=\"\",\"\",行列入力項目!$C$41)","v":"行37"},{"$f":"IF(行列入力項目!$C$41=\"\",\"\",行列入力項目!$C$41)","v":"行37"},{"$f":"IF(行列入力項目!$C$41=\"\",\"\",行列入力項目!$C$41)","v":"行37"},{"$f":"IF(行列入力項目!$C$41=\"\",\"\",行列入力項目!$C$41)","v":"行37"},{"$f":"IF(行列入力項目!$C$41=\"\",\"\",行列入力項目!$C$41)","v":"行37"},{"$f":"IF(行列入力項目!$C$41=\"\",\"\",行列入力項目!$C$41)","v":"行37"},{"$f":"IF(行列入力項目!$C$41=\"\",\"\",行列入力項目!$C$41)","v":"行37"},{"$f":"IF(行列入力項目!$C$42=\"\",\"\",行列入力項目!$C$42)","v":"行38"},{"$f":"IF(行列入力項目!$C$42=\"\",\"\",行列入力項目!$C$42)","v":"行38"},{"$f":"IF(行列入力項目!$C$42=\"\",\"\",行列入力項目!$C$42)","v":"行38"},{"$f":"IF(行列入力項目!$C$42=\"\",\"\",行列入力項目!$C$42)","v":"行38"},{"$f":"IF(行列入力項目!$C$42=\"\",\"\",行列入力項目!$C$42)","v":"行38"},{"$f":"IF(行列入力項目!$C$42=\"\",\"\",行列入力項目!$C$42)","v":"行38"},{"$f":"IF(行列入力項目!$C$42=\"\",\"\",行列入力項目!$C$42)","v":"行38"},{"$f":"IF(行列入力項目!$C$42=\"\",\"\",行列入力項目!$C$42)","v":"行38"},{"$f":"IF(行列入力項目!$C$42=\"\",\"\",行列入力項目!$C$42)","v":"行38"},{"$f":"IF(行列入力項目!$C$42=\"\",\"\",行列入力項目!$C$42)","v":"行38"},{"$f":"IF(行列入力項目!$C$42=\"\",\"\",行列入力項目!$C$42)","v":"行38"},{"$f":"IF(行列入力項目!$C$42=\"\",\"\",行列入力項目!$C$42)","v":"行38"},{"$f":"IF(行列入力項目!$C$42=\"\",\"\",行列入力項目!$C$42)","v":"行38"},{"$f":"IF(行列入力項目!$C$42=\"\",\"\",行列入力項目!$C$42)","v":"行38"},{"$f":"IF(行列入力項目!$C$42=\"\",\"\",行列入力項目!$C$42)","v":"行38"},{"$f":"IF(行列入力項目!$C$42=\"\",\"\",行列入力項目!$C$42)","v":"行38"},{"$f":"IF(行列入力項目!$C$42=\"\",\"\",行列入力項目!$C$42)","v":"行38"},{"$f":"IF(行列入力項目!$C$42=\"\",\"\",行列入力項目!$C$42)","v":"行38"},{"$f":"IF(行列入力項目!$C$42=\"\",\"\",行列入力項目!$C$42)","v":"行38"},{"$f":"IF(行列入力項目!$C$42=\"\",\"\",行列入力項目!$C$42)","v":"行38"},{"$f":"IF(行列入力項目!$C$43=\"\",\"\",行列入力項目!$C$43)","v":"行39"},{"$f":"IF(行列入力項目!$C$43=\"\",\"\",行列入力項目!$C$43)","v":"行39"},{"$f":"IF(行列入力項目!$C$43=\"\",\"\",行列入力項目!$C$43)","v":"行39"},{"$f":"IF(行列入力項目!$C$43=\"\",\"\",行列入力項目!$C$43)","v":"行39"},{"$f":"IF(行列入力項目!$C$43=\"\",\"\",行列入力項目!$C$43)","v":"行39"},{"$f":"IF(行列入力項目!$C$43=\"\",\"\",行列入力項目!$C$43)","v":"行39"},{"$f":"IF(行列入力項目!$C$43=\"\",\"\",行列入力項目!$C$43)","v":"行39"},{"$f":"IF(行列入力項目!$C$43=\"\",\"\",行列入力項目!$C$43)","v":"行39"},{"$f":"IF(行列入力項目!$C$43=\"\",\"\",行列入力項目!$C$43)","v":"行39"},{"$f":"IF(行列入力項目!$C$43=\"\",\"\",行列入力項目!$C$43)","v":"行39"},{"$f":"IF(行列入力項目!$C$43=\"\",\"\",行列入力項目!$C$43)","v":"行39"},{"$f":"IF(行列入力項目!$C$43=\"\",\"\",行列入力項目!$C$43)","v":"行39"},{"$f":"IF(行列入力項目!$C$43=\"\",\"\",行列入力項目!$C$43)","v":"行39"},{"$f":"IF(行列入力項目!$C$43=\"\",\"\",行列入力項目!$C$43)","v":"行39"},{"$f":"IF(行列入力項目!$C$43=\"\",\"\",行列入力項目!$C$43)","v":"行39"},{"$f":"IF(行列入力項目!$C$43=\"\",\"\",行列入力項目!$C$43)","v":"行39"},{"$f":"IF(行列入力項目!$C$43=\"\",\"\",行列入力項目!$C$43)","v":"行39"},{"$f":"IF(行列入力項目!$C$43=\"\",\"\",行列入力項目!$C$43)","v":"行39"},{"$f":"IF(行列入力項目!$C$43=\"\",\"\",行列入力項目!$C$43)","v":"行39"},{"$f":"IF(行列入力項目!$C$43=\"\",\"\",行列入力項目!$C$43)","v":"行39"},{"$f":"IF(行列入力項目!$C$44=\"\",\"\",行列入力項目!$C$44)","v":"行40"},{"$f":"IF(行列入力項目!$C$44=\"\",\"\",行列入力項目!$C$44)","v":"行40"},{"$f":"IF(行列入力項目!$C$44=\"\",\"\",行列入力項目!$C$44)","v":"行40"},{"$f":"IF(行列入力項目!$C$44=\"\",\"\",行列入力項目!$C$44)","v":"行40"},{"$f":"IF(行列入力項目!$C$44=\"\",\"\",行列入力項目!$C$44)","v":"行40"},{"$f":"IF(行列入力項目!$C$44=\"\",\"\",行列入力項目!$C$44)","v":"行40"},{"$f":"IF(行列入力項目!$C$44=\"\",\"\",行列入力項目!$C$44)","v":"行40"},{"$f":"IF(行列入力項目!$C$44=\"\",\"\",行列入力項目!$C$44)","v":"行40"},{"$f":"IF(行列入力項目!$C$44=\"\",\"\",行列入力項目!$C$44)","v":"行40"},{"$f":"IF(行列入力項目!$C$44=\"\",\"\",行列入力項目!$C$44)","v":"行40"},{"$f":"IF(行列入力項目!$C$44=\"\",\"\",行列入力項目!$C$44)","v":"行40"},{"$f":"IF(行列入力項目!$C$44=\"\",\"\",行列入力項目!$C$44)","v":"行40"},{"$f":"IF(行列入力項目!$C$44=\"\",\"\",行列入力項目!$C$44)","v":"行40"},{"$f":"IF(行列入力項目!$C$44=\"\",\"\",行列入力項目!$C$44)","v":"行40"},{"$f":"IF(行列入力項目!$C$44=\"\",\"\",行列入力項目!$C$44)","v":"行40"},{"$f":"IF(行列入力項目!$C$44=\"\",\"\",行列入力項目!$C$44)","v":"行40"},{"$f":"IF(行列入力項目!$C$44=\"\",\"\",行列入力項目!$C$44)","v":"行40"},{"$f":"IF(行列入力項目!$C$44=\"\",\"\",行列入力項目!$C$44)","v":"行40"},{"$f":"IF(行列入力項目!$C$44=\"\",\"\",行列入力項目!$C$44)","v":"行40"},{"$f":"IF(行列入力項目!$C$44=\"\",\"\",行列入力項目!$C$44)","v":"行40"}]
[null,1,"対象1"]
[null,2,"対象2"]
[null,3,"対象3"]
[null,4,"対象4"]
[null,5,"対象5"]
[null,6,"対象6"]
[null,7,"対象7"]
[null,8,"対象8"]
[null,9,"対象9"]
[null,10,"対象10"]
[null,11,"対象11"]
[null,12,"対象12"]
[null,13,"対象13"]
[null,14,"対象14"]
[null,15,"対象15"]
[null,16,"対象16"]
[null,17,"対象17"]
[null,18,"対象18"]
[null,19,"対象19"]
[null,20,"対象20"]
[null,21,"対象21"]
[null,22,"対象22"]
[null,23,"対象23"]
[null,24,"対象24"]
[null,25,"対象25"]
[null,26,"対象26"]
[null,27,"対象27"]
[null,28,"対象28"]
[null,29,"対象29"]
[null,30,"対象30"]
[null,31,"対象31"]
[null,32,"対象32"]
[null,33,"対象33"]
[null,34,"対象34"]
[null,35,"対象35"]
[null,36,"対象36"]
[null,37,"対象37"]
[null,38,"対象38"]
[null,39,"対象39"]
[null,40,"対象40"]
[null,41,"対象41"]
[null,42,"対象42"]
[null,43,"対象43"]
[null,44,"対象44"]
[null,45,"対象45"]
[null,46,"対象46"]
[null,47,"対象47"]
[null,48,"対象48"]
[null,49,"対象49"]
[null,50,"対象50"]
[null,"削除禁止行","削除禁止行","削除禁止行","削除禁止行","削除禁止行","削除禁止行","削除禁止行","削除禁止行","削除禁止行","削除禁止行","削除禁止行","削除禁止行","削除禁止行","削除禁止行","削除禁止行","削除禁止行","削除禁止行","削除禁止行","削除禁止行","削除禁止行","削除禁止行","削除禁止行","削除禁止行","削除禁止行","削除禁止行","削除禁止行","削除禁止行","削除禁止行","削除禁止行","削除禁止行","削除禁止行","削除禁止行","削除禁止行","削除禁止行","削除禁止行","削除禁止行","削除禁止行","削除禁止行","削除禁止行","削除禁止行","削除禁止行","削除禁止行","削除禁止行","削除禁止行","削除禁止行","削除禁止行","削除禁止行","削除禁止行","削除禁止行","削除禁止行","削除禁止行","削除禁止行","削除禁止行","削除禁止行","削除禁止行","削除禁止行","削除禁止行","削除禁止行","削除禁止行","削除禁止行","削除禁止行","削除禁止行","削除禁止行","削除禁止行","削除禁止行","削除禁止行","削除禁止行","削除禁止行","削除禁止行","削除禁止行","削除禁止行","削除禁止行","削除禁止行","削除禁止行","削除禁止行","削除禁止行","削除禁止行","削除禁止行","削除禁止行","削除禁止行","削除禁止行","削除禁止行","削除禁止行","削除禁止行","削除禁止行","削除禁止行","削除禁止行","削除禁止行","削除禁止行","削除禁止行","削除禁止行","削除禁止行","削除禁止行","削除禁止行","削除禁止行","削除禁止行","削除禁止行","削除禁止行","削除禁止行","削除禁止行","削除禁止行","削除禁止行","削除禁止行","削除禁止行","削除禁止行","削除禁止行","削除禁止行","削除禁止行","削除禁止行","削除禁止行","削除禁止行","削除禁止行","削除禁止行","削除禁止行","削除禁止行","削除禁止行","削除禁止行","削除禁止行","削除禁止行","削除禁止行","削除禁止行","削除禁止行","削除禁止行","削除禁止行","削除禁止行","削除禁止行","削除禁止行","削除禁止行","削除禁止行","削除禁止行","削除禁止行","削除禁止行","削除禁止行","削除禁止行","削除禁止行","削除禁止行","削除禁止行","削除禁止行","削除禁止行","削除禁止行","削除禁止行","削除禁止行","削除禁止行","削除禁止行","削除禁止行","削除禁止行","削除禁止行","削除禁止行","削除禁止行","削除禁止行","削除禁止行","削除禁止行","削除禁止行","削除禁止行","削除禁止行","削除禁止行","削除禁止行","削除禁止行","削除禁止行","削除禁止行","削除禁止行","削除禁止行","削除禁止行","削除禁止行","削除禁止行","削除禁止行","削除禁止行","削除禁止行","削除禁止行","削除禁止行","削除禁止行","削除禁止行","削除禁止行","削除禁止行","削除禁止行","削除禁止行","削除禁止行","削除禁止行","削除禁止行","削除禁止行","削除禁止行","削除禁止行","削除禁止行","削除禁止行","削除禁止行","削除禁止行","削除禁止行","削除禁止行","削除禁止行","削除禁止行","削除禁止行","削除禁止行","削除禁止行","削除禁止行","削除禁止行","削除禁止行","削除禁止行","削除禁止行","削除禁止行","削除禁止行","削除禁止行","削除禁止行"]

{"sheet":"入力AA5","index":100,"n_rows":58,"n_cols":203,"rows_kept":58,"cut":false,"hidden":false,"merged":[]}
[null,null,null,null,null,{"$f":"入力シート入力可能行数調査!$D$25","v":"入力可能行数　50 行"}]
[null,{"$f":"シート名設定!C34","v":"入力AA5"}]
[]
[]
[null,"ID","対象",{"$f":"IF(項目表示入力!C47=\"\",\"\",項目表示入力!C47)","v":"内容41,1"},{"$f":"IF(項目表示入力!D47=\"\",\"\",項目表示入力!D47)","v":"内容41,2"},{"$f":"IF(項目表示入力!E47=\"\",\"\",項目表示入力!E47)","v":"内容41,3"},{"$f":"IF(項目表示入力!F47=\"\",\"\",項目表示入力!F47)","v":"内容41,4"},{"$f":"IF(項目表示入力!G47=\"\",\"\",項目表示入力!G47)","v":"内容41,5"},{"$f":"IF(項目表示入力!H47=\"\",\"\",項目表示入力!H47)","v":"内容41,6"},{"$f":"IF(項目表示入力!I47=\"\",\"\",項目表示入力!I47)","v":"内容41,7"},{"$f":"IF(項目表示入力!J47=\"\",\"\",項目表示入力!J47)","v":"内容41,8"},{"$f":"IF(項目表示入力!K47=\"\",\"\",項目表示入力!K47)","v":"内容41,9"},{"$f":"IF(項目表示入力!L47=\"\",\"\",項目表示入力!L47)","v":"内容41,10"},{"$f":"IF(項目表示入力!M47=\"\",\"\",項目表示入力!M47)","v":"内容41,11"},{"$f":"IF(項目表示入力!N47=\"\",\"\",項目表示入力!N47)","v":"内容41,12"},{"$f":"IF(項目表示入力!O47=\"\",\"\",項目表示入力!O47)","v":"内容41,13"},{"$f":"IF(項目表示入力!P47=\"\",\"\",項目表示入力!P47)","v":"内容41,14"},{"$f":"IF(項目表示入力!Q47=\"\",\"\",項目表示入力!Q47)","v":"内容41,15"},{"$f":"IF(項目表示入力!R47=\"\",\"\",項目表示入力!R47)","v":"内容41,16"},{"$f":"IF(項目表示入力!S47=\"\",\"\",項目表示入力!S47)","v":"内容41,17"},{"$f":"IF(項目表示入力!T47=\"\",\"\",項目表示入力!T47)","v":"内容41,18"},{"$f":"IF(項目表示入力!U47=\"\",\"\",項目表示入力!U47)","v":"内容41,19"},{"$f":"IF(項目表示入力!V47=\"\",\"\",項目表示入力!V47)","v":"内容41,20"},{"$f":"IF(項目表示入力!C48=\"\",\"\",項目表示入力!C48)","v":"内容42,1"},{"$f":"IF(項目表示入力!D48=\"\",\"\",項目表示入力!D48)","v":"内容42,2"},{"$f":"IF(項目表示入力!E48=\"\",\"\",項目表示入力!E48)","v":"内容42,3"},{"$f":"IF(項目表示入力!F48=\"\",\"\",項目表示入力!F48)","v":"内容42,4"},{"$f":"IF(項目表示入力!G48=\"\",\"\",項目表示入力!G48)","v":"内容42,5"},{"$f":"IF(項目表示入力!H48=\"\",\"\",項目表示入力!H48)","v":"内容42,6"},{"$f":"IF(項目表示入力!I48=\"\",\"\",項目表示入力!I48)","v":"内容42,7"},{"$f":"IF(項目表示入力!J48=\"\",\"\",項目表示入力!J48)","v":"内容42,8"},{"$f":"IF(項目表示入力!K48=\"\",\"\",項目表示入力!K48)","v":"内容42,9"},{"$f":"IF(項目表示入力!L48=\"\",\"\",項目表示入力!L48)","v":"内容42,10"},{"$f":"IF(項目表示入力!M48=\"\",\"\",項目表示入力!M48)","v":"内容42,11"},{"$f":"IF(項目表示入力!N48=\"\",\"\",項目表示入力!N48)","v":"内容42,12"},{"$f":"IF(項目表示入力!O48=\"\",\"\",項目表示入力!O48)","v":"内容42,13"},{"$f":"IF(項目表示入力!P48=\"\",\"\",項目表示入力!P48)","v":"内容42,14"},{"$f":"IF(項目表示入力!Q48=\"\",\"\",項目表示入力!Q48)","v":"内容42,15"},{"$f":"IF(項目表示入力!R48=\"\",\"\",項目表示入力!R48)","v":"内容42,16"},{"$f":"IF(項目表示入力!S48=\"\",\"\",項目表示入力!S48)","v":"内容42,17"},{"$f":"IF(項目表示入力!T48=\"\",\"\",項目表示入力!T48)","v":"内容42,18"},{"$f":"IF(項目表示入力!U48=\"\",\"\",項目表示入力!U48)","v":"内容42,19"},{"$f":"IF(項目表示入力!V48=\"\",\"\",項目表示入力!V48)","v":"内容42,20"},{"$f":"IF(項目表示入力!C49=\"\",\"\",項目表示入力!C49)","v":"内容43,1"},{"$f":"IF(項目表示入力!D49=\"\",\"\",項目表示入力!D49)","v":"内容43,2"},{"$f":"IF(項目表示入力!E49=\"\",\"\",項目表示入力!E49)","v":"内容43,3"},{"$f":"IF(項目表示入力!F49=\"\",\"\",項目表示入力!F49)","v":"内容43,4"},{"$f":"IF(項目表示入力!G49=\"\",\"\",項目表示入力!G49)","v":"内容43,5"},{"$f":"IF(項目表示入力!H49=\"\",\"\",項目表示入力!H49)","v":"内容43,6"},{"$f":"IF(項目表示入力!I49=\"\",\"\",項目表示入力!I49)","v":"内容43,7"},{"$f":"IF(項目表示入力!J49=\"\",\"\",項目表示入力!J49)","v":"内容43,8"},{"$f":"IF(項目表示入力!K49=\"\",\"\",項目表示入力!K49)","v":"内容43,9"},{"$f":"IF(項目表示入力!L49=\"\",\"\",項目表示入力!L49)","v":"内容43,10"},{"$f":"IF(項目表示入力!M49=\"\",\"\",項目表示入力!M49)","v":"内容43,11"},{"$f":"IF(項目表示入力!N49=\"\",\"\",項目表示入力!N49)","v":"内容43,12"},{"$f":"IF(項目表示入力!O49=\"\",\"\",項目表示入力!O49)","v":"内容43,13"},{"$f":"IF(項目表示入力!P49=\"\",\"\",項目表示入力!P49)","v":"内容43,14"},{"$f":"IF(項目表示入力!Q49=\"\",\"\",項目表示入力!Q49)","v":"内容43,15"},{"$f":"IF(項目表示入力!R49=\"\",\"\",項目表示入力!R49)","v":"内容43,16"},{"$f":"IF(項目表示入力!S49=\"\",\"\",項目表示入力!S49)","v":"内容43,17"},{"$f":"IF(項目表示入力!T49=\"\",\"\",項目表示入力!T49)","v":"内容43,18"},{"$f":"IF(項目表示入力!U49=\"\",\"\",項目表示入力!U49)","v":"内容43,19"},{"$f":"IF(項目表示入力!V49=\"\",\"\",項目表示入力!V49)","v":"内容43,20"},{"$f":"IF(項目表示入力!C50=\"\",\"\",項目表示入力!C50)","v":"内容44,1"},{"$f":"IF(項目表示入力!D50=\"\",\"\",項目表示入力!D50)","v":"内容44,2"},{"$f":"IF(項目表示入力!E50=\"\",\"\",項目表示入力!E50)","v":"内容44,3"},{"$f":"IF(項目表示入力!F50=\"\",\"\",項目表示入力!F50)","v":"内容44,4"},{"$f":"IF(項目表示入力!G50=\"\",\"\",項目表示入力!G50)","v":"内容44,5"},{"$f":"IF(項目表示入力!H50=\"\",\"\",項目表示入力!H50)","v":"内容44,6"},{"$f":"IF(項目表示入力!I50=\"\",\"\",項目表示入力!I50)","v":"内容44,7"},{"$f":"IF(項目表示入力!J50=\"\",\"\",項目表示入力!J50)","v":"内容44,8"},{"$f":"IF(項目表示入力!K50=\"\",\"\",項目表示入力!K50)","v":"内容44,9"},{"$f":"IF(項目表示入力!L50=\"\",\"\",項目表示入力!L50)","v":"内容44,10"},{"$f":"IF(項目表示入力!M50=\"\",\"\",項目表示入力!M50)","v":"内容44,11"},{"$f":"IF(項目表示入力!N50=\"\",\"\",項目表示入力!N50)","v":"内容44,12"},{"$f":"IF(項目表示入力!O50=\"\",\"\",項目表示入力!O50)","v":"内容44,13"},{"$f":"IF(項目表示入力!P50=\"\",\"\",項目表示入力!P50)","v":"内容44,14"},{"$f":"IF(項目表示入力!Q50=\"\",\"\",項目表示入力!Q50)","v":"内容44,15"},{"$f":"IF(項目表示入力!R50=\"\",\"\",項目表示入力!R50)","v":"内容44,16"},{"$f":"IF(項目表示入力!S50=\"\",\"\",項目表示入力!S50)","v":"内容44,17"},{"$f":"IF(項目表示入力!T50=\"\",\"\",項目表示入力!T50)","v":"内容44,18"},{"$f":"IF(項目表示入力!U50=\"\",\"\",項目表示入力!U50)","v":"内容44,19"},{"$f":"IF(項目表示入力!V50=\"\",\"\",項目表示入力!V50)","v":"内容44,20"},{"$f":"IF(項目表示入力!C51=\"\",\"\",項目表示入力!C51)","v":"内容45,1"},{"$f":"IF(項目表示入力!D51=\"\",\"\",項目表示入力!D51)","v":"内容45,2"},{"$f":"IF(項目表示入力!E51=\"\",\"\",項目表示入力!E51)","v":"内容45,3"},{"$f":"IF(項目表示入力!F51=\"\",\"\",項目表示入力!F51)","v":"内容45,4"},{"$f":"IF(項目表示入力!G51=\"\",\"\",項目表示入力!G51)","v":"内容45,5"},{"$f":"IF(項目表示入力!H51=\"\",\"\",項目表示入力!H51)","v":"内容45,6"},{"$f":"IF(項目表示入力!I51=\"\",\"\",項目表示入力!I51)","v":"内容45,7"},{"$f":"IF(項目表示入力!J51=\"\",\"\",項目表示入力!J51)","v":"内容45,8"},{"$f":"IF(項目表示入力!K51=\"\",\"\",項目表示入力!K51)","v":"内容45,9"},{"$f":"IF(項目表示入力!L51=\"\",\"\",項目表示入力!L51)","v":"内容45,10"},{"$f":"IF(項目表示入力!M51=\"\",\"\",項目表示入力!M51)","v":"内容45,11"},{"$f":"IF(項目表示入力!N51=\"\",\"\",項目表示入力!N51)","v":"内容45,12"},{"$f":"IF(項目表示入力!O51=\"\",\"\",項目表示入力!O51)","v":"内容45,13"},{"$f":"IF(項目表示入力!P51=\"\",\"\",項目表示入力!P51)","v":"内容45,14"},{"$f":"IF(項目表示入力!Q51=\"\",\"\",項目表示入力!Q51)","v":"内容45,15"},{"$f":"IF(項目表示入力!R51=\"\",\"\",項目表示入力!R51)","v":"内容45,16"},{"$f":"IF(項目表示入力!S51=\"\",\"\",項目表示入力!S51)","v":"内容45,17"},{"$f":"IF(項目表示入力!T51=\"\",\"\",項目表示入力!T51)","v":"内容45,18"},{"$f":"IF(項目表示入力!U51=\"\",\"\",項目表示入力!U51)","v":"内容45,19"},{"$f":"IF(項目表示入力!V51=\"\",\"\",項目表示入力!V51)","v":"内容45,20"},{"$f":"IF(項目表示入力!C52=\"\",\"\",項目表示入力!C52)","v":"内容46,1"},{"$f":"IF(項目表示入力!D52=\"\",\"\",項目表示入力!D52)","v":"内容46,2"},{"$f":"IF(項目表示入力!E52=\"\",\"\",項目表示入力!E52)","v":"内容46,3"},{"$f":"IF(項目表示入力!F52=\"\",\"\",項目表示入力!F52)","v":"内容46,4"},{"$f":"IF(項目表示入力!G52=\"\",\"\",項目表示入力!G52)","v":"内容46,5"},{"$f":"IF(項目表示入力!H52=\"\",\"\",項目表示入力!H52)","v":"内容46,6"},{"$f":"IF(項目表示入力!I52=\"\",\"\",項目表示入力!I52)","v":"内容46,7"},{"$f":"IF(項目表示入力!J52=\"\",\"\",項目表示入力!J52)","v":"内容46,8"},{"$f":"IF(項目表示入力!K52=\"\",\"\",項目表示入力!K52)","v":"内容46,9"},{"$f":"IF(項目表示入力!L52=\"\",\"\",項目表示入力!L52)","v":"内容46,10"},{"$f":"IF(項目表示入力!M52=\"\",\"\",項目表示入力!M52)","v":"内容46,11"},{"$f":"IF(項目表示入力!N52=\"\",\"\",項目表示入力!N52)","v":"内容46,12"},{"$f":"IF(項目表示入力!O52=\"\",\"\",項目表示入力!O52)","v":"内容46,13"},{"$f":"IF(項目表示入力!P52=\"\",\"\",項目表示入力!P52)","v":"内容46,14"},{"$f":"IF(項目表示入力!Q52=\"\",\"\",項目表示入力!Q52)","v":"内容46,15"},{"$f":"IF(項目表示入力!R52=\"\",\"\",項目表示入力!R52)","v":"内容46,16"},{"$f":"IF(項目表示入力!S52=\"\",\"\",項目表示入力!S52)","v":"内容46,17"},{"$f":"IF(項目表示入力!T52=\"\",\"\",項目表示入力!T52)","v":"内容46,18"},{"$f":"IF(項目表示入力!U52=\"\",\"\",項目表示入力!U52)","v":"内容46,19"},{"$f":"IF(項目表示入力!V52=\"\",\"\",項目表示入力!V52)","v":"内容46,20"},{"$f":"IF(項目表示入力!C53=\"\",\"\",項目表示入力!C53)","v":"内容47,1"},{"$f":"IF(項目表示入力!D53=\"\",\"\",項目表示入力!D53)","v":"内容47,2"},{"$f":"IF(項目表示入力!E53=\"\",\"\",項目表示入力!E53)","v":"内容47,3"},{"$f":"IF(項目表示入力!F53=\"\",\"\",項目表示入力!F53)","v":"内容47,4"},{"$f":"IF(項目表示入力!G53=\"\",\"\",項目表示入力!G53)","v":"内容47,5"},{"$f":"IF(項目表示入力!H53=\"\",\"\",項目表示入力!H53)","v":"内容47,6"},{"$f":"IF(項目表示入力!I53=\"\",\"\",項目表示入力!I53)","v":"内容47,7"},{"$f":"IF(項目表示入力!J53=\"\",\"\",項目表示入力!J53)","v":"内容47,8"},{"$f":"IF(項目表示入力!K53=\"\",\"\",項目表示入力!K53)","v":"内容47,9"},{"$f":"IF(項目表示入力!L53=\"\",\"\",項目表示入力!L53)","v":"内容47,10"},{"$f":"IF(項目表示入力!M53=\"\",\"\",項目表示入力!M53)","v":"内容47,11"},{"$f":"IF(項目表示入力!N53=\"\",\"\",項目表示入力!N53)","v":"内容47,12"},{"$f":"IF(項目表示入力!O53=\"\",\"\",項目表示入力!O53)","v":"内容47,13"},{"$f":"IF(項目表示入力!P53=\"\",\"\",項目表示入力!P53)","v":"内容47,14"},{"$f":"IF(項目表示入力!Q53=\"\",\"\",項目表示入力!Q53)","v":"内容47,15"},{"$f":"IF(項目表示入力!R53=\"\",\"\",項目表示入力!R53)","v":"内容47,16"},{"$f":"IF(項目表示入力!S53=\"\",\"\",項目表示入力!S53)","v":"内容47,17"},{"$f":"IF(項目表示入力!T53=\"\",\"\",項目表示入力!T53)","v":"内容47,18"},{"$f":"IF(項目表示入力!U53=\"\",\"\",項目表示入力!U53)","v":"内容47,19"},{"$f":"IF(項目表示入力!V53=\"\",\"\",項目表示入力!V53)","v":"内容47,20"},{"$f":"IF(項目表示入力!C54=\"\",\"\",項目表示入力!C54)","v":"内容48,1"},{"$f":"IF(項目表示入力!D54=\"\",\"\",項目表示入力!D54)","v":"内容48,2"},{"$f":"IF(項目表示入力!E54=\"\",\"\",項目表示入力!E54)","v":"内容48,3"},{"$f":"IF(項目表示入力!F54=\"\",\"\",項目表示入力!F54)","v":"内容48,4"},{"$f":"IF(項目表示入力!G54=\"\",\"\",項目表示入力!G54)","v":"内容48,5"},{"$f":"IF(項目表示入力!H54=\"\",\"\",項目表示入力!H54)","v":"内容48,6"},{"$f":"IF(項目表示入力!I54=\"\",\"\",項目表示入力!I54)","v":"内容48,7"},{"$f":"IF(項目表示入力!J54=\"\",\"\",項目表示入力!J54)","v":"内容48,8"},{"$f":"IF(項目表示入力!K54=\"\",\"\",項目表示入力!K54)","v":"内容48,9"},{"$f":"IF(項目表示入力!L54=\"\",\"\",項目表示入力!L54)","v":"内容48,10"},{"$f":"IF(項目表示入力!M54=\"\",\"\",項目表示入力!M54)","v":"内容48,11"},{"$f":"IF(項目表示入力!N54=\"\",\"\",項目表示入力!N54)","v":"内容48,12"},{"$f":"IF(項目表示入力!O54=\"\",\"\",項目表示入力!O54)","v":"内容48,13"},{"$f":"IF(項目表示入力!P54=\"\",\"\",項目表示入力!P54)","v":"内容48,14"},{"$f":"IF(項目表示入力!Q54=\"\",\"\",項目表示入力!Q54)","v":"内容48,15"},{"$f":"IF(項目表示入力!R54=\"\",\"\",項目表示入力!R54)","v":"内容48,16"},{"$f":"IF(項目表示入力!S54=\"\",\"\",項目表示入力!S54)","v":"内容48,17"},{"$f":"IF(項目表示入力!T54=\"\",\"\",項目表示入力!T54)","v":"内容48,18"},{"$f":"IF(項目表示入力!U54=\"\",\"\",項目表示入力!U54)","v":"内容48,19"},{"$f":"IF(項目表示入力!V54=\"\",\"\",項目表示入力!V54)","v":"内容48,20"},{"$f":"IF(項目表示入力!C55=\"\",\"\",項目表示入力!C55)","v":"内容49,1"},{"$f":"IF(項目表示入力!D55=\"\",\"\",項目表示入力!D55)","v":"内容49,2"},{"$f":"IF(項目表示入力!E55=\"\",\"\",項目表示入力!E55)","v":"内容49,3"},{"$f":"IF(項目表示入力!F55=\"\",\"\",項目表示入力!F55)","v":"内容49,4"},{"$f":"IF(項目表示入力!G55=\"\",\"\",項目表示入力!G55)","v":"内容49,5"},{"$f":"IF(項目表示入力!H55=\"\",\"\",項目表示入力!H55)","v":"内容49,6"},{"$f":"IF(項目表示入力!I55=\"\",\"\",項目表示入力!I55)","v":"内容49,7"},{"$f":"IF(項目表示入力!J55=\"\",\"\",項目表示入力!J55)","v":"内容49,8"},{"$f":"IF(項目表示入力!K55=\"\",\"\",項目表示入力!K55)","v":"内容49,9"},{"$f":"IF(項目表示入力!L55=\"\",\"\",項目表示入力!L55)","v":"内容49,10"},{"$f":"IF(項目表示入力!M55=\"\",\"\",項目表示入力!M55)","v":"内容49,11"},{"$f":"IF(項目表示入力!N55=\"\",\"\",項目表示入力!N55)","v":"内容49,12"},{"$f":"IF(項目表示入力!O55=\"\",\"\",項目表示入力!O55)","v":"内容49,13"},{"$f":"IF(項目表示入力!P55=\"\",\"\",項目表示入力!P55)","v":"内容49,14"},{"$f":"IF(項目表示入力!Q55=\"\",\"\",項目表示入力!Q55)","v":"内容49,15"},{"$f":"IF(項目表示入力!R55=\"\",\"\",項目表示入力!R55)","v":"内容49,16"},{"$f":"IF(項目表示入力!S55=\"\",\"\",項目表示入力!S55)","v":"内容49,17"},{"$f":"IF(項目表示入力!T55=\"\",\"\",項目表示入力!T55)","v":"内容49,18"},{"$f":"IF(項目表示入力!U55=\"\",\"\",項目表示入力!U55)","v":"内容49,19"},{"$f":"IF(項目表示入力!V55=\"\",\"\",項目表示入力!V55)","v":"内容49,20"},{"$f":"IF(項目表示入力!C56=\"\",\"\",項目表示入力!C56)","v":"内容50,1"},{"$f":"IF(項目表示入力!D56=\"\",\"\",項目表示入力!D56)","v":"内容50,2"},{"$f":"IF(項目表示入力!E56=\"\",\"\",項目表示入力!E56)","v":"内容50,3"},{"$f":"IF(項目表示入力!F56=\"\",\"\",項目表示入力!F56)","v":"内容50,4"},{"$f":"IF(項目表示入力!G56=\"\",\"\",項目表示入力!G56)","v":"内容50,5"},{"$f":"IF(項目表示入力!H56=\"\",\"\",項目表示入力!H56)","v":"内容50,6"},{"$f":"IF(項目表示入力!I56=\"\",\"\",項目表示入力!I56)","v":"内容50,7"},{"$f":"IF(項目表示入力!J56=\"\",\"\",項目表示入力!J56)","v":"内容50,8"},{"$f":"IF(項目表示入力!K56=\"\",\"\",項目表示入力!K56)","v":"内容50,9"},{"$f":"IF(項目表示入力!L56=\"\",\"\",項目表示入力!L56)","v":"内容50,10"},{"$f":"IF(項目表示入力!M56=\"\",\"\",項目表示入力!M56)","v":"内容50,11"},{"$f":"IF(項目表示入力!N56=\"\",\"\",項目表示入力!N56)","v":"内容50,12"},{"$f":"IF(項目表示入力!O56=\"\",\"\",項目表示入力!O56)","v":"内容50,13"},{"$f":"IF(項目表示入力!P56=\"\",\"\",項目表示入力!P56)","v":"内容50,14"},{"$f":"IF(項目表示入力!Q56=\"\",\"\",項目表示入力!Q56)","v":"内容50,15"},{"$f":"IF(項目表示入力!R56=\"\",\"\",項目表示入力!R56)","v":"内容50,16"},{"$f":"IF(項目表示入力!S56=\"\",\"\",項目表示入力!S56)","v":"内容50,17"},{"$f":"IF(項目表示入力!T56=\"\",\"\",項目表示入力!T56)","v":"内容50,18"},{"$f":"IF(項目表示入力!U56=\"\",\"\",項目表示入力!U56)","v":"内容50,19"},{"$f":"IF(項目表示入力!V56=\"\",\"\",項目表示入力!V56)","v":"内容50,20"}]
[null,-2,-2,{"$f":"IF(オフセット番号A!$C$4=\"\",\"\",オフセット番号A!$C$4)","v":"列1"},{"$f":"IF(オフセット番号A!$D$4=\"\",\"\",オフセット番号A!$D$4)","v":"列2"},{"$f":"IF(オフセット番号A!$E$4=\"\",\"\",オフセット番号A!$E$4)","v":"列3"},{"$f":"IF(オフセット番号A!$F$4=\"\",\"\",オフセット番号A!$F$4)","v":"列4"},{"$f":"IF(オフセット番号A!$G$4=\"\",\"\",オフセット番号A!$G$4)","v":"列5"},{"$f":"IF(オフセット番号A!$H$4=\"\",\"\",オフセット番号A!$H$4)","v":"列6"},{"$f":"IF(オフセット番号A!$I$4=\"\",\"\",オフセット番号A!$I$4)","v":"列7"},{"$f":"IF(オフセット番号A!$J$4=\"\",\"\",オフセット番号A!$J$4)","v":"列8"},{"$f":"IF(オフセット番号A!$K$4=\"\",\"\",オフセット番号A!$K$4)","v":"列9"},{"$f":"IF(オフセット番号A!$L$4=\"\",\"\",オフセット番号A!$L$4)","v":"列10"},{"$f":"IF(オフセット番号A!$M$4=\"\",\"\",オフセット番号A!$M$4)","v":"列11"},{"$f":"IF(オフセット番号A!$N$4=\"\",\"\",オフセット番号A!$N$4)","v":"列12"},{"$f":"IF(オフセット番号A!$O$4=\"\",\"\",オフセット番号A!$O$4)","v":"列13"},{"$f":"IF(オフセット番号A!$P$4=\"\",\"\",オフセット番号A!$P$4)","v":"列14"},{"$f":"IF(オフセット番号A!$Q$4=\"\",\"\",オフセット番号A!$Q$4)","v":"列15"},{"$f":"IF(オフセット番号A!$R$4=\"\",\"\",オフセット番号A!$R$4)","v":"列16"},{"$f":"IF(オフセット番号A!$S$4=\"\",\"\",オフセット番号A!$S$4)","v":"列17"},{"$f":"IF(オフセット番号A!$T$4=\"\",\"\",オフセット番号A!$T$4)","v":"列18"},{"$f":"IF(オフセット番号A!$U$4=\"\",\"\",オフセット番号A!$U$4)","v":"列19"},{"$f":"IF(オフセット番号A!$V$4=\"\",\"\",オフセット番号A!$V$4)","v":"列20"},{"$f":"IF(オフセット番号A!$C$4=\"\",\"\",オフセット番号A!$C$4)","v":"列1"},{"$f":"IF(オフセット番号A!$D$4=\"\",\"\",オフセット番号A!$D$4)","v":"列2"},{"$f":"IF(オフセット番号A!$E$4=\"\",\"\",オフセット番号A!$E$4)","v":"列3"},{"$f":"IF(オフセット番号A!$F$4=\"\",\"\",オフセット番号A!$F$4)","v":"列4"},{"$f":"IF(オフセット番号A!$G$4=\"\",\"\",オフセット番号A!$G$4)","v":"列5"},{"$f":"IF(オフセット番号A!$H$4=\"\",\"\",オフセット番号A!$H$4)","v":"列6"},{"$f":"IF(オフセット番号A!$I$4=\"\",\"\",オフセット番号A!$I$4)","v":"列7"},{"$f":"IF(オフセット番号A!$J$4=\"\",\"\",オフセット番号A!$J$4)","v":"列8"},{"$f":"IF(オフセット番号A!$K$4=\"\",\"\",オフセット番号A!$K$4)","v":"列9"},{"$f":"IF(オフセット番号A!$L$4=\"\",\"\",オフセット番号A!$L$4)","v":"列10"},{"$f":"IF(オフセット番号A!$M$4=\"\",\"\",オフセット番号A!$M$4)","v":"列11"},{"$f":"IF(オフセット番号A!$N$4=\"\",\"\",オフセット番号A!$N$4)","v":"列12"},{"$f":"IF(オフセット番号A!$O$4=\"\",\"\",オフセット番号A!$O$4)","v":"列13"},{"$f":"IF(オフセット番号A!$P$4=\"\",\"\",オフセット番号A!$P$4)","v":"列14"},{"$f":"IF(オフセット番号A!$Q$4=\"\",\"\",オフセット番号A!$Q$4)","v":"列15"},{"$f":"IF(オフセット番号A!$R$4=\"\",\"\",オフセット番号A!$R$4)","v":"列16"},{"$f":"IF(オフセット番号A!$S$4=\"\",\"\",オフセット番号A!$S$4)","v":"列17"},{"$f":"IF(オフセット番号A!$T$4=\"\",\"\",オフセット番号A!$T$4)","v":"列18"},{"$f":"IF(オフセット番号A!$U$4=\"\",\"\",オフセット番号A!$U$4)","v":"列19"},{"$f":"IF(オフセット番号A!$V$4=\"\",\"\",オフセット番号A!$V$4)","v":"列20"},{"$f":"IF(オフセット番号A!$C$4=\"\",\"\",オフセット番号A!$C$4)","v":"列1"},{"$f":"IF(オフセット番号A!$D$4=\"\",\"\",オフセット番号A!$D$4)","v":"列2"},{"$f":"IF(オフセット番号A!$E$4=\"\",\"\",オフセット番号A!$E$4)","v":"列3"},{"$f":"IF(オフセット番号A!$F$4=\"\",\"\",オフセット番号A!$F$4)","v":"列4"},{"$f":"IF(オフセット番号A!$G$4=\"\",\"\",オフセット番号A!$G$4)","v":"列5"},{"$f":"IF(オフセット番号A!$H$4=\"\",\"\",オフセット番号A!$H$4)","v":"列6"},{"$f":"IF(オフセット番号A!$I$4=\"\",\"\",オフセット番号A!$I$4)","v":"列7"},{"$f":"IF(オフセット番号A!$J$4=\"\",\"\",オフセット番号A!$J$4)","v":"列8"},{"$f":"IF(オフセット番号A!$K$4=\"\",\"\",オフセット番号A!$K$4)","v":"列9"},{"$f":"IF(オフセット番号A!$L$4=\"\",\"\",オフセット番号A!$L$4)","v":"列10"},{"$f":"IF(オフセット番号A!$M$4=\"\",\"\",オフセット番号A!$M$4)","v":"列11"},{"$f":"IF(オフセット番号A!$N$4=\"\",\"\",オフセット番号A!$N$4)","v":"列12"},{"$f":"IF(オフセット番号A!$O$4=\"\",\"\",オフセット番号A!$O$4)","v":"列13"},{"$f":"IF(オフセット番号A!$P$4=\"\",\"\",オフセット番号A!$P$4)","v":"列14"},{"$f":"IF(オフセット番号A!$Q$4=\"\",\"\",オフセット番号A!$Q$4)","v":"列15"},{"$f":"IF(オフセット番号A!$R$4=\"\",\"\",オフセット番号A!$R$4)","v":"列16"},{"$f":"IF(オフセット番号A!$S$4=\"\",\"\",オフセット番号A!$S$4)","v":"列17"},{"$f":"IF(オフセット番号A!$T$4=\"\",\"\",オフセット番号A!$T$4)","v":"列18"},{"$f":"IF(オフセット番号A!$U$4=\"\",\"\",オフセット番号A!$U$4)","v":"列19"},{"$f":"IF(オフセット番号A!$V$4=\"\",\"\",オフセット番号A!$V$4)","v":"列20"},{"$f":"IF(オフセット番号A!$C$4=\"\",\"\",オフセット番号A!$C$4)","v":"列1"},{"$f":"IF(オフセット番号A!$D$4=\"\",\"\",オフセット番号A!$D$4)","v":"列2"},{"$f":"IF(オフセット番号A!$E$4=\"\",\"\",オフセット番号A!$E$4)","v":"列3"},{"$f":"IF(オフセット番号A!$F$4=\"\",\"\",オフセット番号A!$F$4)","v":"列4"},{"$f":"IF(オフセット番号A!$G$4=\"\",\"\",オフセット番号A!$G$4)","v":"列5"},{"$f":"IF(オフセット番号A!$H$4=\"\",\"\",オフセット番号A!$H$4)","v":"列6"},{"$f":"IF(オフセット番号A!$I$4=\"\",\"\",オフセット番号A!$I$4)","v":"列7"},{"$f":"IF(オフセット番号A!$J$4=\"\",\"\",オフセット番号A!$J$4)","v":"列8"},{"$f":"IF(オフセット番号A!$K$4=\"\",\"\",オフセット番号A!$K$4)","v":"列9"},{"$f":"IF(オフセット番号A!$L$4=\"\",\"\",オフセット番号A!$L$4)","v":"列10"},{"$f":"IF(オフセット番号A!$M$4=\"\",\"\",オフセット番号A!$M$4)","v":"列11"},{"$f":"IF(オフセット番号A!$N$4=\"\",\"\",オフセット番号A!$N$4)","v":"列12"},{"$f":"IF(オフセット番号A!$O$4=\"\",\"\",オフセット番号A!$O$4)","v":"列13"},{"$f":"IF(オフセット番号A!$P$4=\"\",\"\",オフセット番号A!$P$4)","v":"列14"},{"$f":"IF(オフセット番号A!$Q$4=\"\",\"\",オフセット番号A!$Q$4)","v":"列15"},{"$f":"IF(オフセット番号A!$R$4=\"\",\"\",オフセット番号A!$R$4)","v":"列16"},{"$f":"IF(オフセット番号A!$S$4=\"\",\"\",オフセット番号A!$S$4)","v":"列17"},{"$f":"IF(オフセット番号A!$T$4=\"\",\"\",オフセット番号A!$T$4)","v":"列18"},{"$f":"IF(オフセット番号A!$U$4=\"\",\"\",オフセット番号A!$U$4)","v":"列19"},{"$f":"IF(オフセット番号A!$V$4=\"\",\"\",オフセット番号A!$V$4)","v":"列20"},{"$f":"IF(オフセット番号A!$C$4=\"\",\"\",オフセット番号A!$C$4)","v":"列1"},{"$f":"IF(オフセット番号A!$D$4=\"\",\"\",オフセット番号A!$D$4)","v":"列2"},{"$f":"IF(オフセット番号A!$E$4=\"\",\"\",オフセット番号A!$E$4)","v":"列3"},{"$f":"IF(オフセット番号A!$F$4=\"\",\"\",オフセット番号A!$F$4)","v":"列4"},{"$f":"IF(オフセット番号A!$G$4=\"\",\"\",オフセット番号A!$G$4)","v":"列5"},{"$f":"IF(オフセット番号A!$H$4=\"\",\"\",オフセット番号A!$H$4)","v":"列6"},{"$f":"IF(オフセット番号A!$I$4=\"\",\"\",オフセット番号A!$I$4)","v":"列7"},{"$f":"IF(オフセット番号A!$J$4=\"\",\"\",オフセット番号A!$J$4)","v":"列8"},{"$f":"IF(オフセット番号A!$K$4=\"\",\"\",オフセット番号A!$K$4)","v":"列9"},{"$f":"IF(オフセット番号A!$L$4=\"\",\"\",オフセット番号A!$L$4)","v":"列10"},{"$f":"IF(オフセット番号A!$M$4=\"\",\"\",オフセット番号A!$M$4)","v":"列11"},{"$f":"IF(オフセット番号A!$N$4=\"\",\"\",オフセット番号A!$N$4)","v":"列12"},{"$f":"IF(オフセット番号A!$O$4=\"\",\"\",オフセット番号A!$O$4)","v":"列13"},{"$f":"IF(オフセット番号A!$P$4=\"\",\"\",オフセット番号A!$P$4)","v":"列14"},{"$f":"IF(オフセット番号A!$Q$4=\"\",\"\",オフセット番号A!$Q$4)","v":"列15"},{"$f":"IF(オフセット番号A!$R$4=\"\",\"\",オフセット番号A!$R$4)","v":"列16"},{"$f":"IF(オフセット番号A!$S$4=\"\",\"\",オフセット番号A!$S$4)","v":"列17"},{"$f":"IF(オフセット番号A!$T$4=\"\",\"\",オフセット番号A!$T$4)","v":"列18"},{"$f":"IF(オフセット番号A!$U$4=\"\",\"\",オフセット番号A!$U$4)","v":"列19"},{"$f":"IF(オフセット番号A!$V$4=\"\",\"\",オフセット番号A!$V$4)","v":"列20"},{"$f":"IF(オフセット番号A!$C$4=\"\",\"\",オフセット番号A!$C$4)","v":"列1"},{"$f":"IF(オフセット番号A!$D$4=\"\",\"\",オフセット番号A!$D$4)","v":"列2"},{"$f":"IF(オフセット番号A!$E$4=\"\",\"\",オフセット番号A!$E$4)","v":"列3"},{"$f":"IF(オフセット番号A!$F$4=\"\",\"\",オフセット番号A!$F$4)","v":"列4"},{"$f":"IF(オフセット番号A!$G$4=\"\",\"\",オフセット番号A!$G$4)","v":"列5"},{"$f":"IF(オフセット番号A!$H$4=\"\",\"\",オフセット番号A!$H$4)","v":"列6"},{"$f":"IF(オフセット番号A!$I$4=\"\",\"\",オフセット番号A!$I$4)","v":"列7"},{"$f":"IF(オフセット番号A!$J$4=\"\",\"\",オフセット番号A!$J$4)","v":"列8"},{"$f":"IF(オフセット番号A!$K$4=\"\",\"\",オフセット番号A!$K$4)","v":"列9"},{"$f":"IF(オフセット番号A!$L$4=\"\",\"\",オフセット番号A!$L$4)","v":"列10"},{"$f":"IF(オフセット番号A!$M$4=\"\",\"\",オフセット番号A!$M$4)","v":"列11"},{"$f":"IF(オフセット番号A!$N$4=\"\",\"\",オフセット番号A!$N$4)","v":"列12"},{"$f":"IF(オフセット番号A!$O$4=\"\",\"\",オフセット番号A!$O$4)","v":"列13"},{"$f":"IF(オフセット番号A!$P$4=\"\",\"\",オフセット番号A!$P$4)","v":"列14"},{"$f":"IF(オフセット番号A!$Q$4=\"\",\"\",オフセット番号A!$Q$4)","v":"列15"},{"$f":"IF(オフセット番号A!$R$4=\"\",\"\",オフセット番号A!$R$4)","v":"列16"},{"$f":"IF(オフセット番号A!$S$4=\"\",\"\",オフセット番号A!$S$4)","v":"列17"},{"$f":"IF(オフセット番号A!$T$4=\"\",\"\",オフセット番号A!$T$4)","v":"列18"},{"$f":"IF(オフセット番号A!$U$4=\"\",\"\",オフセット番号A!$U$4)","v":"列19"},{"$f":"IF(オフセット番号A!$V$4=\"\",\"\",オフセット番号A!$V$4)","v":"列20"},{"$f":"IF(オフセット番号A!$C$4=\"\",\"\",オフセット番号A!$C$4)","v":"列1"},{"$f":"IF(オフセット番号A!$D$4=\"\",\"\",オフセット番号A!$D$4)","v":"列2"},{"$f":"IF(オフセット番号A!$E$4=\"\",\"\",オフセット番号A!$E$4)","v":"列3"},{"$f":"IF(オフセット番号A!$F$4=\"\",\"\",オフセット番号A!$F$4)","v":"列4"},{"$f":"IF(オフセット番号A!$G$4=\"\",\"\",オフセット番号A!$G$4)","v":"列5"},{"$f":"IF(オフセット番号A!$H$4=\"\",\"\",オフセット番号A!$H$4)","v":"列6"},{"$f":"IF(オフセット番号A!$I$4=\"\",\"\",オフセット番号A!$I$4)","v":"列7"},{"$f":"IF(オフセット番号A!$J$4=\"\",\"\",オフセット番号A!$J$4)","v":"列8"},{"$f":"IF(オフセット番号A!$K$4=\"\",\"\",オフセット番号A!$K$4)","v":"列9"},{"$f":"IF(オフセット番号A!$L$4=\"\",\"\",オフセット番号A!$L$4)","v":"列10"},{"$f":"IF(オフセット番号A!$M$4=\"\",\"\",オフセット番号A!$M$4)","v":"列11"},{"$f":"IF(オフセット番号A!$N$4=\"\",\"\",オフセット番号A!$N$4)","v":"列12"},{"$f":"IF(オフセット番号A!$O$4=\"\",\"\",オフセット番号A!$O$4)","v":"列13"},{"$f":"IF(オフセット番号A!$P$4=\"\",\"\",オフセット番号A!$P$4)","v":"列14"},{"$f":"IF(オフセット番号A!$Q$4=\"\",\"\",オフセット番号A!$Q$4)","v":"列15"},{"$f":"IF(オフセット番号A!$R$4=\"\",\"\",オフセット番号A!$R$4)","v":"列16"},{"$f":"IF(オフセット番号A!$S$4=\"\",\"\",オフセット番号A!$S$4)","v":"列17"},{"$f":"IF(オフセット番号A!$T$4=\"\",\"\",オフセット番号A!$T$4)","v":"列18"},{"$f":"IF(オフセット番号A!$U$4=\"\",\"\",オフセット番号A!$U$4)","v":"列19"},{"$f":"IF(オフセット番号A!$V$4=\"\",\"\",オフセット番号A!$V$4)","v":"列20"},{"$f":"IF(オフセット番号A!$C$4=\"\",\"\",オフセット番号A!$C$4)","v":"列1"},{"$f":"IF(オフセット番号A!$D$4=\"\",\"\",オフセット番号A!$D$4)","v":"列2"},{"$f":"IF(オフセット番号A!$E$4=\"\",\"\",オフセット番号A!$E$4)","v":"列3"},{"$f":"IF(オフセット番号A!$F$4=\"\",\"\",オフセット番号A!$F$4)","v":"列4"},{"$f":"IF(オフセット番号A!$G$4=\"\",\"\",オフセット番号A!$G$4)","v":"列5"},{"$f":"IF(オフセット番号A!$H$4=\"\",\"\",オフセット番号A!$H$4)","v":"列6"},{"$f":"IF(オフセット番号A!$I$4=\"\",\"\",オフセット番号A!$I$4)","v":"列7"},{"$f":"IF(オフセット番号A!$J$4=\"\",\"\",オフセット番号A!$J$4)","v":"列8"},{"$f":"IF(オフセット番号A!$K$4=\"\",\"\",オフセット番号A!$K$4)","v":"列9"},{"$f":"IF(オフセット番号A!$L$4=\"\",\"\",オフセット番号A!$L$4)","v":"列10"},{"$f":"IF(オフセット番号A!$M$4=\"\",\"\",オフセット番号A!$M$4)","v":"列11"},{"$f":"IF(オフセット番号A!$N$4=\"\",\"\",オフセット番号A!$N$4)","v":"列12"},{"$f":"IF(オフセット番号A!$O$4=\"\",\"\",オフセット番号A!$O$4)","v":"列13"},{"$f":"IF(オフセット番号A!$P$4=\"\",\"\",オフセット番号A!$P$4)","v":"列14"},{"$f":"IF(オフセット番号A!$Q$4=\"\",\"\",オフセット番号A!$Q$4)","v":"列15"},{"$f":"IF(オフセット番号A!$R$4=\"\",\"\",オフセット番号A!$R$4)","v":"列16"},{"$f":"IF(オフセット番号A!$S$4=\"\",\"\",オフセット番号A!$S$4)","v":"列17"},{"$f":"IF(オフセット番号A!$T$4=\"\",\"\",オフセット番号A!$T$4)","v":"列18"},{"$f":"IF(オフセット番号A!$U$4=\"\",\"\",オフセット番号A!$U$4)","v":"列19"},{"$f":"IF(オフセット番号A!$V$4=\"\",\"\",オフセット番号A!$V$4)","v":"列20"},{"$f":"IF(オフセット番号A!$C$4=\"\",\"\",オフセット番号A!$C$4)","v":"列1"},{"$f":"IF(オフセット番号A!$D$4=\"\",\"\",オフセット番号A!$D$4)","v":"列2"},{"$f":"IF(オフセット番号A!$E$4=\"\",\"\",オフセット番号A!$E$4)","v":"列3"},{"$f":"IF(オフセット番号A!$F$4=\"\",\"\",オフセット番号A!$F$4)","v":"列4"},{"$f":"IF(オフセット番号A!$G$4=\"\",\"\",オフセット番号A!$G$4)","v":"列5"},{"$f":"IF(オフセット番号A!$H$4=\"\",\"\",オフセット番号A!$H$4)","v":"列6"},{"$f":"IF(オフセット番号A!$I$4=\"\",\"\",オフセット番号A!$I$4)","v":"列7"},{"$f":"IF(オフセット番号A!$J$4=\"\",\"\",オフセット番号A!$J$4)","v":"列8"},{"$f":"IF(オフセット番号A!$K$4=\"\",\"\",オフセット番号A!$K$4)","v":"列9"},{"$f":"IF(オフセット番号A!$L$4=\"\",\"\",オフセット番号A!$L$4)","v":"列10"},{"$f":"IF(オフセット番号A!$M$4=\"\",\"\",オフセット番号A!$M$4)","v":"列11"},{"$f":"IF(オフセット番号A!$N$4=\"\",\"\",オフセット番号A!$N$4)","v":"列12"},{"$f":"IF(オフセット番号A!$O$4=\"\",\"\",オフセット番号A!$O$4)","v":"列13"},{"$f":"IF(オフセット番号A!$P$4=\"\",\"\",オフセット番号A!$P$4)","v":"列14"},{"$f":"IF(オフセット番号A!$Q$4=\"\",\"\",オフセット番号A!$Q$4)","v":"列15"},{"$f":"IF(オフセット番号A!$R$4=\"\",\"\",オフセット番号A!$R$4)","v":"列16"},{"$f":"IF(オフセット番号A!$S$4=\"\",\"\",オフセット番号A!$S$4)","v":"列17"},{"$f":"IF(オフセット番号A!$T$4=\"\",\"\",オフセット番号A!$T$4)","v":"列18"},{"$f":"IF(オフセット番号A!$U$4=\"\",\"\",オフセット番号A!$U$4)","v":"列19"},{"$f":"IF(オフセット番号A!$V$4=\"\",\"\",オフセット番号A!$V$4)","v":"列20"},{"$f":"IF(オフセット番号A!$C$4=\"\",\"\",オフセット番号A!$C$4)","v":"列1"},{"$f":"IF(オフセット番号A!$D$4=\"\",\"\",オフセット番号A!$D$4)","v":"列2"},{"$f":"IF(オフセット番号A!$E$4=\"\",\"\",オフセット番号A!$E$4)","v":"列3"},{"$f":"IF(オフセット番号A!$F$4=\"\",\"\",オフセット番号A!$F$4)","v":"列4"},{"$f":"IF(オフセット番号A!$G$4=\"\",\"\",オフセット番号A!$G$4)","v":"列5"},{"$f":"IF(オフセット番号A!$H$4=\"\",\"\",オフセット番号A!$H$4)","v":"列6"},{"$f":"IF(オフセット番号A!$I$4=\"\",\"\",オフセット番号A!$I$4)","v":"列7"},{"$f":"IF(オフセット番号A!$J$4=\"\",\"\",オフセット番号A!$J$4)","v":"列8"},{"$f":"IF(オフセット番号A!$K$4=\"\",\"\",オフセット番号A!$K$4)","v":"列9"},{"$f":"IF(オフセット番号A!$L$4=\"\",\"\",オフセット番号A!$L$4)","v":"列10"},{"$f":"IF(オフセット番号A!$M$4=\"\",\"\",オフセット番号A!$M$4)","v":"列11"},{"$f":"IF(オフセット番号A!$N$4=\"\",\"\",オフセット番号A!$N$4)","v":"列12"},{"$f":"IF(オフセット番号A!$O$4=\"\",\"\",オフセット番号A!$O$4)","v":"列13"},{"$f":"IF(オフセット番号A!$P$4=\"\",\"\",オフセット番号A!$P$4)","v":"列14"},{"$f":"IF(オフセット番号A!$Q$4=\"\",\"\",オフセット番号A!$Q$4)","v":"列15"},{"$f":"IF(オフセット番号A!$R$4=\"\",\"\",オフセット番号A!$R$4)","v":"列16"},{"$f":"IF(オフセット番号A!$S$4=\"\",\"\",オフセット番号A!$S$4)","v":"列17"},{"$f":"IF(オフセット番号A!$T$4=\"\",\"\",オフセット番号A!$T$4)","v":"列18"},{"$f":"IF(オフセット番号A!$U$4=\"\",\"\",オフセット番号A!$U$4)","v":"列19"},{"$f":"IF(オフセット番号A!$V$4=\"\",\"\",オフセット番号A!$V$4)","v":"列20"}]
[null,-1,-1,{"$f":"IF(行列入力項目!$C$45=\"\",\"\",行列入力項目!$C$45)","v":"行41"},{"$f":"IF(行列入力項目!$C$45=\"\",\"\",行列入力項目!$C$45)","v":"行41"},{"$f":"IF(行列入力項目!$C$45=\"\",\"\",行列入力項目!$C$45)","v":"行41"},{"$f":"IF(行列入力項目!$C$45=\"\",\"\",行列入力項目!$C$45)","v":"行41"},{"$f":"IF(行列入力項目!$C$45=\"\",\"\",行列入力項目!$C$45)","v":"行41"},{"$f":"IF(行列入力項目!$C$45=\"\",\"\",行列入力項目!$C$45)","v":"行41"},{"$f":"IF(行列入力項目!$C$45=\"\",\"\",行列入力項目!$C$45)","v":"行41"},{"$f":"IF(行列入力項目!$C$45=\"\",\"\",行列入力項目!$C$45)","v":"行41"},{"$f":"IF(行列入力項目!$C$45=\"\",\"\",行列入力項目!$C$45)","v":"行41"},{"$f":"IF(行列入力項目!$C$45=\"\",\"\",行列入力項目!$C$45)","v":"行41"},{"$f":"IF(行列入力項目!$C$45=\"\",\"\",行列入力項目!$C$45)","v":"行41"},{"$f":"IF(行列入力項目!$C$45=\"\",\"\",行列入力項目!$C$45)","v":"行41"},{"$f":"IF(行列入力項目!$C$45=\"\",\"\",行列入力項目!$C$45)","v":"行41"},{"$f":"IF(行列入力項目!$C$45=\"\",\"\",行列入力項目!$C$45)","v":"行41"},{"$f":"IF(行列入力項目!$C$45=\"\",\"\",行列入力項目!$C$45)","v":"行41"},{"$f":"IF(行列入力項目!$C$45=\"\",\"\",行列入力項目!$C$45)","v":"行41"},{"$f":"IF(行列入力項目!$C$45=\"\",\"\",行列入力項目!$C$45)","v":"行41"},{"$f":"IF(行列入力項目!$C$45=\"\",\"\",行列入力項目!$C$45)","v":"行41"},{"$f":"IF(行列入力項目!$C$45=\"\",\"\",行列入力項目!$C$45)","v":"行41"},{"$f":"IF(行列入力項目!$C$45=\"\",\"\",行列入力項目!$C$45)","v":"行41"},{"$f":"IF(行列入力項目!$C$46=\"\",\"\",行列入力項目!$C$46)","v":"行42"},{"$f":"IF(行列入力項目!$C$46=\"\",\"\",行列入力項目!$C$46)","v":"行42"},{"$f":"IF(行列入力項目!$C$46=\"\",\"\",行列入力項目!$C$46)","v":"行42"},{"$f":"IF(行列入力項目!$C$46=\"\",\"\",行列入力項目!$C$46)","v":"行42"},{"$f":"IF(行列入力項目!$C$46=\"\",\"\",行列入力項目!$C$46)","v":"行42"},{"$f":"IF(行列入力項目!$C$46=\"\",\"\",行列入力項目!$C$46)","v":"行42"},{"$f":"IF(行列入力項目!$C$46=\"\",\"\",行列入力項目!$C$46)","v":"行42"},{"$f":"IF(行列入力項目!$C$46=\"\",\"\",行列入力項目!$C$46)","v":"行42"},{"$f":"IF(行列入力項目!$C$46=\"\",\"\",行列入力項目!$C$46)","v":"行42"},{"$f":"IF(行列入力項目!$C$46=\"\",\"\",行列入力項目!$C$46)","v":"行42"},{"$f":"IF(行列入力項目!$C$46=\"\",\"\",行列入力項目!$C$46)","v":"行42"},{"$f":"IF(行列入力項目!$C$46=\"\",\"\",行列入力項目!$C$46)","v":"行42"},{"$f":"IF(行列入力項目!$C$46=\"\",\"\",行列入力項目!$C$46)","v":"行42"},{"$f":"IF(行列入力項目!$C$46=\"\",\"\",行列入力項目!$C$46)","v":"行42"},{"$f":"IF(行列入力項目!$C$46=\"\",\"\",行列入力項目!$C$46)","v":"行42"},{"$f":"IF(行列入力項目!$C$46=\"\",\"\",行列入力項目!$C$46)","v":"行42"},{"$f":"IF(行列入力項目!$C$46=\"\",\"\",行列入力項目!$C$46)","v":"行42"},{"$f":"IF(行列入力項目!$C$46=\"\",\"\",行列入力項目!$C$46)","v":"行42"},{"$f":"IF(行列入力項目!$C$46=\"\",\"\",行列入力項目!$C$46)","v":"行42"},{"$f":"IF(行列入力項目!$C$46=\"\",\"\",行列入力項目!$C$46)","v":"行42"},{"$f":"IF(行列入力項目!$C$47=\"\",\"\",行列入力項目!$C$47)","v":"行43"},{"$f":"IF(行列入力項目!$C$47=\"\",\"\",行列入力項目!$C$47)","v":"行43"},{"$f":"IF(行列入力項目!$C$47=\"\",\"\",行列入力項目!$C$47)","v":"行43"},{"$f":"IF(行列入力項目!$C$47=\"\",\"\",行列入力項目!$C$47)","v":"行43"},{"$f":"IF(行列入力項目!$C$47=\"\",\"\",行列入力項目!$C$47)","v":"行43"},{"$f":"IF(行列入力項目!$C$47=\"\",\"\",行列入力項目!$C$47)","v":"行43"},{"$f":"IF(行列入力項目!$C$47=\"\",\"\",行列入力項目!$C$47)","v":"行43"},{"$f":"IF(行列入力項目!$C$47=\"\",\"\",行列入力項目!$C$47)","v":"行43"},{"$f":"IF(行列入力項目!$C$47=\"\",\"\",行列入力項目!$C$47)","v":"行43"},{"$f":"IF(行列入力項目!$C$47=\"\",\"\",行列入力項目!$C$47)","v":"行43"},{"$f":"IF(行列入力項目!$C$47=\"\",\"\",行列入力項目!$C$47)","v":"行43"},{"$f":"IF(行列入力項目!$C$47=\"\",\"\",行列入力項目!$C$47)","v":"行43"},{"$f":"IF(行列入力項目!$C$47=\"\",\"\",行列入力項目!$C$47)","v":"行43"},{"$f":"IF(行列入力項目!$C$47=\"\",\"\",行列入力項目!$C$47)","v":"行43"},{"$f":"IF(行列入力項目!$C$47=\"\",\"\",行列入力項目!$C$47)","v":"行43"},{"$f":"IF(行列入力項目!$C$47=\"\",\"\",行列入力項目!$C$47)","v":"行43"},{"$f":"IF(行列入力項目!$C$47=\"\",\"\",行列入力項目!$C$47)","v":"行43"},{"$f":"IF(行列入力項目!$C$47=\"\",\"\",行列入力項目!$C$47)","v":"行43"},{"$f":"IF(行列入力項目!$C$47=\"\",\"\",行列入力項目!$C$47)","v":"行43"},{"$f":"IF(行列入力項目!$C$47=\"\",\"\",行列入力項目!$C$47)","v":"行43"},{"$f":"IF(行列入力項目!$C$48=\"\",\"\",行列入力項目!$C$48)","v":"行44"},{"$f":"IF(行列入力項目!$C$48=\"\",\"\",行列入力項目!$C$48)","v":"行44"},{"$f":"IF(行列入力項目!$C$48=\"\",\"\",行列入力項目!$C$48)","v":"行44"},{"$f":"IF(行列入力項目!$C$48=\"\",\"\",行列入力項目!$C$48)","v":"行44"},{"$f":"IF(行列入力項目!$C$48=\"\",\"\",行列入力項目!$C$48)","v":"行44"},{"$f":"IF(行列入力項目!$C$48=\"\",\"\",行列入力項目!$C$48)","v":"行44"},{"$f":"IF(行列入力項目!$C$48=\"\",\"\",行列入力項目!$C$48)","v":"行44"},{"$f":"IF(行列入力項目!$C$48=\"\",\"\",行列入力項目!$C$48)","v":"行44"},{"$f":"IF(行列入力項目!$C$48=\"\",\"\",行列入力項目!$C$48)","v":"行44"},{"$f":"IF(行列入力項目!$C$48=\"\",\"\",行列入力項目!$C$48)","v":"行44"},{"$f":"IF(行列入力項目!$C$48=\"\",\"\",行列入力項目!$C$48)","v":"行44"},{"$f":"IF(行列入力項目!$C$48=\"\",\"\",行列入力項目!$C$48)","v":"行44"},{"$f":"IF(行列入力項目!$C$48=\"\",\"\",行列入力項目!$C$48)","v":"行44"},{"$f":"IF(行列入力項目!$C$48=\"\",\"\",行列入力項目!$C$48)","v":"行44"},{"$f":"IF(行列入力項目!$C$48=\"\",\"\",行列入力項目!$C$48)","v":"行44"},{"$f":"IF(行列入力項目!$C$48=\"\",\"\",行列入力項目!$C$48)","v":"行44"},{"$f":"IF(行列入力項目!$C$48=\"\",\"\",行列入力項目!$C$48)","v":"行44"},{"$f":"IF(行列入力項目!$C$48=\"\",\"\",行列入力項目!$C$48)","v":"行44"},{"$f":"IF(行列入力項目!$C$48=\"\",\"\",行列入力項目!$C$48)","v":"行44"},{"$f":"IF(行列入力項目!$C$48=\"\",\"\",行列入力項目!$C$48)","v":"行44"},{"$f":"IF(行列入力項目!$C$49=\"\",\"\",行列入力項目!$C$49)","v":"行45"},{"$f":"IF(行列入力項目!$C$49=\"\",\"\",行列入力項目!$C$49)","v":"行45"},{"$f":"IF(行列入力項目!$C$49=\"\",\"\",行列入力項目!$C$49)","v":"行45"},{"$f":"IF(行列入力項目!$C$49=\"\",\"\",行列入力項目!$C$49)","v":"行45"},{"$f":"IF(行列入力項目!$C$49=\"\",\"\",行列入力項目!$C$49)","v":"行45"},{"$f":"IF(行列入力項目!$C$49=\"\",\"\",行列入力項目!$C$49)","v":"行45"},{"$f":"IF(行列入力項目!$C$49=\"\",\"\",行列入力項目!$C$49)","v":"行45"},{"$f":"IF(行列入力項目!$C$49=\"\",\"\",行列入力項目!$C$49)","v":"行45"},{"$f":"IF(行列入力項目!$C$49=\"\",\"\",行列入力項目!$C$49)","v":"行45"},{"$f":"IF(行列入力項目!$C$49=\"\",\"\",行列入力項目!$C$49)","v":"行45"},{"$f":"IF(行列入力項目!$C$49=\"\",\"\",行列入力項目!$C$49)","v":"行45"},{"$f":"IF(行列入力項目!$C$49=\"\",\"\",行列入力項目!$C$49)","v":"行45"},{"$f":"IF(行列入力項目!$C$49=\"\",\"\",行列入力項目!$C$49)","v":"行45"},{"$f":"IF(行列入力項目!$C$49=\"\",\"\",行列入力項目!$C$49)","v":"行45"},{"$f":"IF(行列入力項目!$C$49=\"\",\"\",行列入力項目!$C$49)","v":"行45"},{"$f":"IF(行列入力項目!$C$49=\"\",\"\",行列入力項目!$C$49)","v":"行45"},{"$f":"IF(行列入力項目!$C$49=\"\",\"\",行列入力項目!$C$49)","v":"行45"},{"$f":"IF(行列入力項目!$C$49=\"\",\"\",行列入力項目!$C$49)","v":"行45"},{"$f":"IF(行列入力項目!$C$49=\"\",\"\",行列入力項目!$C$49)","v":"行45"},{"$f":"IF(行列入力項目!$C$49=\"\",\"\",行列入力項目!$C$49)","v":"行45"},{"$f":"IF(行列入力項目!$C$50=\"\",\"\",行列入力項目!$C$50)","v":"行46"},{"$f":"IF(行列入力項目!$C$50=\"\",\"\",行列入力項目!$C$50)","v":"行46"},{"$f":"IF(行列入力項目!$C$50=\"\",\"\",行列入力項目!$C$50)","v":"行46"},{"$f":"IF(行列入力項目!$C$50=\"\",\"\",行列入力項目!$C$50)","v":"行46"},{"$f":"IF(行列入力項目!$C$50=\"\",\"\",行列入力項目!$C$50)","v":"行46"},{"$f":"IF(行列入力項目!$C$50=\"\",\"\",行列入力項目!$C$50)","v":"行46"},{"$f":"IF(行列入力項目!$C$50=\"\",\"\",行列入力項目!$C$50)","v":"行46"},{"$f":"IF(行列入力項目!$C$50=\"\",\"\",行列入力項目!$C$50)","v":"行46"},{"$f":"IF(行列入力項目!$C$50=\"\",\"\",行列入力項目!$C$50)","v":"行46"},{"$f":"IF(行列入力項目!$C$50=\"\",\"\",行列入力項目!$C$50)","v":"行46"},{"$f":"IF(行列入力項目!$C$50=\"\",\"\",行列入力項目!$C$50)","v":"行46"},{"$f":"IF(行列入力項目!$C$50=\"\",\"\",行列入力項目!$C$50)","v":"行46"},{"$f":"IF(行列入力項目!$C$50=\"\",\"\",行列入力項目!$C$50)","v":"行46"},{"$f":"IF(行列入力項目!$C$50=\"\",\"\",行列入力項目!$C$50)","v":"行46"},{"$f":"IF(行列入力項目!$C$50=\"\",\"\",行列入力項目!$C$50)","v":"行46"},{"$f":"IF(行列入力項目!$C$50=\"\",\"\",行列入力項目!$C$50)","v":"行46"},{"$f":"IF(行列入力項目!$C$50=\"\",\"\",行列入力項目!$C$50)","v":"行46"},{"$f":"IF(行列入力項目!$C$50=\"\",\"\",行列入力項目!$C$50)","v":"行46"},{"$f":"IF(行列入力項目!$C$50=\"\",\"\",行列入力項目!$C$50)","v":"行46"},{"$f":"IF(行列入力項目!$C$50=\"\",\"\",行列入力項目!$C$50)","v":"行46"},{"$f":"IF(行列入力項目!$C$51=\"\",\"\",行列入力項目!$C$51)","v":"行47"},{"$f":"IF(行列入力項目!$C$51=\"\",\"\",行列入力項目!$C$51)","v":"行47"},{"$f":"IF(行列入力項目!$C$51=\"\",\"\",行列入力項目!$C$51)","v":"行47"},{"$f":"IF(行列入力項目!$C$51=\"\",\"\",行列入力項目!$C$51)","v":"行47"},{"$f":"IF(行列入力項目!$C$51=\"\",\"\",行列入力項目!$C$51)","v":"行47"},{"$f":"IF(行列入力項目!$C$51=\"\",\"\",行列入力項目!$C$51)","v":"行47"},{"$f":"IF(行列入力項目!$C$51=\"\",\"\",行列入力項目!$C$51)","v":"行47"},{"$f":"IF(行列入力項目!$C$51=\"\",\"\",行列入力項目!$C$51)","v":"行47"},{"$f":"IF(行列入力項目!$C$51=\"\",\"\",行列入力項目!$C$51)","v":"行47"},{"$f":"IF(行列入力項目!$C$51=\"\",\"\",行列入力項目!$C$51)","v":"行47"},{"$f":"IF(行列入力項目!$C$51=\"\",\"\",行列入力項目!$C$51)","v":"行47"},{"$f":"IF(行列入力項目!$C$51=\"\",\"\",行列入力項目!$C$51)","v":"行47"},{"$f":"IF(行列入力項目!$C$51=\"\",\"\",行列入力項目!$C$51)","v":"行47"},{"$f":"IF(行列入力項目!$C$51=\"\",\"\",行列入力項目!$C$51)","v":"行47"},{"$f":"IF(行列入力項目!$C$51=\"\",\"\",行列入力項目!$C$51)","v":"行47"},{"$f":"IF(行列入力項目!$C$51=\"\",\"\",行列入力項目!$C$51)","v":"行47"},{"$f":"IF(行列入力項目!$C$51=\"\",\"\",行列入力項目!$C$51)","v":"行47"},{"$f":"IF(行列入力項目!$C$51=\"\",\"\",行列入力項目!$C$51)","v":"行47"},{"$f":"IF(行列入力項目!$C$51=\"\",\"\",行列入力項目!$C$51)","v":"行47"},{"$f":"IF(行列入力項目!$C$51=\"\",\"\",行列入力項目!$C$51)","v":"行47"},{"$f":"IF(行列入力項目!$C$52=\"\",\"\",行列入力項目!$C$52)","v":"行48"},{"$f":"IF(行列入力項目!$C$52=\"\",\"\",行列入力項目!$C$52)","v":"行48"},{"$f":"IF(行列入力項目!$C$52=\"\",\"\",行列入力項目!$C$52)","v":"行48"},{"$f":"IF(行列入力項目!$C$52=\"\",\"\",行列入力項目!$C$52)","v":"行48"},{"$f":"IF(行列入力項目!$C$52=\"\",\"\",行列入力項目!$C$52)","v":"行48"},{"$f":"IF(行列入力項目!$C$52=\"\",\"\",行列入力項目!$C$52)","v":"行48"},{"$f":"IF(行列入力項目!$C$52=\"\",\"\",行列入力項目!$C$52)","v":"行48"},{"$f":"IF(行列入力項目!$C$52=\"\",\"\",行列入力項目!$C$52)","v":"行48"},{"$f":"IF(行列入力項目!$C$52=\"\",\"\",行列入力項目!$C$52)","v":"行48"},{"$f":"IF(行列入力項目!$C$52=\"\",\"\",行列入力項目!$C$52)","v":"行48"},{"$f":"IF(行列入力項目!$C$52=\"\",\"\",行列入力項目!$C$52)","v":"行48"},{"$f":"IF(行列入力項目!$C$52=\"\",\"\",行列入力項目!$C$52)","v":"行48"},{"$f":"IF(行列入力項目!$C$52=\"\",\"\",行列入力項目!$C$52)","v":"行48"},{"$f":"IF(行列入力項目!$C$52=\"\",\"\",行列入力項目!$C$52)","v":"行48"},{"$f":"IF(行列入力項目!$C$52=\"\",\"\",行列入力項目!$C$52)","v":"行48"},{"$f":"IF(行列入力項目!$C$52=\"\",\"\",行列入力項目!$C$52)","v":"行48"},{"$f":"IF(行列入力項目!$C$52=\"\",\"\",行列入力項目!$C$52)","v":"行48"},{"$f":"IF(行列入力項目!$C$52=\"\",\"\",行列入力項目!$C$52)","v":"行48"},{"$f":"IF(行列入力項目!$C$52=\"\",\"\",行列入力項目!$C$52)","v":"行48"},{"$f":"IF(行列入力項目!$C$52=\"\",\"\",行列入力項目!$C$52)","v":"行48"},{"$f":"IF(行列入力項目!$C$53=\"\",\"\",行列入力項目!$C$53)","v":"行49"},{"$f":"IF(行列入力項目!$C$53=\"\",\"\",行列入力項目!$C$53)","v":"行49"},{"$f":"IF(行列入力項目!$C$53=\"\",\"\",行列入力項目!$C$53)","v":"行49"},{"$f":"IF(行列入力項目!$C$53=\"\",\"\",行列入力項目!$C$53)","v":"行49"},{"$f":"IF(行列入力項目!$C$53=\"\",\"\",行列入力項目!$C$53)","v":"行49"},{"$f":"IF(行列入力項目!$C$53=\"\",\"\",行列入力項目!$C$53)","v":"行49"},{"$f":"IF(行列入力項目!$C$53=\"\",\"\",行列入力項目!$C$53)","v":"行49"},{"$f":"IF(行列入力項目!$C$53=\"\",\"\",行列入力項目!$C$53)","v":"行49"},{"$f":"IF(行列入力項目!$C$53=\"\",\"\",行列入力項目!$C$53)","v":"行49"},{"$f":"IF(行列入力項目!$C$53=\"\",\"\",行列入力項目!$C$53)","v":"行49"},{"$f":"IF(行列入力項目!$C$53=\"\",\"\",行列入力項目!$C$53)","v":"行49"},{"$f":"IF(行列入力項目!$C$53=\"\",\"\",行列入力項目!$C$53)","v":"行49"},{"$f":"IF(行列入力項目!$C$53=\"\",\"\",行列入力項目!$C$53)","v":"行49"},{"$f":"IF(行列入力項目!$C$53=\"\",\"\",行列入力項目!$C$53)","v":"行49"},{"$f":"IF(行列入力項目!$C$53=\"\",\"\",行列入力項目!$C$53)","v":"行49"},{"$f":"IF(行列入力項目!$C$53=\"\",\"\",行列入力項目!$C$53)","v":"行49"},{"$f":"IF(行列入力項目!$C$53=\"\",\"\",行列入力項目!$C$53)","v":"行49"},{"$f":"IF(行列入力項目!$C$53=\"\",\"\",行列入力項目!$C$53)","v":"行49"},{"$f":"IF(行列入力項目!$C$53=\"\",\"\",行列入力項目!$C$53)","v":"行49"},{"$f":"IF(行列入力項目!$C$53=\"\",\"\",行列入力項目!$C$53)","v":"行49"},{"$f":"IF(行列入力項目!$C$54=\"\",\"\",行列入力項目!$C$54)","v":"行50"},{"$f":"IF(行列入力項目!$C$54=\"\",\"\",行列入力項目!$C$54)","v":"行50"},{"$f":"IF(行列入力項目!$C$54=\"\",\"\",行列入力項目!$C$54)","v":"行50"},{"$f":"IF(行列入力項目!$C$54=\"\",\"\",行列入力項目!$C$54)","v":"行50"},{"$f":"IF(行列入力項目!$C$54=\"\",\"\",行列入力項目!$C$54)","v":"行50"},{"$f":"IF(行列入力項目!$C$54=\"\",\"\",行列入力項目!$C$54)","v":"行50"},{"$f":"IF(行列入力項目!$C$54=\"\",\"\",行列入力項目!$C$54)","v":"行50"},{"$f":"IF(行列入力項目!$C$54=\"\",\"\",行列入力項目!$C$54)","v":"行50"},{"$f":"IF(行列入力項目!$C$54=\"\",\"\",行列入力項目!$C$54)","v":"行50"},{"$f":"IF(行列入力項目!$C$54=\"\",\"\",行列入力項目!$C$54)","v":"行50"},{"$f":"IF(行列入力項目!$C$54=\"\",\"\",行列入力項目!$C$54)","v":"行50"},{"$f":"IF(行列入力項目!$C$54=\"\",\"\",行列入力項目!$C$54)","v":"行50"},{"$f":"IF(行列入力項目!$C$54=\"\",\"\",行列入力項目!$C$54)","v":"行50"},{"$f":"IF(行列入力項目!$C$54=\"\",\"\",行列入力項目!$C$54)","v":"行50"},{"$f":"IF(行列入力項目!$C$54=\"\",\"\",行列入力項目!$C$54)","v":"行50"},{"$f":"IF(行列入力項目!$C$54=\"\",\"\",行列入力項目!$C$54)","v":"行50"},{"$f":"IF(行列入力項目!$C$54=\"\",\"\",行列入力項目!$C$54)","v":"行50"},{"$f":"IF(行列入力項目!$C$54=\"\",\"\",行列入力項目!$C$54)","v":"行50"},{"$f":"IF(行列入力項目!$C$54=\"\",\"\",行列入力項目!$C$54)","v":"行50"},{"$f":"IF(行列入力項目!$C$54=\"\",\"\",行列入力項目!$C$54)","v":"行50"}]
[null,1,"対象1"]
[null,2,"対象2"]
[null,3,"対象3"]
[null,4,"対象4"]
[null,5,"対象5"]
[null,6,"対象6"]
[null,7,"対象7"]
[null,8,"対象8"]
[null,9,"対象9"]
[null,10,"対象10"]
[null,11,"対象11"]
[null,12,"対象12"]
[null,13,"対象13"]
[null,14,"対象14"]
[null,15,"対象15"]
[null,16,"対象16"]
[null,17,"対象17"]
[null,18,"対象18"]
[null,19,"対象19"]
[null,20,"対象20"]
[null,21,"対象21"]
[null,22,"対象22"]
[null,23,"対象23"]
[null,24,"対象24"]
[null,25,"対象25"]
[null,26,"対象26"]
[null,27,"対象27"]
[null,28,"対象28"]
[null,29,"対象29"]
[null,30,"対象30"]
[null,31,"対象31"]
[null,32,"対象32"]
[null,33,"対象33"]
[null,34,"対象34"]
[null,35,"対象35"]
[null,36,"対象36"]
[null,37,"対象37"]
[null,38,"対象38"]
[null,39,"対象39"]
[null,40,"対象40"]
[null,41,"対象41"]
[null,42,"対象42"]
[null,43,"対象43"]
[null,44,"対象44"]
[null,45,"対象45"]
[null,46,"対象46"]
[null,47,"対象47"]
[null,48,"対象48"]
[null,49,"対象49"]
[null,50,"対象50"]
[null,"削除禁止行","削除禁止行","削除禁止行","削除禁止行","削除禁止行","削除禁止行","削除禁止行","削除禁止行","削除禁止行","削除禁止行","削除禁止行","削除禁止行","削除禁止行","削除禁止行","削除禁止行","削除禁止行","削除禁止行","削除禁止行","削除禁止行","削除禁止行","削除禁止行","削除禁止行","削除禁止行","削除禁止行","削除禁止行","削除禁止行","削除禁止行","削除禁止行","削除禁止行","削除禁止行","削除禁止行","削除禁止行","削除禁止行","削除禁止行","削除禁止行","削除禁止行","削除禁止行","削除禁止行","削除禁止行","削除禁止行","削除禁止行","削除禁止行","削除禁止行","削除禁止行","削除禁止行","削除禁止行","削除禁止行","削除禁止行","削除禁止行","削除禁止行","削除禁止行","削除禁止行","削除禁止行","削除禁止行","削除禁止行","削除禁止行","削除禁止行","削除禁止行","削除禁止行","削除禁止行","削除禁止行","削除禁止行","削除禁止行","削除禁止行","削除禁止行","削除禁止行","削除禁止行","削除禁止行","削除禁止行","削除禁止行","削除禁止行","削除禁止行","削除禁止行","削除禁止行","削除禁止行","削除禁止行","削除禁止行","削除禁止行","削除禁止行","削除禁止行","削除禁止行","削除禁止行","削除禁止行","削除禁止行","削除禁止行","削除禁止行","削除禁止行","削除禁止行","削除禁止行","削除禁止行","削除禁止行","削除禁止行","削除禁止行","削除禁止行","削除禁止行","削除禁止行","削除禁止行","削除禁止行","削除禁止行","削除禁止行","削除禁止行","削除禁止行","削除禁止行","削除禁止行","削除禁止行","削除禁止行","削除禁止行","削除禁止行","削除禁止行","削除禁止行","削除禁止行","削除禁止行","削除禁止行","削除禁止行","削除禁止行","削除禁止行","削除禁止行","削除禁止行","削除禁止行","削除禁止行","削除禁止行","削除禁止行","削除禁止行","削除禁止行","削除禁止行","削除禁止行","削除禁止行","削除禁止行","削除禁止行","削除禁止行","削除禁止行","削除禁止行","削除禁止行","削除禁止行","削除禁止行","削除禁止行","削除禁止行","削除禁止行","削除禁止行","削除禁止行","削除禁止行","削除禁止行","削除禁止行","削除禁止行","削除禁止行","削除禁止行","削除禁止行","削除禁止行","削除禁止行","削除禁止行","削除禁止行","削除禁止行","削除禁止行","削除禁止行","削除禁止行","削除禁止行","削除禁止行","削除禁止行","削除禁止行","削除禁止行","削除禁止行","削除禁止行","削除禁止行","削除禁止行","削除禁止行","削除禁止行","削除禁止行","削除禁止行","削除禁止行","削除禁止行","削除禁止行","削除禁止行","削除禁止行","削除禁止行","削除禁止行","削除禁止行","削除禁止行","削除禁止行","削除禁止行","削除禁止行","削除禁止行","削除禁止行","削除禁止行","削除禁止行","削除禁止行","削除禁止行","削除禁止行","削除禁止行","削除禁止行","削除禁止行","削除禁止行","削除禁止行","削除禁止行","削除禁止行","削除禁止行","削除禁止行","削除禁止行","削除禁止行","削除禁止行","削除禁止行","削除禁止行","削除禁止行"]